Debug-Client v0.34 Perl 5 v5.22.3 MSWin32-x64-multi-thread
- Status
- Pass
- From
- LNATION
- Dist
-
Debug-Client v0.34
- Platform
- Perl 5 v5.22.3 MSWin32-x64-multi-thread
- Date
- 2025-05-28 01:23:29
- ID
- e4438ece-74db-1014-b11e-9bac6c47f1ee
This distribution has been tested as part of the CPAN Testers
project, supporting the Perl programming language. See
http://wiki.cpantesters.org/ for more information or email
questions to cpan-testers-discuss@perl.org
--
Dear Gabor Szabo,
This is a computer-generated report for Debug-Client-0.34
on perl 5.22.3, created by CPAN-Reporter-1.2020.
Thank you for uploading your work to CPAN. Congratulations!
All tests were successful.
Sections of this report:
* Tester comments
* Program output
* Prerequisites
* Environment and other context
------------------------------
TESTER COMMENTS
------------------------------
Additional comments from tester:
this report is from an automated smoke testing program
and was not reviewed by a human for accuracy
------------------------------
PROGRAM OUTPUT
------------------------------
Output from 'C:\STRAWB~1\c\bin\dmake.exe test':
"C:\Strawberry\perl\bin\perl.exe" "-MExtUtils::Command::MM" "-MTest::Harness" "-e" "undef *Test::Harness::Switches; test_harness(0, 'inc', 'blib\lib', 'blib\arch')" t/*.t
t/00-check-deps.t ...... ok
# Prerequisite Report:
# ÃÂ Version Module
# ÃÂ -------- ---------------------
# ÃÂ 1.50 Carp
# ÃÂ 5.78 Exporter
# ÃÂ 7.76 ExtUtils::MakeMaker
# ÃÂ 1.00 File::HomeDir
# ÃÂ 3.75 File::Spec
# ÃÂ 3.75 File::Spec::Functions
# ÃÂ 0.2311 File::Temp
# ÃÂ 0.38 IO::Socket::IP
# ÃÂ 1.69 List::Util
# ÃÂ 2.5 PadWalker
# ÃÂ 1.15 Term::ReadLine
# ÃÂ missing Term::ReadLine::Gnu
# ÃÂ 0.010 Test::CheckDeps
# ÃÂ 0.52 Test::Class
# ÃÂ 1.205 Test::Deep
# ÃÂ 1.302214 Test::More
# ÃÂ 1.52 Test::Pod
# ÃÂ 1.10 Test::Pod::Coverage
# ÃÂ 0.10 Test::Requires
# ÃÂ 0.52 Win32
# ÃÂ 0.16 Win32::Process
# ÃÂ 1.33 constant
# ÃÂ 0.236 parent
# ÃÂ 0.9917 version
t/00-report-prereqs.t .. ok
# Info: Testing Debug::Client 0.34
# Info: Perl v5.22.3
t/01-compile.t ......... ok
t/02-exports.t ......... ok
t/03-pod.t ............. skipped: Author tests, not required for installation.
t/04-pod-coverage.t .... skipped: Author tests, not required for installation.
#
# Info: Perl v5.22.3
# Info: OS MSWin32
# Info: Term::ReadLine::Gnu is not installed
Unable to get Terminal Size. The Win32 GetConsoleScreenBufferInfo call didn't work. The COLUMNS and LINES environment variables didn't work. at C:/Strawberry/perl/vendor/lib/Term/ReadLine/readline.pm line 410.
# Info: Using ReadLine implementation -> Term::ReadLine::Perl
# INFO: Setting $ENV{TERM} -> dumb
# INFO: $ENV{TERM} -> dumb
t/06-term.t ............ ok
Two
Five
Two
Five
t/07-initialize.t ...... ok
t/08-io.t .............. ok
t/10-top_tail.t ........ ok
t/10-top_tail_old.t .... ok
t/11-add.t ............. ok
t/13-return.t .......... ok
t/14-run.t ............. ok
# Info: perl5db version 0
t/15-run_to_line.t ..... ok
t/16-run_to_sub.t ...... ok
t/17-stepin.t .......... ok
t/18-stepout.t ......... ok
t/19-stepover.t ........ ok
t/20-get_value.t ....... ok
t/21-toggle_trace.t .... ok
t/22-subnames.t ........ ok
t/23-breakpoints.t ..... ok
t/24-y_zero.t .......... ok
t/25-get_v_vars.t ...... ok
t/26-get_x_vars.t ...... ok
t/27-get_p_exp.t ....... ok
t/28-get_h_var.t ....... ok
# Info: ComamandSet = '580'
t/29-options.t ......... ok
t/40-test_1415-old.t ... ok
t/40-test_1415.t ....... ok
eg/debugger.pl syntax OK
t/41-eg.t .............. ok
t/99-perldb.t .......... ok
# Prerequisite Report:
# ÃÂ Version Module
# ÃÂ -------- ---------------------
# ÃÂ 1.50 Carp
# ÃÂ 5.78 Exporter
# ÃÂ 7.76 ExtUtils::MakeMaker
# ÃÂ 1.00 File::HomeDir
# ÃÂ 3.75 File::Spec
# ÃÂ 3.75 File::Spec::Functions
# ÃÂ 0.2311 File::Temp
# ÃÂ 0.38 IO::Socket::IP
# ÃÂ 1.69 List::Util
# ÃÂ 2.5 PadWalker
# ÃÂ 1.15 Term::ReadLine
# ÃÂ 0.010 Test::CheckDeps
# ÃÂ 0.52 Test::Class
# ÃÂ 1.205 Test::Deep
# ÃÂ 1.302214 Test::More
# ÃÂ 1.52 Test::Pod
# ÃÂ 1.10 Test::Pod::Coverage
# ÃÂ 0.10 Test::Requires
# ÃÂ 0.52 Win32
# ÃÂ 0.16 Win32::Process
# ÃÂ 1.33 constant
# ÃÂ 0.236 parent
# ÃÂ 0.9917 version
t/report-prereqs.t ..... ok
All tests successful.
Files=34, Tests=184, 47 wallclock secs ( 0.20 usr + 0.08 sys = 0.28 CPU)
Result: PASS
------------------------------
PREREQUISITES
------------------------------
Prerequisite modules loaded:
requires:
Module Need Have
--------------------- -------- --------
Carp 1.3301 1.50
constant 1.27 1.33
Exporter 5.70 5.78
IO::Socket::IP 0.29 0.38
PadWalker 1.98 2.5
perl 5.010001 5.022003
Term::ReadLine 1.14 1.15
build_requires:
Module Need Have
--------------------- -------- --------
ExtUtils::MakeMaker 6.59 7.76
File::HomeDir 1 1.00
File::Temp 0.2304 0.2311
List::Util 1.38 1.69
parent 0.228 0.236
Test::CheckDeps 0.01 0.010
Test::Class 0.42 0.52
Test::Deep 0.112 1.205
Test::More 1.001003 1.302214
Test::Requires 0.07 0.10
version 0.9908 0.9917
Win32 0.49 0.52
Win32::Process 0.16 0.16
configure_requires:
Module Need Have
--------------------- -------- --------
ExtUtils::MakeMaker 6.59 7.76
opt_requires:
Module Need Have
--------------------- -------- --------
ExtUtils::MakeMaker 6.66 7.76
File::Spec::Functions 3.4 3.75
List::Util 1.27 1.69
Test::Pod 1.48 1.52
Test::Pod::Coverage 1.08 1.10
------------------------------
ENVIRONMENT AND OTHER CONTEXT
------------------------------
Environment variables:
AUTOMATED_TESTING = 1
COMSPEC = C:\Windows\system32\cmd.exe
NUMBER_OF_PROCESSORS = 2
PATH = C:\Windows\system32;C:\Windows;C:\Windows\System32\Wbem;C:\Windows\System32\WindowsPowerShell\v1.0\;C:\Windows\System32\OpenSSH\;C:\Program Files\Amazon\cfn-bootstrap\;C:\Strawberry\c\bin;C:\Strawberry\perl\site\bin;C:\Strawberry\perl\bin;C:\Users\Administrator\AppData\Local\Microsoft\WindowsApps;C:\Users\Administrator\AppData\Local\Microsoft\WinGet\Links;
PERL5LIB =
PERL5OPT =
PERL5_CPANPLUS_IS_RUNNING = 5756
PERL5_CPAN_IS_RUNNING = 5756
PERL5_CPAN_IS_RUNNING_IN_RECURSION = 2812,5756
PERL_CR_SMOKER_CURRENT = Task-Padre-Plugins-0.26
PERL_EXTUTILS_AUTOINSTALL = --defaultdeps
PERL_MM_USE_DEFAULT = 1
PROCESSOR_IDENTIFIER = Intel64 Family 6 Model 85 Stepping 7, GenuineIntel
TEMP = C:\Users\ADMINI~1\AppData\Local\Temp\2
Perl special variables (and OS-specific diagnostics, for MSWin32):
$^X = C:\Strawberry\perl\bin\perl.exe
$UID/$EUID = 0 / 0
$GID = 0
$EGID = 0
Win32::GetOSName = Win10
Win32::GetOSVersion = , 10, 0, 26100, 2, 0, 0, 400, 3
Win32::FsType = NTFS
Win32::IsAdminUser = 1
Perl module toolchain versions installed:
Module Have
------------------- --------
CPAN 2.14
CPAN::Meta 2.150010
Cwd 3.75
ExtUtils::CBuilder 0.280236
ExtUtils::Command 7.76
ExtUtils::Install 2.06
ExtUtils::MakeMaker 7.76
ExtUtils::Manifest 1.75
ExtUtils::ParseXS 3.57
File::Spec 3.75
JSON 4.10
JSON::PP 4.16
Module::Build 0.4234
Module::Signature 0.89
Parse::CPAN::Meta 2.150010
Test2 1.302214
Test::Harness 3.52
Test::More 1.302214
YAML 1.31
YAML::Syck 1.34
version 0.9917
--
Summary of my perl5 (revision 5 version 22 subversion 3) configuration:
Platform:
osname=MSWin32, osvers=6.3, archname=MSWin32-x64-multi-thread
uname='Win32 strawberry-perl 5.22.3.1 #1 Sun Jan 15 04:42:16 2017 x64'
config_args='undef'
hint=recommended, useposix=true, d_sigaction=undef
useithreads=define, usemultiplicity=define
use64bitint=define, use64bitall=undef, uselongdouble=undef
usemymalloc=n, bincompat5005=undef
Compiler:
cc='gcc', ccflags =' -s -O2 -DWIN32 -DWIN64 -DCONSERVATIVE -DPERL_TEXTMODE_SCRIPTS -DPERL_IMPLICIT_CONTEXT -DPERL_IMPLICIT_SYS -fwrapv -fno-strict-aliasing -mms-bitfields',
optimize='-s -O2',
cppflags='-DWIN32'
ccversion='', gccversion='4.9.2', gccosandvers=''
intsize=4, longsize=4, ptrsize=8, doublesize=8, byteorder=12345678, doublekind=3
d_longlong=define, longlongsize=8, d_longdbl=define, longdblsize=16, longdblkind=3
ivtype='long long', ivsize=8, nvtype='double', nvsize=8, Off_t='long long', lseeksize=8
alignbytes=8, prototype=define
Linker and Libraries:
ld='g++', ldflags ='-s -L"C:\STRAWB~1\perl\lib\CORE" -L"C:\STRAWB~1\c\lib"'
libpth=C:\STRAWB~1\c\lib C:\STRAWB~1\c\x86_64-w64-mingw32\lib C:\STRAWB~1\c\lib\gcc\x86_64-w64-mingw32\4.9.2
libs=-lmoldname -lkernel32 -luser32 -lgdi32 -lwinspool -lcomdlg32 -ladvapi32 -lshell32 -lole32 -loleaut32 -lnetapi32 -luuid -lws2_32 -lmpr -lwinmm -lversion -lodbc32 -lodbccp32 -lcomctl32
perllibs=-lmoldname -lkernel32 -luser32 -lgdi32 -lwinspool -lcomdlg32 -ladvapi32 -lshell32 -lole32 -loleaut32 -lnetapi32 -luuid -lws2_32 -lmpr -lwinmm -lversion -lodbc32 -lodbccp32 -lcomctl32
libc=, so=dll, useshrplib=true, libperl=libperl522.a
gnulibc_version=''
Dynamic Linking:
dlsrc=dl_win32.xs, dlext=xs.dll, d_dlsymun=undef, ccdlflags=' '
cccdlflags=' ', lddlflags='-mdll -s -L"C:\STRAWB~1\perl\lib\CORE" -L"C:\STRAWB~1\c\lib"'
Characteristics of this binary (from libperl):
Compile-time options: HAS_TIMES HAVE_INTERP_INTERN MULTIPLICITY
PERLIO_LAYERS PERL_DONT_CREATE_GVSV
PERL_HASH_FUNC_ONE_AT_A_TIME_HARD
PERL_IMPLICIT_CONTEXT PERL_IMPLICIT_SYS
PERL_MALLOC_WRAP PERL_NEW_COPY_ON_WRITE
PERL_PRESERVE_IVUV USE_64_BIT_INT USE_ITHREADS
USE_LARGE_FILES USE_LOCALE USE_LOCALE_COLLATE
USE_LOCALE_CTYPE USE_LOCALE_NUMERIC USE_LOCALE_TIME
USE_PERLIO USE_PERL_ATOF
Built under MSWin32
Compiled at Jan 15 2017 04:47:34
%ENV:
PERL5_CPANPLUS_IS_RUNNING="5756"
PERL5_CPAN_IS_RUNNING="5756"
PERL5_CPAN_IS_RUNNING_IN_RECURSION="2812,5756"
PERL_CR_SMOKER_CURRENT="Task-Padre-Plugins-0.26"
PERL_EXTUTILS_AUTOINSTALL="--defaultdeps"
PERL_MM_USE_DEFAULT="1"
@INC:
C:/Strawberry/perl/site/lib
C:/Strawberry/perl/vendor/lib
C:/Strawberry/perl/lib
.