ExtUtils-Depends v0.8000 Perl 5 v5.14.4 OpenBSD.amd64-openbsd
- Status
- Pass
- From
- Nigel Horne
- Dist
-
ExtUtils-Depends v0.8000
- Platform
- Perl 5 v5.14.4 OpenBSD.amd64-openbsd
- Date
- 2019-07-16 19:07:01
- ID
- e44c5c74-a7fc-11e9-8fa9-99a29f1e7dde
This distribution has been tested as part of the CPAN Testers
project, supporting the Perl programming language. See
http://wiki.cpantesters.org/ for more information or email
questions to cpan-testers-discuss@perl.org
--
Dear Brian Manning,
This is a computer-generated report for ExtUtils-Depends-0.8000
on perl 5.14.4, created by CPAN-Reporter-1.2018.
Thank you for uploading your work to CPAN. Congratulations!
All tests were successful.
Sections of this report:
* Tester comments
* Program output
* Prerequisites
* Environment and other context
------------------------------
TESTER COMMENTS
------------------------------
Additional comments from tester:
this report is from an automated smoke testing program
and was not reviewed by a human for accuracy
------------------------------
PROGRAM OUTPUT
------------------------------
Output from '/usr/bin/make test':
PERL_DL_NONLAZY=1 "/home/njh/perl5/perlbrew/perls/perl-5.14.4/bin/perl" "-MExtUtils::Command::MM" "-MTest::Harness" "-e" "undef *Test::Harness::Switches; test_harness(0, 'blib/lib', 'blib/arch')" t/*.t
t/01_load.t ........ ok
t/02_save_load.t ... ok
t/03_deps.t ........ ok
t/04_extra_libs.t .. skipped: test only for 'MSWin32', 'cygwin', and 'android'
All tests successful.
Files=4, Tests=43, 4 wallclock secs ( 0.17 usr 0.13 sys + 2.05 cusr 1.04 csys = 3.39 CPU)
Result: PASS
------------------------------
PREREQUISITES
------------------------------
Prerequisite modules loaded:
requires:
Module Need Have
------------------- ----- --------
Data::Dumper 0 2.130_02
File::Spec 0 3.75
IO::File 0 1.15
perl 5.006 5.014004
build_requires:
Module Need Have
------------------- ----- --------
ExtUtils::MakeMaker 0 7.30
configure_requires:
Module Need Have
------------------- ----- --------
Data::Dumper 0 2.130_02
ExtUtils::MakeMaker 0 7.30
File::Spec 0 3.75
IO::File 0 1.15
------------------------------
ENVIRONMENT AND OTHER CONTEXT
------------------------------
Environment variables:
AUTOMATED_TESTING = 1
PATH = /home/njh/perl5/perlbrew/bin:/home/njh/perl5/perlbrew/perls/perl-5.14.4/bin:src/njh/smoker/bin:/usr/bin:/bin:/usr/sbin:/sbin:/usr/X11R6/bin:/usr/local/bin:/usr/local/sbin
PERL5LIB = /tmp/build/Unicode-LineBreak-2019.001-0/blib/arch:/tmp/build/Unicode-LineBreak-2019.001-0/blib/lib:/tmp/build/MIME-Charset-1.012.2-0/blib/arch:/tmp/build/MIME-Charset-1.012.2-0/blib/lib:/tmp/build/Path-Class-0.37-0/blib/arch:/tmp/build/Path-Class-0.37-0/blib/lib:/tmp/build/MooX-Locale-Passthrough-0.001-0/blib/arch:/tmp/build/MooX-Locale-Passthrough-0.001-0/blib/lib:/tmp/build/Getopt-Long-2.50-0/blib/arch:/tmp/build/Getopt-Long-2.50-0/blib/lib:/tmp/build/Module-Pluggable-5.2-0/blib/arch:/tmp/build/Module-Pluggable-5.2-0/blib/lib:/tmp/build/Map-Tube-Plugin-Formatter-0.16-0/blib/arch:/tmp/build/Map-Tube-Plugin-Formatter-0.16-0/blib/lib:/tmp/build/XML-Twig-3.52-0/blib/arch:/tmp/build/XML-Twig-3.52-0/blib/lib:/tmp/build/XML-Parser-2.44-1/blib/arch:/tmp/build/XML-Parser-2.44-1/blib/lib:/tmp/build/Map-Tube-Exception-3.19-0/blib/arch:/tmp/build/Map-Tube-Exception-3.19-0/blib/lib:/tmp/build/Throwable-0.200013-0/blib/arch:/tmp/build/Throwable-0.200013-0/blib/lib
PERL5OPT =
PERL5_CPANPLUS_IS_RUNNING = 65982
PERL5_CPAN_IS_RUNNING = 65982
PERL5_CPAN_IS_RUNNING_IN_RECURSION = 8325,65982
PERLBREW_HOME = /home/njh/.perlbrew
PERLBREW_MANPATH = /home/njh/perl5/perlbrew/perls/perl-5.14.4/man
PERLBREW_PATH = /home/njh/perl5/perlbrew/bin:/home/njh/perl5/perlbrew/perls/perl-5.14.4/bin
PERLBREW_PERL = perl-5.14.4
PERLBREW_ROOT = /home/njh/perl5/perlbrew
PERLBREW_SHELLRC_VERSION = 0.84
PERLBREW_VERSION = 0.84
SHELL = /bin/sh
TMPDIR = /tmp/testwrapper.86943
Perl special variables (and OS-specific diagnostics, for MSWin32):
$^X = /home/njh/perl5/perlbrew/perls/perl-5.14.4/bin/perl
$UID/$EUID = 1000 / 1000
$GID = 1000 1000 0
$EGID = 1000 1000 0
Perl module toolchain versions installed:
Module Have
------------------- --------
CPAN 2.16
CPAN::Meta 2.143240
Cwd 3.75
ExtUtils::CBuilder 0.280203
ExtUtils::Command 7.30
ExtUtils::Install 2.06
ExtUtils::MakeMaker 7.30
ExtUtils::Manifest 1.70
ExtUtils::ParseXS 3.35
File::Spec 3.75
JSON 2.97001
JSON::PP 2.97001
Module::Build 0.4224
Module::Signature n/a
Parse::CPAN::Meta 1.4414
Test::Harness 3.39
Test::More 1.302140
YAML 1.27
YAML::Syck 1.30
version 0.88
--
Summary of my perl5 (revision 5 version 14 subversion 4) configuration:
Platform:
osname=openbsd, osvers=6.2, archname=OpenBSD.amd64-openbsd
uname='openbsd netgate1.bandsman.co.uk 6.2 generic.mp#2 amd64 '
config_args='-de -Dprefix=/home/njh/perl5/perlbrew/perls/perl-5.14.4 -Aeval:scriptdir=/home/njh/perl5/perlbrew/perls/perl-5.14.4/bin'
hint=recommended, useposix=true, d_sigaction=define
useithreads=undef, usemultiplicity=undef
useperlio=define, d_sfio=undef, uselargefiles=define, usesocks=undef
use64bitint=define, use64bitall=define, uselongdouble=undef
usemymalloc=n, bincompat5005=undef
Compiler:
cc='cc', ccflags ='-fno-strict-aliasing -pipe -fstack-protector -I/usr/local/include',
optimize='-O2',
cppflags='-fno-strict-aliasing -pipe -fstack-protector -I/usr/local/include'
ccversion='', gccversion='4.2.1 Compatible OpenBSD Clang 4.0.0 (tags/RELEASE_400/final)', gccosandvers=''
intsize=4, longsize=8, ptrsize=8, doublesize=8, byteorder=12345678
d_longlong=define, longlongsize=8, d_longdbl=define, longdblsize=16
ivtype='long', ivsize=8, nvtype='double', nvsize=8, Off_t='off_t', lseeksize=8
alignbytes=8, prototype=define
Linker and Libraries:
ld='cc', ldflags ='-Wl,-E -fstack-protector -L/usr/local/lib'
libpth=/usr/local/lib /usr/lib
libs=-lm -lutil -lc
perllibs=-lm -lutil -lc
libc=/usr/lib/libc.so.90.0, so=so, useshrplib=false, libperl=libperl.a
gnulibc_version=''
Dynamic Linking:
dlsrc=dl_dlopen.xs, dlext=so, d_dlsymun=undef, ccdlflags=' '
cccdlflags='-DPIC -fPIC ', lddlflags='-shared -fPIC -L/usr/local/lib -fstack-protector'
Characteristics of this binary (from libperl):
Compile-time options: PERL_DONT_CREATE_GVSV PERL_MALLOC_WRAP
PERL_PRESERVE_IVUV USE_64_BIT_ALL USE_64_BIT_INT
USE_LARGE_FILES USE_PERLIO USE_PERL_ATOF
Locally applied patches:
Devel::PatchPerl 1.48
Built under openbsd
Compiled at Jan 25 2018 01:59:47
%ENV:
PERL5LIB="/tmp/build/Unicode-LineBreak-2019.001-0/blib/arch:/tmp/build/Unicode-LineBreak-2019.001-0/blib/lib:/tmp/build/MIME-Charset-1.012.2-0/blib/arch:/tmp/build/MIME-Charset-1.012.2-0/blib/lib:/tmp/build/Path-Class-0.37-0/blib/arch:/tmp/build/Path-Class-0.37-0/blib/lib:/tmp/build/MooX-Locale-Passthrough-0.001-0/blib/arch:/tmp/build/MooX-Locale-Passthrough-0.001-0/blib/lib:/tmp/build/Getopt-Long-2.50-0/blib/arch:/tmp/build/Getopt-Long-2.50-0/blib/lib:/tmp/build/Module-Pluggable-5.2-0/blib/arch:/tmp/build/Module-Pluggable-5.2-0/blib/lib:/tmp/build/Map-Tube-Plugin-Formatter-0.16-0/blib/arch:/tmp/build/Map-Tube-Plugin-Formatter-0.16-0/blib/lib:/tmp/build/XML-Twig-3.52-0/blib/arch:/tmp/build/XML-Twig-3.52-0/blib/lib:/tmp/build/XML-Parser-2.44-1/blib/arch:/tmp/build/XML-Parser-2.44-1/blib/lib:/tmp/build/Map-Tube-Exception-3.19-0/blib/arch:/tmp/build/Map-Tube-Exception-3.19-0/blib/lib:/tmp/build/Throwable-0.200013-0/blib/arch:/tmp/build/Throwable-0.200013-0/blib/lib"
PERL5OPT=""
PERL5_CPANPLUS_IS_RUNNING="65982"
PERL5_CPAN_IS_RUNNING="65982"
PERL5_CPAN_IS_RUNNING_IN_RECURSION="8325,65982"
PERLBREW_HOME="/home/njh/.perlbrew"
PERLBREW_MANPATH="/home/njh/perl5/perlbrew/perls/perl-5.14.4/man"
PERLBREW_PATH="/home/njh/perl5/perlbrew/bin:/home/njh/perl5/perlbrew/perls/perl-5.14.4/bin"
PERLBREW_PERL="perl-5.14.4"
PERLBREW_ROOT="/home/njh/perl5/perlbrew"
PERLBREW_SHELLRC_VERSION="0.84"
PERLBREW_VERSION="0.84"
@INC:
/tmp/build/Unicode-LineBreak-2019.001-0/blib/arch
/tmp/build/Unicode-LineBreak-2019.001-0/blib/lib
/tmp/build/MIME-Charset-1.012.2-0/blib/arch
/tmp/build/MIME-Charset-1.012.2-0/blib/lib
/tmp/build/Path-Class-0.37-0/blib/arch
/tmp/build/Path-Class-0.37-0/blib/lib
/tmp/build/MooX-Locale-Passthrough-0.001-0/blib/arch
/tmp/build/MooX-Locale-Passthrough-0.001-0/blib/lib
/tmp/build/Getopt-Long-2.50-0/blib/arch
/tmp/build/Getopt-Long-2.50-0/blib/lib
/tmp/build/Module-Pluggable-5.2-0/blib/arch
/tmp/build/Module-Pluggable-5.2-0/blib/lib
/tmp/build/Map-Tube-Plugin-Formatter-0.16-0/blib/arch
/tmp/build/Map-Tube-Plugin-Formatter-0.16-0/blib/lib
/tmp/build/XML-Twig-3.52-0/blib/arch
/tmp/build/XML-Twig-3.52-0/blib/lib
/tmp/build/XML-Parser-2.44-1/blib/arch
/tmp/build/XML-Parser-2.44-1/blib/lib
/tmp/build/Map-Tube-Exception-3.19-0/blib/arch
/tmp/build/Map-Tube-Exception-3.19-0/blib/lib
/tmp/build/Throwable-0.200013-0/blib/arch
/tmp/build/Throwable-0.200013-0/blib/lib
/home/njh/perl5/perlbrew/perls/perl-5.14.4/lib/site_perl/5.14.4/OpenBSD.amd64-openbsd
/home/njh/perl5/perlbrew/perls/perl-5.14.4/lib/site_perl/5.14.4
/home/njh/perl5/perlbrew/perls/perl-5.14.4/lib/5.14.4/OpenBSD.amd64-openbsd
/home/njh/perl5/perlbrew/perls/perl-5.14.4/lib/5.14.4
.