Back
From: metabase:user:8286d1fc-3d52-11e2-9ec4-cb9cdd236785
Subject: PASS Test-MockDBI-0.70 v5.12.1 GNU/Linux
Date: 2013-08-31T04:36:24Z
This distribution has been tested as part of the CPAN Testers
project, supporting the Perl programming language. See
http://wiki.cpantesters.org/ for more information or email
questions to cpan-testers-discuss@perl.org
--
Dear Andreas Faafeng,
This is a computer-generated report for Test-MockDBI-0.70
on perl 5.12.1, created by CPAN-Reporter-1.2010.
Thank you for uploading your work to CPAN. Congratulations!
All tests were successful.
Sections of this report:
* Tester comments
* Program output
* Prerequisites
* Environment and other context
------------------------------
TESTER COMMENTS
------------------------------
Additional comments from tester:
this report is from an automated smoke testing program
and was not reviewed by a human for accuracy
------------------------------
PROGRAM OUTPUT
------------------------------
Output from '/usr/local/bin/make test':
PERL_DL_NONLAZY=1 /opt/perl441-no-5.12.1/bin/perl "-MExtUtils::Command::MM" "-e" "test_harness(0, 'blib/lib', 'blib/arch')" t/*.t
# Testing Test::MockDBI 0.70, Perl 5.012001, /opt/perl441-no-5.12.1/bin/perl, archname=i686-linux, byteorder=1234
[21:36:04] t/00-env.t ........................... ok 563 ms
[21:36:04] t/000-use.t .......................... ok 212 ms
[21:36:04] t/001-connect.t ...................... ok 222 ms
[21:36:05] t/002-prepare.t ...................... ok 222 ms
[21:36:05] t/003-ping.t ......................... ok 210 ms
[21:36:05] t/004-execute.t ...................... ok 215 ms
[21:36:05] t/005-fetchrow_hashref.t ............. ok 227 ms
[21:36:06] t/006-bind_param.t ................... ok 240 ms
[21:36:06] t/007-bind_param_inout.t ............. ok 241 ms
[21:36:06] t/008-rows.t ......................... ok 215 ms
[21:36:06] t/009-auto_commit.t .................. ok 344 ms
[21:36:07] t/010-fetchrow_arrayref.t ............ ok 230 ms
[21:36:07] t/011-prepare_cached.t ............... ok 231 ms
[21:36:07] t/012-do.t ........................... ok 210 ms
[21:36:08] t/100-set-fake-retval.t .............. ok 387 ms
[21:36:08] t/101-set-fake-retval-coderef.t ...... ok 243 ms
[21:36:08] t/102-set-inout-value.t .............. ok 258 ms
[21:36:08] t/103-bad_method.t ................... ok 401 ms
[21:36:09] t/104-bad-params.t ................... ok 295 ms
[21:36:09] t/800-die-on-unsupported-method.t .... ok 212 ms
[21:36:09] t/bad_param-1.t ...................... ok 304 ms
[21:36:10] t/bad_param-2.t ...................... ok 306 ms
[21:36:10] t/bad_param-ok-2of3.t ................ ok 309 ms
[21:36:10] t/bad_param-ok-none.t ................ ok 307 ms
[21:36:11] t/coderef-array-1.t .................. ok 274 ms
[21:36:11] t/coderef-array-many.t ............... ok 271 ms
[21:36:11] t/coderef-scalar-0.t ................. ok 271 ms
[21:36:11] t/coderef-scalar-1.t ................. ok 276 ms
[21:36:12] t/coderef-scalar-many.t .............. ok 278 ms
[21:36:12] t/connect.t .......................... ok 224 ms
[21:36:12] t/fetch-0.t .......................... ok 273 ms
[21:36:12] t/fetch-empty.t ...................... ok 271 ms
[21:36:13] t/fetchall_arrayref-0.t .............. ok 269 ms
[21:36:13] t/fetchall_arrayref-1.t .............. ok 274 ms
[21:36:13] t/fetchall_arrayref-many.t ........... ok 272 ms
[21:36:14] t/fetchrow_array-0.t ................. ok 297 ms
[21:36:14] t/fetchrow_array-1.t ................. ok 271 ms
[21:36:14] t/fetchrow_array-different-sql.t ..... ok 281 ms
[21:36:15] t/fetchrow_array-many.t .............. ok 274 ms
[21:36:15] t/fetchrow_arrayref-0.t .............. ok 272 ms
[21:36:15] t/fetchrow_arrayref-1.t .............. ok 271 ms
[21:36:15] t/fetchrow_arrayref-different-sql.t .. ok 282 ms
[21:36:16] t/fetchrow_arrayref-many.t ........... ok 274 ms
[21:36:16] t/fetchrow_hashref-1.t ............... ok 296 ms
[21:36:16] t/fetchrow_hashref-2.t ............... ok 297 ms
[21:36:17] t/fetchrow_hashref-many.t ............ ok 306 ms
[21:36:17] t/set_rows-different-numeric.t ....... ok 271 ms
[21:36:17] t/set_rows-no-arg.t .................. ok 271 ms
[21:36:17] t/set_rows-numeric.t ................. ok 270 ms
[21:36:18] t/set_rows-undef.t ................... ok 270 ms
[21:36:18]
All tests successful.
Files=50, Tests=431, 15 wallclock secs ( 0.76 usr 0.26 sys + 11.15 cusr 0.99 csys = 13.16 CPU)
Result: PASS
------------------------------
PREREQUISITES
------------------------------
Prerequisite modules loaded:
requires:
Module Need Have
--------------------- ---- ----------
Carp 0 1.26
Clone 0 0.34
DBI 0 1.628
File::Spec::Functions 0 3.40
Scalar::Util 0 1.31
Test::Differences 0 0.61
Test::MockObject 0.14 1.20120301
Test::More 0 0.98
Test::Warn 0 0.24
build_requires:
Module Need Have
--------------------- ---- ----------
CPAN::Meta 0 2.132140
configure_requires:
Module Need Have
--------------------- ---- ----------
ExtUtils::MakeMaker 0 6.74
------------------------------
ENVIRONMENT AND OTHER CONTEXT
------------------------------
Environment variables:
AUTHOR_TESTING = 1
AUTOMATED_TESTING = 1
LANG = en_US.UTF-8
LD_LIBRARY_PATH = /usr/local/lib
PATH = /usr/lib/qt-3.3/bin:/usr/kerberos/sbin:/usr/kerberos/bin:/usr/lib/ccache:/usr/local/sbin:/usr/local/bin:/sbin:/bin:/usr/sbin:/usr/bin:/usr/X11R6/bin:/usr/lib/alliance/bin:/opt/real/RealPlayer:/root/bin:/usr/lib/alliance/bin:/opt/real/RealPlayer
PERL5LIB =
PERL5OPT =
PERL5_CPANPLUS_IS_RUNNING = 4379
PERL5_CPAN_IS_RUNNING = 4379
PERL_ANYEVENT_MODEL = POE
PERL_ANYEVENT_VERBOSE = 1
PERL_MM_USE_DEFAULT = 1
SHELL = /bin/bash
TERM = xterm
Perl special variables (and OS-specific diagnostics, for MSWin32):
$^X = /opt/perl441-no-5.12.1/bin/perl
$UID/$EUID = 0 / 0
$GID = 0 0 1 2 3 4 6 10
$EGID = 0 0 1 2 3 4 6 10
Perl module toolchain versions installed:
Module Have
------------------- --------
CPAN 2.00
CPAN::Meta 2.132140
Cwd 3.40
ExtUtils::CBuilder 0.280205
ExtUtils::Command 1.16
ExtUtils::Install 1.55
ExtUtils::MakeMaker 6.74
ExtUtils::Manifest 1.61
ExtUtils::ParseXS 3.22
File::Spec 3.40
JSON 2.59
JSON::PP 2.27202
Module::Build 0.4007
Module::Signature 0.73
Parse::CPAN::Meta 1.4405
Test::Harness 3.28
Test::More 0.98
YAML 0.84
YAML::Syck 1.27
version 0.9903
--
Summary of my perl5 (revision 5 version 12 subversion 1) configuration:
Platform:
osname=linux, osvers=2.6.22.14-72.fc6, archname=i686-linux
uname='linux localhost.localdomain 2.6.22.14-72.fc6 #1 smp wed nov 21 13:44:07 est 2007 i686 i686 i386 gnulinux '
config_args='-Dcc=/opt/441/bin/gcc -Doptimize=-g -DDMALLOC=/usr/local/bin/dmalloc -Dprefix=/opt/perl441-no-5.12.1 -DDEBUGGING'
hint=recommended, useposix=true, d_sigaction=define
useithreads=undef, usemultiplicity=undef
useperlio=define, d_sfio=undef, uselargefiles=define, usesocks=undef
use64bitint=undef, use64bitall=undef, uselongdouble=undef
usemymalloc=n, bincompat5005=undef
Compiler:
cc='/opt/441/bin/gcc', ccflags ='-DDEBUGGING -fno-strict-aliasing -pipe -fstack-protector -I/usr/local/include -D_LARGEFILE_SOURCE -D_FILE_OFFSET_BITS=64',
optimize='-g',
cppflags='-DDEBUGGING -fno-strict-aliasing -pipe -fstack-protector -I/usr/local/include'
ccversion='', gccversion='4.4.1', gccosandvers=''
intsize=4, longsize=4, ptrsize=4, doublesize=8, byteorder=1234
d_longlong=define, longlongsize=8, d_longdbl=define, longdblsize=12
ivtype='long', ivsize=4, nvtype='double', nvsize=8, Off_t='off_t', lseeksize=8
alignbytes=4, prototype=define
Linker and Libraries:
ld='/opt/441/bin/gcc', ldflags =' -fstack-protector -L/usr/local/lib'
libpth=/usr/local/lib /lib /usr/lib
libs=-lnsl -lgdbm -ldb -ldl -lm -lcrypt -lutil -lc
perllibs=-lnsl -ldl -lm -lcrypt -lutil -lc
libc=/lib/libc-2.5.so, so=so, useshrplib=false, libperl=libperl.a
gnulibc_version='2.5'
Dynamic Linking:
dlsrc=dl_dlopen.xs, dlext=so, d_dlsymun=undef, ccdlflags='-Wl,-E'
cccdlflags='-fPIC', lddlflags='-shared -g -L/usr/local/lib -fstack-protector'
Characteristics of this binary (from libperl):
Compile-time options: DEBUGGING PERL_DONT_CREATE_GVSV PERL_MALLOC_WRAP
USE_LARGE_FILES USE_PERLIO USE_PERL_ATOF
Built under linux
Compiled at Aug 30 2013 05:04:59
%ENV:
PERL5LIB=""
PERL5OPT=""
PERL5_CPANPLUS_IS_RUNNING="4379"
PERL5_CPAN_IS_RUNNING="4379"
PERL_ANYEVENT_MODEL="POE"
PERL_ANYEVENT_VERBOSE="1"
PERL_MM_USE_DEFAULT="1"
@INC:
/opt/perl441-no-5.12.1/lib/site_perl/5.12.1/i686-linux
/opt/perl441-no-5.12.1/lib/site_perl/5.12.1
/opt/perl441-no-5.12.1/lib/5.12.1/i686-linux
/opt/perl441-no-5.12.1/lib/5.12.1
.