Back
From: metabase:user:320bfe00-2aae-11df-837a-5e0a49663a4f
Subject: PASS HTML-FromText-2.07 v5.16.3 GNU/Linux
Date: 2014-11-12T21:14:31Z
This distribution has been tested as part of the CPAN Testers
project, supporting the Perl programming language. See
http://wiki.cpantesters.org/ for more information or email
questions to cpan-testers-discuss@perl.org
--
Dear Ricardo SIGNES,
This is a computer-generated report for HTML-FromText-2.07
on perl 5.16.3, created by CPAN-Reporter-1.2011.
Thank you for uploading your work to CPAN. Congratulations!
All tests were successful.
Sections of this report:
* Tester comments
* Program output
* Prerequisites
* Environment and other context
------------------------------
TESTER COMMENTS
------------------------------
Additional comments from tester:
this report is from an automated smoke testing program
and was not reviewed by a human for accuracy
------------------------------
PROGRAM OUTPUT
------------------------------
Output from '/usr/bin/make test':
PERL_DL_NONLAZY=1 "/home/sand/src/perl/repoperls/installed-perls/perl/v5.16.3/9980/bin/perl" "-MExtUtils::Command::MM" "-MTest::Harness" "-e" "undef *Test::Harness::Switches; test_harness(0, 'blib/lib', 'blib/arch')" t/*.t
t/00-compile.t ................ ok
#
# Generated by Dist::Zilla::Plugin::ReportVersions::Tiny v1.08
# perl: 5.016003 (wanted any version) on linux from /home/sand/src/perl/repoperls/installed-perls/perl/v5.16.3/9980/bin/perl
#
# Carp => 1.26 (want any version)
# Email::Find::addrspec => 0.09 (want 0.09)
# Exporter => 5.70 (want 5.58)
# ExtUtils::MakeMaker => 7.0109 (want 6.30)
# File::Find => 1.20 (want any version)
# File::Spec => 3.47 (want any version)
# File::Temp => 0.2304 (want any version)
# HTML::Entities => 3.69 (want 1.26)
# Scalar::Util => 1.41 (want 1.12)
# Test::More => 1.301001073 (want 0.96)
# Test::Pod => 1.48 (want 1.41)
# Text::Tabs => 2013.0523 (want 98.1128)
# strict => 1.07 (want any version)
# version => 0.9909 (want 0.9901)
# warnings => 1.13 (want any version)
#
# Thanks for using my code. I hope it works for you.
# If not, please try and include this output in the bug report.
# That will help me reproduce the issue and solve your problem.
#
t/000-report-versions-tiny.t .. ok
t/01_features.t ............... ok
t/02_v2.01.t .................. ok
t/03_v2.02.t .................. ok
t/04_v2.03.t .................. ok
t/05_v2.04.t .................. ok
t/06_v2.05.t .................. ok
t/99_pod.t .................... ok
All tests successful.
Files=9, Tests=60, 1 wallclock secs ( 0.05 usr 0.00 sys + 0.69 cusr 0.12 csys = 0.86 CPU)
Result: PASS
------------------------------
PREREQUISITES
------------------------------
Prerequisite modules loaded:
requires:
Module Need Have
--------------------- ------- ------------
Carp 0 1.26
Email::Find::addrspec 0.09 0.09
Exporter 5.58 5.70
HTML::Entities 1.26 3.69
Scalar::Util 1.12 1.41
strict 0 1.07
Text::Tabs 98.1128 2013.0523
warnings 0 1.13
build_requires:
Module Need Have
--------------------- ------- ------------
File::Find 0 1.20
File::Spec 0 3.47
File::Temp 0 0.2304
Test::More 0.96 1.301001_073
configure_requires:
Module Need Have
--------------------- ------- ------------
ExtUtils::MakeMaker 6.30 7.01_09
------------------------------
ENVIRONMENT AND OTHER CONTEXT
------------------------------
Environment variables:
AUTOMATED_TESTING = 1
LANG = en_US.UTF-8
LANGUAGE = en_US:en
PATH = /home/sand/bin:/usr/local/bin:/usr/bin:/bin:/usr/games:/usr/local/perl/bin:/usr/X11/bin:/sbin:/usr/sbin
PERL5LIB =
PERL5OPT =
PERL5_CPANPLUS_IS_RUNNING = 12803
PERL5_CPAN_IS_RUNNING = 12803
PERL_MM_USE_DEFAULT = 1
SHELL = /usr/bin/zsh
TERM = screen
Perl special variables (and OS-specific diagnostics, for MSWin32):
$^X = /home/sand/src/perl/repoperls/installed-perls/perl/v5.16.3/9980/bin/perl
$UID/$EUID = 1005 / 1005
$GID = 1005 1005
$EGID = 1005 1005
Perl module toolchain versions installed:
Module Have
------------------- ------------
CPAN 2.05
CPAN::Meta 2.142690
Cwd 2.21
ExtUtils::CBuilder 0.280220
ExtUtils::Command 1.17
ExtUtils::Install 1.58
ExtUtils::MakeMaker 7.01_09
ExtUtils::Manifest 1.68
ExtUtils::ParseXS 3.24
File::Spec 3.47
JSON 2.90
JSON::PP 2.27203
Module::Build 0.4210
Module::Signature 0.73
Parse::CPAN::Meta 1.4414
Test::Harness 3.34
Test::More 1.301001_073
YAML 1.13
YAML::Syck 1.27
version 0.9909
--
Summary of my perl5 (revision 5 version 16 subversion 3) configuration:
Commit id: fd04d42d38f4751b981eb6e9213ee1ab8ef11ea6
Platform:
osname=linux, osvers=3.16-2-amd64, archname=x86_64-linux-thread-multi
uname='linux k83 3.16-2-amd64 #1 smp debian 3.16.3-2 (2014-09-20) x86_64 gnulinux '
config_args='-Dprefix=/home/sand/src/perl/repoperls/installed-perls/perl/v5.16.3/9980 -Dmyhostname=k83 -Dinstallusrbinperl=n -Uversiononly -Dusedevel -des -Ui_db -Duseithreads -Uuselongdouble -DDEBUGGING=-g'
hint=recommended, useposix=true, d_sigaction=define
useithreads=define, usemultiplicity=define
useperlio=define, d_sfio=undef, uselargefiles=define, usesocks=undef
use64bitint=define, use64bitall=define, uselongdouble=undef
usemymalloc=n, bincompat5005=undef
Compiler:
cc='cc', ccflags ='-D_REENTRANT -D_GNU_SOURCE -fno-strict-aliasing -pipe -fstack-protector -I/usr/local/include -D_LARGEFILE_SOURCE -D_FILE_OFFSET_BITS=64',
optimize='-O2 -g',
cppflags='-D_REENTRANT -D_GNU_SOURCE -fno-strict-aliasing -pipe -fstack-protector -I/usr/local/include'
ccversion='', gccversion='4.9.1', gccosandvers=''
intsize=4, longsize=8, ptrsize=8, doublesize=8, byteorder=12345678
d_longlong=define, longlongsize=8, d_longdbl=define, longdblsize=16
ivtype='long', ivsize=8, nvtype='double', nvsize=8, Off_t='off_t', lseeksize=8
alignbytes=8, prototype=define
Linker and Libraries:
ld='cc', ldflags =' -fstack-protector -L/usr/local/lib'
libpth=/usr/local/lib /lib/x86_64-linux-gnu /lib/../lib /usr/lib/x86_64-linux-gnu /usr/lib/../lib /lib /usr/lib
libs=-lnsl -lgdbm -ldb -ldl -lm -lcrypt -lutil -lpthread -lc -lgdbm_compat
perllibs=-lnsl -ldl -lm -lcrypt -lutil -lpthread -lc
libc=, so=so, useshrplib=false, libperl=libperl.a
gnulibc_version='2.19'
Dynamic Linking:
dlsrc=dl_dlopen.xs, dlext=so, d_dlsymun=undef, ccdlflags='-Wl,-E'
cccdlflags='-fPIC', lddlflags='-shared -O2 -g -L/usr/local/lib -fstack-protector'
Characteristics of this binary (from libperl):
Compile-time options: HAS_TIMES MULTIPLICITY PERLIO_LAYERS
PERL_DONT_CREATE_GVSV PERL_IMPLICIT_CONTEXT
PERL_MALLOC_WRAP PERL_PRESERVE_IVUV PERL_USE_DEVEL
USE_64_BIT_ALL USE_64_BIT_INT USE_ITHREADS
USE_LARGE_FILES USE_LOCALE USE_LOCALE_COLLATE
USE_LOCALE_CTYPE USE_LOCALE_NUMERIC USE_PERLIO
USE_PERL_ATOF USE_REENTRANT_API
Built under linux
Compiled at Oct 17 2014 05:12:12
%ENV:
PERL5LIB=""
PERL5OPT=""
PERL5_CPANPLUS_IS_RUNNING="12803"
PERL5_CPAN_IS_RUNNING="12803"
PERL_MM_USE_DEFAULT="1"
@INC:
/home/sand/src/perl/repoperls/installed-perls/perl/v5.16.3/9980/lib/site_perl/5.16.3/x86_64-linux-thread-multi
/home/sand/src/perl/repoperls/installed-perls/perl/v5.16.3/9980/lib/site_perl/5.16.3
/home/sand/src/perl/repoperls/installed-perls/perl/v5.16.3/9980/lib/5.16.3/x86_64-linux-thread-multi
/home/sand/src/perl/repoperls/installed-perls/perl/v5.16.3/9980/lib/5.16.3
.