Report for lsid-perl-1.1.7

Back
From: metabase:user:320bfe00-2aae-11df-837a-5e0a49663a4f
Subject: PASS lsid-perl-1.1.7 v5.16.0 RC2 GNU/Linux
Date: 2012-05-16T17:38:05Z

This distribution has been tested as part of the CPAN Testers
project, supporting the Perl programming language.  See
http://wiki.cpantesters.org/ for more information or email
questions to cpan-testers-discuss@perl.org


--
Dear Edward Kawas,

This is a computer-generated report for lsid-perl-1.1.7
on perl 5.16.0, created by CPAN-Reporter-1.2006.

Thank you for uploading your work to CPAN.  Congratulations!
All tests were successful.

Sections of this report:

    * Tester comments
    * Program output
    * Prerequisites
    * Environment and other context

------------------------------
TESTER COMMENTS
------------------------------

Additional comments from tester:

this report is from an automated smoke testing program
and was not reviewed by a human for accuracy

------------------------------
PROGRAM OUTPUT
------------------------------

Output from '/usr/bin/make test':

/home/sand/src/perl/repoperls/installed-perls/perl/v5.16.0-RC2/127e/bin/perl "-Iinc" Makefile.PL --config= --installdeps=RDF::Core,0.30,MIME::Tools,6.106

*** Since we're running under CPANPLUS, I'll just let it take care
    of the dependency's installation later.
PERL_DL_NONLAZY=1 /home/sand/src/perl/repoperls/installed-perls/perl/v5.16.0-RC2/127e/bin/perl "-MExtUtils::Command::MM" "-e" "test_harness(0, 'inc', 'blib/lib', 'blib/arch')" t/1.t t/Authority.t t/ID.t t/Locator.t t/WSDL01.t t/WSDL02.t t/WSDL03.t t/WSDL04.t t/WSDL05.t t/WSDL_ns01.t t/WSDL_ns02.t
t/1.t .......... ok
t/Authority.t .. ok
t/ID.t ......... ok
t/Locator.t .... ok
Use of uninitialized value in uc at /tmp/loop_over_bdir-b6QTx7/lsid-perl-1.1.7-pZSK3B/blib/lib/LS/Authority/WSDL/Simple.pm line 332.
t/WSDL01.t ..... ok
Use of uninitialized value in uc at /tmp/loop_over_bdir-b6QTx7/lsid-perl-1.1.7-pZSK3B/blib/lib/LS/Authority/WSDL/Simple.pm line 332.
Use of uninitialized value in uc at /tmp/loop_over_bdir-b6QTx7/lsid-perl-1.1.7-pZSK3B/blib/lib/LS/Authority/WSDL/Simple.pm line 332.
t/WSDL02.t ..... ok
Use of uninitialized value in uc at /tmp/loop_over_bdir-b6QTx7/lsid-perl-1.1.7-pZSK3B/blib/lib/LS/Authority/WSDL/Simple.pm line 332.
Use of uninitialized value in uc at /tmp/loop_over_bdir-b6QTx7/lsid-perl-1.1.7-pZSK3B/blib/lib/LS/Authority/WSDL/Simple.pm line 332.
t/WSDL03.t ..... ok
Use of uninitialized value in uc at /tmp/loop_over_bdir-b6QTx7/lsid-perl-1.1.7-pZSK3B/blib/lib/LS/Authority/WSDL/Simple.pm line 332.
Use of uninitialized value in uc at /tmp/loop_over_bdir-b6QTx7/lsid-perl-1.1.7-pZSK3B/blib/lib/LS/Authority/WSDL/Simple.pm line 332.
Use of uninitialized value in uc at /tmp/loop_over_bdir-b6QTx7/lsid-perl-1.1.7-pZSK3B/blib/lib/LS/Authority/WSDL/Simple.pm line 332.
t/WSDL04.t ..... ok
Use of uninitialized value in uc at /tmp/loop_over_bdir-b6QTx7/lsid-perl-1.1.7-pZSK3B/blib/lib/LS/Authority/WSDL/Services.pm line 163.
t/WSDL05.t ..... ok
Use of uninitialized value in uc at /tmp/loop_over_bdir-b6QTx7/lsid-perl-1.1.7-pZSK3B/blib/lib/LS/Authority/WSDL/Simple.pm line 332.
Use of uninitialized value in uc at /tmp/loop_over_bdir-b6QTx7/lsid-perl-1.1.7-pZSK3B/blib/lib/LS/Authority/WSDL/Simple.pm line 332.
Use of uninitialized value in uc at /tmp/loop_over_bdir-b6QTx7/lsid-perl-1.1.7-pZSK3B/blib/lib/LS/Authority/WSDL/Simple.pm line 332.
t/WSDL_ns01.t .. ok
Use of uninitialized value in uc at /tmp/loop_over_bdir-b6QTx7/lsid-perl-1.1.7-pZSK3B/blib/lib/LS/Authority/WSDL/Simple.pm line 332.
Use of uninitialized value in uc at /tmp/loop_over_bdir-b6QTx7/lsid-perl-1.1.7-pZSK3B/blib/lib/LS/Authority/WSDL/Simple.pm line 332.
Use of uninitialized value in uc at /tmp/loop_over_bdir-b6QTx7/lsid-perl-1.1.7-pZSK3B/blib/lib/LS/Authority/WSDL/Simple.pm line 332.
t/WSDL_ns02.t .. ok
All tests successful.
Files=11, Tests=192,  1 wallclock secs ( 0.06 usr  0.01 sys +  0.93 cusr  0.09 csys =  1.09 CPU)
Result: PASS

------------------------------
PREREQUISITES
------------------------------

Prerequisite modules loaded:

requires:

    Module              Need  Have   
    ------------------- ----- -------
    Carp                0     1.26   
    Compress::Zlib      1.22  2.052  
    Error               0.15  0.17018
    File::Copy          2.01  2.23   
    File::Temp          0.12  0.22   
    LWP                 5.53  6.04   
    MIME::Base64        2.12  3.13   
  ! MIME::Tools         6.106 5.502  
    Net::DNS            0.28  0.68   
    Net::FTP            2.65  2.77   
    RDF::Core           0.30  0.51   
    SOAP::Lite          0.69  0.714  
    Time::HiRes         1.20  1.9725 
    URI                 1.21  1.60   
    XML::XPath          1.12  1.13   

build_requires:

    Module              Need  Have   
    ------------------- ----- -------
    ExtUtils::MakeMaker 0     6.63_02


------------------------------
ENVIRONMENT AND OTHER CONTEXT
------------------------------

Environment variables:

    AUTOMATED_TESTING = 1
    LANG = en_US.UTF-8
    LANGUAGE = en_US:en
    PATH = /home/sand/bin:/usr/local/bin:/usr/bin:/bin:/usr/bin/X11:/usr/games:/usr/local/perl/bin:/usr/X11/bin:/sbin:/usr/sbin
    PERL5LIB = /tmp/loop_over_bdir-b6QTx7/Mail-SpamAssassin-2.43-iPmFAV/blib/arch:/tmp/loop_over_bdir-b6QTx7/Mail-SpamAssassin-2.43-iPmFAV/blib/lib
    PERL5OPT = 
    PERL5_CPANPLUS_IS_RUNNING = 22086
    PERL5_CPAN_IS_RUNNING = 22086
    PERL_MM_USE_DEFAULT = 1
    SHELL = /usr/bin/zsh
    TERM = screen

Perl special variables (and OS-specific diagnostics, for MSWin32):

    $^X = /home/sand/src/perl/repoperls/installed-perls/perl/v5.16.0-RC2/127e/bin/perl
    $UID/$EUID = 1005 / 1005
    $GID = 1005 1005
    $EGID = 1005 1005

Perl module toolchain versions installed:

    Module              Have    
    ------------------- --------
    CPAN                1.9800  
    CPAN::Meta          2.120921
    Cwd                 3.39_02 
    ExtUtils::CBuilder  0.280206
    ExtUtils::Command   1.17    
    ExtUtils::Install   1.58    
    ExtUtils::MakeMaker 6.63_02 
    ExtUtils::Manifest  1.61    
    ExtUtils::ParseXS   3.16    
    File::Spec          3.39_02 
    JSON                2.53    
    JSON::PP            2.27200 
    Module::Build       0.40    
    Module::Signature   0.68    
    Parse::CPAN::Meta   1.4404  
    Test::Harness       3.23    
    Test::More          0.98    
    YAML                0.81    
    YAML::Syck          1.20    
    version             0.99    


--

Summary of my perl5 (revision 5 version 16 subversion 0) configuration:
  Commit id: c43ca372962ed8b6058df231649647686874e1fe
  Platform:
    osname=linux, osvers=3.2.0-2-amd64, archname=x86_64-linux-ld
    uname='linux k83 3.2.0-2-amd64 #1 smp mon apr 30 05:20:23 utc 2012 x86_64 gnulinux '
    config_args='-Dprefix=/home/src/perl/repoperls/installed-perls/perl/v5.16.0-RC2/127e -Dmyhostname=k83 -Dinstallusrbinperl=n -Uversiononly -Dusedevel -des -Ui_db -Uuseithreads -Duselongdouble -DDEBUGGING=-g'
    hint=recommended, useposix=true, d_sigaction=define
    useithreads=undef, usemultiplicity=undef
    useperlio=define, d_sfio=undef, uselargefiles=define, usesocks=undef
    use64bitint=define, use64bitall=define, uselongdouble=define
    usemymalloc=n, bincompat5005=undef
  Compiler:
    cc='cc', ccflags ='-fno-strict-aliasing -pipe -fstack-protector -I/usr/local/include -D_LARGEFILE_SOURCE -D_FILE_OFFSET_BITS=64',
    optimize='-O2 -g',
    cppflags='-fno-strict-aliasing -pipe -fstack-protector -I/usr/local/include'
    ccversion='', gccversion='4.6.3', gccosandvers=''
    intsize=4, longsize=8, ptrsize=8, doublesize=8, byteorder=12345678
    d_longlong=define, longlongsize=8, d_longdbl=define, longdblsize=16
    ivtype='long', ivsize=8, nvtype='long double', nvsize=16, Off_t='off_t', lseeksize=8
    alignbytes=16, prototype=define
  Linker and Libraries:
    ld='cc', ldflags =' -fstack-protector -L/usr/local/lib'
    libpth=/usr/local/lib /lib/x86_64-linux-gnu /lib/../lib /usr/lib/x86_64-linux-gnu /usr/lib/../lib /lib /usr/lib
    libs=-lnsl -ldb -ldl -lm -lcrypt -lutil -lc
    perllibs=-lnsl -ldl -lm -lcrypt -lutil -lc
    libc=, so=so, useshrplib=false, libperl=libperl.a
    gnulibc_version='2.13'
  Dynamic Linking:
    dlsrc=dl_dlopen.xs, dlext=so, d_dlsymun=undef, ccdlflags='-Wl,-E'
    cccdlflags='-fPIC', lddlflags='-shared -O2 -g -L/usr/local/lib -fstack-protector'


Characteristics of this binary (from libperl): 
  Compile-time options: HAS_TIMES PERLIO_LAYERS PERL_DONT_CREATE_GVSV
                        PERL_MALLOC_WRAP PERL_PRESERVE_IVUV PERL_USE_DEVEL
                        USE_64_BIT_ALL USE_64_BIT_INT USE_LARGE_FILES
                        USE_LOCALE USE_LOCALE_COLLATE USE_LOCALE_CTYPE
                        USE_LOCALE_NUMERIC USE_LONG_DOUBLE USE_PERLIO
                        USE_PERL_ATOF
  Locally applied patches:
	RC2
  Built under linux
  Compiled at May 16 2012 05:49:41
  %ENV:
    PERL5LIB="/tmp/loop_over_bdir-b6QTx7/Mail-SpamAssassin-2.43-iPmFAV/blib/arch:/tmp/loop_over_bdir-b6QTx7/Mail-SpamAssassin-2.43-iPmFAV/blib/lib"
    PERL5OPT=""
    PERL5_CPANPLUS_IS_RUNNING="22086"
    PERL5_CPAN_IS_RUNNING="22086"
    PERL_MM_USE_DEFAULT="1"
  @INC:
    /tmp/loop_over_bdir-b6QTx7/Mail-SpamAssassin-2.43-iPmFAV/blib/arch
    /tmp/loop_over_bdir-b6QTx7/Mail-SpamAssassin-2.43-iPmFAV/blib/lib
    /home/src/perl/repoperls/installed-perls/perl/v5.16.0-RC2/127e/lib/site_perl/5.16.0/x86_64-linux-ld
    /home/src/perl/repoperls/installed-perls/perl/v5.16.0-RC2/127e/lib/site_perl/5.16.0
    /home/src/perl/repoperls/installed-perls/perl/v5.16.0-RC2/127e/lib/5.16.0/x86_64-linux-ld
    /home/src/perl/repoperls/installed-perls/perl/v5.16.0-RC2/127e/lib/5.16.0
    .