Report for Capture-Tiny-Extended-0.114

Back
From: metabase:user:320bfe00-2aae-11df-837a-5e0a49663a4f
Subject: PASS Capture-Tiny-Extended-0.114 v5.26.0 GNU/Linux
Date: 2017-04-01T13:27:03Z

This distribution has been tested as part of the CPAN Testers
project, supporting the Perl programming language.  See
http://wiki.cpantesters.org/ for more information or email
questions to cpan-testers-discuss@perl.org


--
Dear Christian Walde,

This is a computer-generated report for Capture-Tiny-Extended-0.114
on perl 5.26.0, created by CPAN-Reporter-1.2018.

Thank you for uploading your work to CPAN.  Congratulations!
All tests were successful.

Sections of this report:

    * Tester comments
    * Program output
    * Prerequisites
    * Environment and other context

------------------------------
TESTER COMMENTS
------------------------------

Additional comments from tester:

this report is from an automated smoke testing program
and was not reviewed by a human for accuracy

------------------------------
PROGRAM OUTPUT
------------------------------

Output from '/usr/bin/make test':

PERL_DL_NONLAZY=1 "/tmp/basesmoker-reloperl-xugs/bin/perl" "-MExtUtils::Command::MM" "-MTest::Harness" "-e" "undef *Test::Harness::Switches; test_harness(0, 'blib/lib', 'blib/arch')" t/*.t
t/00-compile.t ............. ok
t/01-Capture-Tiny.t ........ ok
t/02-capture.t ............. ok
t/03-tee.t ................. ok
t/06-stdout-closed.t ....... ok
t/07-stderr-closed.t ....... ok
t/08-stdin-closed.t ........ ok
t/09-preserve-exit-code.t .. ok
t/10-stdout-string.t ....... ok
t/11-stderr-string.t ....... ok
t/12-stdin-string.t ........ ok
t/13-stdout-tied.t ......... ok
t/14-stderr-tied.t ......... ok
t/15-stdin-tied.t .......... ok
t/16-catch-errors.t ........ ok
All tests successful.

Test Summary Report
-------------------
t/13-stdout-tied.t       (Wstat: 0 Tests: 489 Failed: 0)
  TODO passed:   6-7, 14-16, 24-25, 33-34, 41-43, 51-52
                60, 69, 79, 86, 88, 96-97, 106, 113, 115
                123-124, 136-138, 152-157, 172-174, 190-192
                206-211, 226-228, 242, 252-255, 266, 278
                288-291, 302, 322-323, 326-327, 348, 350
                352-354, 356-357, 379, 381-383, 385-387
                412-413, 416-417, 438, 440, 442-444, 446-447
                469, 471-473, 475-477
t/14-stderr-tied.t       (Wstat: 0 Tests: 489 Failed: 0)
  TODO passed:   5, 7, 14, 16, 23-25, 32, 34, 41, 43, 50-52
                57, 60, 63, 66, 69, 72, 77-79, 86-88, 95-97
                104-106, 113-115, 122-124, 134-135, 138
                152-153, 156, 170-175, 188-189, 192, 206-207
                210, 224-229, 240-241, 243, 252-253, 255
                264-267, 276-277, 279, 288-289, 291, 300-303
                318-327, 348-357, 378-387, 408-417, 438-447
                468-477
Files=15, Tests=4904, 21 wallclock secs ( 0.55 usr  0.14 sys +  6.94 cusr 14.11 csys = 21.74 CPU)
Result: PASS

------------------------------
PREREQUISITES
------------------------------

Prerequisite modules loaded:

requires:

    Module              Need Have    
    ------------------- ---- --------
    Carp                0    1.42    
    Exporter            0    5.72    
    File::Spec          0    3.67    
    File::Temp          0    0.2304  
    IO::Handle          0    1.36    

build_requires:

    Module              Need Have    
    ------------------- ---- --------
    File::Find          0    1.34    
    Test::More          0.62 1.302078

configure_requires:

    Module              Need Have    
    ------------------- ---- --------
    ExtUtils::MakeMaker 6.30 7.24    


------------------------------
ENVIRONMENT AND OTHER CONTEXT
------------------------------

Environment variables:

    AUTOMATED_TESTING = 1
    LANG = en_US.UTF-8
    PATH = /home/sand/bin:/usr/local/bin:/usr/bin:/bin:/usr/games:/usr/local/perl/bin:/usr/X11/bin:/sbin:/usr/sbin
    PERL5LIB = /tmp/loop_over_bdir-20854-aSrJYh/libintl-perl-1.26-0/blib/arch:/tmp/loop_over_bdir-20854-aSrJYh/libintl-perl-1.26-0/blib/lib:/tmp/loop_over_bdir-20854-aSrJYh/Hash-FieldHash-0.15-0/blib/arch:/tmp/loop_over_bdir-20854-aSrJYh/Hash-FieldHash-0.15-0/blib/lib:/tmp/loop_over_bdir-20854-aSrJYh/Mouse-v2.4.9-0/blib/arch:/tmp/loop_over_bdir-20854-aSrJYh/Mouse-v2.4.9-0/blib/lib:/tmp/loop_over_bdir-20854-aSrJYh/HTML-Tree-5.03-0/blib/arch:/tmp/loop_over_bdir-20854-aSrJYh/HTML-Tree-5.03-0/blib/lib:/tmp/loop_over_bdir-20854-aSrJYh/Redis-Fast-0.20-0/blib/arch:/tmp/loop_over_bdir-20854-aSrJYh/Redis-Fast-0.20-0/blib/lib
    PERL5OPT = 
    PERL5_CPANPLUS_IS_RUNNING = 27858
    PERL5_CPAN_IS_RUNNING = 27858
    PERL_CANARY_STABILITY_NOPROMPT = 1
    PERL_MM_USE_DEFAULT = 1
    PERL_USE_UNSAFE_INC = 1
    SHELL = /usr/bin/zsh
    TERM = screen

Perl special variables (and OS-specific diagnostics, for MSWin32):

    $^X = /tmp/basesmoker-reloperl-xugs/bin/perl
    $UID/$EUID = 1005 / 1005
    $GID = 1005 1005
    $EGID = 1005 1005

Perl module toolchain versions installed:

    Module              Have      
    ------------------- ----------
    CPAN                2.17      
    CPAN::Meta          2.150010  
    Cwd                 3.67      
    ExtUtils::CBuilder  0.280225  
    ExtUtils::Command   7.24      
    ExtUtils::Install   2.04      
    ExtUtils::MakeMaker 7.24      
    ExtUtils::Manifest  1.70      
    ExtUtils::ParseXS   3.34      
    File::Spec          3.67      
    JSON                2.90      
    JSON::PP            2.27400_02
    Module::Build       0.4222    
    Module::Signature   0.81      
    Parse::CPAN::Meta   2.150010  
    Test::Harness       3.38      
    Test::More          1.302078  
    YAML                1.23      
    YAML::Syck          1.29      
    version             0.9917    


--

Summary of my perl5 (revision 5 version 26 subversion 0) configuration:
  Commit id: 1b92e6949b737e92f61827f9c92afce9218e30ba
  Platform:
    osname=linux
    osvers=4.9.0-2-amd64
    archname=x86_64-linux
    uname='linux k93msid 4.9.0-2-amd64 #1 smp debian 4.9.13-1 (2017-02-27) x86_64 gnulinux '
    config_args='-Dprefix=/home/sand/src/perl/repoperls/installed-perls/host/k93msid/v5.25.11-27-g1b92e6949b/da1c -Dmyhostname=k93msid -Dinstallusrbinperl=n -Uversiononly -Dusedevel -des -Ui_db -Dlibswanted=cl pthread socket inet nsl gdbm dbm malloc dl ld sun m crypt sec util c cposix posix ucb BSD gdbm_compat -Uuseithreads -Uuselongdouble -DEBUGGING=-g'
    hint=recommended
    useposix=true
    d_sigaction=define
    useithreads=undef
    usemultiplicity=undef
    use64bitint=define
    use64bitall=define
    uselongdouble=undef
    usemymalloc=n
    default_inc_excludes_dot=define
    bincompat5005=undef
  Compiler:
    cc='cc'
    ccflags ='-fwrapv -fno-strict-aliasing -pipe -fstack-protector-strong -I/usr/local/include -D_LARGEFILE_SOURCE -D_FILE_OFFSET_BITS=64'
    optimize='-O2 -g'
    cppflags='-fwrapv -fno-strict-aliasing -pipe -fstack-protector-strong -I/usr/local/include'
    ccversion=''
    gccversion='6.3.0 20170316'
    gccosandvers=''
    intsize=4
    longsize=8
    ptrsize=8
    doublesize=8
    byteorder=12345678
    doublekind=3
    d_longlong=define
    longlongsize=8
    d_longdbl=define
    longdblsize=16
    longdblkind=3
    ivtype='long'
    ivsize=8
    nvtype='double'
    nvsize=8
    Off_t='off_t'
    lseeksize=8
    alignbytes=8
    prototype=define
  Linker and Libraries:
    ld='cc'
    ldflags =' -fstack-protector-strong -L/usr/local/lib'
    libpth=/usr/local/lib /usr/lib/gcc/x86_64-linux-gnu/6/include-fixed /usr/include/x86_64-linux-gnu /usr/lib /lib/x86_64-linux-gnu /lib/../lib /usr/lib/x86_64-linux-gnu /usr/lib/../lib /lib
    libs=-lpthread -lnsl -ldl -lm -lcrypt -lutil -lc
    perllibs=-lpthread -lnsl -ldl -lm -lcrypt -lutil -lc
    libc=libc-2.24.so
    so=so
    useshrplib=false
    libperl=libperl.a
    gnulibc_version='2.24'
  Dynamic Linking:
    dlsrc=dl_dlopen.xs
    dlext=so
    d_dlsymun=undef
    ccdlflags='-Wl,-E'
    cccdlflags='-fPIC'
    lddlflags='-shared -O2 -g -L/usr/local/lib -fstack-protector-strong'


Characteristics of this binary (from libperl): 
  Compile-time options:
    HAS_TIMES
    PERLIO_LAYERS
    PERL_COPY_ON_WRITE
    PERL_DONT_CREATE_GVSV
    PERL_MALLOC_WRAP
    PERL_OP_PARENT
    PERL_PRESERVE_IVUV
    PERL_USE_DEVEL
    USE_64_BIT_ALL
    USE_64_BIT_INT
    USE_LARGE_FILES
    USE_LOCALE
    USE_LOCALE_COLLATE
    USE_LOCALE_CTYPE
    USE_LOCALE_NUMERIC
    USE_LOCALE_TIME
    USE_PERLIO
    USE_PERL_ATOF
  Built under linux
  Compiled at Mar 31 2017 13:41:26
  %ENV:
    PERL5LIB="/tmp/loop_over_bdir-20854-aSrJYh/libintl-perl-1.26-0/blib/arch:/tmp/loop_over_bdir-20854-aSrJYh/libintl-perl-1.26-0/blib/lib:/tmp/loop_over_bdir-20854-aSrJYh/Hash-FieldHash-0.15-0/blib/arch:/tmp/loop_over_bdir-20854-aSrJYh/Hash-FieldHash-0.15-0/blib/lib:/tmp/loop_over_bdir-20854-aSrJYh/Mouse-v2.4.9-0/blib/arch:/tmp/loop_over_bdir-20854-aSrJYh/Mouse-v2.4.9-0/blib/lib:/tmp/loop_over_bdir-20854-aSrJYh/HTML-Tree-5.03-0/blib/arch:/tmp/loop_over_bdir-20854-aSrJYh/HTML-Tree-5.03-0/blib/lib:/tmp/loop_over_bdir-20854-aSrJYh/Redis-Fast-0.20-0/blib/arch:/tmp/loop_over_bdir-20854-aSrJYh/Redis-Fast-0.20-0/blib/lib"
    PERL5OPT=""
    PERL5_CPANPLUS_IS_RUNNING="27858"
    PERL5_CPAN_IS_RUNNING="27858"
    PERL_CANARY_STABILITY_NOPROMPT="1"
    PERL_MM_USE_DEFAULT="1"
    PERL_USE_UNSAFE_INC="1"
  @INC:
    /tmp/loop_over_bdir-20854-aSrJYh/libintl-perl-1.26-0/blib/arch
    /tmp/loop_over_bdir-20854-aSrJYh/libintl-perl-1.26-0/blib/lib
    /tmp/loop_over_bdir-20854-aSrJYh/Hash-FieldHash-0.15-0/blib/arch
    /tmp/loop_over_bdir-20854-aSrJYh/Hash-FieldHash-0.15-0/blib/lib
    /tmp/loop_over_bdir-20854-aSrJYh/Mouse-v2.4.9-0/blib/arch
    /tmp/loop_over_bdir-20854-aSrJYh/Mouse-v2.4.9-0/blib/lib
    /tmp/loop_over_bdir-20854-aSrJYh/HTML-Tree-5.03-0/blib/arch
    /tmp/loop_over_bdir-20854-aSrJYh/HTML-Tree-5.03-0/blib/lib
    /tmp/loop_over_bdir-20854-aSrJYh/Redis-Fast-0.20-0/blib/arch
    /tmp/loop_over_bdir-20854-aSrJYh/Redis-Fast-0.20-0/blib/lib
    /home/sand/src/perl/repoperls/installed-perls/host/k93msid/v5.25.11-27-g1b92e6949b/da1c/lib/site_perl/5.26.0/x86_64-linux
    /home/sand/src/perl/repoperls/installed-perls/host/k93msid/v5.25.11-27-g1b92e6949b/da1c/lib/site_perl/5.26.0
    /home/sand/src/perl/repoperls/installed-perls/host/k93msid/v5.25.11-27-g1b92e6949b/da1c/lib/5.26.0/x86_64-linux
    /home/sand/src/perl/repoperls/installed-perls/host/k93msid/v5.25.11-27-g1b92e6949b/da1c/lib/5.26.0
    .