Data-DPath v0.59 Perl 5 v5.39.8 x86_64-linux-thread-multi-ld
- Status
- Pass
- From
- Andreas J. König (ANDK)
- Dist
-
Data-DPath v0.59
- Platform
- Perl 5 v5.39.8 x86_64-linux-thread-multi-ld
- Date
- 2024-02-26 22:53:44
- ID
- e4d98dc2-d4f9-11ee-98d2-afa21b530a6a
This distribution has been tested as part of the CPAN Testers
project, supporting the Perl programming language. See
http://wiki.cpantesters.org/ for more information or email
questions to cpan-testers-discuss@perl.org
--
Dear Steffen Schwigon,
This is a computer-generated report for Data-DPath-0.59
on perl 5.39.8, created by CPAN-Reporter-1.2019.
Thank you for uploading your work to CPAN. Congratulations!
All tests were successful.
Sections of this report:
* Tester comments
* Program output
* Prerequisites
* Environment and other context
------------------------------
TESTER COMMENTS
------------------------------
Additional comments from tester:
this report is from an automated smoke testing program
and was not reviewed by a human for accuracy
------------------------------
PROGRAM OUTPUT
------------------------------
Output from '/usr/bin/make test':
PERL_DL_NONLAZY=1 "/tmp/basesmoker-reloperl-BcnN/bin/perl" "-MExtUtils::Command::MM" "-MTest::Harness" "-e" "undef *Test::Harness::Switches; test_harness(0, 'blib/lib', 'blib/arch')" t/*.t
t/00-compile.t ................ ok
t/00-load.t ................... ok
t/author-eol.t ................ skipped: these tests are for testing by the author
t/author-no-tabs.t ............ skipped: these tests are for testing by the author
t/author-pod-syntax.t ......... skipped: these tests are for testing by the author
t/basics_without_overload.t ... ok
t/cyclic_structures.t ......... ok
Smartmatch is deprecated at t/data_dpath.t line 237.
Smartmatch is deprecated at t/data_dpath.t line 238.
Smartmatch is deprecated at t/data_dpath.t line 239.
Smartmatch is deprecated at t/data_dpath.t line 246.
Smartmatch is deprecated at t/data_dpath.t line 247.
Smartmatch is deprecated at t/data_dpath.t line 248.
Smartmatch is deprecated at t/data_dpath.t line 249.
Smartmatch is deprecated at t/data_dpath.t line 268.
Smartmatch is deprecated at t/data_dpath.t line 271.
Smartmatch is deprecated at t/data_dpath.t line 274.
Smartmatch is deprecated at t/data_dpath.t line 277.
Smartmatch is deprecated at t/data_dpath.t line 280.
Smartmatch is deprecated at t/data_dpath.t line 286.
Smartmatch is deprecated at t/data_dpath.t line 289.
Smartmatch is deprecated at t/data_dpath.t line 292.
Smartmatch is deprecated at t/data_dpath.t line 294.
Smartmatch is deprecated at t/data_dpath.t line 297.
Smartmatch is deprecated at t/data_dpath.t line 303.
Smartmatch is deprecated at t/data_dpath.t line 313.
Smartmatch is deprecated at t/data_dpath.t line 321.
Smartmatch is deprecated at t/data_dpath.t line 324.
Smartmatch is deprecated at t/data_dpath.t line 332.
Smartmatch is deprecated at t/data_dpath.t line 337.
Smartmatch is deprecated at t/data_dpath.t line 344.
Smartmatch is deprecated at t/data_dpath.t line 353.
Smartmatch is deprecated at t/data_dpath.t line 361.
Smartmatch is deprecated at t/data_dpath.t line 363.
Smartmatch is deprecated at t/data_dpath.t line 366.
Smartmatch is deprecated at t/data_dpath.t line 368.
Smartmatch is deprecated at t/data_dpath.t line 371.
Smartmatch is deprecated at t/data_dpath.t line 374.
Smartmatch is deprecated at t/data_dpath.t line 375.
Smartmatch is deprecated at t/data_dpath.t line 378.
Smartmatch is deprecated at t/data_dpath.t line 381.
Smartmatch is deprecated at t/data_dpath.t line 384.
Smartmatch is deprecated at t/data_dpath.t line 387.
Smartmatch is deprecated at t/data_dpath.t line 396.
Smartmatch is deprecated at t/data_dpath.t line 399.
Smartmatch is deprecated at t/data_dpath.t line 409.
Smartmatch is deprecated at t/data_dpath.t line 418.
Smartmatch is deprecated at t/data_dpath.t line 423.
Smartmatch is deprecated at t/data_dpath.t line 430.
Smartmatch is deprecated at t/data_dpath.t line 436.
Smartmatch is deprecated at t/data_dpath.t line 438.
Smartmatch is deprecated at t/data_dpath.t line 441.
Smartmatch is deprecated at t/data_dpath.t line 443.
Smartmatch is deprecated at t/data_dpath.t line 446.
Smartmatch is deprecated at t/data_dpath.t line 448.
Smartmatch is deprecated at t/data_dpath.t line 451.
Smartmatch is deprecated at t/data_dpath.t line 453.
Smartmatch is deprecated at t/data_dpath.t line 456.
Smartmatch is deprecated at t/data_dpath.t line 458.
Smartmatch is deprecated at t/data_dpath.t line 461.
Smartmatch is deprecated at t/data_dpath.t line 463.
Smartmatch is deprecated at t/data_dpath.t line 466.
Smartmatch is deprecated at t/data_dpath.t line 469.
Smartmatch is deprecated at t/data_dpath.t line 473.
Smartmatch is deprecated at t/data_dpath.t line 477.
Smartmatch is deprecated at t/data_dpath.t line 480.
Smartmatch is deprecated at t/data_dpath.t line 484.
Smartmatch is deprecated at t/data_dpath.t line 498.
Smartmatch is deprecated at t/data_dpath.t line 501.
Smartmatch is deprecated at t/data_dpath.t line 504.
Smartmatch is deprecated at t/data_dpath.t line 514.
Smartmatch is deprecated at t/data_dpath.t line 517.
Smartmatch is deprecated at t/data_dpath.t line 520.
Smartmatch is deprecated at t/data_dpath.t line 524.
Smartmatch is deprecated at t/data_dpath.t line 528.
Smartmatch is deprecated at t/data_dpath.t line 530.
Smartmatch is deprecated at t/data_dpath.t line 532.
Smartmatch is deprecated at t/data_dpath.t line 534.
Smartmatch is deprecated at t/data_dpath.t line 536.
Smartmatch is deprecated at t/data_dpath.t line 538.
Smartmatch is deprecated at t/data_dpath.t line 582.
Smartmatch is deprecated at t/data_dpath.t line 585.
Smartmatch is deprecated at t/data_dpath.t line 588.
Smartmatch is deprecated at t/data_dpath.t line 593.
Smartmatch is deprecated at t/data_dpath.t line 597.
Smartmatch is deprecated at t/data_dpath.t line 600.
Smartmatch is deprecated at t/data_dpath.t line 603.
Smartmatch is deprecated at t/data_dpath.t line 606.
Smartmatch is deprecated at t/data_dpath.t line 609.
Smartmatch is deprecated at t/data_dpath.t line 614.
Smartmatch is deprecated at t/data_dpath.t line 618.
Smartmatch is deprecated at t/data_dpath.t line 622.
Smartmatch is deprecated at t/data_dpath.t line 626.
Smartmatch is deprecated at t/data_dpath.t line 630.
Smartmatch is deprecated at t/data_dpath.t line 634.
Smartmatch is deprecated at t/data_dpath.t line 638.
Smartmatch is deprecated at t/data_dpath.t line 642.
Smartmatch is deprecated at t/data_dpath.t line 646.
Smartmatch is deprecated at t/data_dpath.t line 650.
Smartmatch is deprecated at t/data_dpath.t line 654.
Smartmatch is deprecated at t/data_dpath.t line 658.
Smartmatch is deprecated at t/data_dpath.t line 662.
Smartmatch is deprecated at t/data_dpath.t line 666.
Smartmatch is deprecated at t/data_dpath.t line 670.
Smartmatch is deprecated at t/data_dpath.t line 674.
Smartmatch is deprecated at t/data_dpath.t line 678.
Smartmatch is deprecated at t/data_dpath.t line 682.
Smartmatch is deprecated at t/data_dpath.t line 686.
Smartmatch is deprecated at t/data_dpath.t line 690.
Smartmatch is deprecated at t/data_dpath.t line 694.
Smartmatch is deprecated at t/data_dpath.t line 730.
Smartmatch is deprecated at t/data_dpath.t line 733.
Smartmatch is deprecated at t/data_dpath.t line 736.
Smartmatch is deprecated at t/data_dpath.t line 739.
Smartmatch is deprecated at t/data_dpath.t line 742.
Smartmatch is deprecated at t/data_dpath.t line 748.
Smartmatch is deprecated at t/data_dpath.t line 752.
Smartmatch is deprecated at t/data_dpath.t line 758.
Smartmatch is deprecated at t/data_dpath.t line 761.
Smartmatch is deprecated at t/data_dpath.t line 765.
Smartmatch is deprecated at t/data_dpath.t line 772.
Smartmatch is deprecated at t/data_dpath.t line 779.
Smartmatch is deprecated at t/data_dpath.t line 786.
Smartmatch is deprecated at t/data_dpath.t line 791.
Smartmatch is deprecated at t/data_dpath.t line 796.
Smartmatch is deprecated at t/data_dpath.t line 803.
Smartmatch is deprecated at t/data_dpath.t line 811.
Smartmatch is deprecated at t/data_dpath.t line 819.
Smartmatch is deprecated at t/data_dpath.t line 827.
Smartmatch is deprecated at t/data_dpath.t line 830.
Smartmatch is deprecated at t/data_dpath.t line 837.
Smartmatch is deprecated at t/data_dpath.t line 843.
Smartmatch is deprecated at t/data_dpath.t line 848.
Smartmatch is deprecated at t/data_dpath.t line 866.
Smartmatch is deprecated at t/data_dpath.t line 875.
Smartmatch is deprecated at t/data_dpath.t line 878.
Smartmatch is deprecated at t/data_dpath.t line 881.
Smartmatch is deprecated at t/data_dpath.t line 884.
Smartmatch is deprecated at t/data_dpath.t line 905.
Smartmatch is deprecated at t/data_dpath.t line 908.
Smartmatch is deprecated at t/data_dpath.t line 913.
Smartmatch is deprecated at t/data_dpath.t line 916.
Smartmatch is deprecated at t/data_dpath.t line 919.
Smartmatch is deprecated at t/data_dpath.t line 926.
Smartmatch is deprecated at t/data_dpath.t line 944.
Smartmatch is deprecated at t/data_dpath.t line 998.
Smartmatch is deprecated at t/data_dpath.t line 1007.
t/data_dpath.t ................ ok
t/data_dpath_path_unescape.t .. ok
t/iterator.t .................. ok
t/matchr.t .................... ok
Smartmatch is deprecated at t/optimization.t line 37.
Smartmatch is deprecated at t/optimization.t line 40.
Smartmatch is deprecated at t/optimization.t line 71.
Smartmatch is deprecated at t/optimization.t line 74.
t/optimization.t .............. ok
t/parallel.t .................. ok
t/path.t ...................... ok
t/references.t ................ ok
Smartmatch is deprecated at t/regressions.t line 42.
Smartmatch is deprecated at t/regressions.t line 50.
Smartmatch is deprecated at t/regressions.t line 58.
Smartmatch is deprecated at t/regressions.t line 62.
Smartmatch is deprecated at t/regressions.t line 67.
Smartmatch is deprecated at t/regressions.t line 70.
Smartmatch is deprecated at t/regressions.t line 73.
t/regressions.t ............... ok
t/release-pod-coverage.t ...... skipped: these tests are for release candidate testing
Smartmatch is deprecated at t/zeros.t line 43.
Smartmatch is deprecated at t/zeros.t line 46.
Smartmatch is deprecated at t/zeros.t line 49.
Smartmatch is deprecated at t/zeros.t line 52.
Smartmatch is deprecated at t/zeros.t line 55.
Smartmatch is deprecated at t/zeros.t line 58.
Smartmatch is deprecated at t/zeros.t line 61.
Smartmatch is deprecated at t/zeros.t line 64.
Smartmatch is deprecated at t/zeros.t line 67.
t/zeros.t ..................... ok
All tests successful.
Files=18, Tests=530, 3 wallclock secs ( 0.10 usr 0.03 sys + 1.98 cusr 0.32 csys = 2.43 CPU)
Result: PASS
------------------------------
PREREQUISITES
------------------------------
Prerequisite modules loaded:
requires:
Module Need Have
------------------------ ----- --------
aliased 0.33 0.34
Class::XSAccessor 0 1.19
Class::XSAccessor::Array 0 1.19
constant 0 1.33
Data::Dumper 0 2.189
if 0 0.0610
Iterator::Util 0 0.02
List::Util 1.45 1.63
perl 5.008 5.039008
POSIX 0 2.18
Safe 2.30 2.46
Scalar::Util 0 1.63
strict 0 1.13
Sub::Exporter 0 0.991
Text::Balanced 2.02 2.06
warnings 0 1.68
build_requires:
Module Need Have
------------------------ ----- --------
blib 1.01 1.07
ExtUtils::MakeMaker 0 7.70
File::Spec 0 3.90
IO::Handle 0 1.55
IPC::Open3 0 1.22
Test::Deep 0 1.204
Test::More 0.88 1.302198
utf8 0 1.25
configure_requires:
Module Need Have
------------------------ ----- --------
ExtUtils::MakeMaker 0 7.70
------------------------------
ENVIRONMENT AND OTHER CONTEXT
------------------------------
Environment variables:
AUTOMATED_TESTING = 1
LANG = en_US.UTF-8
LC_ADDRESS = de_DE.UTF-8
LC_IDENTIFICATION = de_DE.UTF-8
LC_MEASUREMENT = de_DE.UTF-8
LC_MONETARY = de_DE.UTF-8
LC_NAME = de_DE.UTF-8
LC_NUMERIC = de_DE.UTF-8
LC_PAPER = de_DE.UTF-8
LC_TELEPHONE = de_DE.UTF-8
LC_TIME = de_DE.UTF-8
PATH = /home/sand/bin:/usr/local/bin:/usr/local/sbin:/usr/sbin:/usr/bin:/sbin:/bin:/usr/games:/usr/local/games:/snap/bin:/usr/local/perl/bin:/usr/X11/bin
PERL5LIB = /tmp/loop_over_bdir-1965-2V0BcG/App-nrun-v1.1.2-0/blib/arch:/tmp/loop_over_bdir-1965-2V0BcG/App-nrun-v1.1.2-0/blib/lib
PERL5OPT =
PERL5_CPANPLUS_IS_RUNNING = 1973
PERL5_CPAN_IS_RUNNING = 1973
PERL_CANARY_STABILITY_NOPROMPT = 1
PERL_MM_USE_DEFAULT = 1
PERL_USE_UNSAFE_INC = 1
SHELL = /usr/bin/zsh
TERM = screen
Perl special variables (and OS-specific diagnostics, for MSWin32):
$^X = /tmp/basesmoker-reloperl-BcnN/bin/perl
$UID/$EUID = 1005 / 1005
$GID = 1005 1005
$EGID = 1005 1005
Perl module toolchain versions installed:
Module Have
------------------- --------
CPAN 2.36
CPAN::Meta 2.150010
Cwd 3.90
ExtUtils::CBuilder 0.280240
ExtUtils::Command 7.70
ExtUtils::Install 2.22
ExtUtils::MakeMaker 7.70
ExtUtils::Manifest 1.75
ExtUtils::ParseXS 3.51
File::Spec 3.90
JSON 4.10
JSON::PP 4.16
Module::Build 0.4234
Module::Signature 0.88
Parse::CPAN::Meta 2.150010
Test2 1.302198
Test::Harness 3.48
Test::More 1.302198
YAML 1.31
YAML::Syck 1.34
version 0.9930
--
Summary of my perl5 (revision 5 version 39 subversion 8) configuration:
Commit id: 78455e6e7fa235411fb2b931eda9d816b5ea880f
Platform:
osname=linux
osvers=6.5.0-18-generic
archname=x86_64-linux-thread-multi-ld
uname='linux k93jammy 6.5.0-18-generic #18~22.04.1-ubuntu smp preempt_dynamic wed feb 7 11:40:03 utc 2 x86_64 x86_64 x86_64 gnulinux '
config_args='-Dprefix=/home/sand/src/perl/repoperls/installed-perls/host/k93jammy/v5.39.8/322f -Dmyhostname=k93jammy -Dinstallusrbinperl=n -Uversiononly -Dusedevel -des -Ui_db -Dlibswanted=cl pthread socket inet nsl gdbm dbm malloc dl ld sun m crypt sec util c cposix posix ucb BSD gdbm_compat -Duseithreads -Duselongdouble -DEBUGGING=-g'
hint=recommended
useposix=true
d_sigaction=define
useithreads=define
usemultiplicity=define
use64bitint=define
use64bitall=define
uselongdouble=define
usemymalloc=n
default_inc_excludes_dot=define
Compiler:
cc='cc'
ccflags ='-D_REENTRANT -D_GNU_SOURCE -fwrapv -fno-strict-aliasing -pipe -fstack-protector-strong -I/usr/local/include -D_LARGEFILE_SOURCE -D_FILE_OFFSET_BITS=64'
optimize='-O2 -g'
cppflags='-D_REENTRANT -D_GNU_SOURCE -fwrapv -fno-strict-aliasing -pipe -fstack-protector-strong -I/usr/local/include'
ccversion=''
gccversion='11.4.0'
gccosandvers=''
intsize=4
longsize=8
ptrsize=8
doublesize=8
byteorder=12345678
doublekind=3
d_longlong=define
longlongsize=8
d_longdbl=define
longdblsize=16
longdblkind=3
ivtype='long'
ivsize=8
nvtype='long double'
nvsize=16
Off_t='off_t'
lseeksize=8
alignbytes=16
prototype=define
Linker and Libraries:
ld='cc'
ldflags =' -fstack-protector-strong -L/usr/local/lib'
libpth=/usr/local/lib /usr/lib/x86_64-linux-gnu /usr/lib /usr/lib64
libs=-lpthread -lnsl -ldl -lm -lcrypt -lutil -lc
perllibs=-lpthread -lnsl -ldl -lm -lcrypt -lutil -lc
libc=/lib/x86_64-linux-gnu/libc.so.6
so=so
useshrplib=false
libperl=libperl.a
gnulibc_version='2.35'
Dynamic Linking:
dlsrc=dl_dlopen.xs
dlext=so
d_dlsymun=undef
ccdlflags='-Wl,-E'
cccdlflags='-fPIC'
lddlflags='-shared -O2 -g -L/usr/local/lib -fstack-protector-strong'
Characteristics of this binary (from libperl):
Compile-time options:
HAS_LONG_DOUBLE
HAS_STRTOLD
HAS_TIMES
MULTIPLICITY
PERLIO_LAYERS
PERL_COPY_ON_WRITE
PERL_DONT_CREATE_GVSV
PERL_HASH_FUNC_SIPHASH13
PERL_HASH_USE_SBOX32
PERL_MALLOC_WRAP
PERL_OP_PARENT
PERL_PRESERVE_IVUV
PERL_USE_DEVEL
PERL_USE_SAFE_PUTENV
USE_64_BIT_ALL
USE_64_BIT_INT
USE_ITHREADS
USE_LARGE_FILES
USE_LOCALE
USE_LOCALE_COLLATE
USE_LOCALE_CTYPE
USE_LOCALE_NUMERIC
USE_LOCALE_TIME
USE_LONG_DOUBLE
USE_PERLIO
USE_PERL_ATOF
USE_REENTRANT_API
USE_THREAD_SAFE_LOCALE
Built under linux
Compiled at Feb 24 2024 05:29:46
%ENV:
PERL5LIB="/tmp/loop_over_bdir-1965-2V0BcG/App-nrun-v1.1.2-0/blib/arch:/tmp/loop_over_bdir-1965-2V0BcG/App-nrun-v1.1.2-0/blib/lib"
PERL5OPT=""
PERL5_CPANPLUS_IS_RUNNING="1973"
PERL5_CPAN_IS_RUNNING="1973"
PERL_CANARY_STABILITY_NOPROMPT="1"
PERL_MM_USE_DEFAULT="1"
PERL_USE_UNSAFE_INC="1"
@INC:
/tmp/loop_over_bdir-1965-2V0BcG/App-nrun-v1.1.2-0/blib/arch
/tmp/loop_over_bdir-1965-2V0BcG/App-nrun-v1.1.2-0/blib/lib
/home/sand/src/perl/repoperls/installed-perls/host/k93jammy/v5.39.8/322f/lib/site_perl/5.39.8/x86_64-linux-thread-multi-ld
/home/sand/src/perl/repoperls/installed-perls/host/k93jammy/v5.39.8/322f/lib/site_perl/5.39.8
/home/sand/src/perl/repoperls/installed-perls/host/k93jammy/v5.39.8/322f/lib/5.39.8/x86_64-linux-thread-multi-ld
/home/sand/src/perl/repoperls/installed-perls/host/k93jammy/v5.39.8/322f/lib/5.39.8
.