Report for Data-DPath-0.51

Back
From: metabase:user:d49cdc72-1559-11e3-9efd-e82414baadac
Subject: PASS Data-DPath-0.51 v5.21.9 GNU/Linux
Date: 2015-02-10T13:22:42Z

This distribution has been tested as part of the CPAN Testers
project, supporting the Perl programming language.  See
http://wiki.cpantesters.org/ for more information or email
questions to cpan-testers-discuss@perl.org


--
Dear SCHWIGON,

This is a computer-generated report for Data-DPath-0.51
on perl 5.21.9, created by App::cpanminus::reporter 0.12 (1.7022).

Thank you for uploading your work to CPAN.  Congratulations!
All tests were successful.

Sections of this report:

    * Tester comments
    * Program output
    * Prerequisites
    * Environment and other context

------------------------------
TESTER COMMENTS
------------------------------

Additional comments from tester:

none provided

------------------------------
PROGRAM OUTPUT
------------------------------

Output from '':

Building and testing Data-DPath-0.51
cp lib/Data/DPath/Point.pm blib/lib/Data/DPath/Point.pm
cp lib/Data/DPath/Path.pm blib/lib/Data/DPath/Path.pm
cp lib/Data/DPath/Step.pm blib/lib/Data/DPath/Step.pm
cp lib/Data/DPath/Filters.pm blib/lib/Data/DPath/Filters.pm
cp lib/Data/DPath/Attrs.pm blib/lib/Data/DPath/Attrs.pm
cp lib/Data/DPath/Context.pm blib/lib/Data/DPath/Context.pm
cp lib/Data/DPath.pm blib/lib/Data/DPath.pm
PERL_DL_NONLAZY=1 "/home/kent/perl5/perlbrew/perls/5.21.8-c/bin/perl5.21.9" "-MExtUtils::Command::MM" "-MTest::Harness" "-e" "undef *Test::Harness::Switches; test_harness(0, 'blib/lib', 'blib/arch')" t/*.t
t/00-load.t .................. ok
t/parallel.t ................. ok
Smartmatch is experimental at t/data_dpath.t line 236.
Smartmatch is experimental at t/data_dpath.t line 237.
Smartmatch is experimental at t/data_dpath.t line 238.
Smartmatch is experimental at t/data_dpath.t line 245.
Smartmatch is experimental at t/data_dpath.t line 246.
Smartmatch is experimental at t/data_dpath.t line 247.
Smartmatch is experimental at t/data_dpath.t line 248.
Smartmatch is experimental at t/data_dpath.t line 267.
Smartmatch is experimental at t/data_dpath.t line 270.
Smartmatch is experimental at t/data_dpath.t line 273.
Smartmatch is experimental at t/data_dpath.t line 276.
Smartmatch is experimental at t/data_dpath.t line 279.
Smartmatch is experimental at t/data_dpath.t line 285.
Smartmatch is experimental at t/data_dpath.t line 288.
Smartmatch is experimental at t/data_dpath.t line 291.
Smartmatch is experimental at t/data_dpath.t line 293.
Smartmatch is experimental at t/data_dpath.t line 296.
Smartmatch is experimental at t/data_dpath.t line 302.
Smartmatch is experimental at t/data_dpath.t line 312.
Smartmatch is experimental at t/data_dpath.t line 320.
Smartmatch is experimental at t/data_dpath.t line 323.
Smartmatch is experimental at t/data_dpath.t line 331.
Smartmatch is experimental at t/data_dpath.t line 336.
Smartmatch is experimental at t/data_dpath.t line 343.
Smartmatch is experimental at t/data_dpath.t line 352.
Smartmatch is experimental at t/data_dpath.t line 360.
Smartmatch is experimental at t/data_dpath.t line 362.
Smartmatch is experimental at t/data_dpath.t line 365.
Smartmatch is experimental at t/data_dpath.t line 367.
Smartmatch is experimental at t/data_dpath.t line 370.
Smartmatch is experimental at t/data_dpath.t line 373.
Smartmatch is experimental at t/data_dpath.t line 374.
Smartmatch is experimental at t/data_dpath.t line 377.
Smartmatch is experimental at t/data_dpath.t line 380.
Smartmatch is experimental at t/data_dpath.t line 383.
Smartmatch is experimental at t/data_dpath.t line 386.
Smartmatch is experimental at t/data_dpath.t line 395.
Smartmatch is experimental at t/data_dpath.t line 398.
Smartmatch is experimental at t/data_dpath.t line 408.
Smartmatch is experimental at t/data_dpath.t line 417.
Smartmatch is experimental at t/data_dpath.t line 422.
Smartmatch is experimental at t/data_dpath.t line 429.
Smartmatch is experimental at t/data_dpath.t line 435.
Smartmatch is experimental at t/data_dpath.t line 437.
Smartmatch is experimental at t/data_dpath.t line 440.
Smartmatch is experimental at t/data_dpath.t line 442.
Smartmatch is experimental at t/data_dpath.t line 445.
Smartmatch is experimental at t/data_dpath.t line 447.
Smartmatch is experimental at t/data_dpath.t line 450.
Smartmatch is experimental at t/data_dpath.t line 452.
Smartmatch is experimental at t/data_dpath.t line 455.
Smartmatch is experimental at t/data_dpath.t line 457.
Smartmatch is experimental at t/data_dpath.t line 460.
Smartmatch is experimental at t/data_dpath.t line 462.
Smartmatch is experimental at t/data_dpath.t line 465.
Smartmatch is experimental at t/data_dpath.t line 468.
Smartmatch is experimental at t/data_dpath.t line 472.
Smartmatch is experimental at t/data_dpath.t line 476.
Smartmatch is experimental at t/data_dpath.t line 479.
Smartmatch is experimental at t/data_dpath.t line 483.
Smartmatch is experimental at t/data_dpath.t line 497.
Smartmatch is experimental at t/data_dpath.t line 500.
Smartmatch is experimental at t/data_dpath.t line 503.
Smartmatch is experimental at t/data_dpath.t line 513.
Smartmatch is experimental at t/data_dpath.t line 516.
Smartmatch is experimental at t/data_dpath.t line 519.
Smartmatch is experimental at t/data_dpath.t line 523.
Smartmatch is experimental at t/data_dpath.t line 527.
Smartmatch is experimental at t/data_dpath.t line 529.
Smartmatch is experimental at t/data_dpath.t line 531.
Smartmatch is experimental at t/data_dpath.t line 533.
Smartmatch is experimental at t/data_dpath.t line 535.
Smartmatch is experimental at t/data_dpath.t line 537.
Smartmatch is experimental at t/data_dpath.t line 581.
Smartmatch is experimental at t/data_dpath.t line 584.
Smartmatch is experimental at t/data_dpath.t line 587.
Smartmatch is experimental at t/data_dpath.t line 592.
Smartmatch is experimental at t/data_dpath.t line 596.
Smartmatch is experimental at t/data_dpath.t line 599.
Smartmatch is experimental at t/data_dpath.t line 602.
Smartmatch is experimental at t/data_dpath.t line 605.
Smartmatch is experimental at t/data_dpath.t line 608.
Smartmatch is experimental at t/data_dpath.t line 613.
Smartmatch is experimental at t/data_dpath.t line 617.
Smartmatch is experimental at t/data_dpath.t line 621.
Smartmatch is experimental at t/data_dpath.t line 625.
Smartmatch is experimental at t/data_dpath.t line 629.
Smartmatch is experimental at t/data_dpath.t line 633.
Smartmatch is experimental at t/data_dpath.t line 637.
Smartmatch is experimental at t/data_dpath.t line 641.
Smartmatch is experimental at t/data_dpath.t line 645.
Smartmatch is experimental at t/data_dpath.t line 649.
Smartmatch is experimental at t/data_dpath.t line 653.
Smartmatch is experimental at t/data_dpath.t line 657.
Smartmatch is experimental at t/data_dpath.t line 661.
Smartmatch is experimental at t/data_dpath.t line 665.
Smartmatch is experimental at t/data_dpath.t line 669.
Smartmatch is experimental at t/data_dpath.t line 673.
Smartmatch is experimental at t/data_dpath.t line 677.
Smartmatch is experimental at t/data_dpath.t line 681.
Smartmatch is experimental at t/data_dpath.t line 685.
Smartmatch is experimental at t/data_dpath.t line 689.
Smartmatch is experimental at t/data_dpath.t line 693.
Smartmatch is experimental at t/data_dpath.t line 729.
Smartmatch is experimental at t/data_dpath.t line 732.
Smartmatch is experimental at t/data_dpath.t line 735.
Smartmatch is experimental at t/data_dpath.t line 738.
Smartmatch is experimental at t/data_dpath.t line 741.
Smartmatch is experimental at t/data_dpath.t line 747.
Smartmatch is experimental at t/data_dpath.t line 751.
Smartmatch is experimental at t/data_dpath.t line 757.
Smartmatch is experimental at t/data_dpath.t line 760.
Smartmatch is experimental at t/data_dpath.t line 764.
Smartmatch is experimental at t/data_dpath.t line 771.
Smartmatch is experimental at t/data_dpath.t line 778.
Smartmatch is experimental at t/data_dpath.t line 785.
Smartmatch is experimental at t/data_dpath.t line 790.
Smartmatch is experimental at t/data_dpath.t line 795.
Smartmatch is experimental at t/data_dpath.t line 802.
Smartmatch is experimental at t/data_dpath.t line 810.
Smartmatch is experimental at t/data_dpath.t line 818.
Smartmatch is experimental at t/data_dpath.t line 826.
Smartmatch is experimental at t/data_dpath.t line 829.
Smartmatch is experimental at t/data_dpath.t line 836.
Smartmatch is experimental at t/data_dpath.t line 842.
Smartmatch is experimental at t/data_dpath.t line 847.
Smartmatch is experimental at t/data_dpath.t line 865.
Smartmatch is experimental at t/data_dpath.t line 874.
Smartmatch is experimental at t/data_dpath.t line 877.
Smartmatch is experimental at t/data_dpath.t line 880.
Smartmatch is experimental at t/data_dpath.t line 883.
Smartmatch is experimental at t/data_dpath.t line 904.
Smartmatch is experimental at t/data_dpath.t line 907.
Smartmatch is experimental at t/data_dpath.t line 912.
Smartmatch is experimental at t/data_dpath.t line 915.
Smartmatch is experimental at t/data_dpath.t line 918.
Smartmatch is experimental at t/data_dpath.t line 925.
Smartmatch is experimental at t/data_dpath.t line 943.
Smartmatch is experimental at t/data_dpath.t line 997.
Smartmatch is experimental at t/data_dpath.t line 1006.
t/cyclic_structures.t ........ ok
t/iterator.t ................. ok
t/release-eol.t .............. skipped: these tests are for release candidate testing
Smartmatch is experimental at t/regressions.t line 30.
Smartmatch is experimental at t/regressions.t line 38.
Smartmatch is experimental at t/regressions.t line 46.
Smartmatch is experimental at t/regressions.t line 50.
t/release-no-tabs.t .......... skipped: these tests are for release candidate testing
Smartmatch is experimental at t/optimization.t line 36.
Smartmatch is experimental at t/optimization.t line 39.
Smartmatch is experimental at t/optimization.t line 70.
Smartmatch is experimental at t/optimization.t line 73.
t/release-pod-syntax.t ....... skipped: these tests are for release candidate testing
t/optimization.t ............. ok
t/regressions.t .............. ok
t/path.t ..................... ok
t/references.t ............... ok
t/release-pod-coverage.t ..... skipped: these tests are for release candidate testing
Smartmatch is experimental at t/zeros.t line 42.
Smartmatch is experimental at t/zeros.t line 45.
Smartmatch is experimental at t/zeros.t line 48.
Smartmatch is experimental at t/zeros.t line 51.
Smartmatch is experimental at t/zeros.t line 54.
Smartmatch is experimental at t/zeros.t line 57.
Smartmatch is experimental at t/zeros.t line 60.
Smartmatch is experimental at t/zeros.t line 63.
Smartmatch is experimental at t/zeros.t line 66.
t/zeros.t .................... ok
Smartmatch is experimental at (eval 224) line 1.
Smartmatch is experimental at (eval 226) line 1.
Smartmatch is experimental at (eval 240) line 1.
Smartmatch is experimental at (eval 242) line 1.
Smartmatch is experimental at (eval 244) line 1.
Smartmatch is experimental at (eval 246) line 1.
Smartmatch is experimental at (eval 248) line 1.
Smartmatch is experimental at (eval 250) line 1.
Smartmatch is experimental at (eval 252) line 1.
Smartmatch is experimental at (eval 254) line 1.
Smartmatch is experimental at (eval 256) line 1.
Smartmatch is experimental at (eval 258) line 1.
Smartmatch is experimental at (eval 260) line 1.
Smartmatch is experimental at (eval 262) line 1.
Smartmatch is experimental at (eval 288) line 1.
Smartmatch is experimental at (eval 290) line 1.
Smartmatch is experimental at (eval 292) line 1.
Smartmatch is experimental at (eval 294) line 1.
Smartmatch is experimental at (eval 296) line 1.
Smartmatch is experimental at (eval 298) line 1.
Smartmatch is experimental at (eval 300) line 1.
Smartmatch is experimental at (eval 302) line 1.
Smartmatch is experimental at (eval 304) line 1.
Smartmatch is experimental at (eval 306) line 1.
Smartmatch is experimental at (eval 308) line 1.
Smartmatch is experimental at (eval 310) line 1.
Smartmatch is experimental at (eval 510) line 1.
Smartmatch is experimental at (eval 512) line 1.
Smartmatch is experimental at (eval 514) line 1.
Smartmatch is experimental at (eval 516) line 1.
Smartmatch is experimental at (eval 518) line 1.
Smartmatch is experimental at (eval 520) line 1.
Smartmatch is experimental at (eval 522) line 1.
Smartmatch is experimental at (eval 524) line 1.
Smartmatch is experimental at (eval 526) line 1.
Smartmatch is experimental at (eval 528) line 1.
Smartmatch is experimental at (eval 530) line 1.
Smartmatch is experimental at (eval 532) line 1.
Smartmatch is experimental at (eval 534) line 1.
Smartmatch is experimental at (eval 536) line 1.
Smartmatch is experimental at (eval 538) line 1.
Smartmatch is experimental at (eval 540) line 1.
Smartmatch is experimental at (eval 542) line 1.
Smartmatch is experimental at (eval 544) line 1.
Smartmatch is experimental at (eval 546) line 1.
Smartmatch is experimental at (eval 548) line 1.
t/basics_without_overload.t .. ok
t/data_dpath.t ............... ok
All tests successful.
Files=15, Tests=472,  2 wallclock secs ( 0.25 usr  0.05 sys +  5.45 cusr  0.70 csys =  6.45 CPU)
Result: PASS

------------------------------
PREREQUISITES
------------------------------

Prerequisite modules loaded:

    No requirements found

------------------------------
ENVIRONMENT AND OTHER CONTEXT
------------------------------

Environment variables:

    LANGUAGE = 
    LC_CTYPE = en_NZ.UTF8
    PATH = /home/kent/perl5/perlbrew/bin:/home/kent/perl5/perlbrew/perls/5.21.8-c/bin:/home/kent/.perl6/2013.04/bin:/home/kent/.gem/ruby/1.8/bin/:/home/kent/.rvm/gems/ruby-2.1.2/bin:/home/kent/.rvm/gems/ruby-2.1.2@global/bin:/home/kent/.rvm/rubies/ruby-2.1.2/bin:/usr/local/bin:/usr/bin:/bin:/opt/bin:/usr/x86_64-pc-linux-gnu/gcc-bin/4.9.2:/usr/games/bin:/home/kent/.rvm/bin:/home/kent/.rvm/bin
    PERLBREW_BASHRC_VERSION = 0.72
    PERLBREW_HOME = /home/kent/.perlbrew
    PERLBREW_MANPATH = /home/kent/perl5/perlbrew/perls/5.21.8-c/man
    PERLBREW_PATH = /home/kent/perl5/perlbrew/bin:/home/kent/perl5/perlbrew/perls/5.21.8-c/bin
    PERLBREW_PERL = 5.21.8-c
    PERLBREW_ROOT = /home/kent/perl5/perlbrew
    PERLBREW_VERSION = 0.72
    PERL_CPANM_OPT =  --prompt --interactive --verify --mirror http://cpan.metacpan.org/
    PERL_MM_OPT =  INSTALLDIRS=site
    SHELL = /bin/bash
    TERM = xterm

Perl special variables (and OS-specific diagnostics, for MSWin32):

    EGID = 1000 4 6 10 16 18 19 27 35 78 80 85 100 102 103 104 105 114 115 116 117 118 250 974 994 1000
    EUID = 1000
    EXECUTABLE_NAME = /home/kent/perl5/perlbrew/perls/5.21.8-c/bin/perl5.21.9
    GID = 1000 4 6 10 16 18 19 27 35 78 80 85 100 102 103 104 105 114 115 116 117 118 250 974 994 1000
    UID = 1000

Perl module toolchain versions installed:

    Module              Have        
    ------------------- ------------
    CPAN                2.05        
    CPAN::Meta          2.143240    
    Cwd                 3.54        
    ExtUtils::CBuilder  0.280221    
    ExtUtils::Command   1.20        
    ExtUtils::Install   2.04        
    ExtUtils::MakeMaker 7.04        
    ExtUtils::Manifest  1.70        
    ExtUtils::ParseXS   3.27        
    File::Spec          3.53        
    JSON                2.90        
    JSON::PP            2.27300     
    Module::Build       0.4211      
    Module::Signature   0.73        
    Parse::CPAN::Meta   1.4414      
    Test::Harness       3.35        
    Test::More          1.301001_098
    YAML                1.14        
    YAML::Syck          n/a         
    version             0.9909      


--

Summary of my perl5 (revision 5 version 21 subversion 9) configuration:
  Derived from: 5904c5c0c031fad19e61f5d279d624a91a196e02
  Platform:
    osname=linux, osvers=3.18.3-aufs, archname=x86_64-linux
    uname='linux katipo2 3.18.3-aufs #21 smp preempt mon jan 26 09:49:29 nzdt 2015 x86_64 intel(r) core(tm) i5-2410m cpu @ 2.30ghz genuineintel gnulinux '
    config_args='-de -Dprefix=/home/kent/perl5/perlbrew/perls/5.21.8-c -Dusecbacktrace -Doptimize=-O3 -march=native -mtune=native -g -ggdb3 -fprofile-use -finstrument-functions -Dman1dir=none -Dman3dir=none -Dusedevel -Accflags=-DPERL_HASH_FUNC_SDBM -DUSE_C_BACKTRACE_ON_ERROR -Aldflags= -fprofile-use -lbfd -Aeval:scriptdir=/home/kent/perl5/perlbrew/perls/5.21.8-c/bin'
    hint=recommended, useposix=true, d_sigaction=define
    useithreads=undef, usemultiplicity=undef
    use64bitint=define, use64bitall=define, uselongdouble=undef
    usemymalloc=n, bincompat5005=undef
  Compiler:
    cc='cc', ccflags ='-DPERL_HASH_FUNC_SDBM -DUSE_C_BACKTRACE_ON_ERROR -fwrapv -fno-strict-aliasing -pipe -fstack-protector-strong -DUSE_C_BACKTRACE -g -D_LARGEFILE_SOURCE -D_FILE_OFFSET_BITS=64',
    optimize='-O3 -march=native -mtune=native -g -ggdb3 -fprofile-use -finstrument-functions',
    cppflags='-DPERL_HASH_FUNC_SDBM -DUSE_C_BACKTRACE_ON_ERROR -fwrapv -fno-strict-aliasing -pipe -fstack-protector-strong'
    ccversion='', gccversion='4.9.2', gccosandvers=''
    intsize=4, longsize=8, ptrsize=8, doublesize=8, byteorder=12345678, doublekind=3
    d_longlong=define, longlongsize=8, d_longdbl=define, longdblsize=16, longdblkind=3
    ivtype='long', ivsize=8, nvtype='double', nvsize=8, Off_t='off_t', lseeksize=8
    alignbytes=8, prototype=define
  Linker and Libraries:
    ld='cc', ldflags ='  -fprofile-use -lbfd -fstack-protector-strong -L/usr/local/lib'
    libpth=/usr/lib/gcc/x86_64-pc-linux-gnu/4.9.2/include-fixed /usr/lib /usr/local/lib /lib/../lib64 /usr/lib/../lib64 /lib /lib64 /usr/lib64 /usr/local/lib64
    libs=-lpthread -lnsl -lnm -lgdbm -ldb -ldl -lm -lcrypt -lutil -lc -lgdbm_compat
    perllibs=-lpthread -lnsl -lnm -ldl -lm -lcrypt -lutil -lc
    libc=libc-2.20.so, so=so, useshrplib=false, libperl=libperl.a
    gnulibc_version='2.20'
  Dynamic Linking:
    dlsrc=dl_dlopen.xs, dlext=so, d_dlsymun=undef, ccdlflags='-Wl,-E'
    cccdlflags='-fPIC', lddlflags='-shared -O3 -march=native -mtune=native -g -ggdb3 -fprofile-use -finstrument-functions -L/usr/local/lib -fstack-protector-strong'


Characteristics of this binary (from libperl): 
  Compile-time options: HAS_TIMES PERLIO_LAYERS PERL_DONT_CREATE_GVSV
                        PERL_HASH_FUNC_SDBM PERL_MALLOC_WRAP
                        PERL_NEW_COPY_ON_WRITE PERL_PRESERVE_IVUV
                        PERL_USE_DEVEL USE_64_BIT_ALL USE_64_BIT_INT
                        USE_LARGE_FILES USE_LOCALE USE_LOCALE_COLLATE
                        USE_LOCALE_CTYPE USE_LOCALE_NUMERIC USE_LOCALE_TIME
                        USE_PERLIO USE_PERL_ATOF
  Locally applied patches:
	uncommitted-changes
  Built under linux
  Compiled at Feb 11 2015 00:19:40
  %ENV:
    PERLBREW_BASHRC_VERSION="0.72"
    PERLBREW_HOME="/home/kent/.perlbrew"
    PERLBREW_MANPATH="/home/kent/perl5/perlbrew/perls/5.21.8-c/man"
    PERLBREW_PATH="/home/kent/perl5/perlbrew/bin:/home/kent/perl5/perlbrew/perls/5.21.8-c/bin"
    PERLBREW_PERL="5.21.8-c"
    PERLBREW_ROOT="/home/kent/perl5/perlbrew"
    PERLBREW_VERSION="0.72"
    PERL_CPANM_OPT=" --prompt --interactive --verify --mirror http://cpan.metacpan.org/"
    PERL_MM_OPT=" INSTALLDIRS=site"
  @INC:
    /home/kent/perl5/perlbrew/perls/5.21.8-c/lib/site_perl/5.21.9/x86_64-linux
    /home/kent/perl5/perlbrew/perls/5.21.8-c/lib/site_perl/5.21.9
    /home/kent/perl5/perlbrew/perls/5.21.8-c/lib/5.21.9/x86_64-linux
    /home/kent/perl5/perlbrew/perls/5.21.8-c/lib/5.21.9
    .