Back
From: metabase:user:1eed3a18-483e-11e2-a87b-a3931c712682
Subject: PASS Text-Balanced-2.02 v5.18.1 Mac OS X
Date: 2013-10-12T12:43:28Z
This distribution has been tested as part of the CPAN Testers
project, supporting the Perl programming language. See
http://wiki.cpantesters.org/ for more information or email
questions to cpan-testers-discuss@perl.org
--
Dear ADAMK,
This is a computer-generated report for Text-Balanced-2.02
on perl 5.18.1, created by App::cpanminus::reporter 0.10 (1.7000).
Thank you for uploading your work to CPAN. Congratulations!
All tests were successful.
Sections of this report:
* Tester comments
* Program output
* Prerequisites
* Environment and other context
------------------------------
TESTER COMMENTS
------------------------------
Additional comments from tester:
none provided
------------------------------
PROGRAM OUTPUT
------------------------------
Output from '':
Building and testing Text-Balanced-2.02
cp lib/Text/Balanced.pm blib/lib/Text/Balanced.pm
Manifying blib/man3/Text::Balanced.3
PERL_DL_NONLAZY=1 /Users/stas/perl5/perlbrew/perls/perl-5.8.9/bin/perl "-MExtUtils::Command::MM" "-e" "test_harness(0, 'blib/lib', 'blib/arch')" t/*.t
t/01_compile.t .. ok
t/02_extbrk.t ... ok
t/03_extcbk.t ... ok
t/04_extdel.t ... ok
t/05_extmul.t ... ok
t/06_extqlk.t ... ok
t/07_exttag.t ... ok
t/08_extvar.t ... ok
t/09_gentag.t ... ok
t/97_meta.t ..... skipped: Author tests not required for installation
t/98_pod.t ...... skipped: Author tests not required for installation
t/99_pmv.t ...... skipped: Author tests not required for installation
All tests successful.
Files=12, Tests=560, 0 wallclock secs ( 0.09 usr 0.03 sys + 0.22 cusr 0.04 csys = 0.38 CPU)
Result: PASS
------------------------------
PREREQUISITES
------------------------------
Prerequisite modules loaded:
No requirements found
------------------------------
ENVIRONMENT AND OTHER CONTEXT
------------------------------
Environment variables:
LANG = en_US.UTF-8
LC_ALL = en_US.UTF-8
LC_CTYPE = en_US.UTF-8
PATH = /Users/stas/perl5/perlbrew/bin:/Users/stas/perl5/perlbrew/perls/perl-5.18.1/bin:/Users/stas/.vim/bin:/Users/stas/bin:/Users/stas/node_modules/.bin:/opt/local/Library/Frameworks/Python.framework/Versions/2.7/bin:/opt/local/lib/postgresql92/bin:/opt/local/bin:/opt/local/sbin:/usr/bin:/bin:/usr/sbin:/sbin:/usr/local/bin:/opt/X11/bin:/Users/stas/.vim/bin:/Users/stas/bin:/Users/stas/node_modules/.bin:/opt/local/Library/Frameworks/Python.framework/Versions/2.7/bin:/opt/local/lib/postgresql92/bin:/opt/local/bin:/opt/local/sbin
PERLBREW_BASHRC_VERSION = 0.65
PERLBREW_HOME = /Users/stas/.perlbrew
PERLBREW_MANPATH = /Users/stas/perl5/perlbrew/perls/perl-5.18.1/man
PERLBREW_PATH = /Users/stas/perl5/perlbrew/bin:/Users/stas/perl5/perlbrew/perls/perl-5.18.1/bin
PERLBREW_PERL = perl-5.18.1
PERLBREW_ROOT = /Users/stas/perl5/perlbrew
PERLBREW_VERSION = 0.65
PERL_MM_USE_DEFAULT = 1
SHELL = /opt/local/bin/zsh
TERM = screen
TMPDIR = /var/folders/k7/cj2hxbn162362g2150r7t9480000gn/T/
Perl special variables (and OS-specific diagnostics, for MSWin32):
EGID = 20 20 401 508 12 33 61 79 80 81 98 100 204 402
EUID = 501
EXECUTABLE_NAME = /Users/stas/perl5/perlbrew/perls/perl-5.18.1/bin/perl
GID = 20 20 401 508 12 33 61 79 80 81 98 100 204 402
UID = 501
Perl module toolchain versions installed:
Module Have
------------------- --------
CPAN 2.00
CPAN::Meta 2.132830
Cwd 3.40
ExtUtils::CBuilder 0.280212
ExtUtils::Command 1.18
ExtUtils::Install 1.59
ExtUtils::MakeMaker 6.78
ExtUtils::Manifest 1.63
ExtUtils::ParseXS 3.22
File::Spec 3.40
JSON 2.59
JSON::PP 2.27202
Module::Build 0.4007
Module::Signature 0.73
Parse::CPAN::Meta 1.4409
Test::Harness 3.29
Test::More 0.98
YAML 0.84
YAML::Syck 1.27
version 0.9904
--
Summary of my perl5 (revision 5 version 18 subversion 1) configuration:
Platform:
osname=darwin, osvers=12.4.0, archname=darwin-2level
uname='darwin stanislaws-macbook-pro.local 12.4.0 darwin kernel version 12.4.0: wed may 1 17:57:12 pdt 2013; root:xnu-2050.24.15~1release_x86_64 x86_64 '
config_args='-de -Dprefix=/Users/stas/perl5/perlbrew/perls/perl-5.18.1 -Aeval:scriptdir=/Users/stas/perl5/perlbrew/perls/perl-5.18.1/bin'
hint=recommended, useposix=true, d_sigaction=define
useithreads=undef, usemultiplicity=undef
useperlio=define, d_sfio=undef, uselargefiles=define, usesocks=undef
use64bitint=define, use64bitall=define, uselongdouble=undef
usemymalloc=n, bincompat5005=undef
Compiler:
cc='cc', ccflags ='-fno-common -DPERL_DARWIN -fno-strict-aliasing -pipe -fstack-protector -I/opt/local/include',
optimize='-O3',
cppflags='-fno-common -DPERL_DARWIN -fno-strict-aliasing -pipe -fstack-protector -I/opt/local/include'
ccversion='', gccversion='4.2.1 Compatible Apple Clang 4.0 ((tags/Apple/clang-421.0.60))', gccosandvers=''
intsize=4, longsize=8, ptrsize=8, doublesize=8, byteorder=12345678
d_longlong=define, longlongsize=8, d_longdbl=define, longdblsize=16
ivtype='long', ivsize=8, nvtype='double', nvsize=8, Off_t='off_t', lseeksize=8
alignbytes=8, prototype=define
Linker and Libraries:
ld='env MACOSX_DEPLOYMENT_TARGET=10.3 cc', ldflags =' -fstack-protector -L/opt/local/lib'
libpth=/opt/local/lib /usr/lib
libs=-lgdbm -ldbm -ldl -lm -lutil -lc
perllibs=-ldl -lm -lutil -lc
libc=, so=dylib, useshrplib=false, libperl=libperl.a
gnulibc_version=''
Dynamic Linking:
dlsrc=dl_dlopen.xs, dlext=bundle, d_dlsymun=undef, ccdlflags=' '
cccdlflags=' ', lddlflags=' -bundle -undefined dynamic_lookup -L/opt/local/lib -fstack-protector'
Characteristics of this binary (from libperl):
Compile-time options: HAS_TIMES PERLIO_LAYERS PERL_DONT_CREATE_GVSV
PERL_HASH_FUNC_ONE_AT_A_TIME_HARD PERL_MALLOC_WRAP
PERL_PRESERVE_IVUV PERL_SAWAMPERSAND USE_64_BIT_ALL
USE_64_BIT_INT USE_LARGE_FILES USE_LOCALE
USE_LOCALE_COLLATE USE_LOCALE_CTYPE
USE_LOCALE_NUMERIC USE_PERLIO USE_PERL_ATOF
Built under darwin
Compiled at Aug 13 2013 12:53:45
%ENV:
PERLBREW_BASHRC_VERSION="0.65"
PERLBREW_HOME="/Users/stas/.perlbrew"
PERLBREW_MANPATH="/Users/stas/perl5/perlbrew/perls/perl-5.18.1/man"
PERLBREW_PATH="/Users/stas/perl5/perlbrew/bin:/Users/stas/perl5/perlbrew/perls/perl-5.18.1/bin"
PERLBREW_PERL="perl-5.18.1"
PERLBREW_ROOT="/Users/stas/perl5/perlbrew"
PERLBREW_VERSION="0.65"
PERL_MM_USE_DEFAULT="1"
@INC:
/Users/stas/perl5/perlbrew/perls/perl-5.18.1/lib/site_perl/5.18.1/darwin-2level
/Users/stas/perl5/perlbrew/perls/perl-5.18.1/lib/site_perl/5.18.1
/Users/stas/perl5/perlbrew/perls/perl-5.18.1/lib/5.18.1/darwin-2level
/Users/stas/perl5/perlbrew/perls/perl-5.18.1/lib/5.18.1
.