Dist-Zilla-Util-Git-Wrapper v0.004002 Perl 5 v5.22.3 x86_64-linux
- Status
- Pass
- From
- Slaven Rezić (SREZIC)
- Dist
-
Dist-Zilla-Util-Git-Wrapper v0.004002
- Platform
- Perl 5 v5.22.3 x86_64-linux
- Date
- 2017-12-24 23:05:12
- ID
- e5146048-e8fe-11e7-b926-f60b8dbd4bc4
This distribution has been tested as part of the CPAN Testers
project, supporting the Perl programming language. See
http://wiki.cpantesters.org/ for more information or email
questions to cpan-testers-discuss@perl.org
--
Dear Kent Fredric,
This is a computer-generated report for Dist-Zilla-Util-Git-Wrapper-0.004002
on perl 5.22.3, created by CPAN-Reporter-1.2018.
Thank you for uploading your work to CPAN. Congratulations!
All tests were successful.
Sections of this report:
* Tester comments
* Program output
* Prerequisites
* Environment and other context
------------------------------
TESTER COMMENTS
------------------------------
Additional comments from tester:
none provided
------------------------------
PROGRAM OUTPUT
------------------------------
Output from 'make test':
PERL_DL_NONLAZY=1 "/opt/perl-5.22.3/bin/perl" "-MExtUtils::Command::MM" "-MTest::Harness" "-e" "undef *Test::Harness::Switches; test_harness(0, 'blib/lib', 'blib/arch')" t/*.t t/00-compile/*.t
t/00-compile/lib_Dist_Zilla_Util_Git_Wrapper_pm.t ... ok
t/00-compile/lib_Dist_Zilla_UtilRole_MaybeGit_pm.t .. ok
# Git Version: 1.7.1
t/00-report-git-version.t ........................... ok
#
# Versions for all modules listed in MYMETA.json (including optional ones):
#
# === Configure Requires ===
#
# Module Want Have
# ------------------- ---- ----
# ExtUtils::MakeMaker any 7.30
#
# === Configure Recommends ===
#
# Module Want Have
# ------------------- ---- ----
# ExtUtils::MakeMaker 7.00 7.30
#
# === Configure Suggests ===
#
# Module Want Have
# -------- ------- -------
# JSON::PP 2.27300 2.97001
#
# === Build Requires ===
#
# Module Want Have
# ------------------- ---- ----
# ExtUtils::MakeMaker any 7.30
#
# === Test Requires ===
#
# Module Want Have
# -------------------------------- ---- --------
# ExtUtils::MakeMaker any 7.30
# File::Spec any 3.62
# Log::Contextual::LogDispatchouli any 0.001000
# Log::Dispatchouli any 2.015
# Path::Tiny any 0.104
# Sort::Versions any 1.62
# Test::Fatal any 0.014
# Test::More any 1.302120
#
# === Test Recommends ===
#
# Module Want Have
# ------------------- -------- --------
# CPAN::Meta 2.120900 2.150010
# ExtUtils::MakeMaker 7.00 7.30
# Path::Tiny 0.058 0.104
# Test::More 0.99 1.302120
#
# === Runtime Requires ===
#
# Module Want Have
# --------------------------------- ---- --------
# Dist::Zilla::UtilRole::MaybeZilla any 0.002000
# Git::Wrapper any 0.047
# Moose any 2.2006
# Moose::Role any 2.2006
# strict any 1.09
# utf8 any 1.17
# warnings any 1.34
#
# === Runtime Recommends ===
#
# Module Want Have
# ------ ----- ------
# Moose 2.000 2.2006
#
t/00-report-prereqs.t ............................... ok
t/basic.t ........................................... ok
t/utilrole.t ........................................ ok
All tests successful.
Files=6, Tests=12, 1 wallclock secs ( 0.01 usr 0.03 sys + 0.90 cusr 0.23 csys = 1.17 CPU)
Result: PASS
------------------------------
PREREQUISITES
------------------------------
Prerequisite modules loaded:
requires:
Module Need Have
--------------------------------- ----- --------
Dist::Zilla::UtilRole::MaybeZilla 0 0.002000
Git::Wrapper 0 0.047
Moose 0 2.2006
Moose::Role 0 2.2006
perl 5.008 5.022003
strict 0 1.09
utf8 0 1.17
warnings 0 1.34
build_requires:
Module Need Have
--------------------------------- ----- --------
ExtUtils::MakeMaker 0 7.30
File::Spec 0 3.62
Log::Contextual::LogDispatchouli 0 0.001000
Log::Dispatchouli 0 2.015
Path::Tiny 0 0.104
Sort::Versions 0 1.62
Test::Fatal 0 0.014
Test::More 0 1.302120
configure_requires:
Module Need Have
--------------------------------- ----- --------
ExtUtils::MakeMaker 0 7.30
perl 5.008 5.022003
------------------------------
ENVIRONMENT AND OTHER CONTEXT
------------------------------
Environment variables:
LANG = en_US.UTF-8
PATH = /usr/local/bin:/usr/bin:/bin:/usr/local/sbin:/usr/sbin:/sbin:/home/cpansand/bin/linux-gnu:/home/cpansand/bin/sh:/home/cpansand/bin:/usr/games:/home/cpansand/devel:/home/eserte/src/srezic-misc/scripts
PERL5LIB = /home/cpansand/.cpan/build/2017122421/Dist-Zilla-Plugin-Git-Remote-Check-0.1.2-4/blib/arch:/home/cpansand/.cpan/build/2017122421/Dist-Zilla-Plugin-Git-Remote-Check-0.1.2-4/blib/lib
PERL5OPT =
PERL5_CPANPLUS_IS_RUNNING = 11967
PERL5_CPAN_IS_RUNNING = 11967
PERL5_CPAN_IS_RUNNING_IN_RECURSION = 8526,11967
PERLDOC = -MPod::Perldoc::ToTextOverstrike
PERL_BATCH = yes
PERL_CANARY_STABILITY_NOPROMPT = 1
PERL_CPAN_REPORTER_CONFIG = /var/tmp/cpansmoker-1023/2017122421/cpanreporter_000_config.ini
PERL_EXTUTILS_AUTOINSTALL = --defaultdeps
SHELL = /bin/zsh
TERM = screen
TMPDIR = /var/tmp/cpansmoker-1023/2017122421
Perl special variables (and OS-specific diagnostics, for MSWin32):
$^X = /opt/perl-5.22.3/bin/perl
$UID/$EUID = 1023 / 1023
$GID = 1023 1023
$EGID = 1023 1023
Perl module toolchain versions installed:
Module Have
------------------- --------
CPAN 2.16
CPAN::Meta 2.150010
Cwd 3.62
ExtUtils::CBuilder 0.280230
ExtUtils::Command 7.30
ExtUtils::Install 2.06
ExtUtils::MakeMaker 7.30
ExtUtils::Manifest 1.70
ExtUtils::ParseXS 3.35
File::Spec 3.62
JSON 2.97001
JSON::PP 2.97001
Module::Build 0.4224
Module::Signature 0.81
Parse::CPAN::Meta 2.150010
Test::Harness 3.39
Test::More 1.302120
YAML 1.23
YAML::Syck 1.30
version 0.9918
--
Summary of my perl5 (revision 5 version 22 subversion 3) configuration:
Platform:
osname=linux, osvers=2.6.32-696.3.1.el6.x86_64, archname=x86_64-linux
uname='linux centos6 2.6.32-696.3.1.el6.x86_64 #1 smp tue may 30 19:52:55 utc 2017 x86_64 x86_64 x86_64 gnulinux '
config_args='-ds -e -Dprefix=/opt/perl-5.22.3 -Dcf_email=srezic@cpan.org'
hint=recommended, useposix=true, d_sigaction=define
useithreads=undef, usemultiplicity=undef
use64bitint=define, use64bitall=define, uselongdouble=undef
usemymalloc=n, bincompat5005=undef
Compiler:
cc='cc', ccflags ='-fwrapv -fno-strict-aliasing -pipe -fstack-protector -I/usr/local/include -D_LARGEFILE_SOURCE -D_FILE_OFFSET_BITS=64 -D_FORTIFY_SOURCE=2',
optimize='-O2',
cppflags='-fwrapv -fno-strict-aliasing -pipe -fstack-protector -I/usr/local/include'
ccversion='', gccversion='4.4.7 20120313 (Red Hat 4.4.7-18)', gccosandvers=''
intsize=4, longsize=8, ptrsize=8, doublesize=8, byteorder=12345678, doublekind=3
d_longlong=define, longlongsize=8, d_longdbl=define, longdblsize=16, longdblkind=3
ivtype='long', ivsize=8, nvtype='double', nvsize=8, Off_t='off_t', lseeksize=8
alignbytes=8, prototype=define
Linker and Libraries:
ld='cc', ldflags =' -fstack-protector -L/usr/local/lib'
libpth=/usr/local/lib /usr/lib /lib/../lib64 /usr/lib/../lib64 /lib /lib64 /usr/lib64 /usr/local/lib64
libs=-lpthread -lnsl -lgdbm -ldb -ldl -lm -lcrypt -lutil -lc
perllibs=-lpthread -lnsl -ldl -lm -lcrypt -lutil -lc
libc=libc-2.12.so, so=so, useshrplib=false, libperl=libperl.a
gnulibc_version='2.12'
Dynamic Linking:
dlsrc=dl_dlopen.xs, dlext=so, d_dlsymun=undef, ccdlflags='-Wl,-E'
cccdlflags='-fPIC', lddlflags='-shared -O2 -L/usr/local/lib -fstack-protector'
Characteristics of this binary (from libperl):
Compile-time options: HAS_TIMES PERLIO_LAYERS PERL_DONT_CREATE_GVSV
PERL_HASH_FUNC_ONE_AT_A_TIME_HARD PERL_MALLOC_WRAP
PERL_NEW_COPY_ON_WRITE PERL_PRESERVE_IVUV
USE_64_BIT_ALL USE_64_BIT_INT USE_LARGE_FILES
USE_LOCALE USE_LOCALE_COLLATE USE_LOCALE_CTYPE
USE_LOCALE_NUMERIC USE_LOCALE_TIME USE_PERLIO
USE_PERL_ATOF
Built under linux
Compiled at Jun 21 2017 19:22:49
%ENV:
PERL5LIB="/home/cpansand/.cpan/build/2017122421/Dist-Zilla-Plugin-Git-Remote-Check-0.1.2-4/blib/arch:/home/cpansand/.cpan/build/2017122421/Dist-Zilla-Plugin-Git-Remote-Check-0.1.2-4/blib/lib"
PERL5OPT=""
PERL5_CPANPLUS_IS_RUNNING="11967"
PERL5_CPAN_IS_RUNNING="11967"
PERL5_CPAN_IS_RUNNING_IN_RECURSION="8526,11967"
PERLDOC="-MPod::Perldoc::ToTextOverstrike"
PERL_BATCH="yes"
PERL_CANARY_STABILITY_NOPROMPT="1"
PERL_CPAN_REPORTER_CONFIG="/var/tmp/cpansmoker-1023/2017122421/cpanreporter_000_config.ini"
PERL_EXTUTILS_AUTOINSTALL="--defaultdeps"
@INC:
/home/cpansand/.cpan/build/2017122421/Dist-Zilla-Plugin-Git-Remote-Check-0.1.2-4/blib/arch
/home/cpansand/.cpan/build/2017122421/Dist-Zilla-Plugin-Git-Remote-Check-0.1.2-4/blib/lib
/opt/perl-5.22.3/lib/site_perl/5.22.3/x86_64-linux
/opt/perl-5.22.3/lib/site_perl/5.22.3
/opt/perl-5.22.3/lib/5.22.3/x86_64-linux
/opt/perl-5.22.3/lib/5.22.3
.