Tcl-pTk v1.08_02 Perl 5 v5.30.1 x86_64-linux

Status
Pass
From
Slaven Rezić
Dist
Tcl-pTk v1.08_02
Platform
Perl 5 v5.30.1 x86_64-linux
Date
2021-04-04 19:06:43
ID
e52d1adc-9578-11eb-90fd-f7421f24ea8f
This distribution has been tested as part of the CPAN Testers
project, supporting the Perl programming language.  See
http://wiki.cpantesters.org/ for more information or email
questions to cpan-testers-discuss@perl.org


--
Dear Christopher Alexander Chavez,

This is a computer-generated report for Tcl-pTk-1.08_02
on perl 5.30.1, created by CPAN-Reporter-1.2018.

Thank you for uploading your work to CPAN.  Congratulations!
All tests were successful.

Sections of this report:

    * Tester comments
    * Program output
    * Prerequisites
    * Environment and other context

------------------------------
TESTER COMMENTS
------------------------------

Additional comments from tester:

none provided

------------------------------
PROGRAM OUTPUT
------------------------------

Output from 'make test':

PERL_DL_NONLAZY=1 "/opt/perl-5.30.1/bin/perl" "-MExtUtils::Command::MM" "-MTest::Harness" "-e" "undef *Test::Harness::Switches; test_harness(0, 'blib/lib', 'blib/arch')" t/*.t
t/after.t ..................... ok
t/afterDestroy.t .............. ok
t/afterIdle.t ................. ok
t/balloon.t ................... ok
Balloon should appear over 'Balloon Text' button
t/balloon2.t .................. ok
t/bgerror1.t .................. ok
t/bgerror2.t .................. ok
Error Dialog Should Show. This is expected
t/bgerror3.t .................. ok
t/bind.t ...................... ok
t/bindBreak.t ................. ok
t/bitmapSubClass.t ............ ok
t/browseEntry.t ............... ok
t/browseEntry2.t .............. ok
t/busy.t ...................... ok
t/callback.t .................. ok
t/callbackSet.t ............... ok
t/canFind.t ................... ok
t/canIndex.t .................. ok
t/canScale.t .................. ok
t/canvasFocusBusy.t ........... ok
t/checkradio.t ................ ok
t/cleanupCrashTest.t .......... ok
t/command.t ................... ok
t/configureReturn.t ........... ok
t/dialog.t .................... ok
t/dialogBox.t ................. ok
t/dialogBoxGeom.t ............. ok
t/dirtree.t ................... skipped: Tix Tcl package not available
t/dndlocal.t .................. ok
t/emptyMenuButtonSubclass.t ... ok
t/emptyMenuSubclass.t ......... ok
t/emptySubclass.t ............. ok
t/entry.t ..................... ok
t/entryPaste.t ................ ok
t/entryValidate.t ............. ok
t/fileevent.t ................. skipped: fileevent is unavailable, reason: Can't locate sys/ioctl.ph in @INC (did you run h2ph?) (@INC contains: /home/cpansand/.cpan/build/2021040417/Tcl-pTk-1.08_02-1/blib/lib /home/cpansand/.cpan/build/2021040417/Tcl-pTk-1.08_02-1/blib/arch /home/cpansand/.cpan/build/2021040417/Astro-Coord-Precession-0.01-1/blib/arch /home/cpansand/.cpan/build/2021040417/Astro-Coord-Precession-0.01-1/blib/lib /home/cpansand/.cpan/build/2021040417/Astro-Coord-Precession-0.01-1/blib/arch /home/cpansand/.cpan/build/2021040417/Astro-Coord-Precession-0.01-1/blib/lib /opt/perl-5.30.1/lib/site_perl/5.30.1/x86_64-linux /opt/perl-5.30.1/lib/site_perl/5.30.1 /opt/perl-5.30.1/lib/5.30.1/x86_64-linux /opt/perl-5.30.1/lib/5.30.1 .) at /home/cpansand/.cpan/build/2021040417/Tcl-pTk-1.08_02-1/blib/lib/Tcl/pTk/Widget.pm line 2154.
t/fileevent2.t ................ skipped: fileevent is unavailable, reason: Can't locate sys/ioctl.ph in @INC (did you run h2ph?) (@INC contains: /home/cpansand/.cpan/build/2021040417/Tcl-pTk-1.08_02-1/blib/lib /home/cpansand/.cpan/build/2021040417/Tcl-pTk-1.08_02-1/blib/arch /home/cpansand/.cpan/build/2021040417/Astro-Coord-Precession-0.01-1/blib/arch /home/cpansand/.cpan/build/2021040417/Astro-Coord-Precession-0.01-1/blib/lib /home/cpansand/.cpan/build/2021040417/Astro-Coord-Precession-0.01-1/blib/arch /home/cpansand/.cpan/build/2021040417/Astro-Coord-Precession-0.01-1/blib/lib /opt/perl-5.30.1/lib/site_perl/5.30.1/x86_64-linux /opt/perl-5.30.1/lib/site_perl/5.30.1 /opt/perl-5.30.1/lib/5.30.1/x86_64-linux /opt/perl-5.30.1/lib/5.30.1 .) at /home/cpansand/.cpan/build/2021040417/Tcl-pTk-1.08_02-1/blib/lib/Tcl/pTk/Widget.pm line 2154.
t/focusMethods.t .............. ok
t/font.t ...................... ok
t/font2.t ..................... ok
t/fontAttr.t .................. ok
t/frameForeground.t ........... ok
t/geomgr.t .................... ok
t/hlist.t ..................... skipped: Tix Tcl package not available
t/iconimage.t ................. ok
t/imageLoad.t ................. skipped: Tix Tcl package not available
t/itemStyle.t ................. skipped: Tix Tcl package not available
t/labEntry.t .................. ok
t/labEntryFacelift.t .......... ok
t/labEntryParentChild.t ....... ok
t/libLoad.t ................... skipped: Tix Tcl package not available
t/listbox.t ................... ok
t/mainloopMult.t .............. ok
t/menub-cascade.t ............. ok
t/menub_newMenu.t ............. ok
t/menubarpath.t ............... ok
t/menuitems.t ................. ok
t/messageBox.t ................ ok
t/moveResizeWindow.t .......... ok
t/moveToplevelWindow.t ........ ok
t/multMainWindow1.t ........... ok
t/multMainWindow2.t ........... ok
t/notebook.t .................. skipped: Tix Tcl package not available
t/notebook2.t ................. skipped: Tix Tcl package not available
t/onDestroy.t ................. ok
t/optmenu.t ................... ok
t/palette.t ................... ok
t/pane.t ...................... skipped: BWidget Tcl package not available
t/patchTk.t ................... skipped: Not using Aqua Tk
t/photoGetImage.t ............. skipped: no Img extension available (can't find package Img at /home/cpansand/.cpan/build/2021040417/Tcl-pTk-1.08_02-1/blib/lib/Tcl/pTk.pm line 1206.
t/photoImg.t .................. skipped: Tk Img extension not found
t/photoSubClass.t ............. ok
t/photoTk.t ................... ok
t/progBar.t ................... ok
t/protocol.t .................. ok
t/ptk-compat.t ................ ok
t/ptk-compat2.t ............... ok
t/repeat.t .................... ok
t/repeatSubReuse.t ............ ok
t/rt125058.t .................. ok
t/scrolled.t .................. ok
t/scrolledOptional.t .......... ok
t/selection.t ................. ok
t/slideMegaWidget.t ........... ok
t/slideMegaWidget2.t .......... ok
t/spreadsheetHideRows.t ....... skipped: Tktable Tcl package not available
t/table.t ..................... skipped: Tktable Tcl package not available
t/tableFacelift.t ............. skipped: Tktable Tcl package not available
t/tableMatrixCallbacks.t ...... skipped: Tktable Tcl package not available
t/tableMatrixCleanup.t ........ skipped: Tktable Tcl package not available
t/tableMatrixDebug.t .......... skipped: Tktable Tcl package not available
t/tableMatrixSpreadsheet.t .... skipped: Tktable Tcl package not available
t/tclVersion.t ................ ok
t/text.t ...................... ok
t/text2-old.t ................. ok
t/text2.t ..................... ok
t/text3.t ..................... ok
t/textEdit.t .................. ok
t/textRO.t .................... ok
t/textSubwidget.t ............. ok
t/textUndo.t .................. ok
t/tileLabelFont.t ............. ok
t/tileTree.t .................. ok
t/tileWidget.t ................ ok
t/tixTree.t ................... skipped: Tix Tcl package not available
t/tk-mw.t ..................... ok
t/tkFacelift_BEsubclass.t ..... ok
t/tkFacelift_browseEntry.t .... ok
t/tkFacelift_frameSubclass.t .. ok
t/tkFacelift_mega1.t .......... ok
t/tkFacelift_notebook.t ....... ok
t/tkFacelift_simple.t ......... skipped: Tix Tcl package not available
t/tkHijack_BEsubclass.t ....... ok
t/tkHijack_bgerror1.t ......... ok
t/tkHijack_bgerror2.t ......... ok
t/tkHijack_bgerror3.t ......... ok
t/tkHijack_mega1.t ............ ok
t/tkHijack_simple.t ........... skipped: Tix Tcl package not available
t/tkHijack_spreadsheet.t ...... skipped: Tktable Tcl package not available
t/trace.t ..................... ok
t/tree.t ...................... skipped: Tix Tcl package not available
t/ttkBrowseEntry.t ............ ok
t/ttkEntryValidate.t .......... ok
t/ttkTixNoteBook.t ............ ok
t/unicode.t ................... ok
t/virtualEv.t ................. ok
t/widgetDelete.t .............. ok
t/widgetName.t ................ ok
t/wmForget.t .................. ok
t/wmStackorder.t .............. ok
t/xevent.t .................... ok
t/zzPhoto.t ................... skipped: no Img extension available
All tests successful.

Test Summary Report
-------------------
t/font.t                    (Wstat: 0 Tests: 13 Failed: 0)
  TODO passed:   11
t/fontAttr.t                (Wstat: 0 Tests: 8 Failed: 0)
  TODO passed:   1-8
t/wmStackorder.t            (Wstat: 0 Tests: 10 Failed: 0)
  TODO passed:   1-10
Files=132, Tests=472, 160 wallclock secs ( 0.50 usr  0.21 sys + 21.21 cusr  2.74 csys = 24.66 CPU)
Result: PASS

------------------------------
PREREQUISITES
------------------------------

Prerequisite modules loaded:

requires:

    Module              Need  Have    
    ------------------- ----- --------
    Class::ISA          0.36  0.36    
    perl                5.008 5.030001
    Sub::Name           0.05  0.26    
    Tcl                 0.90  1.27    
    Time::HiRes         0     1.9764  

build_requires:

    Module              Need  Have    
    ------------------- ----- --------
    ExtUtils::MakeMaker 0     7.60    

configure_requires:

    Module              Need  Have    
    ------------------- ----- --------
    ExtUtils::MakeMaker 0     7.60    


------------------------------
ENVIRONMENT AND OTHER CONTEXT
------------------------------

Environment variables:

    LANG = en_US.UTF-8
    PATH = /usr/local/bin:/usr/bin:/bin:/usr/local/sbin:/usr/sbin:/sbin:/home/cpansand/bin/linux-gnu:/home/cpansand/bin/sh:/home/cpansand/bin:/usr/games:/home/cpansand/devel:/home/eserte/src/srezic-misc/scripts
    PERL5LIB = /home/cpansand/.cpan/build/2021040417/Astro-Coord-Precession-0.01-1/blib/arch:/home/cpansand/.cpan/build/2021040417/Astro-Coord-Precession-0.01-1/blib/lib
    PERL5OPT = 
    PERL5_CPANPLUS_IS_RUNNING = 28799
    PERL5_CPAN_IS_RUNNING = 28799
    PERL5_CPAN_IS_RUNNING_IN_RECURSION = 28080,28799
    PERLDOC = -MPod::Perldoc::ToTextOverstrike
    PERL_BATCH = yes
    PERL_CANARY_STABILITY_NOPROMPT = 1
    PERL_CPAN_REPORTER_CONFIG = /var/tmp/cpansmoker-1023/2021040417/cpanreporter_000_config.ini
    PERL_EXTUTILS_AUTOINSTALL = --defaultdeps
    PERL_USE_UNSAFE_INC = 1
    SHELL = /bin/zsh
    TERM = screen
    TMPDIR = /var/tmp/cpansmoker-1023/2021040417

Perl special variables (and OS-specific diagnostics, for MSWin32):

    $^X = /opt/perl-5.30.1/bin/perl
    $UID/$EUID = 1023 / 1023
    $GID = 1023 1023
    $EGID = 1023 1023

Perl module toolchain versions installed:

    Module              Have    
    ------------------- --------
    CPAN                2.27    
    CPAN::Meta          2.150010
    Cwd                 3.78    
    ExtUtils::CBuilder  0.280231
    ExtUtils::Command   7.60    
    ExtUtils::Install   2.18    
    ExtUtils::MakeMaker 7.60    
    ExtUtils::Manifest  1.72    
    ExtUtils::ParseXS   3.40    
    File::Spec          3.78    
    JSON                4.02    
    JSON::PP            4.05    
    Module::Build       0.4231  
    Module::Signature   0.86    
    Parse::CPAN::Meta   2.150010
    Test::Harness       3.42    
    Test::More          1.302183
    YAML                1.30    
    YAML::Syck          1.33    
    version             0.9927  


--

Summary of my perl5 (revision 5 version 30 subversion 1) configuration:
   
  Platform:
    osname=linux
    osvers=2.6.32-754.24.3.el6.x86_64
    archname=x86_64-linux
    uname='linux cloud6.bbbike.org 2.6.32-754.24.3.el6.x86_64 #1 smp thu nov 14 15:35:16 utc 2019 x86_64 x86_64 x86_64 gnulinux '
    config_args='-ds -e -Dprefix=/opt/perl-5.30.1 -Dcf_email=srezic@cpan.org'
    hint=recommended
    useposix=true
    d_sigaction=define
    useithreads=undef
    usemultiplicity=undef
    use64bitint=define
    use64bitall=define
    uselongdouble=undef
    usemymalloc=n
    default_inc_excludes_dot=define
    bincompat5005=undef
  Compiler:
    cc='cc'
    ccflags ='-fwrapv -fno-strict-aliasing -pipe -fstack-protector -I/usr/local/include -D_LARGEFILE_SOURCE -D_FILE_OFFSET_BITS=64 -D_FORTIFY_SOURCE=2'
    optimize='-O2'
    cppflags='-fwrapv -fno-strict-aliasing -pipe -fstack-protector -I/usr/local/include'
    ccversion=''
    gccversion='4.4.7 20120313 (Red Hat 4.4.7-23)'
    gccosandvers=''
    intsize=4
    longsize=8
    ptrsize=8
    doublesize=8
    byteorder=12345678
    doublekind=3
    d_longlong=define
    longlongsize=8
    d_longdbl=define
    longdblsize=16
    longdblkind=3
    ivtype='long'
    ivsize=8
    nvtype='double'
    nvsize=8
    Off_t='off_t'
    lseeksize=8
    alignbytes=8
    prototype=define
  Linker and Libraries:
    ld='cc'
    ldflags =' -fstack-protector -L/usr/local/lib'
    libpth=/usr/local/lib /usr/lib /lib/../lib64 /usr/lib/../lib64 /lib /lib64 /usr/lib64 /usr/local/lib64
    libs=-lpthread -lnsl -lgdbm -ldb -ldl -lm -lcrypt -lutil -lc
    perllibs=-lpthread -lnsl -ldl -lm -lcrypt -lutil -lc
    libc=libc-2.12.so
    so=so
    useshrplib=false
    libperl=libperl.a
    gnulibc_version='2.12'
  Dynamic Linking:
    dlsrc=dl_dlopen.xs
    dlext=so
    d_dlsymun=undef
    ccdlflags='-Wl,-E'
    cccdlflags='-fPIC'
    lddlflags='-shared -O2 -L/usr/local/lib -fstack-protector'


Characteristics of this binary (from libperl): 
  Compile-time options:
    HAS_TIMES
    PERLIO_LAYERS
    PERL_COPY_ON_WRITE
    PERL_DONT_CREATE_GVSV
    PERL_MALLOC_WRAP
    PERL_OP_PARENT
    PERL_PRESERVE_IVUV
    USE_64_BIT_ALL
    USE_64_BIT_INT
    USE_LARGE_FILES
    USE_LOCALE
    USE_LOCALE_COLLATE
    USE_LOCALE_CTYPE
    USE_LOCALE_NUMERIC
    USE_LOCALE_TIME
    USE_PERLIO
    USE_PERL_ATOF
  Built under linux
  Compiled at Nov 30 2019 16:06:21
  %ENV:
    PERL5LIB="/home/cpansand/.cpan/build/2021040417/Astro-Coord-Precession-0.01-1/blib/arch:/home/cpansand/.cpan/build/2021040417/Astro-Coord-Precession-0.01-1/blib/lib"
    PERL5OPT=""
    PERL5_CPANPLUS_IS_RUNNING="28799"
    PERL5_CPAN_IS_RUNNING="28799"
    PERL5_CPAN_IS_RUNNING_IN_RECURSION="28080,28799"
    PERLDOC="-MPod::Perldoc::ToTextOverstrike"
    PERL_BATCH="yes"
    PERL_CANARY_STABILITY_NOPROMPT="1"
    PERL_CPAN_REPORTER_CONFIG="/var/tmp/cpansmoker-1023/2021040417/cpanreporter_000_config.ini"
    PERL_EXTUTILS_AUTOINSTALL="--defaultdeps"
    PERL_USE_UNSAFE_INC="1"
  @INC:
    /home/cpansand/.cpan/build/2021040417/Astro-Coord-Precession-0.01-1/blib/arch
    /home/cpansand/.cpan/build/2021040417/Astro-Coord-Precession-0.01-1/blib/lib
    /opt/perl-5.30.1/lib/site_perl/5.30.1/x86_64-linux
    /opt/perl-5.30.1/lib/site_perl/5.30.1
    /opt/perl-5.30.1/lib/5.30.1/x86_64-linux
    /opt/perl-5.30.1/lib/5.30.1
    .