Net-Statsd-Server v0.20 Perl 5 v5.43.3 amd64-netbsd-thread-multi

Status
Pass
From
Carlos Guevara
Dist
Net-Statsd-Server v0.20
Platform
Perl 5 v5.43.3 amd64-netbsd-thread-multi
Date
2025-09-07 16:15:39
ID
e5330fe0-8c05-11f0-a494-8d162238a8cf
This distribution has been tested as part of the CPAN Testers
project, supporting the Perl programming language.  See
http://wiki.cpantesters.org/ for more information or email
questions to cpan-testers-discuss@perl.org


--
Dear Cosimo Streppone,

This is a computer-generated report for Net-Statsd-Server-0.20
on perl 5.43.3, created by CPAN-Reporter-1.2020.

Thank you for uploading your work to CPAN.  Congratulations!
All tests were successful.

Sections of this report:

    * Tester comments
    * Program output
    * Prerequisites
    * Environment and other context

------------------------------
TESTER COMMENTS
------------------------------

Additional comments from tester:

this report is from an automated smoke testing program
and was not reviewed by a human for accuracy

------------------------------
PROGRAM OUTPUT
------------------------------

Output from '/usr/bin/make test':

PERL_DL_NONLAZY=1 "/home/cpan/bin/perl/bin/perl5.43.3" "-MExtUtils::Command::MM" "-MTest::Harness" "-e" "undef *Test::Harness::Switches; test_harness(0, 'blib/lib', 'blib/arch')" t/*.t t/integration-tests/*.t
t/000-sanity.t ............................. ok
t/config.t ................................. ok
t/graphite.t ............................... ok
2025-09-07 12:15:28.000000 -0400 note  Net::Statsd::Server: Initializing Net::Statsd::Server::Backend::Console backend
2025-09-07 12:15:28.000000 -0400 note  Net::Statsd::Server: Initializing Net::Statsd::Server::Backend::Graphite backend
2025-09-07 12:15:28.000000 -0400 info  AnyEvent: Autoloaded model 'AnyEvent::Impl::Perl', using it.
Couldn't set SO_RCVBUF: No buffer space available at /home/cpan/.cpan/build/Net-Statsd-Server-0.20-0/bin/../lib/Net/Statsd/Server.pm line 709.
2025-09-07 12:15:28.609611 -0400 note  Net::Statsd::Server: statsd server started on 0.0.0.0:40001 (v0.17)
2025-09-07 12:15:28.609721 -0400 note  Net::Statsd::Server: manager interface started on 0.0.0.0:40002
2025-09-07 12:15:28.609818 -0400 note  Net::Statsd::Server: metrics flush will happen every 1s
2025-09-07 12:15:29.067045 -0400 warn  Net::Statsd::Server: Bad line: 1 in msg "a_bad_test_value|z"
2025-09-07 12:15:29.622813 -0400 note  Net::Statsd::Server: flushing metrics
Flushing stats at Sun Sep  7 12:15:29 2025
{"timer_data":{},"timers":{},"sets":null,"pctThreshold":[90],"counters":{"statsd.packets_received":1,"statsd.bad_lines_seen":1},"counter_rates":{"statsd.packets_received":1,"statsd.bad_lines_seen":1},"gauges":{}}
t/integration-tests/bad-message.t .......... ok
2025-09-07 12:15:29.000000 -0400 note  Net::Statsd::Server: Initializing Net::Statsd::Server::Backend::Console backend
2025-09-07 12:15:29.000000 -0400 note  Net::Statsd::Server: Initializing Net::Statsd::Server::Backend::Graphite backend
2025-09-07 12:15:29.000000 -0400 info  AnyEvent: Autoloaded model 'AnyEvent::Impl::Perl', using it.
Couldn't set SO_RCVBUF: No buffer space available at /home/cpan/.cpan/build/Net-Statsd-Server-0.20-0/bin/../lib/Net/Statsd/Server.pm line 709.
2025-09-07 12:15:29.793456 -0400 note  Net::Statsd::Server: statsd server started on 0.0.0.0:40001 (v0.17)
2025-09-07 12:15:29.793565 -0400 note  Net::Statsd::Server: manager interface started on 0.0.0.0:40002
2025-09-07 12:15:29.793662 -0400 note  Net::Statsd::Server: metrics flush will happen every 1s
2025-09-07 12:15:30.811561 -0400 note  Net::Statsd::Server: flushing metrics
Flushing stats at Sun Sep  7 12:15:30 2025
{"timer_data":{},"timers":{},"gauges":{},"sets":null,"counter_rates":{"statsd.packets_received":1,"a_test_value":100,"statsd.bad_lines_seen":0},"pctThreshold":[90],"counters":{"a_test_value":100,"statsd.packets_received":1,"statsd.bad_lines_seen":0}}
# stats.counters.a_test_value.rate 100.000000 1757261730
# stats.counters.a_test_value.count 100 1757261730
# stats.counters.statsd.packets_received.rate 1.000000 1757261730
# stats.counters.statsd.packets_received.count 1 1757261730
# stats.counters.statsd.bad_lines_seen.rate 0.000000 1757261730
# stats.counters.statsd.bad_lines_seen.count 0 1757261730
# stats.statsd.numStats 3 1757261730
# stats.statsd.graphiteStats.calculationtime 0.089000 1757261730
# stats.statsd.processing_time 0.055 1757261730
# stats.statsd.graphiteStats.last_exception 133557283031656 1757261730
# stats.statsd.graphiteStats.last_flush 133557283031656 1757261730
t/integration-tests/counts-are-valid.t ..... ok
2025-09-07 12:15:30.000000 -0400 note  Net::Statsd::Server: Initializing Net::Statsd::Server::Backend::Graphite backend
2025-09-07 12:15:30.000000 -0400 info  AnyEvent: Autoloaded model 'AnyEvent::Impl::Perl', using it.
Couldn't set SO_RCVBUF: No buffer space available at /home/cpan/.cpan/build/Net-Statsd-Server-0.20-0/bin/../lib/Net/Statsd/Server.pm line 709.
2025-09-07 12:15:30.981158 -0400 note  Net::Statsd::Server: statsd server started on 0.0.0.0:40001 (v0.17)
2025-09-07 12:15:30.981267 -0400 note  Net::Statsd::Server: manager interface started on 0.0.0.0:40002
2025-09-07 12:15:30.981365 -0400 note  Net::Statsd::Server: metrics flush will happen every 1s
2025-09-07 12:15:32.000125 -0400 note  Net::Statsd::Server: flushing metrics
# First flush. Test gauge should be there.
2025-09-07 12:15:33.005970 -0400 note  Net::Statsd::Server: flushing metrics
# Second flush. deleteGauges=false should keep the test gauge.
t/integration-tests/delete-gauges-false.t .. ok
2025-09-07 12:15:33.000000 -0400 note  Net::Statsd::Server: Initializing Net::Statsd::Server::Backend::Graphite backend
2025-09-07 12:15:33.000000 -0400 info  AnyEvent: Autoloaded model 'AnyEvent::Impl::Perl', using it.
Couldn't set SO_RCVBUF: No buffer space available at /home/cpan/.cpan/build/Net-Statsd-Server-0.20-0/bin/../lib/Net/Statsd/Server.pm line 709.
2025-09-07 12:15:33.175559 -0400 note  Net::Statsd::Server: statsd server started on 0.0.0.0:40001 (v0.17)
2025-09-07 12:15:33.175668 -0400 note  Net::Statsd::Server: manager interface started on 0.0.0.0:40002
2025-09-07 12:15:33.175766 -0400 note  Net::Statsd::Server: metrics flush will happen every 1s
2025-09-07 12:15:34.194581 -0400 note  Net::Statsd::Server: flushing metrics
# First flush. Test gauge should be there.
2025-09-07 12:15:35.200264 -0400 note  Net::Statsd::Server: flushing metrics
# Second flush. deleteIdleStats should have cleared the test gauge.
t/integration-tests/delete-idle-stats.t .... ok
2025-09-07 12:15:35.000000 -0400 note  Net::Statsd::Server: Initializing Net::Statsd::Server::Backend::Console backend
2025-09-07 12:15:35.000000 -0400 note  Net::Statsd::Server: Initializing Net::Statsd::Server::Backend::Graphite backend
2025-09-07 12:15:35.000000 -0400 info  AnyEvent: Autoloaded model 'AnyEvent::Impl::Perl', using it.
Couldn't set SO_RCVBUF: No buffer space available at /home/cpan/.cpan/build/Net-Statsd-Server-0.20-0/bin/../lib/Net/Statsd/Server.pm line 709.
2025-09-07 12:15:35.395330 -0400 note  Net::Statsd::Server: statsd server started on 0.0.0.0:40001 (v0.17)
2025-09-07 12:15:35.395762 -0400 note  Net::Statsd::Server: manager interface started on 0.0.0.0:40002
2025-09-07 12:15:35.396102 -0400 note  Net::Statsd::Server: metrics flush will happen every 1s
2025-09-07 12:15:36.409310 -0400 note  Net::Statsd::Server: flushing metrics
Flushing stats at Sun Sep  7 12:15:36 2025
{"sets":null,"counter_rates":{"statsd.packets_received":1,"statsd.bad_lines_seen":0,"a_test_value,category=web,severity=high":100},"pctThreshold":[90],"timers":{},"counters":{"a_test_value,category=web,severity=high":100,"statsd.bad_lines_seen":0,"statsd.packets_received":1},"timer_data":{},"gauges":{}}
# stats.counters.a_test_value,category=web,severity=high.rate 100.000000 1757261736
# stats.counters.a_test_value,category=web,severity=high.count 100 1757261736
# stats.counters.statsd.bad_lines_seen.rate 0.000000 1757261736
# stats.counters.statsd.bad_lines_seen.count 0 1757261736
# stats.counters.statsd.packets_received.rate 1.000000 1757261736
# stats.counters.statsd.packets_received.count 1 1757261736
# stats.statsd.numStats 3 1757261736
# stats.statsd.graphiteStats.calculationtime 0.139000 1757261736
# stats.statsd.processing_time 0.057 1757261736
# stats.statsd.graphiteStats.last_exception 127791786719848 1757261736
# stats.statsd.graphiteStats.last_flush 127791786719848 1757261736
t/integration-tests/keys-with-tags.t ....... ok
2025-09-07 12:15:36.000000 -0400 note  Net::Statsd::Server: Initializing Net::Statsd::Server::Backend::Graphite backend
2025-09-07 12:15:36.000000 -0400 info  AnyEvent: Autoloaded model 'AnyEvent::Impl::Perl', using it.
Couldn't set SO_RCVBUF: No buffer space available at /home/cpan/.cpan/build/Net-Statsd-Server-0.20-0/bin/../lib/Net/Statsd/Server.pm line 709.
2025-09-07 12:15:36.586651 -0400 note  Net::Statsd::Server: statsd server started on 0.0.0.0:40001 (v0.17)
2025-09-07 12:15:36.586760 -0400 note  Net::Statsd::Server: manager interface started on 0.0.0.0:40002
2025-09-07 12:15:36.586886 -0400 note  Net::Statsd::Server: metrics flush will happen every 1s
# Expected mean value is 1895.91
2025-09-07 12:15:37.597922 -0400 note  Net::Statsd::Server: flushing metrics
# stats.counters.statsd.bad_lines_seen.rate 0.000000 1757261737
# stats.counters.statsd.bad_lines_seen.count 0 1757261737
# stats.counters.statsd.packets_received.rate 100.000000 1757261737
# stats.counters.statsd.packets_received.count 100 1757261737
# stats.timers.read_latency.upper_98 2958.000000 1757261737
# stats.timers.read_latency.sum_squares_95 352924102.000000 1757261737
# stats.timers.read_latency.count_ps 100.000000 1757261737
# stats.timers.read_latency.sum_95 174814.000000 1757261737
# stats.timers.read_latency.upper_99 2981.000000 1757261737
# stats.timers.read_latency.sum_98 183621.000000 1757261737
# stats.timers.read_latency.lower 1044.000000 1757261737
# stats.timers.read_latency.std 609.526769 1757261737
# stats.timers.read_latency.upper 2989.000000 1757261737
# stats.timers.read_latency.mean 1895.910000 1757261737
# stats.timers.read_latency.sum 189591.000000 1757261737
# stats.timers.read_latency.mean_95 1840.147368 1757261737
# stats.timers.read_latency.upper_95 2913.000000 1757261737
# stats.timers.read_latency.mean_99 1884.868687 1757261737
# stats.timers.read_latency.count_98 98.000000 1757261737
# stats.timers.read_latency.sum_squares_98 378779279.000000 1757261737
# stats.timers.read_latency.mean_98 1873.683673 1757261737
# stats.timers.read_latency.sum_99 186602.000000 1757261737
# stats.timers.read_latency.count_99 99.000000 1757261737
# stats.timers.read_latency.median 1787.000000 1757261737
# stats.timers.read_latency.count 100.000000 1757261737
# stats.timers.read_latency.sum_squares 396599761.000000 1757261737
# stats.timers.read_latency.sum_squares_99 387665640.000000 1757261737
# stats.timers.read_latency.count_95 95.000000 1757261737
# stats.statsd.numStats 3 1757261737
# stats.statsd.graphiteStats.calculationtime 0.267000 1757261737
# stats.statsd.processing_time 0.532 1757261737
# stats.statsd.graphiteStats.last_exception 137475145767528 1757261737
# stats.statsd.graphiteStats.last_flush 137475145767528 1757261737
t/integration-tests/percent-threshold.t .... ok
2025-09-07 12:15:37.000000 -0400 note  Net::Statsd::Server: Initializing Net::Statsd::Server::Backend::Console backend
2025-09-07 12:15:37.000000 -0400 note  Net::Statsd::Server: Initializing Net::Statsd::Server::Backend::Graphite backend
2025-09-07 12:15:37.000000 -0400 info  AnyEvent: Autoloaded model 'AnyEvent::Impl::Perl', using it.
Couldn't set SO_RCVBUF: No buffer space available at /home/cpan/.cpan/build/Net-Statsd-Server-0.20-0/bin/../lib/Net/Statsd/Server.pm line 709.
2025-09-07 12:15:37.777519 -0400 note  Net::Statsd::Server: statsd server started on 0.0.0.0:40001 (v0.17)
2025-09-07 12:15:37.777637 -0400 note  Net::Statsd::Server: manager interface started on 0.0.0.0:40002
2025-09-07 12:15:37.777739 -0400 note  Net::Statsd::Server: metrics flush will happen every 1s
2025-09-07 12:15:38.796700 -0400 note  Net::Statsd::Server: flushing metrics
Flushing stats at Sun Sep  7 12:15:38 2025
{"timers":{"a_test_value":["100"]},"gauges":{},"counters":{"statsd.bad_lines_seen":0,"statsd.packets_received":1},"counter_rates":{"statsd.bad_lines_seen":0,"statsd.packets_received":1},"pctThreshold":["90"],"timer_data":{"a_test_value":{"count":1,"std":0,"median":"100","sum":"100","upper_90":"100","lower":"100","sum_90":"100","sum_squares":10000,"count_90":1,"mean_90":"100","mean":100,"count_ps":1,"upper":"100","sum_squares_90":10000}},"sets":null}
# stats.counters.statsd.bad_lines_seen.rate 0.000000 1757261738
# stats.counters.statsd.bad_lines_seen.count 0 1757261738
# stats.counters.statsd.packets_received.rate 1.000000 1757261738
# stats.counters.statsd.packets_received.count 1 1757261738
# stats.timers.a_test_value.count 1.000000 1757261738
# stats.timers.a_test_value.std 0.000000 1757261738
# stats.timers.a_test_value.median 100.000000 1757261738
# stats.timers.a_test_value.sum 100.000000 1757261738
# stats.timers.a_test_value.upper_90 100.000000 1757261738
# stats.timers.a_test_value.lower 100.000000 1757261738
# stats.timers.a_test_value.sum_90 100.000000 1757261738
# stats.timers.a_test_value.sum_squares 10000.000000 1757261738
# stats.timers.a_test_value.count_90 1.000000 1757261738
# stats.timers.a_test_value.mean_90 100.000000 1757261738
# stats.timers.a_test_value.mean 100.000000 1757261738
# stats.timers.a_test_value.count_ps 1.000000 1757261738
# stats.timers.a_test_value.upper 100.000000 1757261738
# stats.timers.a_test_value.sum_squares_90 10000.000000 1757261738
# stats.statsd.numStats 3 1757261738
# stats.statsd.graphiteStats.calculationtime 0.242000 1757261738
# stats.statsd.processing_time 0.147 1757261738
# stats.statsd.graphiteStats.last_exception 134152747231848 1757261738
# stats.statsd.graphiteStats.last_flush 134152747231848 1757261738
t/integration-tests/timers-are-valid.t ..... ok
t/process-metrics.t ........................ ok
t/trim.t ................................... ok
All tests successful.
Files=12, Tests=92, 10 wallclock secs ( 0.06 usr  0.02 sys +  0.78 cusr  0.37 csys =  1.23 CPU)
Result: PASS

------------------------------
PREREQUISITES
------------------------------

Prerequisite modules loaded:

requires:

    Module                Need Have    
    --------------------- ---- --------
    AnyEvent::Handle::UDP 0    0.050   
    IO::Socket::INET      0    1.55    
    JSON::XS              0    4.03    

build_requires:

    Module                Need Have    
    --------------------- ---- --------
    ExtUtils::MakeMaker   0    7.76    
    Test::More            0    1.302214

configure_requires:

    Module                Need Have    
    --------------------- ---- --------
    ExtUtils::MakeMaker   0    7.76    


------------------------------
ENVIRONMENT AND OTHER CONTEXT
------------------------------

Environment variables:

    AUTOMATED_TESTING = 1
    DATE_MANIP_TEST_DM5 = 1
    LC_ALL = C
    NONINTERACTIVE_TESTING = 1
    NO_NETWORK_TESTING = 1
    PATH = /home/cpan/bin/perl/bin:/home/cpan/bin:/home/cpan/bin:/bin:/sbin:/usr/bin:/usr/sbin:/usr/X11R7/bin:/usr/pkg/bin:/usr/pkg/sbin:/usr/games:/usr/local/bin:/usr/local/sbin
    PERL5LIB = 
    PERL5OPT = 
    PERL5_CPANPLUS_IS_RUNNING = 28726
    PERL5_CPAN_IS_RUNNING = 28726
    PERL_MM_USE_DEFAULT = 1
    PERL_PERTURB_KEYS = 0
    PERL_USE_UNSAFE_INC = 1
    SHELL = /usr/pkg/bin/bash
    TERM = screen
    TMPDIR = /home/cpan/tmp

Perl special variables (and OS-specific diagnostics, for MSWin32):

    $^X = /home/cpan/bin/perl/bin/perl5.43.3
    $UID/$EUID = 1003 / 1003
    $GID = 100 100
    $EGID = 100 100

Perl module toolchain versions installed:

    Module              Have    
    ------------------- --------
    CPAN                2.38    
    CPAN::Meta          2.150010
    Cwd                 3.94    
    ExtUtils::CBuilder  0.280242
    ExtUtils::Command   7.76    
    ExtUtils::Install   2.22    
    ExtUtils::MakeMaker 7.76    
    ExtUtils::Manifest  1.75    
    ExtUtils::ParseXS   3.60    
    File::Spec          3.94    
    JSON                4.10    
    JSON::PP            4.16    
    Module::Build       0.4234  
    Module::Signature   n/a     
    Parse::CPAN::Meta   2.150010
    Test2               1.302214
    Test::Harness       3.52    
    Test::More          1.302214
    YAML                1.31    
    YAML::Syck          1.34    
    version             0.9933  


--

Summary of my perl5 (revision 5 version 43 subversion 3) configuration:
  Commit id: b60f610b32347ca01c4a978e86fe143dd4e6c12d
  Platform:
    osname=netbsd
    osvers=10.1
    archname=amd64-netbsd-thread-multi
    uname='netbsd cjg-netbsd10 10.1 netbsd 10.1 (generic) #0: mon dec 16 13:08:11 utc 2024 mkrepro@mkrepro.netbsd.org:usrsrcsysarchamd64compilegeneric amd64 '
    config_args='-des -Dprefix=/home/cpan/bin/perl -Dscriptdir=/home/cpan/bin/perl/bin -Dusedevel -Duse64bitall -Duseithreads'
    hint=recommended
    useposix=true
    d_sigaction=define
    useithreads=define
    usemultiplicity=define
    use64bitint=define
    use64bitall=define
    uselongdouble=undef
    usemymalloc=n
    default_inc_excludes_dot=define
  Compiler:
    cc='cc'
    ccflags ='-fwrapv -fno-strict-aliasing -pipe -fstack-protector-strong -I/usr/pkg/include -D_FORTIFY_SOURCE=2'
    optimize='-O'
    cppflags='-fwrapv -fno-strict-aliasing -pipe -fstack-protector-strong -I/usr/pkg/include'
    ccversion=''
    gccversion='10.5.0'
    gccosandvers=''
    intsize=4
    longsize=8
    ptrsize=8
    doublesize=8
    byteorder=12345678
    doublekind=3
    d_longlong=define
    longlongsize=8
    d_longdbl=define
    longdblsize=16
    longdblkind=3
    ivtype='long'
    ivsize=8
    nvtype='double'
    nvsize=8
    Off_t='off_t'
    lseeksize=8
    alignbytes=8
    prototype=define
  Linker and Libraries:
    ld='cc'
    ldflags =' -Wl,-rpath,/usr/pkg/lib -Wl,-rpath,/usr/local/lib -fstack-protector-strong -L/usr/pkg/lib'
    libpth=/usr/lib /usr/pkg/lib /lib
    libs=-lpthread -lm -lcrypt -lutil -lc -lposix
    perllibs=-lpthread -lm -lcrypt -lutil -lc -lposix
    libc=/lib/libc.so
    so=so
    useshrplib=false
    libperl=libperl.a
    gnulibc_version=''
  Dynamic Linking:
    dlsrc=dl_dlopen.xs
    dlext=so
    d_dlsymun=undef
    ccdlflags='-Wl,-E '
    cccdlflags='-DPIC -fPIC '
    lddlflags='-shared  -L/usr/pkg/lib -fstack-protector-strong'


Characteristics of this binary (from libperl): 
  Compile-time options:
    HAS_LONG_DOUBLE
    HAS_STRTOLD
    HAS_TIMES
    MULTIPLICITY
    PERLIO_LAYERS
    PERL_COPY_ON_WRITE
    PERL_DONT_CREATE_GVSV
    PERL_HASH_FUNC_SIPHASH13
    PERL_HASH_USE_SBOX32
    PERL_MALLOC_WRAP
    PERL_OP_PARENT
    PERL_PRESERVE_IVUV
    PERL_USE_DEVEL
    PERL_USE_SAFE_PUTENV
    USE_64_BIT_ALL
    USE_64_BIT_INT
    USE_ITHREADS
    USE_LARGE_FILES
    USE_LOCALE
    USE_LOCALE_COLLATE
    USE_LOCALE_CTYPE
    USE_LOCALE_NUMERIC
    USE_LOCALE_TIME
    USE_PERLIO
    USE_PERL_ATOF
    USE_REENTRANT_API
  Built under netbsd
  Compiled at Sep  6 2025 22:59:26
  %ENV:
    PERL5LIB=""
    PERL5OPT=""
    PERL5_CPANPLUS_IS_RUNNING="28726"
    PERL5_CPAN_IS_RUNNING="28726"
    PERL_MM_USE_DEFAULT="1"
    PERL_PERTURB_KEYS="0"
    PERL_USE_UNSAFE_INC="1"
  @INC:
    /home/cpan/bin/perl/lib/site_perl/5.43.3/amd64-netbsd-thread-multi
    /home/cpan/bin/perl/lib/site_perl/5.43.3
    /home/cpan/bin/perl/lib/5.43.3/amd64-netbsd-thread-multi
    /home/cpan/bin/perl/lib/5.43.3
    .