Math-MatrixReal v2.13 Perl 5 v5.39.7 x86_64-linux
- Status
- Pass
- From
- Andreas J. König (ANDK)
- Dist
-
Math-MatrixReal v2.13
- Platform
- Perl 5 v5.39.7 x86_64-linux
- Date
- 2024-01-22 01:16:40
- ID
- e556b5b0-b8c3-11ee-ae67-db6f5cafec44
This distribution has been tested as part of the CPAN Testers
project, supporting the Perl programming language. See
http://wiki.cpantesters.org/ for more information or email
questions to cpan-testers-discuss@perl.org
--
Dear Jonathan Leto,
This is a computer-generated report for Math-MatrixReal-2.13
on perl 5.39.7, created by CPAN-Reporter-1.2019.
Thank you for uploading your work to CPAN. Congratulations!
All tests were successful.
Sections of this report:
* Tester comments
* Program output
* Prerequisites
* Environment and other context
------------------------------
TESTER COMMENTS
------------------------------
Additional comments from tester:
this report is from an automated smoke testing program
and was not reviewed by a human for accuracy
------------------------------
PROGRAM OUTPUT
------------------------------
Output from './Build test':
# Testing Math::MatrixReal 2.13 on linux, Perl (/tmp/basesmoker-reloperl-macy/bin/perl) 5.039007
t/00-load.t ............ ok
t/adjoint.t ............ ok
t/arith.t .............. ok
t/assign.t ............. ok
t/basic.t .............. ok
* Estimated diagonalization time for 150x150 matrix: 3.78 s
Estimated biggest matrix diagonalisable within 1 day cpu: 4163x4163
* Estimated eigenvalues-only computation time for 150x150 matrix: 0.58 s
Estimated biggest matrix manageable within 1 day cpu: 7703x7703
Btw, do you want to crunch such one now? (no, just kidding...;-)
t/bench_eigen.t ........ ok
t/bench_eigen2.t ....... ok
t/binary.t ............. ok
t/bool.t ............... ok
t/cofactor.t ........... ok
t/concat.t ............. ok
t/condition.t .......... ok
t/decompose_LR.t ....... ok
t/det.t ................ ok
t/diag.t ............... ok
t/display_precision.t .. ok
t/div.t ................ ok
t/each.t ............... ok
t/eigen_3x3.t .......... ok
t/eigen_7x7.t .......... ok
t/eigen_NxN.t .......... ok
t/equality.t ........... ok
t/exponent.t ........... ok
t/ext1.t ............... ok
t/gramian.t ............ ok
t/gsm.t ................ ok
t/inequality.t ......... ok
t/inverse.t ............ ok
t/is_LR.t .............. ok
t/isrowcol.t ........... ok
t/latex.t .............. ok
t/length.t ............. ok
t/list.t ............... ok
t/matlab.t ............. ok
t/max_min.t ............ ok
t/minimax.t ............ ok
t/minor.t .............. ok
t/norm.t ............... ok
t/normality.t .......... ok
t/orthogonal.t ......... ok
t/periodic.t ........... ok
t/positive.t ........... ok
t/product.t ............ ok
t/quadratic.t .......... ok
t/rand.t ............... ok
t/rank.t ............... ok
t/scinotation.t ........ ok
t/similar.t ............ ok
t/spectral.t ........... ok
t/stringify.t .......... ok
t/submatrix.t .......... ok
t/swap.t ............... ok
t/symmetric.t .......... ok
t/trace.t .............. ok
t/transpose.t .......... ok
t/triang.t ............. ok
t/tridiag.t ............ ok
t/vecnorm.t ............ ok
t/yacas.t .............. ok
All tests successful.
Files=59, Tests=353, 7 wallclock secs ( 0.12 usr 0.08 sys + 5.59 cusr 0.79 csys = 6.58 CPU)
Result: PASS
------------------------------
PREREQUISITES
------------------------------
Prerequisite modules loaded:
build_requires:
Module Need Have
------------- ---- ------
File::Spec 0 3.90
Test::Most 0 0.38
configure_requires:
Module Need Have
------------- ---- ------
Module::Build 0.38 0.4234
------------------------------
ENVIRONMENT AND OTHER CONTEXT
------------------------------
Environment variables:
AUTOMATED_TESTING = 1
LANG = en_US.UTF-8
PATH = /home/sand/bin:/usr/local/bin:/usr/local/sbin:/usr/sbin:/usr/bin:/sbin:/bin:/usr/games:/usr/local/games:/snap/bin:/usr/local/perl/bin:/usr/X11/bin
PERL = /tmp/basesmoker-reloperl-macy/bin/perl
PERL5LIB = /tmp/loop_over_bdir-3551-l8emhy/Linux-InitFS-0.2-0/blib/arch:/tmp/loop_over_bdir-3551-l8emhy/Linux-InitFS-0.2-0/blib/lib:/tmp/loop_over_bdir-3551-l8emhy/Lingua-YaTeA-0.626-0/blib/arch:/tmp/loop_over_bdir-3551-l8emhy/Lingua-YaTeA-0.626-0/blib/lib:/tmp/loop_over_bdir-3551-l8emhy/Debian-Packages-0.03-0/blib/arch:/tmp/loop_over_bdir-3551-l8emhy/Debian-Packages-0.03-0/blib/lib
PERL5OPT =
PERL5_CPANPLUS_IS_RUNNING = 3559
PERL5_CPAN_IS_RUNNING = 3559
PERL_CANARY_STABILITY_NOPROMPT = 1
PERL_MM_USE_DEFAULT = 1
PERL_USE_UNSAFE_INC = 1
SHELL = /usr/bin/zsh
TERM = screen
Perl special variables (and OS-specific diagnostics, for MSWin32):
$^X = /tmp/basesmoker-reloperl-macy/bin/perl
$UID/$EUID = 1005 / 1005
$GID = 1005 1005
$EGID = 1005 1005
Perl module toolchain versions installed:
Module Have
------------------- --------
CPAN 2.36
CPAN::Meta 2.150010
Cwd 3.90
ExtUtils::CBuilder 0.280240
ExtUtils::Command 7.70
ExtUtils::Install 2.22
ExtUtils::MakeMaker 7.70
ExtUtils::Manifest 1.75
ExtUtils::ParseXS 3.51
File::Spec 3.90
JSON 4.10
JSON::PP 4.16
Module::Build 0.4234
Module::Signature 0.88
Parse::CPAN::Meta 2.150010
Test2 1.302198
Test::Harness 3.48
Test::More 1.302198
YAML 1.31
YAML::Syck 1.34
version 0.9930
--
Summary of my perl5 (revision 5 version 39 subversion 7) configuration:
Commit id: 96559478fdc3f2fe9c51cad02ebbae0c950b7b68
Platform:
osname=linux
osvers=5.4.0-169-generic
archname=x86_64-linux
uname='linux k93focal 5.4.0-169-generic #187-ubuntu smp thu nov 23 14:52:28 utc 2023 x86_64 x86_64 x86_64 gnulinux '
config_args='-Dprefix=/home/sand/src/perl/repoperls/installed-perls/host/k93focal/v5.39.7/b254 -Dmyhostname=k93focal -Dinstallusrbinperl=n -Uversiononly -Dusedevel -des -Ui_db -Dlibswanted=cl pthread socket inet nsl gdbm dbm malloc dl ld sun m crypt sec util c cposix posix ucb BSD gdbm_compat -Uuseithreads -Uuselongdouble -DEBUGGING=both'
hint=recommended
useposix=true
d_sigaction=define
useithreads=undef
usemultiplicity=undef
use64bitint=define
use64bitall=define
uselongdouble=undef
usemymalloc=n
default_inc_excludes_dot=define
Compiler:
cc='cc'
ccflags ='-fwrapv -DDEBUGGING -fno-strict-aliasing -pipe -fstack-protector-strong -I/usr/local/include -D_LARGEFILE_SOURCE -D_FILE_OFFSET_BITS=64'
optimize='-O2 -g'
cppflags='-fwrapv -DDEBUGGING -fno-strict-aliasing -pipe -fstack-protector-strong -I/usr/local/include'
ccversion=''
gccversion='9.4.0'
gccosandvers=''
intsize=4
longsize=8
ptrsize=8
doublesize=8
byteorder=12345678
doublekind=3
d_longlong=define
longlongsize=8
d_longdbl=define
longdblsize=16
longdblkind=3
ivtype='long'
ivsize=8
nvtype='double'
nvsize=8
Off_t='off_t'
lseeksize=8
alignbytes=8
prototype=define
Linker and Libraries:
ld='cc'
ldflags =' -fstack-protector-strong -L/usr/local/lib'
libpth=/usr/local/lib /usr/lib/x86_64-linux-gnu /usr/lib /usr/lib64
libs=-lpthread -lnsl -ldl -lm -lcrypt -lutil -lc
perllibs=-lpthread -lnsl -ldl -lm -lcrypt -lutil -lc
libc=libc-2.31.so
so=so
useshrplib=false
libperl=libperl.a
gnulibc_version='2.31'
Dynamic Linking:
dlsrc=dl_dlopen.xs
dlext=so
d_dlsymun=undef
ccdlflags='-Wl,-E'
cccdlflags='-fPIC'
lddlflags='-shared -O2 -g -L/usr/local/lib -fstack-protector-strong'
Characteristics of this binary (from libperl):
Compile-time options:
DEBUGGING
HAS_LONG_DOUBLE
HAS_STRTOLD
HAS_TIMES
PERLIO_LAYERS
PERL_COPY_ON_WRITE
PERL_DONT_CREATE_GVSV
PERL_HASH_FUNC_SIPHASH13
PERL_HASH_USE_SBOX32
PERL_MALLOC_WRAP
PERL_OP_PARENT
PERL_PRESERVE_IVUV
PERL_USE_DEVEL
PERL_USE_SAFE_PUTENV
USE_64_BIT_ALL
USE_64_BIT_INT
USE_LARGE_FILES
USE_LOCALE
USE_LOCALE_COLLATE
USE_LOCALE_CTYPE
USE_LOCALE_NUMERIC
USE_LOCALE_TIME
USE_PERLIO
USE_PERL_ATOF
Built under linux
Compiled at Jan 20 2024 13:20:44
%ENV:
PERL="/tmp/basesmoker-reloperl-macy/bin/perl"
PERL5LIB="/tmp/loop_over_bdir-3551-l8emhy/Linux-InitFS-0.2-0/blib/arch:/tmp/loop_over_bdir-3551-l8emhy/Linux-InitFS-0.2-0/blib/lib:/tmp/loop_over_bdir-3551-l8emhy/Lingua-YaTeA-0.626-0/blib/arch:/tmp/loop_over_bdir-3551-l8emhy/Lingua-YaTeA-0.626-0/blib/lib:/tmp/loop_over_bdir-3551-l8emhy/Debian-Packages-0.03-0/blib/arch:/tmp/loop_over_bdir-3551-l8emhy/Debian-Packages-0.03-0/blib/lib"
PERL5OPT=""
PERL5_CPANPLUS_IS_RUNNING="3559"
PERL5_CPAN_IS_RUNNING="3559"
PERL_CANARY_STABILITY_NOPROMPT="1"
PERL_MM_USE_DEFAULT="1"
PERL_USE_UNSAFE_INC="1"
@INC:
/tmp/loop_over_bdir-3551-l8emhy/Linux-InitFS-0.2-0/blib/arch
/tmp/loop_over_bdir-3551-l8emhy/Linux-InitFS-0.2-0/blib/lib
/tmp/loop_over_bdir-3551-l8emhy/Lingua-YaTeA-0.626-0/blib/arch
/tmp/loop_over_bdir-3551-l8emhy/Lingua-YaTeA-0.626-0/blib/lib
/tmp/loop_over_bdir-3551-l8emhy/Debian-Packages-0.03-0/blib/arch
/tmp/loop_over_bdir-3551-l8emhy/Debian-Packages-0.03-0/blib/lib
/home/sand/src/perl/repoperls/installed-perls/host/k93focal/v5.39.7/b254/lib/site_perl/5.39.7/x86_64-linux
/home/sand/src/perl/repoperls/installed-perls/host/k93focal/v5.39.7/b254/lib/site_perl/5.39.7
/home/sand/src/perl/repoperls/installed-perls/host/k93focal/v5.39.7/b254/lib/5.39.7/x86_64-linux
/home/sand/src/perl/repoperls/installed-perls/host/k93focal/v5.39.7/b254/lib/5.39.7
.