Report for Test-WWW-Mechanize-1.46

Back
From: metabase:user:30ae4450-2aae-11df-837a-5e0a49663a4f
Subject: PASS Test-WWW-Mechanize-1.46 v5.25.7 
Date: 2016-11-23T21:12:44Z

This distribution has been tested as part of the CPAN Testers
project, supporting the Perl programming language.  See
http://wiki.cpantesters.org/ for more information or email
questions to cpan-testers-discuss@perl.org


--
Dear Andy Lester,

This is a computer-generated report for Test-WWW-Mechanize-1.46
on perl 5.25.7, created by CPAN-Reporter-1.2018.

Thank you for uploading your work to CPAN.  Congratulations!
All tests were successful.

Sections of this report:

    * Tester comments
    * Program output
    * Prerequisites
    * Environment and other context

------------------------------
TESTER COMMENTS
------------------------------

Additional comments from tester:

this report is from an automated smoke testing program
and was not reviewed by a human for accuracy

------------------------------
PROGRAM OUTPUT
------------------------------

Output from 'C:\STRAWB~1\c\bin\dmake.exe test':

"C:\Strawberry257\perl\bin\perl.exe" "-MExtUtils::Command::MM" "-MTest::Harness" "-e" "undef *Test::Harness::Switches; test_harness(0, 'blib\lib', 'blib\arch')" t/*.t
# Testing Test::WWW::Mechanize 1.46, with WWW::Mechanize 1.83, LWP 6.15, Test::More 1.302062, Perl 5.025007, C:\Strawberry257\perl\bin\perl.exe
t/00-load.t ................ ok
t/autolint.t ............... skipped: HTML::Lint 2.20 is not installed, cannot test autolint
# Test server http://127.0.0.1:30679 as PID -1512
Çàòðåáîâàííîå èìÿ äîïóñòèìî è îíî íàéäåíî â áàçå äàííûõ, íî äëÿ èìåíè îòñóòñòâóþò ñâÿçàííûå ñ íèì äàííûå, êîòîðûå áûëè ðàçðåøåíû äëÿ íåãî.  at C:/Strawberry257/perl/vendor/lib/HTTP/Server/Simple.pm line 168, <DATA> line 16.
Çàòðåáîâàííîå èìÿ äîïóñòèìî è îíî íàéäåíî â áàçå äàííûõ, íî äëÿ èìåíè îòñóòñòâóþò ñâÿçàííûå ñ íèì äàííûå, êîòîðûå áûëè ðàçðåøåíû äëÿ íåãî.  at C:/Strawberry257/perl/vendor/lib/HTTP/Server/Simple.pm line 172, <DATA> line 16.
Çàòðåáîâàííîå èìÿ äîïóñòèìî è îíî íàéäåíî â áàçå äàííûõ, íî äëÿ èìåíè îòñóòñòâóþò ñâÿçàííûå ñ íèì äàííûå, êîòîðûå áûëè ðàçðåøåíû äëÿ íåãî.  at C:/Strawberry257/perl/vendor/lib/HTTP/Server/Simple.pm line 408, <DATA> line 16.
Çàòðåáîâàííîå èìÿ äîïóñòèìî è îíî íàéäåíî â áàçå äàííûõ, íî äëÿ èìåíè îòñóòñòâóþò ñâÿçàííûå ñ íèì äàííûå, êîòîðûå áûëè ðàçðåøåíû äëÿ íåãî.  at C:/Strawberry257/perl/vendor/lib/HTTP/Server/Simple.pm line 408, <> line 1.
t/click_ok.t ............... ok
t/content_contains.t ....... ok
t/content_lacks.t .......... ok
# Test server http://127.0.0.1:34453 as PID -1020
Çàòðåáîâàííîå èìÿ äîïóñòèìî è îíî íàéäåíî â áàçå äàííûõ, íî äëÿ èìåíè îòñóòñòâóþò ñâÿçàííûå ñ íèì äàííûå, êîòîðûå áûëè ðàçðåøåíû äëÿ íåãî.  at C:/Strawberry257/perl/vendor/lib/HTTP/Server/Simple.pm line 168, <DATA> line 16.
Çàòðåáîâàííîå èìÿ äîïóñòèìî è îíî íàéäåíî â áàçå äàííûõ, íî äëÿ èìåíè îòñóòñòâóþò ñâÿçàííûå ñ íèì äàííûå, êîòîðûå áûëè ðàçðåøåíû äëÿ íåãî.  at C:/Strawberry257/perl/vendor/lib/HTTP/Server/Simple.pm line 172, <DATA> line 16.
Çàòðåáîâàííîå èìÿ äîïóñòèìî è îíî íàéäåíî â áàçå äàííûõ, íî äëÿ èìåíè îòñóòñòâóþò ñâÿçàííûå ñ íèì äàííûå, êîòîðûå áûëè ðàçðåøåíû äëÿ íåãî.  at C:/Strawberry257/perl/vendor/lib/HTTP/Server/Simple.pm line 408, <DATA> line 16.
Çàòðåáîâàííîå èìÿ äîïóñòèìî è îíî íàéäåíî â áàçå äàííûõ, íî äëÿ èìåíè îòñóòñòâóþò ñâÿçàííûå ñ íèì äàííûå, êîòîðûå áûëè ðàçðåøåíû äëÿ íåãî.  at C:/Strawberry257/perl/vendor/lib/HTTP/Server/Simple.pm line 408, <> line 1.
Çàòðåáîâàííîå èìÿ äîïóñòèìî è îíî íàéäåíî â áàçå äàííûõ, íî äëÿ èìåíè îòñóòñòâóþò ñâÿçàííûå ñ íèì äàííûå, êîòîðûå áûëè ðàçðåøåíû äëÿ íåãî.  at C:/Strawberry257/perl/vendor/lib/HTTP/Server/Simple.pm line 408, <> line 2.
Çàòðåáîâàííîå èìÿ äîïóñòèìî è îíî íàéäåíî â áàçå äàííûõ, íî äëÿ èìåíè îòñóòñòâóþò ñâÿçàííûå ñ íèì äàííûå, êîòîðûå áûëè ðàçðåøåíû äëÿ íåãî.  at C:/Strawberry257/perl/vendor/lib/HTTP/Server/Simple.pm line 408, <> line 3.
t/delete_ok.t .............. ok
t/follow_link_ok.t ......... ok
t/followable_links.t ....... ok
t/get_ok-parms.t ........... ok
t/get_ok.t ................. ok
t/has_tag.t ................ ok
t/head_ok-parms.t .......... ok
t/head_ok.t ................ ok
# Test server http://127.0.0.1:32546 as PID -2032
Çàòðåáîâàííîå èìÿ äîïóñòèìî è îíî íàéäåíî â áàçå äàííûõ, íî äëÿ èìåíè îòñóòñòâóþò ñâÿçàííûå ñ íèì äàííûå, êîòîðûå áûëè ðàçðåøåíû äëÿ íåãî.  at C:/Strawberry257/perl/vendor/lib/HTTP/Server/Simple.pm line 168, <DATA> line 16.
Çàòðåáîâàííîå èìÿ äîïóñòèìî è îíî íàéäåíî â áàçå äàííûõ, íî äëÿ èìåíè îòñóòñòâóþò ñâÿçàííûå ñ íèì äàííûå, êîòîðûå áûëè ðàçðåøåíû äëÿ íåãî.  at C:/Strawberry257/perl/vendor/lib/HTTP/Server/Simple.pm line 172, <DATA> line 16.
Çàòðåáîâàííîå èìÿ äîïóñòèìî è îíî íàéäåíî â áàçå äàííûõ, íî äëÿ èìåíè îòñóòñòâóþò ñâÿçàííûå ñ íèì äàííûå, êîòîðûå áûëè ðàçðåøåíû äëÿ íåãî.  at C:/Strawberry257/perl/vendor/lib/HTTP/Server/Simple.pm line 408, <DATA> line 16.
t/headers.t ................ ok
t/html_lint_ok.t ........... skipped: HTML::Lint is not installed, cannot test autolint
t/lacks_uncapped_inputs.t .. ok
t/link_content.t ........... ok
t/link_status.t ............ ok
t/links_ok.t ............... ok
t/new.t .................... ok
t/page_links_content.t ..... ok
t/page_links_ok.t .......... ok
t/pod-coverage.t ........... ok
t/pod.t .................... ok
# Test server http://127.0.0.1:32496 as PID -2036
Çàòðåáîâàííîå èìÿ äîïóñòèìî è îíî íàéäåíî â áàçå äàííûõ, íî äëÿ èìåíè îòñóòñòâóþò ñâÿçàííûå ñ íèì äàííûå, êîòîðûå áûëè ðàçðåøåíû äëÿ íåãî.  at C:/Strawberry257/perl/vendor/lib/HTTP/Server/Simple.pm line 168, <DATA> line 16.
Çàòðåáîâàííîå èìÿ äîïóñòèìî è îíî íàéäåíî â áàçå äàííûõ, íî äëÿ èìåíè îòñóòñòâóþò ñâÿçàííûå ñ íèì äàííûå, êîòîðûå áûëè ðàçðåøåíû äëÿ íåãî.  at C:/Strawberry257/perl/vendor/lib/HTTP/Server/Simple.pm line 172, <DATA> line 16.
Çàòðåáîâàííîå èìÿ äîïóñòèìî è îíî íàéäåíî â áàçå äàííûõ, íî äëÿ èìåíè îòñóòñòâóþò ñâÿçàííûå ñ íèì äàííûå, êîòîðûå áûëè ðàçðåøåíû äëÿ íåãî.  at C:/Strawberry257/perl/vendor/lib/HTTP/Server/Simple.pm line 408, <DATA> line 16.
Çàòðåáîâàííîå èìÿ äîïóñòèìî è îíî íàéäåíî â áàçå äàííûõ, íî äëÿ èìåíè îòñóòñòâóþò ñâÿçàííûå ñ íèì äàííûå, êîòîðûå áûëè ðàçðåøåíû äëÿ íåãî.  at C:/Strawberry257/perl/vendor/lib/HTTP/Server/Simple.pm line 408, <> line 1.
Çàòðåáîâàííîå èìÿ äîïóñòèìî è îíî íàéäåíî â áàçå äàííûõ, íî äëÿ èìåíè îòñóòñòâóþò ñâÿçàííûå ñ íèì äàííûå, êîòîðûå áûëè ðàçðåøåíû äëÿ íåãî.  at C:/Strawberry257/perl/vendor/lib/HTTP/Server/Simple.pm line 408, <> line 2.
t/put_ok.t ................. ok
t/scrape_text_by_id.t ...... ok
t/stuff_inputs.t ........... ok
# Test server http://127.0.0.1:23910 as PID -436
Çàòðåáîâàííîå èìÿ äîïóñòèìî è îíî íàéäåíî â áàçå äàííûõ, íî äëÿ èìåíè îòñóòñòâóþò ñâÿçàííûå ñ íèì äàííûå, êîòîðûå áûëè ðàçðåøåíû äëÿ íåãî.  at C:/Strawberry257/perl/vendor/lib/HTTP/Server/Simple.pm line 168, <DATA> line 16.
Çàòðåáîâàííîå èìÿ äîïóñòèìî è îíî íàéäåíî â áàçå äàííûõ, íî äëÿ èìåíè îòñóòñòâóþò ñâÿçàííûå ñ íèì äàííûå, êîòîðûå áûëè ðàçðåøåíû äëÿ íåãî.  at C:/Strawberry257/perl/vendor/lib/HTTP/Server/Simple.pm line 172, <DATA> line 16.
Çàòðåáîâàííîå èìÿ äîïóñòèìî è îíî íàéäåíî â áàçå äàííûõ, íî äëÿ èìåíè îòñóòñòâóþò ñâÿçàííûå ñ íèì äàííûå, êîòîðûå áûëè ðàçðåøåíû äëÿ íåãî.  at C:/Strawberry257/perl/vendor/lib/HTTP/Server/Simple.pm line 408, <DATA> line 16.
Çàòðåáîâàííîå èìÿ äîïóñòèìî è îíî íàéäåíî â áàçå äàííûõ, íî äëÿ èìåíè îòñóòñòâóþò ñâÿçàííûå ñ íèì äàííûå, êîòîðûå áûëè ðàçðåøåíû äëÿ íåãî.  at C:/Strawberry257/perl/vendor/lib/HTTP/Server/Simple.pm line 408, <> line 1.
t/submit_form_ok.t ......... ok
t/text_contains.t .......... ok
t/title_is.t ............... ok
All tests successful.
Files=30, Tests=257, 29 wallclock secs ( 0.15 usr +  0.20 sys =  0.35 CPU)
Result: PASS

------------------------------
PREREQUISITES
------------------------------

Prerequisite modules loaded:

requires:

    Module                    Need  Have    
    ------------------------- ----- --------
    Carp::Assert::More        0     1.14    
    HTML::TokeParser          0     3.69    
    HTML::TreeBuilder         0     5.03    
    HTTP::Server::Simple      0.42  0.51    
    HTTP::Server::Simple::CGI 0     0       
    LWP                       6.02  6.15    
    parent                    0     0.236   
    perl                      5.008 5.025007
    Test::Builder::Tester     1.09  1.302062
    Test::LongString          0.15  0.17    
    Test::More                0.96  1.302062
    URI::file                 0     4.21    
    WWW::Mechanize            1.68  1.83    

build_requires:

    Module                    Need  Have    
    ------------------------- ----- --------
    ExtUtils::MakeMaker       0     7.24    

configure_requires:

    Module                    Need  Have    
    ------------------------- ----- --------
    ExtUtils::MakeMaker       0     7.24    


------------------------------
ENVIRONMENT AND OTHER CONTEXT
------------------------------

Environment variables:

    AUTOMATED_TESTING = 1
    COMSPEC = C:\WINDOWS\system32\cmd.exe
    NONINTERACTIVE_TESTING = 1
    NUMBER_OF_PROCESSORS = 1
    PATH = C:\Program Files\Far Manager\;C:\WINDOWS\system32;C:\WINDOWS;C:\WINDOWS\System32\Wbem;C:\Git\cmd;C:\Strawberry257\c\bin;C:\Strawberry257\perl\site\bin;C:\Strawberry257\perl\bin
    PERL5LIB = 
    PERL5OPT = 
    PERL5_CPANPLUS_IS_RUNNING = 1256
    PERL5_CPAN_IS_RUNNING = 1256
    PERL5_CPAN_IS_RUNNING_IN_RECURSION = 228,1256
    PERL_CR_SMOKER_CURRENT = Test::WWW::Mechanize::Catalyst
    PERL_EXTUTILS_AUTOINSTALL = --defaultdeps
    PERL_MM_USE_DEFAULT = 1
    PROCESSOR_IDENTIFIER = x86 Family 16 Model 5 Stepping 3, AuthenticAMD
    TEMP = C:\DOCUME~1\c\LOCALS~1\Temp

Perl special variables (and OS-specific diagnostics, for MSWin32):

    $^X = C:\Strawberry257\perl\bin\perl.exe
    $UID/$EUID = 0 / 0
    $GID = 0
    $EGID = 0
    Win32::GetOSName = WinXP/.Net
    Win32::GetOSVersion = Service Pack 3, 5, 1, 2600, 2, 3, 0, 256, 1
    Win32::FsType = NTFS
    Win32::IsAdminUser = 1

Perl module toolchain versions installed:

    Module              Have      
    ------------------- ----------
    CPAN                2.14_01   
    CPAN::Meta          2.150010  
    Cwd                 3.66      
    ExtUtils::CBuilder  0.280225  
    ExtUtils::Command   7.24      
    ExtUtils::Install   2.04      
    ExtUtils::MakeMaker 7.24      
    ExtUtils::Manifest  1.70      
    ExtUtils::ParseXS   3.33      
    File::Spec          3.66      
    JSON                2.90      
    JSON::PP            2.27400_02
    Module::Build       0.4220    
    Module::Signature   n/a       
    Parse::CPAN::Meta   2.150010  
    Test::Harness       3.36_01   
    Test::More          1.302062  
    YAML                1.19      
    YAML::Syck          n/a       
    version             0.9917    


--

Summary of my perl5 (revision 5 version 25 subversion 7) configuration:
   
  Platform:
    osname=MSWin32
    osvers=4.0
    archname=MSWin32-x86-multi-thread-64int
    uname='Win32 strawberry-perl 5.25.7.1-beta1 #1 Tue Nov 22 22:50:57 2016 i386'
    config_args='undef'
    hint=recommended
    useposix=true
    d_sigaction=undef
    useithreads=define
    usemultiplicity=define
    use64bitint=define
    use64bitall=undef
    uselongdouble=undef
    usemymalloc=n
    bincompat5005=undef
  Compiler:
    cc='gcc'
    ccflags =' -s -O2 -DWIN32  -DPERL_TEXTMODE_SCRIPTS -DPERL_IMPLICIT_CONTEXT -DPERL_IMPLICIT_SYS -fwrapv -fno-strict-aliasing -mms-bitfields'
    optimize='-s -O2'
    cppflags='-DWIN32'
    ccversion=''
    gccversion='4.9.2'
    gccosandvers=''
    intsize=4
    longsize=4
    ptrsize=4
    doublesize=8
    byteorder=12345678
    doublekind=3
    d_longlong=define
    longlongsize=8
    d_longdbl=define
    longdblsize=12
    longdblkind=3
    ivtype='long long'
    ivsize=8
    nvtype='double'
    nvsize=8
    Off_t='long long'
    lseeksize=8
    alignbytes=8
    prototype=define
  Linker and Libraries:
    ld='g++'
    ldflags ='-s -L"C:\STRAWB~1\perl\lib\CORE" -L"C:\STRAWB~1\c\lib"'
    libpth=C:\STRAWB~1\c\lib C:\STRAWB~1\c\i686-w64-mingw32\lib C:\STRAWB~1\c\lib\gcc\i686-w64-mingw32\4.9.2
    libs=-lmoldname -lkernel32 -luser32 -lgdi32 -lwinspool -lcomdlg32 -ladvapi32 -lshell32 -lole32 -loleaut32 -lnetapi32 -luuid -lws2_32 -lmpr -lwinmm -lversion -lodbc32 -lodbccp32 -lcomctl32
    perllibs=-lmoldname -lkernel32 -luser32 -lgdi32 -lwinspool -lcomdlg32 -ladvapi32 -lshell32 -lole32 -loleaut32 -lnetapi32 -luuid -lws2_32 -lmpr -lwinmm -lversion -lodbc32 -lodbccp32 -lcomctl32
    libc=
    so=dll
    useshrplib=true
    libperl=libperl525.a
    gnulibc_version=''
  Dynamic Linking:
    dlsrc=dl_win32.xs
    dlext=xs.dll
    d_dlsymun=undef
    ccdlflags=' '
    cccdlflags=' '
    lddlflags='-mdll -s -L"C:\STRAWB~1\perl\lib\CORE" -L"C:\STRAWB~1\c\lib"'


Characteristics of this binary (from libperl): 
  Compile-time options:
    HAS_TIMES
    HAVE_INTERP_INTERN
    MULTIPLICITY
    PERLIO_LAYERS
    PERL_COPY_ON_WRITE
    PERL_DONT_CREATE_GVSV
    PERL_HASH_FUNC_ONE_AT_A_TIME_HARD
    PERL_IMPLICIT_CONTEXT
    PERL_IMPLICIT_SYS
    PERL_MALLOC_WRAP
    PERL_OP_PARENT
    PERL_PRESERVE_IVUV
    USE_64_BIT_INT
    USE_ITHREADS
    USE_LARGE_FILES
    USE_LOCALE
    USE_LOCALE_COLLATE
    USE_LOCALE_CTYPE
    USE_LOCALE_NUMERIC
    USE_LOCALE_TIME
    USE_PERLIO
    USE_PERL_ATOF
  Built under MSWin32
  Compiled at Nov 22 2016 22:59:11
  %ENV:
    PERL5_CPANPLUS_IS_RUNNING="1256"
    PERL5_CPAN_IS_RUNNING="1256"
    PERL5_CPAN_IS_RUNNING_IN_RECURSION="228,1256"
    PERL_CR_SMOKER_CURRENT="Test::WWW::Mechanize::Catalyst"
    PERL_EXTUTILS_AUTOINSTALL="--defaultdeps"
    PERL_MM_USE_DEFAULT="1"
  @INC:
    C:/Strawberry257/perl/site/lib
    C:/Strawberry257/perl/vendor/lib
    C:/Strawberry257/perl/lib
    .