Report for Text-VimColor-0.24

Back
From: metabase:user:1eed3a18-483e-11e2-a87b-a3931c712682
Subject: PASS Text-VimColor-0.24 v5.21.6 Mac OS X
Date: 2014-11-23T08:29:53Z

This distribution has been tested as part of the CPAN Testers
project, supporting the Perl programming language.  See
http://wiki.cpantesters.org/ for more information or email
questions to cpan-testers-discuss@perl.org


--
Dear Randy Stauner,

This is a computer-generated report for Text-VimColor-0.24
on perl 5.21.6, created by CPAN-Reporter-1.2011.

Thank you for uploading your work to CPAN.  Congratulations!
All tests were successful.

Sections of this report:

    * Tester comments
    * Program output
    * Prerequisites
    * Environment and other context

------------------------------
TESTER COMMENTS
------------------------------

Additional comments from tester:

none provided

------------------------------
PROGRAM OUTPUT
------------------------------

Output from '/usr/bin/make test':

Skip blib/lib/auto/share/dist/Text-VimColor/mark.vim (unchanged)
Skip blib/lib/auto/share/dist/Text-VimColor/light.xsl (unchanged)
Skip blib/lib/auto/share/dist/Text-VimColor/light.css (unchanged)
PERL_DL_NONLAZY=1 "/Users/stas/perl5/perlbrew/perls/perl-5.21.6/bin/perl5.21.6" "-MExtUtils::Command::MM" "-MTest::Harness" "-e" "undef *Test::Harness::Switches; test_harness(0, 'blib/lib', 'blib/arch')" t/*.t
t/00-compile.t ......... ok
# 
# Versions for all modules listed in MYMETA.json (including optional ones):
#    Version Module                  
#   -------- ------------------------
#   2.143240 CPAN::Meta              
#      2.130 CPAN::Meta::Requirements
#     1.3301 Carp                    
#       5.70 Exporter                
#       7.02 ExtUtils::MakeMaker     
#       2.30 File::Copy              
#      1.102 File::ShareDir          
#       0.09 File::ShareDir::Install 
#       3.47 File::Spec              
#       3.47 File::Spec::Functions   
#     0.2304 File::Temp              
#       2.42 Getopt::Long            
#       1.16 IO::File                
#       1.35 IO::Handle              
#       1.18 IPC::Open3              
#       1.41 List::Util              
#       0.35 Path::Class             
#       1.07 Symbol                  
#       4.03 Term::ANSIColor         
#   1.001009 Test::More              
#       1.32 constant                
#       0.63 lib                     
#       1.08 strict                  
#     0.9909 version                 
#       1.29 warnings                
t/00-report-prereqs.t .. ok
# vim --version
# 
# VIM - Vi IMproved 7.4 (2013 Aug 10, compiled Oct 21 2014 01:12:21)
# MacOS X (unix) version
# Included patches: 1-258
# Compiled by stas@Stas-MacBook.local
# Huge version without GUI.  Features included (+) or not (-):
# +acl             +farsi           +mouse_netterm   +syntax
# +arabic          +file_in_path    +mouse_sgr       +tag_binary
# +autocmd         +find_in_path    -mouse_sysmouse  +tag_old_static
# -balloon_eval    +float           +mouse_urxvt     -tag_any_white
# -browse          +folding         +mouse_xterm     -tcl
# ++builtin_terms  -footer          +multi_byte      +terminfo
# +byte_offset     +fork()          +multi_lang      +termresponse
# +cindent         +gettext         -mzscheme        +textobjects
# -clientserver    -hangul_input    +netbeans_intg   +title
# +clipboard       +iconv           +path_extra      -toolbar
# +cmdline_compl   +insert_expand   +perl            +user_commands
# +cmdline_hist    +jumplist        +persistent_undo +vertsplit
# +cmdline_info    +keymap          +postscript      +virtualedit
# +comments        +langmap         +printer         +visual
# +conceal         +libcall         +profile         +visualextra
# +cryptv          +linebreak       -python          +viminfo
# +cscope          +lispindent      -python3         +vreplace
# +cursorbind      +listcmds        +quickfix        +wildignore
# +cursorshape     +localmap        +reltime         +wildmenu
# +dialog_con      -lua             +rightleft       +windows
# +diff            +menu            +ruby            +writebackup
# +digraphs        +mksession       +scrollbind      -X11
# -dnd             +modify_fname    +signs           -xfontset
# -ebcdic          +mouse           +smartindent     -xim
# +emacs_tags      -mouseshape      -sniff           -xsmp
# +eval            +mouse_dec       +startuptime     -xterm_clipboard
# +ex_extra        -mouse_gpm       +statusline      -xterm_save
# +extra_search    -mouse_jsbterm   -sun_workshop    -xpm
#    system vimrc file: "/opt/local/etc/vimrc"
#      user vimrc file: "$HOME/.vimrc"
#  2nd user vimrc file: "~/.vim/vimrc"
#       user exrc file: "$HOME/.exrc"
#   fall-back for $VIM: "/opt/local/share/vim"
# Compilation: ccache /usr/bin/clang -c -I. -Iproto -DHAVE_CONFIG_H   -I/opt/local/include -DMACOS_X_UNIX  -pipe -Os -arch x86_64 -U_FORTIFY_SOURCE -D_FORTIFY_SOURCE=1      
# Linking: ccache /usr/bin/clang   -L. -L/opt/local/lib -Wl,-headerpad_max_install_names  -L/opt/local/lib -Wl,-headerpad_max_install_names -arch x86_64 -L/usr/local/lib -o vim        -lncurses -liconv -lintl -framework Cocoa   -L/opt/local/lib -Wl,-headerpad_max_install_names   -fstack-protector  -L/opt/local/lib/perl5/5.12.5/darwin-thread-multi-2level/CORE -lperl -lm -lutil -lc    -lruby -lobjc  -L/opt/local/lib   
# 
t/000-vim-version.t .... ok
t/ansi.t ............... ok
t/bin.t ................ ok
t/compare-formats.t .... ok
t/encoding.t ........... ok
t/html.t ............... ok
t/input_filename.t ..... ok
t/new.t ................ ok
t/override-options.t ... ok
t/share-dir.t .......... ok
t/tvctestsyn.t ......... ok
t/untie-std-handles.t .. ok
t/vim_let.t ............ ok
t/vim_options.t ........ ok
t/xml.t ................ skipped: XML::Parser module required for these tests.
All tests successful.

Test Summary Report
-------------------
t/encoding.t         (Wstat: 0 Tests: 8 Failed: 0)
  TODO passed:   5-6
Files=17, Tests=124,  4 wallclock secs ( 0.07 usr  0.03 sys +  2.62 cusr  0.55 csys =  3.27 CPU)
Result: PASS

------------------------------
PREREQUISITES
------------------------------

Prerequisite modules loaded:

requires:

    Module                  Need Have    
    ----------------------- ---- --------
    Carp                    0    1.3301  
    constant                0    1.32    
    File::Copy              0    2.30    
    File::ShareDir          0    1.102   
    File::Temp              0    0.2304  
    Getopt::Long            0    2.42    
    IO::File                0    1.16    
    IPC::Open3              0    1.18    
    Path::Class             0.04 0.35    
    strict                  0    1.08    
    Symbol                  0    1.07    
    Term::ANSIColor         1.03 4.03    
    warnings                0    1.29    

build_requires:

    Module                  Need Have    
    ----------------------- ---- --------
    Exporter                0    5.70    
    ExtUtils::MakeMaker     0    7.02    
    File::Spec              0    3.47    
    File::Spec::Functions   0    3.47    
    File::Temp              0    0.2304  
    IO::Handle              0    1.35    
    IPC::Open3              0    1.18    
    lib                     0    0.63    
    List::Util              0    1.41    
    Path::Class             0.04 0.35    
    Test::More              0.88 1.001009
    version                 0    0.9909  

configure_requires:

    Module                  Need Have    
    ----------------------- ---- --------
    ExtUtils::MakeMaker     6.30 7.02    
    File::ShareDir::Install 0.03 0.09    
    File::Temp              0    0.2304  
    IO::File                0    1.16    
    IPC::Open3              0    1.18    
    strict                  0    1.08    
    warnings                0    1.29    


------------------------------
ENVIRONMENT AND OTHER CONTEXT
------------------------------

Environment variables:

    LANG = en_US.UTF-8
    LC_ALL = en_US.UTF-8
    LC_CTYPE = en_US.UTF-8
    PATH = /Users/stas/perl5/perlbrew/bin:/Users/stas/perl5/perlbrew/perls/perl-5.21.6/bin:/Users/stas/.vim/bin:/Users/stas/bin:/Users/stas/node_modules/.bin:/opt/local/Library/Frameworks/Python.framework/Versions/2.7/bin:/opt/local/lib/postgresql92/bin:/opt/local/bin:/opt/local/sbin:/opt/local/libexec/ccache:/usr/local/bin:/usr/bin:/bin:/usr/sbin:/sbin:/opt/X11/bin:/Users/stas/.vim/bin:/Users/stas/bin:/Users/stas/node_modules/.bin:/opt/local/Library/Frameworks/Python.framework/Versions/2.7/bin:/opt/local/lib/postgresql92/bin:/opt/local/bin:/opt/local/sbin:/opt/local/libexec/ccache
    PERL5LIB = 
    PERL5OPT = 
    PERL5_CPANPLUS_IS_RUNNING = 52268
    PERL5_CPAN_IS_RUNNING = 52268
    PERLBREW_BASHRC_VERSION = 0.72
    PERLBREW_HOME = /Users/stas/.perlbrew
    PERLBREW_MANPATH = /Users/stas/perl5/perlbrew/perls/perl-5.21.6/man
    PERLBREW_PATH = /Users/stas/perl5/perlbrew/bin:/Users/stas/perl5/perlbrew/perls/perl-5.21.6/bin
    PERLBREW_PERL = perl-5.21.6
    PERLBREW_ROOT = /Users/stas/perl5/perlbrew
    PERLBREW_VERSION = 0.72
    PERL_MM_USE_DEFAULT = 1
    SHELL = /opt/local/bin/zsh
    TERM = screen
    TMPDIR = /var/folders/k7/cj2hxbn162362g2150r7t9480000gn/T/

Perl special variables (and OS-specific diagnostics, for MSWin32):

    $^X = /Users/stas/perl5/perlbrew/perls/perl-5.21.6/bin/perl5.21.6
    $UID/$EUID = 501 / 501
    $GID = 20 20 508 12 61 79 80 81 98 398 399 33 100 204
    $EGID = 20 20 508 12 61 79 80 81 98 398 399 33 100 204

Perl module toolchain versions installed:

    Module              Have    
    ------------------- --------
    CPAN                2.05    
    CPAN::Meta          2.143240
    Cwd                 3.47    
    ExtUtils::CBuilder  0.280220
    ExtUtils::Command   1.18    
    ExtUtils::Install   2.04    
    ExtUtils::MakeMaker 7.02    
    ExtUtils::Manifest  1.69    
    ExtUtils::ParseXS   3.24    
    File::Spec          3.47    
    JSON                2.90    
    JSON::PP            2.27300 
    Module::Build       0.4210  
    Module::Signature   0.73    
    Parse::CPAN::Meta   1.4414  
    Test::Harness       3.34    
    Test::More          1.001009
    YAML                1.13    
    YAML::Syck          1.27    
    version             0.9909  


--

Summary of my perl5 (revision 5 version 21 subversion 6) configuration:
   
  Platform:
    osname=darwin, osvers=14.0.0, archname=darwin-2level
    uname='darwin stas-macbook.local 14.0.0 darwin kernel version 14.0.0: fri sep 19 00:26:44 pdt 2014; root:xnu-2782.1.97~2release_x86_64 x86_64 '
    config_args='-de -Dprefix=/Users/stas/perl5/perlbrew/perls/perl-5.21.6 -Dusedevel -Aeval:scriptdir=/Users/stas/perl5/perlbrew/perls/perl-5.21.6/bin'
    hint=recommended, useposix=true, d_sigaction=define
    useithreads=undef, usemultiplicity=undef
    use64bitint=define, use64bitall=define, uselongdouble=undef
    usemymalloc=n, bincompat5005=undef
  Compiler:
    cc='cc', ccflags ='-fno-common -DPERL_DARWIN -fno-strict-aliasing -pipe -fstack-protector -I/opt/local/include',
    optimize='-O3',
    cppflags='-fno-common -DPERL_DARWIN -fno-strict-aliasing -pipe -fstack-protector -I/opt/local/include'
    ccversion='', gccversion='4.2.1 Compatible Apple LLVM 6.0 (clang-600.0.54)', gccosandvers=''
    intsize=4, longsize=8, ptrsize=8, doublesize=8, byteorder=12345678, doublekind=3
    d_longlong=define, longlongsize=8, d_longdbl=define, longdblsize=16, longdblkind=3
    ivtype='long', ivsize=8, nvtype='double', nvsize=8, Off_t='off_t', lseeksize=8
    alignbytes=8, prototype=define
  Linker and Libraries:
    ld='env MACOSX_DEPLOYMENT_TARGET=10.3 cc', ldflags =' -fstack-protector -L/usr/local/lib -L/opt/local/lib'
    libpth=/Applications/Xcode.app/Contents/Developer/Toolchains/XcodeDefault.xctoolchain/usr/bin/../lib/clang/6.0/lib /Applications/Xcode.app/Contents/Developer/Toolchains/XcodeDefault.xctoolchain/usr/lib /usr/lib /usr/local/lib /opt/local/lib
    libs=-lgdbm -ldbm -ldl -lm -lutil -lc
    perllibs=-ldl -lm -lutil -lc
    libc=, so=dylib, useshrplib=false, libperl=libperl.a
    gnulibc_version=''
  Dynamic Linking:
    dlsrc=dl_dlopen.xs, dlext=bundle, d_dlsymun=undef, ccdlflags=' '
    cccdlflags=' ', lddlflags=' -bundle -undefined dynamic_lookup -L/usr/local/lib -L/opt/local/lib -fstack-protector'


Characteristics of this binary (from libperl): 
  Compile-time options: HAS_TIMES PERLIO_LAYERS PERL_DONT_CREATE_GVSV
                        PERL_HASH_FUNC_ONE_AT_A_TIME_HARD PERL_MALLOC_WRAP
                        PERL_NEW_COPY_ON_WRITE PERL_PRESERVE_IVUV
                        PERL_USE_DEVEL USE_64_BIT_ALL USE_64_BIT_INT
                        USE_LARGE_FILES USE_LOCALE USE_LOCALE_COLLATE
                        USE_LOCALE_CTYPE USE_LOCALE_NUMERIC USE_LOCALE_TIME
                        USE_PERLIO USE_PERL_ATOF
  Built under darwin
  Compiled at Nov 22 2014 19:02:57
  %ENV:
    PERL5LIB=""
    PERL5OPT=""
    PERL5_CPANPLUS_IS_RUNNING="52268"
    PERL5_CPAN_IS_RUNNING="52268"
    PERLBREW_BASHRC_VERSION="0.72"
    PERLBREW_HOME="/Users/stas/.perlbrew"
    PERLBREW_MANPATH="/Users/stas/perl5/perlbrew/perls/perl-5.21.6/man"
    PERLBREW_PATH="/Users/stas/perl5/perlbrew/bin:/Users/stas/perl5/perlbrew/perls/perl-5.21.6/bin"
    PERLBREW_PERL="perl-5.21.6"
    PERLBREW_ROOT="/Users/stas/perl5/perlbrew"
    PERLBREW_VERSION="0.72"
    PERL_MM_USE_DEFAULT="1"
  @INC:
    /Users/stas/perl5/perlbrew/perls/perl-5.21.6/lib/site_perl/5.21.6/darwin-2level
    /Users/stas/perl5/perlbrew/perls/perl-5.21.6/lib/site_perl/5.21.6
    /Users/stas/perl5/perlbrew/perls/perl-5.21.6/lib/5.21.6/darwin-2level
    /Users/stas/perl5/perlbrew/perls/perl-5.21.6/lib/5.21.6
    .