Report for WWW-Mechanize-Firefox-Extended-0.03

Back
From: metabase:user:320bfe00-2aae-11df-837a-5e0a49663a4f
Subject: PASS WWW-Mechanize-Firefox-Extended-0.03 v5.22.3 GNU/Linux
Date: 2017-05-05T11:13:42Z

This distribution has been tested as part of the CPAN Testers
project, supporting the Perl programming language.  See
http://wiki.cpantesters.org/ for more information or email
questions to cpan-testers-discuss@perl.org


--
Dear Hoe-Kit Chew,

This is a computer-generated report for WWW-Mechanize-Firefox-Extended-0.03
on perl 5.22.3, created by CPAN-Reporter-1.2018.

Thank you for uploading your work to CPAN.  Congratulations!
All tests were successful.

Sections of this report:

    * Tester comments
    * Program output
    * Prerequisites
    * Environment and other context

------------------------------
TESTER COMMENTS
------------------------------

Additional comments from tester:

this report is from an automated smoke testing program
and was not reviewed by a human for accuracy

------------------------------
PROGRAM OUTPUT
------------------------------

Output from '/usr/bin/make test':

PERL_DL_NONLAZY=1 "/home/sand/src/perl/repoperls/installed-perls/host/k93msid/v5.22.3/276a/bin/perl" "-MExtUtils::Command::MM" "-MTest::Harness" "-e" "undef *Test::Harness::Switches; test_harness(0, 'blib/lib', 'blib/arch')" t/*.t
# Testing WWW::Mechanize::Firefox::Extended 0.03, Perl 5.022003
# AutoLoader 5.74
# Carp 1.38
# Config 5.022003
# DynaLoader 1.32
# Encode 2.72_01
# Encode::Alias 2.19
# Encode::Config 2.05
# Encode::Encoding 2.07
# Exporter 5.72
# Exporter::Heavy 5.72
# Fcntl 1.13
# File::Basename 2.85
# Firefox::Application 0.79
# HTML::Selector::XPath 0.23
# HTTP::Cookies 6.01
# HTTP::Cookies::MozRepl 0.79
# HTTP::Cookies::Netscape 6.01
# HTTP::Date 6.02
# HTTP::Headers 6.11
# HTTP::Headers::Util 6.11
# HTTP::Message 6.11
# HTTP::Request 6.11
# HTTP::Request::Common 6.11
# HTTP::Response 6.11
# HTTP::Status 6.11
# JSON 2.90
# JSON::XS 3.03
# List::Util 1.47
# Log::Agent 1.001
# Log::Agent::Formatting <unknown>
# Log::Agent::Message <unknown>
# Log::Agent::Priorities <unknown>
# MIME::Base64 3.15
# MozRepl::RemoteObject 0.39
# MozRepl::RemoteObject::Methods 0.39
# PerlIO 1.09
# Scalar::Util 1.47
# Storable 2.53_02
# Test::Builder 1.302085
# Test::Builder::Formatter 1.302085
# Test::Builder::Module 1.302085
# Test::Builder::TodoDiag 1.302085
# Test::More 1.302085
# Test2::API 1.302085
# Test2::API::Context 1.302085
# Test2::API::Instance 1.302085
# Test2::API::Stack 1.302085
# Test2::Event 1.302085
# Test2::Event::Bail 1.302085
# Test2::Event::Diag 1.302085
# Test2::Event::Exception 1.302085
# Test2::Event::Note 1.302085
# Test2::Event::Ok 1.302085
# Test2::Event::Plan 1.302085
# Test2::Event::Skip 1.302085
# Test2::Event::Subtest 1.302085
# Test2::Event::Waiting 1.302085
# Test2::Formatter 1.302085
# Test2::Formatter::TAP 1.302085
# Test2::Hub 1.302085
# Test2::Hub::Interceptor 1.302085
# Test2::Hub::Interceptor::Terminator 1.302085
# Test2::Hub::Subtest 1.302085
# Test2::Util 1.302085
# Test2::Util::ExternalMeta 1.302085
# Test2::Util::HashBase 0.002
# Test2::Util::Trace 1.302085
# Time::HiRes 1.9742
# Time::Local 1.2300
# Types::Serialiser 1.0
# URI 1.71
# URI::Escape 3.31
# WWW::Mechanize::Firefox 0.79
# WWW::Mechanize::Firefox::Extended 0.03
# WWW::Mechanize::Link 1.84
# XSLoader 0.20_01
# attributes 0.27
# base 2.22
# bytes 1.04
# common::sense 3.74
# constant 1.33
# lib 0.63
# mro 1.17
# overload 1.26
# overloading 0.02
# parent 0.236
# strict 1.09
# vars 1.03
# warnings 1.34
# warnings::register 1.04
t/00-load.t ............. ok
t/10-hasAll-hasAny.t .... skipped: Couldn't connect to MozRepl: Failed to connect to , problem connecting to "localhost", port 4242: Connection refused at /home/sand/src/perl/repoperls/installed-perls/host/k93msid/v5.22.3/276a/lib/site_perl/5.22.3/MozRepl/Client.pm line 144
t/20-waitAll-waitAny.t .. skipped: Couldn't connect to MozRepl: Failed to connect to , problem connecting to "localhost", port 4242: Connection refused at /home/sand/src/perl/repoperls/installed-perls/host/k93msid/v5.22.3/276a/lib/site_perl/5.22.3/MozRepl/Client.pm line 144
t/manifest.t ............ skipped: Author tests not required for installation
t/pod.t ................. ok
All tests successful.
Files=5, Tests=3,  3 wallclock secs ( 0.04 usr  0.03 sys +  0.74 cusr  0.14 csys =  0.95 CPU)
Result: PASS

------------------------------
PREREQUISITES
------------------------------

Prerequisite modules loaded:

requires:

    Module                  Need  Have    
    ----------------------- ----- --------
    perl                    5.006 5.022003
    Time::HiRes             0     1.9742  
    WWW::Mechanize::Firefox 0     0.79    

build_requires:

    Module                  Need  Have    
    ----------------------- ----- --------
    Test::More              0     1.302085

configure_requires:

    Module                  Need  Have    
    ----------------------- ----- --------
    ExtUtils::MakeMaker     0     7.24    


------------------------------
ENVIRONMENT AND OTHER CONTEXT
------------------------------

Environment variables:

    AUTOMATED_TESTING = 1
    LANG = en_US.UTF-8
    PATH = /home/sand/bin:/usr/local/bin:/usr/bin:/bin:/usr/games:/usr/local/perl/bin:/usr/X11/bin:/sbin:/usr/sbin
    PERL5LIB = 
    PERL5OPT = 
    PERL5_CPANPLUS_IS_RUNNING = 20498
    PERL5_CPAN_IS_RUNNING = 20498
    PERL_CANARY_STABILITY_NOPROMPT = 1
    PERL_MM_USE_DEFAULT = 1
    PERL_USE_UNSAFE_INC = 1
    SHELL = /usr/bin/zsh
    TERM = screen

Perl special variables (and OS-specific diagnostics, for MSWin32):

    $^X = /home/sand/src/perl/repoperls/installed-perls/host/k93msid/v5.22.3/276a/bin/perl
    $UID/$EUID = 1005 / 1005
    $GID = 1005 1005
    $EGID = 1005 1005

Perl module toolchain versions installed:

    Module              Have      
    ------------------- ----------
    CPAN                2.18      
    CPAN::Meta          2.150010  
    Cwd                 3.62      
    ExtUtils::CBuilder  0.280224  
    ExtUtils::Command   7.24      
    ExtUtils::Install   2.04      
    ExtUtils::MakeMaker 7.24      
    ExtUtils::Manifest  1.70      
    ExtUtils::ParseXS   3.28      
    File::Spec          3.62      
    JSON                2.90      
    JSON::PP            2.27300_01
    Module::Build       0.4222    
    Module::Signature   0.81      
    Parse::CPAN::Meta   2.150010  
    Test::Harness       3.39      
    Test::More          1.302085  
    YAML                1.23      
    YAML::Syck          1.29      
    version             0.9918    


--

Summary of my perl5 (revision 5 version 22 subversion 3) configuration:
  Derived from: 16b638b0a20de774856b3a21a75a5e373af5262c
  Platform:
    osname=linux, osvers=4.9.0-2-amd64, archname=x86_64-linux-thread-multi
    uname='linux k93msid 4.9.0-2-amd64 #1 smp debian 4.9.18-1 (2017-03-30) x86_64 gnulinux '
    config_args='-Dprefix=/home/sand/src/perl/repoperls/installed-perls/host/k93msid/v5.22.3/276a -Dmyhostname=k93msid -Dinstallusrbinperl=n -Uversiononly -Dusedevel -des -Ui_db -Dlibswanted=cl pthread socket inet nsl gdbm dbm malloc dl ld sun m crypt sec util c cposix posix ucb BSD gdbm_compat -Duseithreads -Uuselongdouble -DDEBUGGING=both'
    hint=recommended, useposix=true, d_sigaction=define
    useithreads=define, usemultiplicity=define
    use64bitint=define, use64bitall=define, uselongdouble=undef
    usemymalloc=n, bincompat5005=undef
  Compiler:
    cc='cc', ccflags ='-D_REENTRANT -D_GNU_SOURCE -fwrapv -DDEBUGGING -fno-strict-aliasing -pipe -fstack-protector-strong -I/usr/local/include -D_LARGEFILE_SOURCE -D_FILE_OFFSET_BITS=64',
    optimize='-O2 -g',
    cppflags='-D_REENTRANT -D_GNU_SOURCE -fwrapv -DDEBUGGING -fno-strict-aliasing -pipe -fstack-protector-strong -I/usr/local/include'
    ccversion='', gccversion='6.3.0 20170406', gccosandvers=''
    intsize=4, longsize=8, ptrsize=8, doublesize=8, byteorder=12345678, doublekind=3
    d_longlong=define, longlongsize=8, d_longdbl=define, longdblsize=16, longdblkind=3
    ivtype='long', ivsize=8, nvtype='double', nvsize=8, Off_t='off_t', lseeksize=8
    alignbytes=8, prototype=define
  Linker and Libraries:
    ld='cc', ldflags =' -fstack-protector-strong -L/usr/local/lib'
    libpth=/usr/local/lib /usr/lib/gcc/x86_64-linux-gnu/6/include-fixed /usr/include/x86_64-linux-gnu /usr/lib /lib/x86_64-linux-gnu /lib/../lib /usr/lib/x86_64-linux-gnu /usr/lib/../lib /lib
    libs=-lpthread -lnsl -ldl -lm -lcrypt -lutil -lc
    perllibs=-lpthread -lnsl -ldl -lm -lcrypt -lutil -lc
    libc=libc-2.24.so, so=so, useshrplib=false, libperl=libperl.a
    gnulibc_version='2.24'
  Dynamic Linking:
    dlsrc=dl_dlopen.xs, dlext=so, d_dlsymun=undef, ccdlflags='-Wl,-E'
    cccdlflags='-fPIC', lddlflags='-shared -O2 -g -L/usr/local/lib -fstack-protector-strong'


Characteristics of this binary (from libperl): 
  Compile-time options: DEBUGGING HAS_TIMES MULTIPLICITY PERLIO_LAYERS
                        PERL_DONT_CREATE_GVSV
                        PERL_HASH_FUNC_ONE_AT_A_TIME_HARD
                        PERL_IMPLICIT_CONTEXT PERL_MALLOC_WRAP
                        PERL_NEW_COPY_ON_WRITE PERL_PRESERVE_IVUV
                        PERL_TRACK_MEMPOOL PERL_USE_DEVEL USE_64_BIT_ALL
                        USE_64_BIT_INT USE_ITHREADS USE_LARGE_FILES
                        USE_LOCALE USE_LOCALE_COLLATE USE_LOCALE_CTYPE
                        USE_LOCALE_NUMERIC USE_LOCALE_TIME USE_PERLIO
                        USE_PERL_ATOF USE_REENTRANT_API
  Locally applied patches:
	uncommitted-changes
  Built under linux
  Compiled at Apr 14 2017 11:17:30
  %ENV:
    PERL5LIB=""
    PERL5OPT=""
    PERL5_CPANPLUS_IS_RUNNING="20498"
    PERL5_CPAN_IS_RUNNING="20498"
    PERL_CANARY_STABILITY_NOPROMPT="1"
    PERL_MM_USE_DEFAULT="1"
    PERL_USE_UNSAFE_INC="1"
  @INC:
    /home/sand/src/perl/repoperls/installed-perls/host/k93msid/v5.22.3/276a/lib/site_perl/5.22.3/x86_64-linux-thread-multi
    /home/sand/src/perl/repoperls/installed-perls/host/k93msid/v5.22.3/276a/lib/site_perl/5.22.3
    /home/sand/src/perl/repoperls/installed-perls/host/k93msid/v5.22.3/276a/lib/5.22.3/x86_64-linux-thread-multi
    /home/sand/src/perl/repoperls/installed-perls/host/k93msid/v5.22.3/276a/lib/5.22.3
    .