Class-Accessor-Grouped v0.10014 Perl 5 v5.14.3 armv7l-linux
- Status
- Pass
- From
- Nigel Horne
- Dist
-
Class-Accessor-Grouped v0.10014
- Platform
- Perl 5 v5.14.3 armv7l-linux
- Date
- 2020-04-18 13:09:55
- ID
- e5e04796-8175-11ea-baf9-8e7157f1bc38
This distribution has been tested as part of the CPAN Testers
project, supporting the Perl programming language. See
http://wiki.cpantesters.org/ for more information or email
questions to cpan-testers-discuss@perl.org
--
Dear Graham Knop,
This is a computer-generated report for Class-Accessor-Grouped-0.10014
on perl 5.14.3, created by CPAN-Reporter-1.2018.
Thank you for uploading your work to CPAN. Congratulations!
All tests were successful.
Sections of this report:
* Tester comments
* Program output
* Prerequisites
* Environment and other context
------------------------------
TESTER COMMENTS
------------------------------
Additional comments from tester:
this report is from an automated smoke testing program
and was not reviewed by a human for accuracy
------------------------------
PROGRAM OUTPUT
------------------------------
Output from '/usr/bin/make test':
PERL_DL_NONLAZY=1 "/mnt/nas/home/pi4/njh/perl5/perlbrew/perls/perl-5.14.3/bin/perl" "-MExtUtils::Command::MM" "-MTest::Harness" "-e" "undef *Test::Harness::Switches; test_harness(0, 'blib/lib', 'blib/arch')" t/*.t
t/accessors_pp.t ............. skipped: Devel::Hide required for this test in presence of Sub::Name
t/accessors_ro.t ............. ok
t/accessors_wo.t ............. ok
t/accessors.t ................ ok
t/accessors_xs_cachedwarn.t .. ok
t/basic.t .................... ok
t/clean_namespace.t .......... ok
t/component.t ................ ok
t/illegal_name.t ............. ok
t/inherited.t ................ ok
t/accessors_xs.t ............. ok
All tests successful.
Files=11, Tests=1604, 1 wallclock secs ( 0.45 usr 0.07 sys + 2.49 cusr 0.61 csys = 3.62 CPU)
Result: PASS
------------------------------
PREREQUISITES
------------------------------
Prerequisite modules loaded:
requires:
Module Need Have
------------------- ----- --------
Carp 0 1.50
Class::XSAccessor 1.19 1.19
Module::Runtime 0.012 0.016
perl 5.006 5.014003
Scalar::Util 0 1.54
Sub::Name 0.05 0.26
build_requires:
Module Need Have
------------------- ----- --------
Test::Exception 0.31 0.43
Test::More 0.88 1.302170
configure_requires:
Module Need Have
------------------- ----- --------
ExtUtils::MakeMaker 0 7.44
------------------------------
ENVIRONMENT AND OTHER CONTEXT
------------------------------
Environment variables:
AUTOMATED_TESTING = 1
HARNESS_OPTIONS = j4
LANG = en_US.UTF-8
PATH = /home/njh/perl5/perlbrew/bin:/home/njh/perl5/perlbrew/perls/perl-5.14.3/bin:/usr/bin:/bin:/home/njh/src/njh/smoker/bin
PERL5LIB = /var/tmp/build/Class-XSAccessor-1.19-11GDKF/blib/arch:/var/tmp/build/Class-XSAccessor-1.19-11GDKF/blib/lib:/var/tmp/build/Sub-Name-0.26-0trRsD/blib/arch:/var/tmp/build/Sub-Name-0.26-0trRsD/blib/lib:/var/tmp/build/Context-Preserve-0.03-SIFnFh/blib/arch:/var/tmp/build/Context-Preserve-0.03-SIFnFh/blib/lib:/var/tmp/build/MRO-Compat-0.13-CBpSmu/blib/arch:/var/tmp/build/MRO-Compat-0.13-CBpSmu/blib/lib:/var/tmp/build/Config-Any-0.32-aAqgc_/blib/arch:/var/tmp/build/Config-Any-0.32-aAqgc_/blib/lib:/var/tmp/build/Data-Dumper-Concise-2.023-4LhlMI/blib/arch:/var/tmp/build/Data-Dumper-Concise-2.023-4LhlMI/blib/lib:/var/tmp/build/Scope-Guard-0.21-9Agqm_/blib/arch:/var/tmp/build/Scope-Guard-0.21-9Agqm_/blib/lib:/var/tmp/build/Module-Build-0.4231-0bxi4q/blib/arch:/var/tmp/build/Module-Build-0.4231-0bxi4q/blib/lib
PERL5OPT =
PERL5_CPANPLUS_IS_RUNNING = 4603
PERL5_CPAN_IS_RUNNING = 4603
PERL5_CPAN_IS_RUNNING_IN_RECURSION = 4585,4603
PERLBREW_HOME = /home/njh/.perlbrew
PERLBREW_MANPATH = /home/njh/perl5/perlbrew/perls/perl-5.14.3/man
PERLBREW_PATH = /home/njh/perl5/perlbrew/bin:/home/njh/perl5/perlbrew/perls/perl-5.14.3/bin
PERLBREW_PERL = perl-5.14.3
PERLBREW_ROOT = /home/njh/perl5/perlbrew
PERLBREW_SHELLRC_VERSION = 0.87
PERLBREW_VERSION = 0.87
SHELL = /bin/sh
TEMP = /tmp/user/1000
TMPDIR = /tmp/user/1000/testwrapper.4589
Perl special variables (and OS-specific diagnostics, for MSWin32):
$^X = /mnt/nas/home/pi4/njh/perl5/perlbrew/perls/perl-5.14.3/bin/perl
$UID/$EUID = 1000 / 1000
$GID = 1000 4 20 24 25 27 29 30 44 46 60 100 105 109 995 997 998 999 1000
$EGID = 1000 4 20 24 25 27 29 30 44 46 60 100 105 109 995 997 998 999 1000
Perl module toolchain versions installed:
Module Have
------------------- ---------
CPAN 1.9600_01
CPAN::Meta 2.143240
Cwd 3.36
ExtUtils::CBuilder 0.280203
ExtUtils::Command 7.44
ExtUtils::Install 2.06
ExtUtils::MakeMaker 7.44
ExtUtils::Manifest 1.70
ExtUtils::ParseXS 2.2210
File::Spec 3.33
JSON 4.02
JSON::PP 2.27203
Module::Build 0.4231
Module::Signature n/a
Parse::CPAN::Meta 1.4414
Test::Harness 3.42
Test::More 1.302170
YAML 1.30
YAML::Syck 1.32
version 0.88
--
Summary of my perl5 (revision 5 version 14 subversion 3) configuration:
Platform:
osname=linux, osvers=4.19.75-v7l+, archname=armv7l-linux
uname='linux pi4 4.19.75-v7l+ #1270 smp tue sep 24 18:51:41 bst 2019 armv7l gnulinux '
config_args='-de -Dprefix=/home/njh/perl5/perlbrew/perls/perl-5.14.3 -Aeval:scriptdir=/home/njh/perl5/perlbrew/perls/perl-5.14.3/bin'
hint=recommended, useposix=true, d_sigaction=define
useithreads=undef, usemultiplicity=undef
useperlio=define, d_sfio=undef, uselargefiles=define, usesocks=undef
use64bitint=undef, use64bitall=undef, uselongdouble=undef
usemymalloc=n, bincompat5005=undef
Compiler:
cc='cc', ccflags ='-fwrapv -fno-strict-aliasing -pipe -fstack-protector -I/usr/local/include -D_LARGEFILE_SOURCE -D_FILE_OFFSET_BITS=64',
optimize='-O2',
cppflags='-fwrapv -fno-strict-aliasing -pipe -fstack-protector -I/usr/local/include'
ccversion='', gccversion='8.3.0', gccosandvers=''
intsize=4, longsize=4, ptrsize=4, doublesize=8, byteorder=1234
d_longlong=define, longlongsize=8, d_longdbl=define, longdblsize=8
ivtype='long', ivsize=4, nvtype='double', nvsize=8, Off_t='off_t', lseeksize=8
alignbytes=8, prototype=define
Linker and Libraries:
ld='cc', ldflags =' -fstack-protector -L/usr/local/lib'
libpth=/usr/local/lib /lib/arm-linux-gnueabihf /lib /usr/lib/arm-linux-gnueabihf /usr/lib
libs=-lnsl -lgdbm -ldb -ldl -lm -lcrypt -lutil -lc
perllibs=-lnsl -ldl -lm -lcrypt -lutil -lc
libc=libc-2.28.so, so=so, useshrplib=false, libperl=libperl.a
gnulibc_version='2.28'
Dynamic Linking:
dlsrc=dl_dlopen.xs, dlext=so, d_dlsymun=undef, ccdlflags='-Wl,-E'
cccdlflags='-fPIC', lddlflags='-shared -O2 -L/usr/local/lib -fstack-protector'
Characteristics of this binary (from libperl):
Compile-time options: PERL_DONT_CREATE_GVSV PERL_MALLOC_WRAP
PERL_PRESERVE_IVUV USE_LARGE_FILES USE_PERLIO
USE_PERL_ATOF
Locally applied patches:
Devel::PatchPerl 1.80
Built under linux
Compiled at Dec 28 2019 08:19:33
%ENV:
PERL5LIB="/var/tmp/build/Class-XSAccessor-1.19-11GDKF/blib/arch:/var/tmp/build/Class-XSAccessor-1.19-11GDKF/blib/lib:/var/tmp/build/Sub-Name-0.26-0trRsD/blib/arch:/var/tmp/build/Sub-Name-0.26-0trRsD/blib/lib:/var/tmp/build/Context-Preserve-0.03-SIFnFh/blib/arch:/var/tmp/build/Context-Preserve-0.03-SIFnFh/blib/lib:/var/tmp/build/MRO-Compat-0.13-CBpSmu/blib/arch:/var/tmp/build/MRO-Compat-0.13-CBpSmu/blib/lib:/var/tmp/build/Config-Any-0.32-aAqgc_/blib/arch:/var/tmp/build/Config-Any-0.32-aAqgc_/blib/lib:/var/tmp/build/Data-Dumper-Concise-2.023-4LhlMI/blib/arch:/var/tmp/build/Data-Dumper-Concise-2.023-4LhlMI/blib/lib:/var/tmp/build/Scope-Guard-0.21-9Agqm_/blib/arch:/var/tmp/build/Scope-Guard-0.21-9Agqm_/blib/lib:/var/tmp/build/Module-Build-0.4231-0bxi4q/blib/arch:/var/tmp/build/Module-Build-0.4231-0bxi4q/blib/lib"
PERL5OPT=""
PERL5_CPANPLUS_IS_RUNNING="4603"
PERL5_CPAN_IS_RUNNING="4603"
PERL5_CPAN_IS_RUNNING_IN_RECURSION="4585,4603"
PERLBREW_HOME="/home/njh/.perlbrew"
PERLBREW_MANPATH="/home/njh/perl5/perlbrew/perls/perl-5.14.3/man"
PERLBREW_PATH="/home/njh/perl5/perlbrew/bin:/home/njh/perl5/perlbrew/perls/perl-5.14.3/bin"
PERLBREW_PERL="perl-5.14.3"
PERLBREW_ROOT="/home/njh/perl5/perlbrew"
PERLBREW_SHELLRC_VERSION="0.87"
PERLBREW_VERSION="0.87"
@INC:
/var/tmp/build/Class-XSAccessor-1.19-11GDKF/blib/arch
/var/tmp/build/Class-XSAccessor-1.19-11GDKF/blib/lib
/var/tmp/build/Sub-Name-0.26-0trRsD/blib/arch
/var/tmp/build/Sub-Name-0.26-0trRsD/blib/lib
/var/tmp/build/Context-Preserve-0.03-SIFnFh/blib/arch
/var/tmp/build/Context-Preserve-0.03-SIFnFh/blib/lib
/var/tmp/build/MRO-Compat-0.13-CBpSmu/blib/arch
/var/tmp/build/MRO-Compat-0.13-CBpSmu/blib/lib
/var/tmp/build/Config-Any-0.32-aAqgc_/blib/arch
/var/tmp/build/Config-Any-0.32-aAqgc_/blib/lib
/var/tmp/build/Data-Dumper-Concise-2.023-4LhlMI/blib/arch
/var/tmp/build/Data-Dumper-Concise-2.023-4LhlMI/blib/lib
/var/tmp/build/Scope-Guard-0.21-9Agqm_/blib/arch
/var/tmp/build/Scope-Guard-0.21-9Agqm_/blib/lib
/var/tmp/build/Module-Build-0.4231-0bxi4q/blib/arch
/var/tmp/build/Module-Build-0.4231-0bxi4q/blib/lib
/home/njh/perl5/perlbrew/perls/perl-5.14.3/lib/site_perl/5.14.3/armv7l-linux
/home/njh/perl5/perlbrew/perls/perl-5.14.3/lib/site_perl/5.14.3
/home/njh/perl5/perlbrew/perls/perl-5.14.3/lib/5.14.3/armv7l-linux
/home/njh/perl5/perlbrew/perls/perl-5.14.3/lib/5.14.3
.