Report for Filter-Crypto-2.02

Back
From: metabase:user:314402c4-2aae-11df-837a-5e0a49663a4f
Subject: PASS Filter-Crypto-2.02 v5.16.0 RC0 FreeBSD
Date: 2013-02-14T09:50:00Z

This distribution has been tested as part of the CPAN Testers
project, supporting the Perl programming language.  See
http://wiki.cpantesters.org/ for more information or email
questions to cpan-testers-discuss@perl.org


--
Dear Steve Hay,

This is a computer-generated report for Filter-Crypto-2.02
on perl 5.16.0, created by CPAN-Reporter-1.2006.

Thank you for uploading your work to CPAN.  Congratulations!
All tests were successful.

Sections of this report:

    * Tester comments
    * Program output
    * Prerequisites
    * Environment and other context

------------------------------
TESTER COMMENTS
------------------------------

Additional comments from tester:

none provided

------------------------------
PROGRAM OUTPUT
------------------------------

Output from '/usr/bin/make test':

PERL_DL_NONLAZY=1 /home2/cpansand/var/ctps/5160RC0/install/perl-5.16.0-RC0/bin/perl5.16.0 "-MExtUtils::Command::MM" "-e" "test_harness(0, 'inc', 'blib/lib', 'blib/arch')" t/01_constants.t t/02_function.t t/03_script.t t/04_par.t t/05_errstr.t t/06_pod.t
t/01_constants.t .. ok
t/02_function.t ... ok
t/03_script.t ..... ok
t/04_par.t ........ skipped: PAR::Filter required to test PAR::Filter::Crypto
t/05_errstr.t ..... ok
t/06_pod.t ........ ok
All tests successful.
Files=6, Tests=409, 19 wallclock secs ( 0.13 usr  0.02 sys + 14.92 cusr  3.49 csys = 18.56 CPU)
Result: PASS

------------------------------
PREREQUISITES
------------------------------

Prerequisite modules loaded:

requires:

    Module                Need  Have     
    --------------------- ----- ---------
    Archive::Zip          0     1.30     
    blib                  0     1.06     
    Exporter              0     5.66     
    Fcntl                 0     1.11     
    File::Temp            0     0.22     
    perl                  5.006 5.016000 
    Scalar::Util          0     1.25     
    Test::More            0     0.98     
    Test::Pod             1.00  1.45     
    Text::ParseWords      0     3.27     
    XSLoader              0     0.16     

build_requires:

    Module                Need  Have     
    --------------------- ----- ---------
    blib                  0     1.06     
    Carp                  0     1.26     
    Config                0     0        
    constant              0     1.25     
    Cwd                   0     3.40     
    ExtUtils::MakeMaker   6.59  6.64     
    File::Basename        0     2.84     
    File::Copy            0     2.23     
    File::Find            0     1.20     
    File::Path            0     2.08_01  
    File::Spec            0     3.40     
    File::Spec::Functions 0     3.40     
    FindBin               0     1.51     
    Getopt::Long          0     2.38     
    parent                0     0.225    
    Pod::Usage            1.15  1.61     
    strict                0     1.07     
    Test::More            0     0.98     
    Text::Wrap            0     2009.0305
    vars                  0     1.02     
    warnings              0     1.13     

configure_requires:

    Module                Need  Have     
    --------------------- ----- ---------
    Carp                  0     1.26     
    Config                0     0        
    constant              0     1.25     
    Cwd                   0     3.40     
    ExtUtils::MakeMaker   6.59  6.64     
    File::Basename        0     2.84     
    File::Copy            0     2.23     
    File::Find            0     1.20     
    File::Path            0     2.08_01  
    File::Spec            0     3.40     
    File::Spec::Functions 0     3.40     
    FindBin               0     1.51     
    Getopt::Long          0     2.38     
    parent                0     0.225    
    Pod::Usage            1.15  1.61     
    strict                0     1.07     
    Text::Wrap            0     2009.0305
    vars                  0     1.02     
    warnings              0     1.13     


------------------------------
ENVIRONMENT AND OTHER CONTEXT
------------------------------

Environment variables:

    DBIC_NO_WARN_BAD_PERL = 1
    PATH = /usr/local/bin:/usr/X11R6/bin:/usr/X11/bin:/usr/perl5.8.0/bin:/usr/bin:/bin:/usr/local/sbin:/usr/sbin:/sbin:/usr/local/pilot/bin:/home/cpansand/bin/freebsd8.0:/home/cpansand/bin/sh:/home/cpansand/bin:/usr/X386/bin:/usr/games:/home/cpansand/devel:/usr/home/e/eserte/work/srezic-misc/scripts
    PERL5LIB = /usr/local/src/CPAN/build/JSON-Path-0.204-460Nd4/blib/arch:/usr/local/src/CPAN/build/JSON-Path-0.204-460Nd4/blib/lib:/usr/local/src/CPAN/build/lvalue-0.01-Zzab7d/blib/arch:/usr/local/src/CPAN/build/lvalue-0.01-Zzab7d/blib/lib
    PERL5OPT = 
    PERL5_CPANPLUS_IS_RUNNING = 32095
    PERL5_CPAN_IS_RUNNING = 32095
    PERL5_CPAN_IS_RUNNING_IN_RECURSION = 32074,32095
    PERL_BATCH = yes
    PERL_CPAN_REPORTER_CONFIG = /var/tmp/cpansmoker-1023/38Ma9dDM24_config.ini
    PERL_CPAN_REPORTER_DIR = /home/cpansand/var/ctps/5160RC0/config/perl-5.16.0-RC0/cpanreporter
    PERL_EXTUTILS_AUTOINSTALL = --defaultdeps
    PERL_HTML_DISPLAY_CLASS = HTML::Display::Mozilla
    SHELL = /usr/local/bin/zsh
    TERM = screen
    TMPDIR = /var/tmp/cpansmoker-1023

Perl special variables (and OS-specific diagnostics, for MSWin32):

    $^X = /home2/cpansand/var/ctps/5160RC0/install/perl-5.16.0-RC0/bin/perl5.16.0
    $UID/$EUID = 1023 / 1023
    $GID = 1023 1023
    $EGID = 1023 1023

Perl module toolchain versions installed:

    Module              Have    
    ------------------- --------
    CPAN                1.9800  
    CPAN::Meta          2.120921
    Cwd                 3.40    
    ExtUtils::CBuilder  0.280206
    ExtUtils::Command   1.17    
    ExtUtils::Install   1.58    
    ExtUtils::MakeMaker 6.64    
    ExtUtils::Manifest  1.61    
    ExtUtils::ParseXS   3.16    
    File::Spec          3.40    
    JSON                2.53    
    JSON::PP            2.27200 
    Module::Build       0.4003  
    Module::Signature   0.70    
    Parse::CPAN::Meta   1.4404  
    Test::Harness       3.23    
    Test::More          0.98    
    YAML                0.84    
    YAML::Syck          1.22    
    version             0.9901  


--

Summary of my perl5 (revision 5 version 16 subversion 0) configuration:
   
  Platform:
    osname=freebsd, osvers=8.0-release-p4, archname=i386-freebsd
    uname='freebsd biokovo.herceg.de 8.0-release-p4 freebsd 8.0-release-p4 #0: mon jul 12 20:22:27 utc 2010 root@i386-builder.daemonology.net:usrobjusrsrcsysgeneric i386 '
    config_args='-ds -e -Uversiononly -Dinstallusrbinperl=n -Dusedevel -Dprefix=/home/cpansand/var/ctps/5160RC0/install/perl-5.16.0-RC0'
    hint=recommended, useposix=true, d_sigaction=define
    useithreads=undef, usemultiplicity=undef
    useperlio=define, d_sfio=undef, uselargefiles=define, usesocks=undef
    use64bitint=undef, use64bitall=undef, uselongdouble=undef
    usemymalloc=n, bincompat5005=undef
  Compiler:
    cc='cc', ccflags ='-DHAS_FPSETMASK -DHAS_FLOATINGPOINT_H -fno-strict-aliasing -pipe -fstack-protector -I/usr/local/include',
    optimize='-O',
    cppflags='-DHAS_FPSETMASK -DHAS_FLOATINGPOINT_H -fno-strict-aliasing -pipe -fstack-protector -I/usr/local/include'
    ccversion='', gccversion='4.2.1 20070719  [FreeBSD]', gccosandvers=''
    intsize=4, longsize=4, ptrsize=4, doublesize=8, byteorder=1234
    d_longlong=define, longlongsize=8, d_longdbl=define, longdblsize=12
    ivtype='long', ivsize=4, nvtype='double', nvsize=8, Off_t='off_t', lseeksize=8
    alignbytes=4, prototype=define
  Linker and Libraries:
    ld='cc', ldflags ='-Wl,-E  -fstack-protector -L/usr/local/lib'
    libpth=/usr/lib /usr/local/lib
    libs=-lgdbm -lm -lcrypt -lutil -lc
    perllibs=-lm -lcrypt -lutil -lc
    libc=, so=so, useshrplib=false, libperl=libperl.a
    gnulibc_version=''
  Dynamic Linking:
    dlsrc=dl_dlopen.xs, dlext=so, d_dlsymun=undef, ccdlflags=' '
    cccdlflags='-DPIC -fPIC', lddlflags='-shared  -L/usr/local/lib -fstack-protector'


Characteristics of this binary (from libperl): 
  Compile-time options: HAS_TIMES PERLIO_LAYERS PERL_DONT_CREATE_GVSV
                        PERL_MALLOC_WRAP PERL_PRESERVE_IVUV PERL_USE_DEVEL
                        USE_LARGE_FILES USE_LOCALE USE_LOCALE_COLLATE
                        USE_LOCALE_CTYPE USE_LOCALE_NUMERIC USE_PERLIO
                        USE_PERL_ATOF
  Locally applied patches:
	RC0
  Built under freebsd
  Compiled at May 11 2012 21:05:05
  %ENV:
    PERL5LIB="/usr/local/src/CPAN/build/JSON-Path-0.204-460Nd4/blib/arch:/usr/local/src/CPAN/build/JSON-Path-0.204-460Nd4/blib/lib:/usr/local/src/CPAN/build/lvalue-0.01-Zzab7d/blib/arch:/usr/local/src/CPAN/build/lvalue-0.01-Zzab7d/blib/lib"
    PERL5OPT=""
    PERL5_CPANPLUS_IS_RUNNING="32095"
    PERL5_CPAN_IS_RUNNING="32095"
    PERL5_CPAN_IS_RUNNING_IN_RECURSION="32074,32095"
    PERL_BATCH="yes"
    PERL_CPAN_REPORTER_CONFIG="/var/tmp/cpansmoker-1023/38Ma9dDM24_config.ini"
    PERL_CPAN_REPORTER_DIR="/home/cpansand/var/ctps/5160RC0/config/perl-5.16.0-RC0/cpanreporter"
    PERL_EXTUTILS_AUTOINSTALL="--defaultdeps"
    PERL_HTML_DISPLAY_CLASS="HTML::Display::Mozilla"
  @INC:
    /usr/local/src/CPAN/build/JSON-Path-0.204-460Nd4/blib/arch
    /usr/local/src/CPAN/build/JSON-Path-0.204-460Nd4/blib/lib
    /usr/local/src/CPAN/build/lvalue-0.01-Zzab7d/blib/arch
    /usr/local/src/CPAN/build/lvalue-0.01-Zzab7d/blib/lib
    /home/cpansand/var/ctps/5160RC0/install/perl-5.16.0-RC0/lib/site_perl/5.16.0/i386-freebsd
    /home/cpansand/var/ctps/5160RC0/install/perl-5.16.0-RC0/lib/site_perl/5.16.0
    /home/cpansand/var/ctps/5160RC0/install/perl-5.16.0-RC0/lib/5.16.0/i386-freebsd
    /home/cpansand/var/ctps/5160RC0/install/perl-5.16.0-RC0/lib/5.16.0
    .