SPVM-Digest-MD5 v0.10 Perl 5 v5.32.0 amd64-freebsd

Status
Pass
From
David Cantrell (DCANTRELL)
Dist
SPVM-Digest-MD5 v0.10
Platform
Perl 5 v5.32.0 amd64-freebsd
Date
2023-02-09 05:59:21
ID
e5eaef6e-a83e-11ed-aa45-eb8cf974a5b0
This distribution has been tested as part of the CPAN Testers
project, supporting the Perl programming language.  See
http://wiki.cpantesters.org/ for more information or email
questions to cpan-testers-discuss@perl.org


--
Dear Yuki Kimoto,

This is a computer-generated report for SPVM-Digest-MD5-0.10
on perl 5.32.0, created by CPAN-Reporter-1.2018.

Thank you for uploading your work to CPAN.  Congratulations!
All tests were successful.

Sections of this report:

    * Tester comments
    * Program output
    * Prerequisites
    * Environment and other context

------------------------------
TESTER COMMENTS
------------------------------

Additional comments from tester:

this report is from an automated smoke testing program
and was not reviewed by a human for accuracy

------------------------------
PROGRAM OUTPUT
------------------------------

Output from '/usr/bin/make test':

perl -e 'use Config;chdir "perl_impl" or die; system("/usr/home/david/cpantesting/perl-5.32.0/bin/perl Makefile.PL && make") == 0 or die';
Generating a Unix-style Makefile
Writing Makefile for Digest::MD5
Writing MYMETA.yml and MYMETA.json
Skip blib/lib/Digest/MD5.pm (unchanged)
Running Mkbootstrap for MD5 ()
chmod 644 "MD5.bs"
"/usr/home/david/cpantesting/perl-5.32.0/bin/perl" -MExtUtils::Command::MM -e 'cp_nonempty' -- MD5.bs blib/arch/auto/Digest/MD5/MD5.bs 644
cc -c    -DHAS_FPSETMASK -DHAS_FLOATINGPOINT_H -fno-strict-aliasing -pipe -fstack-protector-strong -I/usr/local/include -O2    -DVERSION=\"2.58\"  -DXS_VERSION=\"2.58\" -DPIC -fPIC "-I/home/david/cpantesting/perl-5.32.0/lib/5.32.0/amd64-freebsd/CORE"   MD5.c
In file included from MD5.xs:40:
In file included from /home/david/cpantesting/perl-5.32.0/lib/5.32.0/amd64-freebsd/CORE/perl.h:3918:
In file included from /home/david/cpantesting/perl-5.32.0/lib/5.32.0/amd64-freebsd/CORE/hv.h:663:
In file included from /home/david/cpantesting/perl-5.32.0/lib/5.32.0/amd64-freebsd/CORE/hv_func.h:35:
In file included from /home/david/cpantesting/perl-5.32.0/lib/5.32.0/amd64-freebsd/CORE/sbox32_hash.h:4:
/home/david/cpantesting/perl-5.32.0/lib/5.32.0/amd64-freebsd/CORE/zaphod32_hash.h:150:5: warning: '(' and '{' tokens introducing statement expression appear in different macro expansion contexts [-Wcompound-token-split-by-macro]
    ZAPHOD32_SCRAMBLE32(state[0],0x9fade23b);
    ^~~~~~~~~~~~~~~~~~~~~~~~~~~~~~~~~~~~~~~~
/home/david/cpantesting/perl-5.32.0/lib/5.32.0/amd64-freebsd/CORE/zaphod32_hash.h:80:38: note: expanded from macro 'ZAPHOD32_SCRAMBLE32'
#define ZAPHOD32_SCRAMBLE32(v,prime) STMT_START {  \
                                     ^~~~~~~~~~
/home/david/cpantesting/perl-5.32.0/lib/5.32.0/amd64-freebsd/CORE/perl.h:666:29: note: expanded from macro 'STMT_START'
#   define STMT_START   (void)( /* gcc supports "({ STATEMENTS; })" */
                              ^
/home/david/cpantesting/perl-5.32.0/lib/5.32.0/amd64-freebsd/CORE/zaphod32_hash.h:150:5: note: '{' token is here
    ZAPHOD32_SCRAMBLE32(state[0],0x9fade23b);
    ^~~~~~~~~~~~~~~~~~~~~~~~~~~~~~~~~~~~~~~~
/home/david/cpantesting/perl-5.32.0/lib/5.32.0/amd64-freebsd/CORE/zaphod32_hash.h:80:49: note: expanded from macro 'ZAPHOD32_SCRAMBLE32'
#define ZAPHOD32_SCRAMBLE32(v,prime) STMT_START {  \
                                                ^
/home/david/cpantesting/perl-5.32.0/lib/5.32.0/amd64-freebsd/CORE/zaphod32_hash.h:150:5: warning: '}' and ')' tokens terminating statement expression appear in different macro expansion contexts [-Wcompound-token-split-by-macro]
    ZAPHOD32_SCRAMBLE32(state[0],0x9fade23b);
    ^~~~~~~~~~~~~~~~~~~~~~~~~~~~~~~~~~~~~~~~
/home/david/cpantesting/perl-5.32.0/lib/5.32.0/amd64-freebsd/CORE/zaphod32_hash.h:87:41: note: expanded from macro 'ZAPHOD32_SCRAMBLE32'
    v ^= (v>>23);                       \
                                        ^
/home/david/cpantesting/perl-5.32.0/lib/5.32.0/amd64-freebsd/CORE/zaphod32_hash.h:150:5: note: ')' token is here
    ZAPHOD32_SCRAMBLE32(state[0],0x9fade23b);
    ^~~~~~~~~~~~~~~~~~~~~~~~~~~~~~~~~~~~~~~~
/home/david/cpantesting/perl-5.32.0/lib/5.32.0/amd64-freebsd/CORE/zaphod32_hash.h:88:3: note: expanded from macro 'ZAPHOD32_SCRAMBLE32'
} STMT_END
  ^~~~~~~~
/home/david/cpantesting/perl-5.32.0/lib/5.32.0/amd64-freebsd/CORE/perl.h:667:21: note: expanded from macro 'STMT_END'
#   define STMT_END     )
                        ^
In file included from MD5.xs:40:
In file included from /home/david/cpantesting/perl-5.32.0/lib/5.32.0/amd64-freebsd/CORE/perl.h:3918:
In file included from /home/david/cpantesting/perl-5.32.0/lib/5.32.0/amd64-freebsd/CORE/hv.h:663:
In file included from /home/david/cpantesting/perl-5.32.0/lib/5.32.0/amd64-freebsd/CORE/hv_func.h:35:
In file included from /home/david/cpantesting/perl-5.32.0/lib/5.32.0/amd64-freebsd/CORE/sbox32_hash.h:4:
/home/david/cpantesting/perl-5.32.0/lib/5.32.0/amd64-freebsd/CORE/zaphod32_hash.h:151:5: warning: '(' and '{' tokens introducing statement expression appear in different macro expansion contexts [-Wcompound-token-split-by-macro]
    ZAPHOD32_SCRAMBLE32(state[1],0xaa6f908d);
    ^~~~~~~~~~~~~~~~~~~~~~~~~~~~~~~~~~~~~~~~
/home/david/cpantesting/perl-5.32.0/lib/5.32.0/amd64-freebsd/CORE/zaphod32_hash.h:80:38: note: expanded from macro 'ZAPHOD32_SCRAMBLE32'
#define ZAPHOD32_SCRAMBLE32(v,prime) STMT_START {  \
                                     ^~~~~~~~~~
/home/david/cpantesting/perl-5.32.0/lib/5.32.0/amd64-freebsd/CORE/perl.h:666:29: note: expanded from macro 'STMT_START'
#   define STMT_START   (void)( /* gcc supports "({ STATEMENTS; })" */
                              ^
/home/david/cpantesting/perl-5.32.0/lib/5.32.0/amd64-freebsd/CORE/zaphod32_hash.h:151:5: note: '{' token is here
    ZAPHOD32_SCRAMBLE32(state[1],0xaa6f908d);
    ^~~~~~~~~~~~~~~~~~~~~~~~~~~~~~~~~~~~~~~~
/home/david/cpantesting/perl-5.32.0/lib/5.32.0/amd64-freebsd/CORE/zaphod32_hash.h:80:49: note: expanded from macro 'ZAPHOD32_SCRAMBLE32'
#define ZAPHOD32_SCRAMBLE32(v,prime) STMT_START {  \
                                                ^
/home/david/cpantesting/perl-5.32.0/lib/5.32.0/amd64-freebsd/CORE/zaphod32_hash.h:151:5: warning: '}' and ')' tokens terminating statement expression appear in different macro expansion contexts [-Wcompound-token-split-by-macro]
    ZAPHOD32_SCRAMBLE32(state[1],0xaa6f908d);
    ^~~~~~~~~~~~~~~~~~~~~~~~~~~~~~~~~~~~~~~~
/home/david/cpantesting/perl-5.32.0/lib/5.32.0/amd64-freebsd/CORE/zaphod32_hash.h:87:41: note: expanded from macro 'ZAPHOD32_SCRAMBLE32'
    v ^= (v>>23);                       \
                                        ^
/home/david/cpantesting/perl-5.32.0/lib/5.32.0/amd64-freebsd/CORE/zaphod32_hash.h:151:5: note: ')' token is here
    ZAPHOD32_SCRAMBLE32(state[1],0xaa6f908d);
    ^~~~~~~~~~~~~~~~~~~~~~~~~~~~~~~~~~~~~~~~
/home/david/cpantesting/perl-5.32.0/lib/5.32.0/amd64-freebsd/CORE/zaphod32_hash.h:88:3: note: expanded from macro 'ZAPHOD32_SCRAMBLE32'
} STMT_END
  ^~~~~~~~
/home/david/cpantesting/perl-5.32.0/lib/5.32.0/amd64-freebsd/CORE/perl.h:667:21: note: expanded from macro 'STMT_END'
#   define STMT_END     )
                        ^
In file included from MD5.xs:40:
In file included from /home/david/cpantesting/perl-5.32.0/lib/5.32.0/amd64-freebsd/CORE/perl.h:3918:
In file included from /home/david/cpantesting/perl-5.32.0/lib/5.32.0/amd64-freebsd/CORE/hv.h:663:
In file included from /home/david/cpantesting/perl-5.32.0/lib/5.32.0/amd64-freebsd/CORE/hv_func.h:35:
In file included from /home/david/cpantesting/perl-5.32.0/lib/5.32.0/amd64-freebsd/CORE/sbox32_hash.h:4:
/home/david/cpantesting/perl-5.32.0/lib/5.32.0/amd64-freebsd/CORE/zaphod32_hash.h:152:5: warning: '(' and '{' tokens introducing statement expression appear in different macro expansion contexts [-Wcompound-token-split-by-macro]
    ZAPHOD32_SCRAMBLE32(state[2],0xcdf6b72d);
    ^~~~~~~~~~~~~~~~~~~~~~~~~~~~~~~~~~~~~~~~
/home/david/cpantesting/perl-5.32.0/lib/5.32.0/amd64-freebsd/CORE/zaphod32_hash.h:80:38: note: expanded from macro 'ZAPHOD32_SCRAMBLE32'
#define ZAPHOD32_SCRAMBLE32(v,prime) STMT_START {  \
                                     ^~~~~~~~~~
/home/david/cpantesting/perl-5.32.0/lib/5.32.0/amd64-freebsd/CORE/perl.h:666:29: note: expanded from macro 'STMT_START'
#   define STMT_START   (void)( /* gcc supports "({ STATEMENTS; })" */
                              ^
/home/david/cpantesting/perl-5.32.0/lib/5.32.0/amd64-freebsd/CORE/zaphod32_hash.h:152:5: note: '{' token is here
    ZAPHOD32_SCRAMBLE32(state[2],0xcdf6b72d);
    ^~~~~~~~~~~~~~~~~~~~~~~~~~~~~~~~~~~~~~~~
/home/david/cpantesting/perl-5.32.0/lib/5.32.0/amd64-freebsd/CORE/zaphod32_hash.h:80:49: note: expanded from macro 'ZAPHOD32_SCRAMBLE32'
#define ZAPHOD32_SCRAMBLE32(v,prime) STMT_START {  \
                                                ^
/home/david/cpantesting/perl-5.32.0/lib/5.32.0/amd64-freebsd/CORE/zaphod32_hash.h:152:5: warning: '}' and ')' tokens terminating statement expression appear in different macro expansion contexts [-Wcompound-token-split-by-macro]
    ZAPHOD32_SCRAMBLE32(state[2],0xcdf6b72d);
    ^~~~~~~~~~~~~~~~~~~~~~~~~~~~~~~~~~~~~~~~
/home/david/cpantesting/perl-5.32.0/lib/5.32.0/amd64-freebsd/CORE/zaphod32_hash.h:87:41: note: expanded from macro 'ZAPHOD32_SCRAMBLE32'
    v ^= (v>>23);                       \
                                        ^
/home/david/cpantesting/perl-5.32.0/lib/5.32.0/amd64-freebsd/CORE/zaphod32_hash.h:152:5: note: ')' token is here
    ZAPHOD32_SCRAMBLE32(state[2],0xcdf6b72d);
    ^~~~~~~~~~~~~~~~~~~~~~~~~~~~~~~~~~~~~~~~
/home/david/cpantesting/perl-5.32.0/lib/5.32.0/amd64-freebsd/CORE/zaphod32_hash.h:88:3: note: expanded from macro 'ZAPHOD32_SCRAMBLE32'
} STMT_END
  ^~~~~~~~
/home/david/cpantesting/perl-5.32.0/lib/5.32.0/amd64-freebsd/CORE/perl.h:667:21: note: expanded from macro 'STMT_END'
#   define STMT_END     )
                        ^
In file included from MD5.xs:40:
In file included from /home/david/cpantesting/perl-5.32.0/lib/5.32.0/amd64-freebsd/CORE/perl.h:3918:
In file included from /home/david/cpantesting/perl-5.32.0/lib/5.32.0/amd64-freebsd/CORE/hv.h:663:
In file included from /home/david/cpantesting/perl-5.32.0/lib/5.32.0/amd64-freebsd/CORE/hv_func.h:35:
In file included from /home/david/cpantesting/perl-5.32.0/lib/5.32.0/amd64-freebsd/CORE/sbox32_hash.h:4:
/home/david/cpantesting/perl-5.32.0/lib/5.32.0/amd64-freebsd/CORE/zaphod32_hash.h:156:5: warning: '(' and '{' tokens introducing statement expression appear in different macro expansion contexts [-Wcompound-token-split-by-macro]
    ZAPHOD32_MIX(state[0],state[1],state[2],"ZAPHOD32 SEED-STATE A 1/4");
    ^~~~~~~~~~~~~~~~~~~~~~~~~~~~~~~~~~~~~~~~~~~~~~~~~~~~~~~~~~~~~~~~~~~~
/home/david/cpantesting/perl-5.32.0/lib/5.32.0/amd64-freebsd/CORE/zaphod32_hash.h:116:37: note: expanded from macro 'ZAPHOD32_MIX'
#define ZAPHOD32_MIX(v0,v1,v2,text) STMT_START {                              \
                                    ^~~~~~~~~~
/home/david/cpantesting/perl-5.32.0/lib/5.32.0/amd64-freebsd/CORE/perl.h:666:29: note: expanded from macro 'STMT_START'
#   define STMT_START   (void)( /* gcc supports "({ STATEMENTS; })" */
                              ^
/home/david/cpantesting/perl-5.32.0/lib/5.32.0/amd64-freebsd/CORE/zaphod32_hash.h:156:5: note: '{' token is here
    ZAPHOD32_MIX(state[0],state[1],state[2],"ZAPHOD32 SEED-STATE A 1/4");
    ^~~~~~~~~~~~~~~~~~~~~~~~~~~~~~~~~~~~~~~~~~~~~~~~~~~~~~~~~~~~~~~~~~~~
/home/david/cpantesting/perl-5.32.0/lib/5.32.0/amd64-freebsd/CORE/zaphod32_hash.h:116:48: note: expanded from macro 'ZAPHOD32_MIX'
#define ZAPHOD32_MIX(v0,v1,v2,text) STMT_START {                              \
                                               ^
/home/david/cpantesting/perl-5.32.0/lib/5.32.0/amd64-freebsd/CORE/zaphod32_hash.h:156:5: warning: '}' and ')' tokens terminating statement expression appear in different macro expansion contexts [-Wcompound-token-split-by-macro]
    ZAPHOD32_MIX(state[0],state[1],state[2],"ZAPHOD32 SEED-STATE A 1/4");
    ^~~~~~~~~~~~~~~~~~~~~~~~~~~~~~~~~~~~~~~~~~~~~~~~~~~~~~~~~~~~~~~~~~~~
/home/david/cpantesting/perl-5.32.0/lib/5.32.0/amd64-freebsd/CORE/zaphod32_hash.h:124:32: note: expanded from macro 'ZAPHOD32_MIX'
    v2 = ROTR32(v2, 7) ^ v0;   \
                               ^
/home/david/cpantesting/perl-5.32.0/lib/5.32.0/amd64-freebsd/CORE/zaphod32_hash.h:156:5: note: ')' token is here
    ZAPHOD32_MIX(state[0],state[1],state[2],"ZAPHOD32 SEED-STATE A 1/4");
    ^~~~~~~~~~~~~~~~~~~~~~~~~~~~~~~~~~~~~~~~~~~~~~~~~~~~~~~~~~~~~~~~~~~~
/home/david/cpantesting/perl-5.32.0/lib/5.32.0/amd64-freebsd/CORE/zaphod32_hash.h:125:3: note: expanded from macro 'ZAPHOD32_MIX'
} STMT_END
  ^~~~~~~~
/home/david/cpantesting/perl-5.32.0/lib/5.32.0/amd64-freebsd/CORE/perl.h:667:21: note: expanded from macro 'STMT_END'
#   define STMT_END     )
                        ^
In file included from MD5.xs:40:
In file included from /home/david/cpantesting/perl-5.32.0/lib/5.32.0/amd64-freebsd/CORE/perl.h:3918:
In file included from /home/david/cpantesting/perl-5.32.0/lib/5.32.0/amd64-freebsd/CORE/hv.h:663:
In file included from /home/david/cpantesting/perl-5.32.0/lib/5.32.0/amd64-freebsd/CORE/hv_func.h:35:
In file included from /home/david/cpantesting/perl-5.32.0/lib/5.32.0/amd64-freebsd/CORE/sbox32_hash.h:4:
/home/david/cpantesting/perl-5.32.0/lib/5.32.0/amd64-freebsd/CORE/zaphod32_hash.h:157:5: warning: '(' and '{' tokens introducing statement expression appear in different macro expansion contexts [-Wcompound-token-split-by-macro]
    ZAPHOD32_MIX(state[0],state[1],state[2],"ZAPHOD32 SEED-STATE A 2/4");
    ^~~~~~~~~~~~~~~~~~~~~~~~~~~~~~~~~~~~~~~~~~~~~~~~~~~~~~~~~~~~~~~~~~~~
/home/david/cpantesting/perl-5.32.0/lib/5.32.0/amd64-freebsd/CORE/zaphod32_hash.h:116:37: note: expanded from macro 'ZAPHOD32_MIX'
#define ZAPHOD32_MIX(v0,v1,v2,text) STMT_START {                              \
                                    ^~~~~~~~~~
/home/david/cpantesting/perl-5.32.0/lib/5.32.0/amd64-freebsd/CORE/perl.h:666:29: note: expanded from macro 'STMT_START'
#   define STMT_START   (void)( /* gcc supports "({ STATEMENTS; })" */
                              ^
/home/david/cpantesting/perl-5.32.0/lib/5.32.0/amd64-freebsd/CORE/zaphod32_hash.h:157:5: note: '{' token is here
    ZAPHOD32_MIX(state[0],state[1],state[2],"ZAPHOD32 SEED-STATE A 2/4");
    ^~~~~~~~~~~~~~~~~~~~~~~~~~~~~~~~~~~~~~~~~~~~~~~~~~~~~~~~~~~~~~~~~~~~
/home/david/cpantesting/perl-5.32.0/lib/5.32.0/amd64-freebsd/CORE/zaphod32_hash.h:116:48: note: expanded from macro 'ZAPHOD32_MIX'
#define ZAPHOD32_MIX(v0,v1,v2,text) STMT_START {                              \
                                               ^
/home/david/cpantesting/perl-5.32.0/lib/5.32.0/amd64-freebsd/CORE/zaphod32_hash.h:157:5: warning: '}' and ')' tokens terminating statement expression appear in different macro expansion contexts [-Wcompound-token-split-by-macro]
    ZAPHOD32_MIX(state[0],state[1],state[2],"ZAPHOD32 SEED-STATE A 2/4");
    ^~~~~~~~~~~~~~~~~~~~~~~~~~~~~~~~~~~~~~~~~~~~~~~~~~~~~~~~~~~~~~~~~~~~
/home/david/cpantesting/perl-5.32.0/lib/5.32.0/amd64-freebsd/CORE/zaphod32_hash.h:124:32: note: expanded from macro 'ZAPHOD32_MIX'
    v2 = ROTR32(v2, 7) ^ v0;   \
                               ^
/home/david/cpantesting/perl-5.32.0/lib/5.32.0/amd64-freebsd/CORE/zaphod32_hash.h:157:5: note: ')' token is here
    ZAPHOD32_MIX(state[0],state[1],state[2],"ZAPHOD32 SEED-STATE A 2/4");
    ^~~~~~~~~~~~~~~~~~~~~~~~~~~~~~~~~~~~~~~~~~~~~~~~~~~~~~~~~~~~~~~~~~~~
/home/david/cpantesting/perl-5.32.0/lib/5.32.0/amd64-freebsd/CORE/zaphod32_hash.h:125:3: note: expanded from macro 'ZAPHOD32_MIX'
} STMT_END
  ^~~~~~~~
/home/david/cpantesting/perl-5.32.0/lib/5.32.0/amd64-freebsd/CORE/perl.h:667:21: note: expanded from macro 'STMT_END'
#   define STMT_END     )
                        ^
In file included from MD5.xs:40:
In file included from /home/david/cpantesting/perl-5.32.0/lib/5.32.0/amd64-freebsd/CORE/perl.h:3918:
In file included from /home/david/cpantesting/perl-5.32.0/lib/5.32.0/amd64-freebsd/CORE/hv.h:663:
In file included from /home/david/cpantesting/perl-5.32.0/lib/5.32.0/amd64-freebsd/CORE/hv_func.h:35:
In file included from /home/david/cpantesting/perl-5.32.0/lib/5.32.0/amd64-freebsd/CORE/sbox32_hash.h:4:
/home/david/cpantesting/perl-5.32.0/lib/5.32.0/amd64-freebsd/CORE/zaphod32_hash.h:158:5: warning: '(' and '{' tokens introducing statement expression appear in different macro expansion contexts [-Wcompound-token-split-by-macro]
    ZAPHOD32_MIX(state[0],state[1],state[2],"ZAPHOD32 SEED-STATE A 3/4");
    ^~~~~~~~~~~~~~~~~~~~~~~~~~~~~~~~~~~~~~~~~~~~~~~~~~~~~~~~~~~~~~~~~~~~
/home/david/cpantesting/perl-5.32.0/lib/5.32.0/amd64-freebsd/CORE/zaphod32_hash.h:116:37: note: expanded from macro 'ZAPHOD32_MIX'
#define ZAPHOD32_MIX(v0,v1,v2,text) STMT_START {                              \
                                    ^~~~~~~~~~
/home/david/cpantesting/perl-5.32.0/lib/5.32.0/amd64-freebsd/CORE/perl.h:666:29: note: expanded from macro 'STMT_START'
#   define STMT_START   (void)( /* gcc supports "({ STATEMENTS; })" */
                              ^
/home/david/cpantesting/perl-5.32.0/lib/5.32.0/amd64-freebsd/CORE/zaphod32_hash.h:158:5: note: '{' token is here
    ZAPHOD32_MIX(state[0],state[1],state[2],"ZAPHOD32 SEED-STATE A 3/4");
    ^~~~~~~~~~~~~~~~~~~~~~~~~~~~~~~~~~~~~~~~~~~~~~~~~~~~~~~~~~~~~~~~~~~~
/home/david/cpantesting/perl-5.32.0/lib/5.32.0/amd64-freebsd/CORE/zaphod32_hash.h:116:48: note: expanded from macro 'ZAPHOD32_MIX'
#define ZAPHOD32_MIX(v0,v1,v2,text) STMT_START {                              \
                                               ^
/home/david/cpantesting/perl-5.32.0/lib/5.32.0/amd64-freebsd/CORE/zaphod32_hash.h:158:5: warning: '}' and ')' tokens terminating statement expression appear in different macro expansion contexts [-Wcompound-token-split-by-macro]
    ZAPHOD32_MIX(state[0],state[1],state[2],"ZAPHOD32 SEED-STATE A 3/4");
    ^~~~~~~~~~~~~~~~~~~~~~~~~~~~~~~~~~~~~~~~~~~~~~~~~~~~~~~~~~~~~~~~~~~~
/home/david/cpantesting/perl-5.32.0/lib/5.32.0/amd64-freebsd/CORE/zaphod32_hash.h:124:32: note: expanded from macro 'ZAPHOD32_MIX'
    v2 = ROTR32(v2, 7) ^ v0;   \
                               ^
/home/david/cpantesting/perl-5.32.0/lib/5.32.0/amd64-freebsd/CORE/zaphod32_hash.h:158:5: note: ')' token is here
    ZAPHOD32_MIX(state[0],state[1],state[2],"ZAPHOD32 SEED-STATE A 3/4");
    ^~~~~~~~~~~~~~~~~~~~~~~~~~~~~~~~~~~~~~~~~~~~~~~~~~~~~~~~~~~~~~~~~~~~
/home/david/cpantesting/perl-5.32.0/lib/5.32.0/amd64-freebsd/CORE/zaphod32_hash.h:125:3: note: expanded from macro 'ZAPHOD32_MIX'
} STMT_END
  ^~~~~~~~
/home/david/cpantesting/perl-5.32.0/lib/5.32.0/amd64-freebsd/CORE/perl.h:667:21: note: expanded from macro 'STMT_END'
#   define STMT_END     )
                        ^
In file included from MD5.xs:40:
In file included from /home/david/cpantesting/perl-5.32.0/lib/5.32.0/amd64-freebsd/CORE/perl.h:3918:
In file included from /home/david/cpantesting/perl-5.32.0/lib/5.32.0/amd64-freebsd/CORE/hv.h:663:
In file included from /home/david/cpantesting/perl-5.32.0/lib/5.32.0/amd64-freebsd/CORE/hv_func.h:35:
In file included from /home/david/cpantesting/perl-5.32.0/lib/5.32.0/amd64-freebsd/CORE/sbox32_hash.h:4:
/home/david/cpantesting/perl-5.32.0/lib/5.32.0/amd64-freebsd/CORE/zaphod32_hash.h:159:5: warning: '(' and '{' tokens introducing statement expression appear in different macro expansion contexts [-Wcompound-token-split-by-macro]
    ZAPHOD32_MIX(state[0],state[1],state[2],"ZAPHOD32 SEED-STATE A 4/4");
    ^~~~~~~~~~~~~~~~~~~~~~~~~~~~~~~~~~~~~~~~~~~~~~~~~~~~~~~~~~~~~~~~~~~~
/home/david/cpantesting/perl-5.32.0/lib/5.32.0/amd64-freebsd/CORE/zaphod32_hash.h:116:37: note: expanded from macro 'ZAPHOD32_MIX'
#define ZAPHOD32_MIX(v0,v1,v2,text) STMT_START {                              \
                                    ^~~~~~~~~~
/home/david/cpantesting/perl-5.32.0/lib/5.32.0/amd64-freebsd/CORE/perl.h:666:29: note: expanded from macro 'STMT_START'
#   define STMT_START   (void)( /* gcc supports "({ STATEMENTS; })" */
                              ^
/home/david/cpantesting/perl-5.32.0/lib/5.32.0/amd64-freebsd/CORE/zaphod32_hash.h:159:5: note: '{' token is here
    ZAPHOD32_MIX(state[0],state[1],state[2],"ZAPHOD32 SEED-STATE A 4/4");
    ^~~~~~~~~~~~~~~~~~~~~~~~~~~~~~~~~~~~~~~~~~~~~~~~~~~~~~~~~~~~~~~~~~~~
/home/david/cpantesting/perl-5.32.0/lib/5.32.0/amd64-freebsd/CORE/zaphod32_hash.h:116:48: note: expanded from macro 'ZAPHOD32_MIX'
#define ZAPHOD32_MIX(v0,v1,v2,text) STMT_START {                              \
                                               ^
/home/david/cpantesting/perl-5.32.0/lib/5.32.0/amd64-freebsd/CORE/zaphod32_hash.h:159:5: warning: '}' and ')' tokens terminating statement expression appear in different macro expansion contexts [-Wcompound-token-split-by-macro]
    ZAPHOD32_MIX(state[0],state[1],state[2],"ZAPHOD32 SEED-STATE A 4/4");
    ^~~~~~~~~~~~~~~~~~~~~~~~~~~~~~~~~~~~~~~~~~~~~~~~~~~~~~~~~~~~~~~~~~~~
/home/david/cpantesting/perl-5.32.0/lib/5.32.0/amd64-freebsd/CORE/zaphod32_hash.h:124:32: note: expanded from macro 'ZAPHOD32_MIX'
    v2 = ROTR32(v2, 7) ^ v0;   \
                               ^
/home/david/cpantesting/perl-5.32.0/lib/5.32.0/amd64-freebsd/CORE/zaphod32_hash.h:159:5: note: ')' token is here
    ZAPHOD32_MIX(state[0],state[1],state[2],"ZAPHOD32 SEED-STATE A 4/4");
    ^~~~~~~~~~~~~~~~~~~~~~~~~~~~~~~~~~~~~~~~~~~~~~~~~~~~~~~~~~~~~~~~~~~~
/home/david/cpantesting/perl-5.32.0/lib/5.32.0/amd64-freebsd/CORE/zaphod32_hash.h:125:3: note: expanded from macro 'ZAPHOD32_MIX'
} STMT_END
  ^~~~~~~~
/home/david/cpantesting/perl-5.32.0/lib/5.32.0/amd64-freebsd/CORE/perl.h:667:21: note: expanded from macro 'STMT_END'
#   define STMT_END     )
                        ^
In file included from MD5.xs:40:
In file included from /home/david/cpantesting/perl-5.32.0/lib/5.32.0/amd64-freebsd/CORE/perl.h:3918:
In file included from /home/david/cpantesting/perl-5.32.0/lib/5.32.0/amd64-freebsd/CORE/hv.h:663:
In file included from /home/david/cpantesting/perl-5.32.0/lib/5.32.0/amd64-freebsd/CORE/hv_func.h:35:
In file included from /home/david/cpantesting/perl-5.32.0/lib/5.32.0/amd64-freebsd/CORE/sbox32_hash.h:4:
/home/david/cpantesting/perl-5.32.0/lib/5.32.0/amd64-freebsd/CORE/zaphod32_hash.h:162:5: warning: '(' and '{' tokens introducing statement expression appear in different macro expansion contexts [-Wcompound-token-split-by-macro]
    ZAPHOD32_SCRAMBLE32(state[0],0xc95d22a9);
    ^~~~~~~~~~~~~~~~~~~~~~~~~~~~~~~~~~~~~~~~
/home/david/cpantesting/perl-5.32.0/lib/5.32.0/amd64-freebsd/CORE/zaphod32_hash.h:80:38: note: expanded from macro 'ZAPHOD32_SCRAMBLE32'
#define ZAPHOD32_SCRAMBLE32(v,prime) STMT_START {  \
                                     ^~~~~~~~~~
/home/david/cpantesting/perl-5.32.0/lib/5.32.0/amd64-freebsd/CORE/perl.h:666:29: note: expanded from macro 'STMT_START'
#   define STMT_START   (void)( /* gcc supports "({ STATEMENTS; })" */
                              ^
/home/david/cpantesting/perl-5.32.0/lib/5.32.0/amd64-freebsd/CORE/zaphod32_hash.h:162:5: note: '{' token is here
    ZAPHOD32_SCRAMBLE32(state[0],0xc95d22a9);
    ^~~~~~~~~~~~~~~~~~~~~~~~~~~~~~~~~~~~~~~~
/home/david/cpantesting/perl-5.32.0/lib/5.32.0/amd64-freebsd/CORE/zaphod32_hash.h:80:49: note: expanded from macro 'ZAPHOD32_SCRAMBLE32'
#define ZAPHOD32_SCRAMBLE32(v,prime) STMT_START {  \
                                                ^
/home/david/cpantesting/perl-5.32.0/lib/5.32.0/amd64-freebsd/CORE/zaphod32_hash.h:162:5: warning: '}' and ')' tokens terminating statement expression appear in different macro expansion contexts [-Wcompound-token-split-by-macro]
    ZAPHOD32_SCRAMBLE32(state[0],0xc95d22a9);
    ^~~~~~~~~~~~~~~~~~~~~~~~~~~~~~~~~~~~~~~~
/home/david/cpantesting/perl-5.32.0/lib/5.32.0/amd64-freebsd/CORE/zaphod32_hash.h:87:41: note: expanded from macro 'ZAPHOD32_SCRAMBLE32'
    v ^= (v>>23);                       \
                                        ^
/home/david/cpantesting/perl-5.32.0/lib/5.32.0/amd64-freebsd/CORE/zaphod32_hash.h:162:5: note: ')' token is here
    ZAPHOD32_SCRAMBLE32(state[0],0xc95d22a9);
    ^~~~~~~~~~~~~~~~~~~~~~~~~~~~~~~~~~~~~~~~
/home/david/cpantesting/perl-5.32.0/lib/5.32.0/amd64-freebsd/CORE/zaphod32_hash.h:88:3: note: expanded from macro 'ZAPHOD32_SCRAMBLE32'
} STMT_END
  ^~~~~~~~
/home/david/cpantesting/perl-5.32.0/lib/5.32.0/amd64-freebsd/CORE/perl.h:667:21: note: expanded from macro 'STMT_END'
#   define STMT_END     )
                        ^
In file included from MD5.xs:40:
In file included from /home/david/cpantesting/perl-5.32.0/lib/5.32.0/amd64-freebsd/CORE/perl.h:3918:
In file included from /home/david/cpantesting/perl-5.32.0/lib/5.32.0/amd64-freebsd/CORE/hv.h:663:
In file included from /home/david/cpantesting/perl-5.32.0/lib/5.32.0/amd64-freebsd/CORE/hv_func.h:35:
In file included from /home/david/cpantesting/perl-5.32.0/lib/5.32.0/amd64-freebsd/CORE/sbox32_hash.h:4:
/home/david/cpantesting/perl-5.32.0/lib/5.32.0/amd64-freebsd/CORE/zaphod32_hash.h:163:5: warning: '(' and '{' tokens introducing statement expression appear in different macro expansion contexts [-Wcompound-token-split-by-macro]
    ZAPHOD32_SCRAMBLE32(state[1],0x8497242b);
    ^~~~~~~~~~~~~~~~~~~~~~~~~~~~~~~~~~~~~~~~
/home/david/cpantesting/perl-5.32.0/lib/5.32.0/amd64-freebsd/CORE/zaphod32_hash.h:80:38: note: expanded from macro 'ZAPHOD32_SCRAMBLE32'
#define ZAPHOD32_SCRAMBLE32(v,prime) STMT_START {  \
                                     ^~~~~~~~~~
/home/david/cpantesting/perl-5.32.0/lib/5.32.0/amd64-freebsd/CORE/perl.h:666:29: note: expanded from macro 'STMT_START'
#   define STMT_START   (void)( /* gcc supports "({ STATEMENTS; })" */
                              ^
/home/david/cpantesting/perl-5.32.0/lib/5.32.0/amd64-freebsd/CORE/zaphod32_hash.h:163:5: note: '{' token is here
    ZAPHOD32_SCRAMBLE32(state[1],0x8497242b);
    ^~~~~~~~~~~~~~~~~~~~~~~~~~~~~~~~~~~~~~~~
/home/david/cpantesting/perl-5.32.0/lib/5.32.0/amd64-freebsd/CORE/zaphod32_hash.h:80:49: note: expanded from macro 'ZAPHOD32_SCRAMBLE32'
#define ZAPHOD32_SCRAMBLE32(v,prime) STMT_START {  \
                                                ^
/home/david/cpantesting/perl-5.32.0/lib/5.32.0/amd64-freebsd/CORE/zaphod32_hash.h:163:5: warning: '}' and ')' tokens terminating statement expression appear in different macro expansion contexts [-Wcompound-token-split-by-macro]
    ZAPHOD32_SCRAMBLE32(state[1],0x8497242b);
    ^~~~~~~~~~~~~~~~~~~~~~~~~~~~~~~~~~~~~~~~
/home/david/cpantesting/perl-5.32.0/lib/5.32.0/amd64-freebsd/CORE/zaphod32_hash.h:87:41: note: expanded from macro 'ZAPHOD32_SCRAMBLE32'
    v ^= (v>>23);                       \
                                        ^
/home/david/cpantesting/perl-5.32.0/lib/5.32.0/amd64-freebsd/CORE/zaphod32_hash.h:163:5: note: ')' token is here
    ZAPHOD32_SCRAMBLE32(state[1],0x8497242b);
    ^~~~~~~~~~~~~~~~~~~~~~~~~~~~~~~~~~~~~~~~
/home/david/cpantesting/perl-5.32.0/lib/5.32.0/amd64-freebsd/CORE/zaphod32_hash.h:88:3: note: expanded from macro 'ZAPHOD32_SCRAMBLE32'
} STMT_END
  ^~~~~~~~
/home/david/cpantesting/perl-5.32.0/lib/5.32.0/amd64-freebsd/CORE/perl.h:667:21: note: expanded from macro 'STMT_END'
#   define STMT_END     )
                        ^
In file included from MD5.xs:40:
In file included from /home/david/cpantesting/perl-5.32.0/lib/5.32.0/amd64-freebsd/CORE/perl.h:3918:
In file included from /home/david/cpantesting/perl-5.32.0/lib/5.32.0/amd64-freebsd/CORE/hv.h:663:
In file included from /home/david/cpantesting/perl-5.32.0/lib/5.32.0/amd64-freebsd/CORE/hv_func.h:35:
In file included from /home/david/cpantesting/perl-5.32.0/lib/5.32.0/amd64-freebsd/CORE/sbox32_hash.h:4:
/home/david/cpantesting/perl-5.32.0/lib/5.32.0/amd64-freebsd/CORE/zaphod32_hash.h:164:5: warning: '(' and '{' tokens introducing statement expression appear in different macro expansion contexts [-Wcompound-token-split-by-macro]
    ZAPHOD32_SCRAMBLE32(state[2],0x9c5cc4e9);
    ^~~~~~~~~~~~~~~~~~~~~~~~~~~~~~~~~~~~~~~~
/home/david/cpantesting/perl-5.32.0/lib/5.32.0/amd64-freebsd/CORE/zaphod32_hash.h:80:38: note: expanded from macro 'ZAPHOD32_SCRAMBLE32'
#define ZAPHOD32_SCRAMBLE32(v,prime) STMT_START {  \
                                     ^~~~~~~~~~
/home/david/cpantesting/perl-5.32.0/lib/5.32.0/amd64-freebsd/CORE/perl.h:666:29: note: expanded from macro 'STMT_START'
#   define STMT_START   (void)( /* gcc supports "({ STATEMENTS; })" */
                              ^
/home/david/cpantesting/perl-5.32.0/lib/5.32.0/amd64-freebsd/CORE/zaphod32_hash.h:164:5: note: '{' token is here
    ZAPHOD32_SCRAMBLE32(state[2],0x9c5cc4e9);
    ^~~~~~~~~~~~~~~~~~~~~~~~~~~~~~~~~~~~~~~~
/home/david/cpantesting/perl-5.32.0/lib/5.32.0/amd64-freebsd/CORE/zaphod32_hash.h:80:49: note: expanded from macro 'ZAPHOD32_SCRAMBLE32'
#define ZAPHOD32_SCRAMBLE32(v,prime) STMT_START {  \
                                                ^
/home/david/cpantesting/perl-5.32.0/lib/5.32.0/amd64-freebsd/CORE/zaphod32_hash.h:164:5: warning: '}' and ')' tokens terminating statement expression appear in different macro expansion contexts [-Wcompound-token-split-by-macro]
    ZAPHOD32_SCRAMBLE32(state[2],0x9c5cc4e9);
    ^~~~~~~~~~~~~~~~~~~~~~~~~~~~~~~~~~~~~~~~
/home/david/cpantesting/perl-5.32.0/lib/5.32.0/amd64-freebsd/CORE/zaphod32_hash.h:87:41: note: expanded from macro 'ZAPHOD32_SCRAMBLE32'
    v ^= (v>>23);                       \
                                        ^
/home/david/cpantesting/perl-5.32.0/lib/5.32.0/amd64-freebsd/CORE/zaphod32_hash.h:164:5: note: ')' token is here
    ZAPHOD32_SCRAMBLE32(state[2],0x9c5cc4e9);
    ^~~~~~~~~~~~~~~~~~~~~~~~~~~~~~~~~~~~~~~~
/home/david/cpantesting/perl-5.32.0/lib/5.32.0/amd64-freebsd/CORE/zaphod32_hash.h:88:3: note: expanded from macro 'ZAPHOD32_SCRAMBLE32'
} STMT_END
  ^~~~~~~~
/home/david/cpantesting/perl-5.32.0/lib/5.32.0/amd64-freebsd/CORE/perl.h:667:21: note: expanded from macro 'STMT_END'
#   define STMT_END     )
                        ^
In file included from MD5.xs:40:
In file included from /home/david/cpantesting/perl-5.32.0/lib/5.32.0/amd64-freebsd/CORE/perl.h:3918:
In file included from /home/david/cpantesting/perl-5.32.0/lib/5.32.0/amd64-freebsd/CORE/hv.h:663:
In file included from /home/david/cpantesting/perl-5.32.0/lib/5.32.0/amd64-freebsd/CORE/hv_func.h:35:
In file included from /home/david/cpantesting/perl-5.32.0/lib/5.32.0/amd64-freebsd/CORE/sbox32_hash.h:4:
/home/david/cpantesting/perl-5.32.0/lib/5.32.0/amd64-freebsd/CORE/zaphod32_hash.h:167:5: warning: '(' and '{' tokens introducing statement expression appear in different macro expansion contexts [-Wcompound-token-split-by-macro]
    ZAPHOD32_MIX(state[0],state[1],state[2],"ZAPHOD32 SEED-STATE B 1/5");
    ^~~~~~~~~~~~~~~~~~~~~~~~~~~~~~~~~~~~~~~~~~~~~~~~~~~~~~~~~~~~~~~~~~~~
/home/david/cpantesting/perl-5.32.0/lib/5.32.0/amd64-freebsd/CORE/zaphod32_hash.h:116:37: note: expanded from macro 'ZAPHOD32_MIX'
#define ZAPHOD32_MIX(v0,v1,v2,text) STMT_START {                              \
                                    ^~~~~~~~~~
/home/david/cpantesting/perl-5.32.0/lib/5.32.0/amd64-freebsd/CORE/perl.h:666:29: note: expanded from macro 'STMT_START'
#   define STMT_START   (void)( /* gcc supports "({ STATEMENTS; })" */
                              ^
/home/david/cpantesting/perl-5.32.0/lib/5.32.0/amd64-freebsd/CORE/zaphod32_hash.h:167:5: note: '{' token is here
    ZAPHOD32_MIX(state[0],state[1],state[2],"ZAPHOD32 SEED-STATE B 1/5");
    ^~~~~~~~~~~~~~~~~~~~~~~~~~~~~~~~~~~~~~~~~~~~~~~~~~~~~~~~~~~~~~~~~~~~
/home/david/cpantesting/perl-5.32.0/lib/5.32.0/amd64-freebsd/CORE/zaphod32_hash.h:116:48: note: expanded from macro 'ZAPHOD32_MIX'
#define ZAPHOD32_MIX(v0,v1,v2,text) STMT_START {                              \
                                               ^
/home/david/cpantesting/perl-5.32.0/lib/5.32.0/amd64-freebsd/CORE/zaphod32_hash.h:167:5: warning: '}' and ')' tokens terminating statement expression appear in different macro expansion contexts [-Wcompound-token-split-by-macro]
    ZAPHOD32_MIX(state[0],state[1],state[2],"ZAPHOD32 SEED-STATE B 1/5");
    ^~~~~~~~~~~~~~~~~~~~~~~~~~~~~~~~~~~~~~~~~~~~~~~~~~~~~~~~~~~~~~~~~~~~
/home/david/cpantesting/perl-5.32.0/lib/5.32.0/amd64-freebsd/CORE/zaphod32_hash.h:124:32: note: expanded from macro 'ZAPHOD32_MIX'
    v2 = ROTR32(v2, 7) ^ v0;   \
                               ^
/home/david/cpantesting/perl-5.32.0/lib/5.32.0/amd64-freebsd/CORE/zaphod32_hash.h:167:5: note: ')' token is here
    ZAPHOD32_MIX(state[0],state[1],state[2],"ZAPHOD32 SEED-STATE B 1/5");
    ^~~~~~~~~~~~~~~~~~~~~~~~~~~~~~~~~~~~~~~~~~~~~~~~~~~~~~~~~~~~~~~~~~~~
/home/david/cpantesting/perl-5.32.0/lib/5.32.0/amd64-freebsd/CORE/zaphod32_hash.h:125:3: note: expanded from macro 'ZAPHOD32_MIX'
} STMT_END
  ^~~~~~~~
/home/david/cpantesting/perl-5.32.0/lib/5.32.0/amd64-freebsd/CORE/perl.h:667:21: note: expanded from macro 'STMT_END'
#   define STMT_END     )
                        ^
In file included from MD5.xs:40:
In file included from /home/david/cpantesting/perl-5.32.0/lib/5.32.0/amd64-freebsd/CORE/perl.h:3918:
In file included from /home/david/cpantesting/perl-5.32.0/lib/5.32.0/amd64-freebsd/CORE/hv.h:663:
In file included from /home/david/cpantesting/perl-5.32.0/lib/5.32.0/amd64-freebsd/CORE/hv_func.h:35:
In file included from /home/david/cpantesting/perl-5.32.0/lib/5.32.0/amd64-freebsd/CORE/sbox32_hash.h:4:
/home/david/cpantesting/perl-5.32.0/lib/5.32.0/amd64-freebsd/CORE/zaphod32_hash.h:168:5: warning: '(' and '{' tokens introducing statement expression appear in different macro expansion contexts [-Wcompound-token-split-by-macro]
    ZAPHOD32_MIX(state[0],state[1],state[2],"ZAPHOD32 SEED-STATE B 2/5");
    ^~~~~~~~~~~~~~~~~~~~~~~~~~~~~~~~~~~~~~~~~~~~~~~~~~~~~~~~~~~~~~~~~~~~
/home/david/cpantesting/perl-5.32.0/lib/5.32.0/amd64-freebsd/CORE/zaphod32_hash.h:116:37: note: expanded from macro 'ZAPHOD32_MIX'
#define ZAPHOD32_MIX(v0,v1,v2,text) STMT_START {                              \
                                    ^~~~~~~~~~
/home/david/cpantesting/perl-5.32.0/lib/5.32.0/amd64-freebsd/CORE/perl.h:666:29: note: expanded from macro 'STMT_START'
#   define STMT_START   (void)( /* gcc supports "({ STATEMENTS; })" */
                              ^
/home/david/cpantesting/perl-5.32.0/lib/5.32.0/amd64-freebsd/CORE/zaphod32_hash.h:168:5: note: '{' token is here
    ZAPHOD32_MIX(state[0],state[1],state[2],"ZAPHOD32 SEED-STATE B 2/5");
    ^~~~~~~~~~~~~~~~~~~~~~~~~~~~~~~~~~~~~~~~~~~~~~~~~~~~~~~~~~~~~~~~~~~~
/home/david/cpantesting/perl-5.32.0/lib/5.32.0/amd64-freebsd/CORE/zaphod32_hash.h:116:48: note: expanded from macro 'ZAPHOD32_MIX'
#define ZAPHOD32_MIX(v0,v1,v2,text) STMT_START {                              \
                                               ^
/home/david/cpantesting/perl-5.32.0/lib/5.32.0/amd64-freebsd/CORE/zaphod32_hash.h:168:5: warning: '}' and ')' tokens terminating statement expression appear in different macro expansion contexts [-Wcompound-token-split-by-macro]
    ZAPHOD32_MIX(state[0],state[1],state[2],"ZAPHOD32 SEED-STATE B 2/5");
    ^~~~~~~~~~~~~~~~~~~~~~~~~~~~~~~~~~~~~~~~~~~~~~~~~~~~~~~~~~~~~~~~~~~~
/home/david/cpantesting/perl-5.32.0/lib/5.32.0/amd64-freebsd/CORE/zaphod32_hash.h:124:32: note: expanded from macro 'ZAPHOD32_MIX'
    v2 = ROTR32(v2, 7) ^ v0;   \
                               ^
/home/david/cpantesting/perl-5.32.0/lib/5.32.0/amd64-freebsd/CORE/zaphod32_hash.h:168:5: note: ')' token is here
    ZAPHOD32_MIX(state[0],state[1],state[2],"ZAPHOD32 SEED-STATE B 2/5");
    ^~~~~~~~~~~~~~~~~~~~~~~~~~~~~~~~~~~~~~~~~~~~~~~~~~~~~~~~~~~~~~~~~~~~
/home/david/cpantesting/perl-5.32.0/lib/5.32.0/amd64-freebsd/CORE/zaphod32_hash.h:125:3: note: expanded from macro 'ZAPHOD32_MIX'
} STMT_END
  ^~~~~~~~
/home/david/cpantesting/perl-5.32.0/lib/5.32.0/amd64-freebsd/CORE/perl.h:667:21: note: expanded from macro 'STMT_END'
#   define STMT_END     )
                        ^
In file included from MD5.xs:40:
In file included from /home/david/cpantesting/perl-5.32.0/lib/5.32.0/amd64-freebsd/CORE/perl.h:3918:
In file included from /home/david/cpantesting/perl-5.32.0/lib/5.32.0/amd64-freebsd/CORE/hv.h:663:
In file included from /home/david/cpantesting/perl-5.32.0/lib/5.32.0/amd64-freebsd/CORE/hv_func.h:35:
In file included from /home/david/cpantesting/perl-5.32.0/lib/5.32.0/amd64-freebsd/CORE/sbox32_hash.h:4:
/home/david/cpantesting/perl-5.32.0/lib/5.32.0/amd64-freebsd/CORE/zaphod32_hash.h:169:5: warning: '(' and '{' tokens introducing statement expression appear in different macro expansion contexts [-Wcompound-token-split-by-macro]
    ZAPHOD32_MIX(state[0],state[1],state[2],"ZAPHOD32 SEED-STATE B 3/5");
    ^~~~~~~~~~~~~~~~~~~~~~~~~~~~~~~~~~~~~~~~~~~~~~~~~~~~~~~~~~~~~~~~~~~~
/home/david/cpantesting/perl-5.32.0/lib/5.32.0/amd64-freebsd/CORE/zaphod32_hash.h:116:37: note: expanded from macro 'ZAPHOD32_MIX'
#define ZAPHOD32_MIX(v0,v1,v2,text) STMT_START {                              \
                                    ^~~~~~~~~~
/home/david/cpantesting/perl-5.32.0/lib/5.32.0/amd64-freebsd/CORE/perl.h:666:29: note: expanded from macro 'STMT_START'
#   define STMT_START   (void)( /* gcc supports "({ STATEMENTS; })" */
                              ^
/home/david/cpantesting/perl-5.32.0/lib/5.32.0/amd64-freebsd/CORE/zaphod32_hash.h:169:5: note: '{' token is here
    ZAPHOD32_MIX(state[0],state[1],state[2],"ZAPHOD32 SEED-STATE B 3/5");
    ^~~~~~~~~~~~~~~~~~~~~~~~~~~~~~~~~~~~~~~~~~~~~~~~~~~~~~~~~~~~~~~~~~~~
/home/david/cpantesting/perl-5.32.0/lib/5.32.0/amd64-freebsd/CORE/zaphod32_hash.h:116:48: note: expanded from macro 'ZAPHOD32_MIX'
#define ZAPHOD32_MIX(v0,v1,v2,text) STMT_START {                              \
                                               ^
/home/david/cpantesting/perl-5.32.0/lib/5.32.0/amd64-freebsd/CORE/zaphod32_hash.h:169:5: warning: '}' and ')' tokens terminating statement expression appear in different macro expansion contexts [-Wcompound-token-split-by-macro]
    ZAPHOD32_MIX(state[0],state[1],state[2],"ZAPHOD32 SEED-STATE B 3/5");
    ^~~~~~~~~~~~~~~~~~~~~~~~~~~~~~~~~~~~~~~~~~~~~~~~~~~~~~~~~~~~~~~~~~~~
/home/david/cpantesting/perl-5.32.0/lib/5.32.0/amd64-freebsd/CORE/zaphod32_hash.h:124:32: note: expanded from macro 'ZAPHOD32_MIX'
    v2 = ROTR32(v2, 7) ^ v0;   \
                               ^
/home/david/cpantesting/perl-5.32.0/lib/5.32.0/amd64-freebsd/CORE/zaphod32_hash.h:169:5: note: ')' token is here
    ZAPHOD32_MIX(state[0],state[1],state[2],"ZAPHOD32 SEED-STATE B 3/5");
    ^~~~~~~~~~~~~~~~~~~~~~~~~~~~~~~~~~~~~~~~~~~~~~~~~~~~~~~~~~~~~~~~~~~~
/home/david/cpantesting/perl-5.32.0/lib/5.32.0/amd64-freebsd/CORE/zaphod32_hash.h:125:3: note: expanded from macro 'ZAPHOD32_MIX'
} STMT_END
  ^~~~~~~~
/home/david/cpantesting/perl-5.32.0/lib/5.32.0/amd64-freebsd/CORE/perl.h:667:21: note: expanded from macro 'STMT_END'
#   define STMT_END     )
                        ^
In file included from MD5.xs:40:
In file included from /home/david/cpantesting/perl-5.32.0/lib/5.32.0/amd64-freebsd/CORE/perl.h:3918:
In file included from /home/david/cpantesting/perl-5.32.0/lib/5.32.0/amd64-freebsd/CORE/hv.h:663:
In file included from /home/david/cpantesting/perl-5.32.0/lib/5.32.0/amd64-freebsd/CORE/hv_func.h:35:
In file included from /home/david/cpantesting/perl-5.32.0/lib/5.32.0/amd64-freebsd/CORE/sbox32_hash.h:4:
/home/david/cpantesting/perl-5.32.0/lib/5.32.0/amd64-freebsd/CORE/zaphod32_hash.h:170:5: warning: '(' and '{' tokens introducing statement expression appear in different macro expansion contexts [-Wcompound-token-split-by-macro]
    ZAPHOD32_MIX(state[0],state[1],state[2],"ZAPHOD32 SEED-STATE B 4/5");
    ^~~~~~~~~~~~~~~~~~~~~~~~~~~~~~~~~~~~~~~~~~~~~~~~~~~~~~~~~~~~~~~~~~~~
/home/david/cpantesting/perl-5.32.0/lib/5.32.0/amd64-freebsd/CORE/zaphod32_hash.h:116:37: note: expanded from macro 'ZAPHOD32_MIX'
#define ZAPHOD32_MIX(v0,v1,v2,text) STMT_START {                              \
                                    ^~~~~~~~~~
/home/david/cpantesting/perl-5.32.0/lib/5.32.0/amd64-freebsd/CORE/perl.h:666:29: note: expanded from macro 'STMT_START'
#   define STMT_START   (void)( /* gcc supports "({ STATEMENTS; })" */
                              ^
/home/david/cpantesting/perl-5.32.0/lib/5.32.0/amd64-freebsd/CORE/zaphod32_hash.h:170:5: note: '{' token is here
    ZAPHOD32_MIX(state[0],state[1],state[2],"ZAPHOD32 SEED-STATE B 4/5");
    ^~~~~~~~~~~~~~~~~~~~~~~~~~~~~~~~~~~~~~~~~~~~~~~~~~~~~~~~~~~~~~~~~~~~
/home/david/cpantesting/perl-5.32.0/lib/5.32.0/amd64-freebsd/CORE/zaphod32_hash.h:116:48: note: expanded from macro 'ZAPHOD32_MIX'
#define ZAPHOD32_MIX(v0,v1,v2,text) STMT_START {                              \
                                               ^
/home/david/cpantesting/perl-5.32.0/lib/5.32.0/amd64-freebsd/CORE/zaphod32_hash.h:170:5: warning: '}' and ')' tokens terminating statement expression appear in different macro expansion contexts [-Wcompound-token-split-by-macro]
    ZAPHOD32_MIX(state[0],state[1],state[2],"ZAPHOD32 SEED-STATE B 4/5");
    ^~~~~~~~~~~~~~~~~~~~~~~~~~~~~~~~~~~~~~~~~~~~~~~~~~~~~~~~~~~~~~~~~~~~
/home/david/cpantesting/perl-5.32.0/lib/5.32.0/amd64-freebsd/CORE/zaphod32_hash.h:124:32: note: expanded from macro 'ZAPHOD32_MIX'
    v2 = ROTR32(v2, 7) ^ v0;   \
                               ^
/home/david/cpantesting/perl-5.32.0/lib/5.32.0/amd64-freebsd/CORE/zaphod32_hash.h:170:5: note: ')' token is here
    ZAPHOD32_MIX(state[0],state[1],state[2],"ZAPHOD32 SEED-STATE B 4/5");
    ^~~~~~~~~~~~~~~~~~~~~~~~~~~~~~~~~~~~~~~~~~~~~~~~~~~~~~~~~~~~~~~~~~~~
/home/david/cpantesting/perl-5.32.0/lib/5.32.0/amd64-freebsd/CORE/zaphod32_hash.h:125:3: note: expanded from macro 'ZAPHOD32_MIX'
} STMT_END
  ^~~~~~~~
/home/david/cpantesting/perl-5.32.0/lib/5.32.0/amd64-freebsd/CORE/perl.h:667:21: note: expanded from macro 'STMT_END'
#   define STMT_END     )
                        ^
In file included from MD5.xs:40:
In file included from /home/david/cpantesting/perl-5.32.0/lib/5.32.0/amd64-freebsd/CORE/perl.h:3918:
In file included from /home/david/cpantesting/perl-5.32.0/lib/5.32.0/amd64-freebsd/CORE/hv.h:663:
In file included from /home/david/cpantesting/perl-5.32.0/lib/5.32.0/amd64-freebsd/CORE/hv_func.h:35:
In file included from /home/david/cpantesting/perl-5.32.0/lib/5.32.0/amd64-freebsd/CORE/sbox32_hash.h:4:
/home/david/cpantesting/perl-5.32.0/lib/5.32.0/amd64-freebsd/CORE/zaphod32_hash.h:171:5: warning: '(' and '{' tokens introducing statement expression appear in different macro expansion contexts [-Wcompound-token-split-by-macro]
    ZAPHOD32_MIX(state[0],state[1],state[2],"ZAPHOD32 SEED-STATE B 5/5");
    ^~~~~~~~~~~~~~~~~~~~~~~~~~~~~~~~~~~~~~~~~~~~~~~~~~~~~~~~~~~~~~~~~~~~
/home/david/cpantesting/perl-5.32.0/lib/5.32.0/amd64-freebsd/CORE/zaphod32_hash.h:116:37: note: expanded from macro 'ZAPHOD32_MIX'
#define ZAPHOD32_MIX(v0,v1,v2,text) STMT_START {                              \
                                    ^~~~~~~~~~
/home/david/cpantesting/perl-5.32.0/lib/5.32.0/amd64-freebsd/CORE/perl.h:666:29: note: expanded from macro 'STMT_START'
#   define STMT_START   (void)( /* gcc supports "({ STATEMENTS; })" */
                              ^
/home/david/cpantesting/perl-5.32.0/lib/5.32.0/amd64-freebsd/CORE/zaphod32_hash.h:171:5: note: '{' token is here
    ZAPHOD32_MIX(state[0],state[1],state[2],"ZAPHOD32 SEED-STATE B 5/5");
    ^~~~~~~~~~~~~~~~~~~~~~~~~~~~~~~~~~~~~~~~~~~~~~~~~~~~~~~~~~~~~~~~~~~~
/home/david/cpantesting/perl-5.32.0/lib/5.32.0/amd64-freebsd/CORE/zaphod32_hash.h:116:48: note: expanded from macro 'ZAPHOD32_MIX'
#define ZAPHOD32_MIX(v0,v1,v2,text) STMT_START {                              \
                                               ^
/home/david/cpantesting/perl-5.32.0/lib/5.32.0/amd64-freebsd/CORE/zaphod32_hash.h:171:5: warning: '}' and ')' tokens terminating statement expression appear in different macro expansion contexts [-Wcompound-token-split-by-macro]
    ZAPHOD32_MIX(state[0],state[1],state[2],"ZAPHOD32 SEED-STATE B 5/5");
    ^~~~~~~~~~~~~~~~~~~~~~~~~~~~~~~~~~~~~~~~~~~~~~~~~~~~~~~~~~~~~~~~~~~~
/home/david/cpantesting/perl-5.32.0/lib/5.32.0/amd64-freebsd/CORE/zaphod32_hash.h:124:32: note: expanded from macro 'ZAPHOD32_MIX'
    v2 = ROTR32(v2, 7) ^ v0;   \
                               ^
/home/david/cpantesting/perl-5.32.0/lib/5.32.0/amd64-freebsd/CORE/zaphod32_hash.h:171:5: note: ')' token is here
    ZAPHOD32_MIX(state[0],state[1],state[2],"ZAPHOD32 SEED-STATE B 5/5");
    ^~~~~~~~~~~~~~~~~~~~~~~~~~~~~~~~~~~~~~~~~~~~~~~~~~~~~~~~~~~~~~~~~~~~
/home/david/cpantesting/perl-5.32.0/lib/5.32.0/amd64-freebsd/CORE/zaphod32_hash.h:125:3: note: expanded from macro 'ZAPHOD32_MIX'
} STMT_END
  ^~~~~~~~
/home/david/cpantesting/perl-5.32.0/lib/5.32.0/amd64-freebsd/CORE/perl.h:667:21: note: expanded from macro 'STMT_END'
#   define STMT_END     )
                        ^
In file included from MD5.xs:40:
In file included from /home/david/cpantesting/perl-5.32.0/lib/5.32.0/amd64-freebsd/CORE/perl.h:3918:
In file included from /home/david/cpantesting/perl-5.32.0/lib/5.32.0/amd64-freebsd/CORE/hv.h:663:
In file included from /home/david/cpantesting/perl-5.32.0/lib/5.32.0/amd64-freebsd/CORE/hv_func.h:35:
In file included from /home/david/cpantesting/perl-5.32.0/lib/5.32.0/amd64-freebsd/CORE/sbox32_hash.h:4:
/home/david/cpantesting/perl-5.32.0/lib/5.32.0/amd64-freebsd/CORE/zaphod32_hash.h:247:13: warning: '(' and '{' tokens introducing statement expression appear in different macro expansion contexts [-Wcompound-token-split-by-macro]
            ZAPHOD32_MIX(v0,v1,v2,"MIX 2-WORDS A");
            ^~~~~~~~~~~~~~~~~~~~~~~~~~~~~~~~~~~~~~
/home/david/cpantesting/perl-5.32.0/lib/5.32.0/amd64-freebsd/CORE/zaphod32_hash.h:116:37: note: expanded from macro 'ZAPHOD32_MIX'
#define ZAPHOD32_MIX(v0,v1,v2,text) STMT_START {                              \
                                    ^~~~~~~~~~
/home/david/cpantesting/perl-5.32.0/lib/5.32.0/amd64-freebsd/CORE/perl.h:666:29: note: expanded from macro 'STMT_START'
#   define STMT_START   (void)( /* gcc supports "({ STATEMENTS; })" */
                              ^
/home/david/cpantesting/perl-5.32.0/lib/5.32.0/amd64-freebsd/CORE/zaphod32_hash.h:247:13: note: '{' token is here
            ZAPHOD32_MIX(v0,v1,v2,"MIX 2-WORDS A");
            ^~~~~~~~~~~~~~~~~~~~~~~~~~~~~~~~~~~~~~
/home/david/cpantesting/perl-5.32.0/lib/5.32.0/amd64-freebsd/CORE/zaphod32_hash.h:116:48: note: expanded from macro 'ZAPHOD32_MIX'
#define ZAPHOD32_MIX(v0,v1,v2,text) STMT_START {                              \
                                               ^
/home/david/cpantesting/perl-5.32.0/lib/5.32.0/amd64-freebsd/CORE/zaphod32_hash.h:247:13: warning: '}' and ')' tokens terminating statement expression appear in different macro expansion contexts [-Wcompound-token-split-by-macro]
            ZAPHOD32_MIX(v0,v1,v2,"MIX 2-WORDS A");
            ^~~~~~~~~~~~~~~~~~~~~~~~~~~~~~~~~~~~~~
/home/david/cpantesting/perl-5.32.0/lib/5.32.0/amd64-freebsd/CORE/zaphod32_hash.h:124:32: note: expanded from macro 'ZAPHOD32_MIX'
    v2 = ROTR32(v2, 7) ^ v0;   \
                               ^
/home/david/cpantesting/perl-5.32.0/lib/5.32.0/amd64-freebsd/CORE/zaphod32_hash.h:247:13: note: ')' token is here
            ZAPHOD32_MIX(v0,v1,v2,"MIX 2-WORDS A");
            ^~~~~~~~~~~~~~~~~~~~~~~~~~~~~~~~~~~~~~
/home/david/cpantesting/perl-5.32.0/lib/5.32.0/amd64-freebsd/CORE/zaphod32_hash.h:125:3: note: expanded from macro 'ZAPHOD32_MIX'
} STMT_END
  ^~~~~~~~
/home/david/cpantesting/perl-5.32.0/lib/5.32.0/amd64-freebsd/CORE/perl.h:667:21: note: expanded from macro 'STMT_END'
#   define STMT_END     )
                        ^
In file included from MD5.xs:40:
In file included from /home/david/cpantesting/perl-5.32.0/lib/5.32.0/amd64-freebsd/CORE/perl.h:3918:
In file included from /home/david/cpantesting/perl-5.32.0/lib/5.32.0/amd64-freebsd/CORE/hv.h:663:
In file included from /home/david/cpantesting/perl-5.32.0/lib/5.32.0/amd64-freebsd/CORE/hv_func.h:35:
In file included from /home/david/cpantesting/perl-5.32.0/lib/5.32.0/amd64-freebsd/CORE/sbox32_hash.h:4:
/home/david/cpantesting/perl-5.32.0/lib/5.32.0/amd64-freebsd/CORE/zaphod32_hash.h:268:5: warning: '(' and '{' tokens introducing statement expression appear in different macro expansion contexts [-Wcompound-token-split-by-macro]
    ZAPHOD32_FINALIZE(v0,v1,v2);
    ^~~~~~~~~~~~~~~~~~~~~~~~~~~
/home/david/cpantesting/perl-5.32.0/lib/5.32.0/amd64-freebsd/CORE/zaphod32_hash.h:90:37: note: expanded from macro 'ZAPHOD32_FINALIZE'
#define ZAPHOD32_FINALIZE(v0,v1,v2) STMT_START {          \
                                    ^~~~~~~~~~
/home/david/cpantesting/perl-5.32.0/lib/5.32.0/amd64-freebsd/CORE/perl.h:666:29: note: expanded from macro 'STMT_START'
#   define STMT_START   (void)( /* gcc supports "({ STATEMENTS; })" */
                              ^
/home/david/cpantesting/perl-5.32.0/lib/5.32.0/amd64-freebsd/CORE/zaphod32_hash.h:268:5: note: '{' token is here
    ZAPHOD32_FINALIZE(v0,v1,v2);
    ^~~~~~~~~~~~~~~~~~~~~~~~~~~
/home/david/cpantesting/perl-5.32.0/lib/5.32.0/amd64-freebsd/CORE/zaphod32_hash.h:90:48: note: expanded from macro 'ZAPHOD32_FINALIZE'
#define ZAPHOD32_FINALIZE(v0,v1,v2) STMT_START {          \
                                               ^
/home/david/cpantesting/perl-5.32.0/lib/5.32.0/amd64-freebsd/CORE/zaphod32_hash.h:268:5: warning: '}' and ')' tokens terminating statement expression appear in different macro expansion contexts [-Wcompound-token-split-by-macro]
    ZAPHOD32_FINALIZE(v0,v1,v2);
    ^~~~~~~~~~~~~~~~~~~~~~~~~~~
/home/david/cpantesting/perl-5.32.0/lib/5.32.0/amd64-freebsd/CORE/zaphod32_hash.h:113:36: note: expanded from macro 'ZAPHOD32_FINALIZE'
    v1 = ROTL32(v1, 17);           \
                                   ^
/home/david/cpantesting/perl-5.32.0/lib/5.32.0/amd64-freebsd/CORE/zaphod32_hash.h:268:5: note: ')' token is here
    ZAPHOD32_FINALIZE(v0,v1,v2);
    ^~~~~~~~~~~~~~~~~~~~~~~~~~~
/home/david/cpantesting/perl-5.32.0/lib/5.32.0/amd64-freebsd/CORE/zaphod32_hash.h:114:3: note: expanded from macro 'ZAPHOD32_FINALIZE'
} STMT_END
  ^~~~~~~~
/home/david/cpantesting/perl-5.32.0/lib/5.32.0/amd64-freebsd/CORE/perl.h:667:21: note: expanded from macro 'STMT_END'
#   define STMT_END     )
                        ^
In file included from MD5.xs:40:
In file included from /home/david/cpantesting/perl-5.32.0/lib/5.32.0/amd64-freebsd/CORE/perl.h:3918:
In file included from /home/david/cpantesting/perl-5.32.0/lib/5.32.0/amd64-freebsd/CORE/hv.h:663:
In file included from /home/david/cpantesting/perl-5.32.0/lib/5.32.0/amd64-freebsd/CORE/hv_func.h:35:
/home/david/cpantesting/perl-5.32.0/lib/5.32.0/amd64-freebsd/CORE/sbox32_hash.h:1448:9: warning: '(' and '{' tokens introducing statement expression appear in different macro expansion contexts [-Wcompound-token-split-by-macro]
        SBOX32_MIX3(s0,s1,s2,"SEED STATE");
        ^~~~~~~~~~~~~~~~~~~~~~~~~~~~~~~~~~
/home/david/cpantesting/perl-5.32.0/lib/5.32.0/amd64-freebsd/CORE/sbox32_hash.h:99:36: note: expanded from macro 'SBOX32_MIX3'
#define SBOX32_MIX3(v0,v1,v2,text) STMT_START {                               \
                                   ^~~~~~~~~~
/home/david/cpantesting/perl-5.32.0/lib/5.32.0/amd64-freebsd/CORE/perl.h:666:29: note: expanded from macro 'STMT_START'
#   define STMT_START   (void)( /* gcc supports "({ STATEMENTS; })" */
                              ^
/home/david/cpantesting/perl-5.32.0/lib/5.32.0/amd64-freebsd/CORE/sbox32_hash.h:1448:9: note: '{' token is here
        SBOX32_MIX3(s0,s1,s2,"SEED STATE");
        ^~~~~~~~~~~~~~~~~~~~~~~~~~~~~~~~~~
/home/david/cpantesting/perl-5.32.0/lib/5.32.0/amd64-freebsd/CORE/sbox32_hash.h:99:47: note: expanded from macro 'SBOX32_MIX3'
#define SBOX32_MIX3(v0,v1,v2,text) STMT_START {                               \
                                              ^
/home/david/cpantesting/perl-5.32.0/lib/5.32.0/amd64-freebsd/CORE/sbox32_hash.h:1448:9: warning: '}' and ')' tokens terminating statement expression appear in different macro expansion contexts [-Wcompound-token-split-by-macro]
        SBOX32_MIX3(s0,s1,s2,"SEED STATE");
        ^~~~~~~~~~~~~~~~~~~~~~~~~~~~~~~~~~
/home/david/cpantesting/perl-5.32.0/lib/5.32.0/amd64-freebsd/CORE/sbox32_hash.h:107:32: note: expanded from macro 'SBOX32_MIX3'
    v2 = ROTR32(v2, 7) ^ v0;   \
                               ^
/home/david/cpantesting/perl-5.32.0/lib/5.32.0/amd64-freebsd/CORE/sbox32_hash.h:1448:9: note: ')' token is here
        SBOX32_MIX3(s0,s1,s2,"SEED STATE");
        ^~~~~~~~~~~~~~~~~~~~~~~~~~~~~~~~~~
/home/david/cpantesting/perl-5.32.0/lib/5.32.0/amd64-freebsd/CORE/sbox32_hash.h:108:3: note: expanded from macro 'SBOX32_MIX3'
} STMT_END
  ^~~~~~~~
/home/david/cpantesting/perl-5.32.0/lib/5.32.0/amd64-freebsd/CORE/perl.h:667:21: note: expanded from macro 'STMT_END'
#   define STMT_END     )
                        ^
In file included from MD5.xs:40:
In file included from /home/david/cpantesting/perl-5.32.0/lib/5.32.0/amd64-freebsd/CORE/perl.h:3918:
In file included from /home/david/cpantesting/perl-5.32.0/lib/5.32.0/amd64-freebsd/CORE/hv.h:663:
In file included from /home/david/cpantesting/perl-5.32.0/lib/5.32.0/amd64-freebsd/CORE/hv_func.h:35:
/home/david/cpantesting/perl-5.32.0/lib/5.32.0/amd64-freebsd/CORE/sbox32_hash.h:1453:13: warning: '(' and '{' tokens introducing statement expression appear in different macro expansion contexts [-Wcompound-token-split-by-macro]
            XORSHIFT96_set(*state_cursor,s0,s1,s2,t1);
            ^~~~~~~~~~~~~~~~~~~~~~~~~~~~~~~~~~~~~~~~~
/home/david/cpantesting/perl-5.32.0/lib/5.32.0/amd64-freebsd/CORE/sbox32_hash.h:1393:35: note: expanded from macro 'XORSHIFT96_set'
#define XORSHIFT96_set(r,x,y,z,t) STMT_START {          \
                                  ^~~~~~~~~~
/home/david/cpantesting/perl-5.32.0/lib/5.32.0/amd64-freebsd/CORE/perl.h:666:29: note: expanded from macro 'STMT_START'
#   define STMT_START   (void)( /* gcc supports "({ STATEMENTS; })" */
                              ^
/home/david/cpantesting/perl-5.32.0/lib/5.32.0/amd64-freebsd/CORE/sbox32_hash.h:1453:13: note: '{' token is here
            XORSHIFT96_set(*state_cursor,s0,s1,s2,t1);
            ^~~~~~~~~~~~~~~~~~~~~~~~~~~~~~~~~~~~~~~~~
/home/david/cpantesting/perl-5.32.0/lib/5.32.0/amd64-freebsd/CORE/sbox32_hash.h:1393:46: note: expanded from macro 'XORSHIFT96_set'
#define XORSHIFT96_set(r,x,y,z,t) STMT_START {          \
                                             ^
/home/david/cpantesting/perl-5.32.0/lib/5.32.0/amd64-freebsd/CORE/sbox32_hash.h:1453:13: warning: '}' and ')' tokens terminating statement expression appear in different macro expansion contexts [-Wcompound-token-split-by-macro]
            XORSHIFT96_set(*state_cursor,s0,s1,s2,t1);
            ^~~~~~~~~~~~~~~~~~~~~~~~~~~~~~~~~~~~~~~~~
/home/david/cpantesting/perl-5.32.0/lib/5.32.0/amd64-freebsd/CORE/sbox32_hash.h:1396:57: note: expanded from macro 'XORSHIFT96_set'
    r = z = (z ^ ( z >> 26 ) ) ^ ( t ^ ( t >> 5 ) );    \
                                                        ^
/home/david/cpantesting/perl-5.32.0/lib/5.32.0/amd64-freebsd/CORE/sbox32_hash.h:1453:13: note: ')' token is here
            XORSHIFT96_set(*state_cursor,s0,s1,s2,t1);
            ^~~~~~~~~~~~~~~~~~~~~~~~~~~~~~~~~~~~~~~~~
/home/david/cpantesting/perl-5.32.0/lib/5.32.0/amd64-freebsd/CORE/sbox32_hash.h:1397:3: note: expanded from macro 'XORSHIFT96_set'
} STMT_END
  ^~~~~~~~
/home/david/cpantesting/perl-5.32.0/lib/5.32.0/amd64-freebsd/CORE/perl.h:667:21: note: expanded from macro 'STMT_END'
#   define STMT_END     )
                        ^
In file included from MD5.xs:40:
In file included from /home/david/cpantesting/perl-5.32.0/lib/5.32.0/amd64-freebsd/CORE/perl.h:3918:
In file included from /home/david/cpantesting/perl-5.32.0/lib/5.32.0/amd64-freebsd/CORE/hv.h:663:
In file included from /home/david/cpantesting/perl-5.32.0/lib/5.32.0/amd64-freebsd/CORE/hv_func.h:35:
/home/david/cpantesting/perl-5.32.0/lib/5.32.0/amd64-freebsd/CORE/sbox32_hash.h:1456:5: warning: '(' and '{' tokens introducing statement expression appear in different macro expansion contexts [-Wcompound-token-split-by-macro]
    XORSHIFT96_set(*state,s0,s1,s2,t2);
    ^~~~~~~~~~~~~~~~~~~~~~~~~~~~~~~~~~
/home/david/cpantesting/perl-5.32.0/lib/5.32.0/amd64-freebsd/CORE/sbox32_hash.h:1393:35: note: expanded from macro 'XORSHIFT96_set'
#define XORSHIFT96_set(r,x,y,z,t) STMT_START {          \
                                  ^~~~~~~~~~
/home/david/cpantesting/perl-5.32.0/lib/5.32.0/amd64-freebsd/CORE/perl.h:666:29: note: expanded from macro 'STMT_START'
#   define STMT_START   (void)( /* gcc supports "({ STATEMENTS; })" */
                              ^
/home/david/cpantesting/perl-5.32.0/lib/5.32.0/amd64-freebsd/CORE/sbox32_hash.h:1456:5: note: '{' token is here
    XORSHIFT96_set(*state,s0,s1,s2,t2);
    ^~~~~~~~~~~~~~~~~~~~~~~~~~~~~~~~~~
/home/david/cpantesting/perl-5.32.0/lib/5.32.0/amd64-freebsd/CORE/sbox32_hash.h:1393:46: note: expanded from macro 'XORSHIFT96_set'
#define XORSHIFT96_set(r,x,y,z,t) STMT_START {          \
                                             ^
/home/david/cpantesting/perl-5.32.0/lib/5.32.0/amd64-freebsd/CORE/sbox32_hash.h:1456:5: warning: '}' and ')' tokens terminating statement expression appear in different macro expansion contexts [-Wcompound-token-split-by-macro]
    XORSHIFT96_set(*state,s0,s1,s2,t2);
    ^~~~~~~~~~~~~~~~~~~~~~~~~~~~~~~~~~
/home/david/cpantesting/perl-5.32.0/lib/5.32.0/amd64-freebsd/CORE/sbox32_hash.h:1396:57: note: expanded from macro 'XORSHIFT96_set'
    r = z = (z ^ ( z >> 26 ) ) ^ ( t ^ ( t >> 5 ) );    \
                                                        ^
/home/david/cpantesting/perl-5.32.0/lib/5.32.0/amd64-freebsd/CORE/sbox32_hash.h:1456:5: note: ')' token is here
    XORSHIFT96_set(*state,s0,s1,s2,t2);
    ^~~~~~~~~~~~~~~~~~~~~~~~~~~~~~~~~~
/home/david/cpantesting/perl-5.32.0/lib/5.32.0/amd64-freebsd/CORE/sbox32_hash.h:1397:3: note: expanded from macro 'XORSHIFT96_set'
} STMT_END
  ^~~~~~~~
/home/david/cpantesting/perl-5.32.0/lib/5.32.0/amd64-freebsd/CORE/perl.h:667:21: note: expanded from macro 'STMT_END'
#   define STMT_END     )
                        ^
In file included from MD5.xs:40:
In file included from /home/david/cpantesting/perl-5.32.0/lib/5.32.0/amd64-freebsd/CORE/perl.h:3918:
In file included from /home/david/cpantesting/perl-5.32.0/lib/5.32.0/amd64-freebsd/CORE/hv.h:663:
In file included from /home/david/cpantesting/perl-5.32.0/lib/5.32.0/amd64-freebsd/CORE/hv_func.h:35:
/home/david/cpantesting/perl-5.32.0/lib/5.32.0/amd64-freebsd/CORE/sbox32_hash.h:1482:9: warning: '(' and '{' tokens introducing statement expression appear in different macro expansion contexts [-Wcompound-token-split-by-macro]
        SBOX32_MIX4(s0,s1,s2,s3,"SEED STATE");
        ^~~~~~~~~~~~~~~~~~~~~~~~~~~~~~~~~~~~~
/home/david/cpantesting/perl-5.32.0/lib/5.32.0/amd64-freebsd/CORE/sbox32_hash.h:85:39: note: expanded from macro 'SBOX32_MIX4'
#define SBOX32_MIX4(v0,v1,v2,v3,text) STMT_START { \
                                      ^~~~~~~~~~
/home/david/cpantesting/perl-5.32.0/lib/5.32.0/amd64-freebsd/CORE/perl.h:666:29: note: expanded from macro 'STMT_START'
#   define STMT_START   (void)( /* gcc supports "({ STATEMENTS; })" */
                              ^
/home/david/cpantesting/perl-5.32.0/lib/5.32.0/amd64-freebsd/CORE/sbox32_hash.h:1482:9: note: '{' token is here
        SBOX32_MIX4(s0,s1,s2,s3,"SEED STATE");
        ^~~~~~~~~~~~~~~~~~~~~~~~~~~~~~~~~~~~~
/home/david/cpantesting/perl-5.32.0/lib/5.32.0/amd64-freebsd/CORE/sbox32_hash.h:85:50: note: expanded from macro 'SBOX32_MIX4'
#define SBOX32_MIX4(v0,v1,v2,v3,text) STMT_START { \
                                                 ^
/home/david/cpantesting/perl-5.32.0/lib/5.32.0/amd64-freebsd/CORE/sbox32_hash.h:1482:9: warning: '}' and ')' tokens terminating statement expression appear in different macro expansion contexts [-Wcompound-token-split-by-macro]
        SBOX32_MIX4(s0,s1,s2,s3,"SEED STATE");
        ^~~~~~~~~~~~~~~~~~~~~~~~~~~~~~~~~~~~~
/home/david/cpantesting/perl-5.32.0/lib/5.32.0/amd64-freebsd/CORE/sbox32_hash.h:96:37: note: expanded from macro 'SBOX32_MIX4'
        v2 = ROTL32(v2, 4) - v0;    \
                                    ^
/home/david/cpantesting/perl-5.32.0/lib/5.32.0/amd64-freebsd/CORE/sbox32_hash.h:1482:9: note: ')' token is here
        SBOX32_MIX4(s0,s1,s2,s3,"SEED STATE");
        ^~~~~~~~~~~~~~~~~~~~~~~~~~~~~~~~~~~~~
/home/david/cpantesting/perl-5.32.0/lib/5.32.0/amd64-freebsd/CORE/sbox32_hash.h:97:3: note: expanded from macro 'SBOX32_MIX4'
} STMT_END
  ^~~~~~~~
/home/david/cpantesting/perl-5.32.0/lib/5.32.0/amd64-freebsd/CORE/perl.h:667:21: note: expanded from macro 'STMT_END'
#   define STMT_END     )
                        ^
In file included from MD5.xs:40:
In file included from /home/david/cpantesting/perl-5.32.0/lib/5.32.0/amd64-freebsd/CORE/perl.h:3918:
In file included from /home/david/cpantesting/perl-5.32.0/lib/5.32.0/amd64-freebsd/CORE/hv.h:663:
In file included from /home/david/cpantesting/perl-5.32.0/lib/5.32.0/amd64-freebsd/CORE/hv_func.h:35:
/home/david/cpantesting/perl-5.32.0/lib/5.32.0/amd64-freebsd/CORE/sbox32_hash.h:1487:13: warning: '(' and '{' tokens introducing statement expression appear in different macro expansion contexts [-Wcompound-token-split-by-macro]
            XORSHIFT128_set(*state_cursor,s0,s1,s2,s3,t1);
            ^~~~~~~~~~~~~~~~~~~~~~~~~~~~~~~~~~~~~~~~~~~~~
/home/david/cpantesting/perl-5.32.0/lib/5.32.0/amd64-freebsd/CORE/sbox32_hash.h:1399:38: note: expanded from macro 'XORSHIFT128_set'
#define XORSHIFT128_set(r,x,y,z,w,t) STMT_START {       \
                                     ^~~~~~~~~~
/home/david/cpantesting/perl-5.32.0/lib/5.32.0/amd64-freebsd/CORE/perl.h:666:29: note: expanded from macro 'STMT_START'
#   define STMT_START   (void)( /* gcc supports "({ STATEMENTS; })" */
                              ^
/home/david/cpantesting/perl-5.32.0/lib/5.32.0/amd64-freebsd/CORE/sbox32_hash.h:1487:13: note: '{' token is here
            XORSHIFT128_set(*state_cursor,s0,s1,s2,s3,t1);
            ^~~~~~~~~~~~~~~~~~~~~~~~~~~~~~~~~~~~~~~~~~~~~
/home/david/cpantesting/perl-5.32.0/lib/5.32.0/amd64-freebsd/CORE/sbox32_hash.h:1399:49: note: expanded from macro 'XORSHIFT128_set'
#define XORSHIFT128_set(r,x,y,z,w,t) STMT_START {       \
                                                ^
/home/david/cpantesting/perl-5.32.0/lib/5.32.0/amd64-freebsd/CORE/sbox32_hash.h:1487:13: warning: '}' and ')' tokens terminating statement expression appear in different macro expansion contexts [-Wcompound-token-split-by-macro]
            XORSHIFT128_set(*state_cursor,s0,s1,s2,s3,t1);
            ^~~~~~~~~~~~~~~~~~~~~~~~~~~~~~~~~~~~~~~~~~~~~
/home/david/cpantesting/perl-5.32.0/lib/5.32.0/amd64-freebsd/CORE/sbox32_hash.h:1402:57: note: expanded from macro 'XORSHIFT128_set'
    r = w = ( w ^ ( w >> 29 ) ) ^ ( t ^ ( t >> 12 ) );  \
                                                        ^
/home/david/cpantesting/perl-5.32.0/lib/5.32.0/amd64-freebsd/CORE/sbox32_hash.h:1487:13: note: ')' token is here
            XORSHIFT128_set(*state_cursor,s0,s1,s2,s3,t1);
            ^~~~~~~~~~~~~~~~~~~~~~~~~~~~~~~~~~~~~~~~~~~~~
/home/david/cpantesting/perl-5.32.0/lib/5.32.0/amd64-freebsd/CORE/sbox32_hash.h:1403:3: note: expanded from macro 'XORSHIFT128_set'
} STMT_END
  ^~~~~~~~
/home/david/cpantesting/perl-5.32.0/lib/5.32.0/amd64-freebsd/CORE/perl.h:667:21: note: expanded from macro 'STMT_END'
#   define STMT_END     )
                        ^
In file included from MD5.xs:40:
In file included from /home/david/cpantesting/perl-5.32.0/lib/5.32.0/amd64-freebsd/CORE/perl.h:3918:
In file included from /home/david/cpantesting/perl-5.32.0/lib/5.32.0/amd64-freebsd/CORE/hv.h:663:
In file included from /home/david/cpantesting/perl-5.32.0/lib/5.32.0/amd64-freebsd/CORE/hv_func.h:35:
/home/david/cpantesting/perl-5.32.0/lib/5.32.0/amd64-freebsd/CORE/sbox32_hash.h:1490:5: warning: '(' and '{' tokens introducing statement expression appear in different macro expansion contexts [-Wcompound-token-split-by-macro]
    XORSHIFT128_set(*state,s0,s1,s2,s3,t2);
    ^~~~~~~~~~~~~~~~~~~~~~~~~~~~~~~~~~~~~~
/home/david/cpantesting/perl-5.32.0/lib/5.32.0/amd64-freebsd/CORE/sbox32_hash.h:1399:38: note: expanded from macro 'XORSHIFT128_set'
#define XORSHIFT128_set(r,x,y,z,w,t) STMT_START {       \
                                     ^~~~~~~~~~
/home/david/cpantesting/perl-5.32.0/lib/5.32.0/amd64-freebsd/CORE/perl.h:666:29: note: expanded from macro 'STMT_START'
#   define STMT_START   (void)( /* gcc supports "({ STATEMENTS; })" */
                              ^
/home/david/cpantesting/perl-5.32.0/lib/5.32.0/amd64-freebsd/CORE/sbox32_hash.h:1490:5: note: '{' token is here
    XORSHIFT128_set(*state,s0,s1,s2,s3,t2);
    ^~~~~~~~~~~~~~~~~~~~~~~~~~~~~~~~~~~~~~
/home/david/cpantesting/perl-5.32.0/lib/5.32.0/amd64-freebsd/CORE/sbox32_hash.h:1399:49: note: expanded from macro 'XORSHIFT128_set'
#define XORSHIFT128_set(r,x,y,z,w,t) STMT_START {       \
                                                ^
/home/david/cpantesting/perl-5.32.0/lib/5.32.0/amd64-freebsd/CORE/sbox32_hash.h:1490:5: warning: '}' and ')' tokens terminating statement expression appear in different macro expansion contexts [-Wcompound-token-split-by-macro]
    XORSHIFT128_set(*state,s0,s1,s2,s3,t2);
    ^~~~~~~~~~~~~~~~~~~~~~~~~~~~~~~~~~~~~~
/home/david/cpantesting/perl-5.32.0/lib/5.32.0/amd64-freebsd/CORE/sbox32_hash.h:1402:57: note: expanded from macro 'XORSHIFT128_set'
    r = w = ( w ^ ( w >> 29 ) ) ^ ( t ^ ( t >> 12 ) );  \
                                                        ^
/home/david/cpantesting/perl-5.32.0/lib/5.32.0/amd64-freebsd/CORE/sbox32_hash.h:1490:5: note: ')' token is here
    XORSHIFT128_set(*state,s0,s1,s2,s3,t2);
    ^~~~~~~~~~~~~~~~~~~~~~~~~~~~~~~~~~~~~~
/home/david/cpantesting/perl-5.32.0/lib/5.32.0/amd64-freebsd/CORE/sbox32_hash.h:1403:3: note: expanded from macro 'XORSHIFT128_set'
} STMT_END
  ^~~~~~~~
/home/david/cpantesting/perl-5.32.0/lib/5.32.0/amd64-freebsd/CORE/perl.h:667:21: note: expanded from macro 'STMT_END'
#   define STMT_END     )
                        ^
In file included from MD5.xs:40:
In file included from /home/david/cpantesting/perl-5.32.0/lib/5.32.0/amd64-freebsd/CORE/perl.h:3918:
In file included from /home/david/cpantesting/perl-5.32.0/lib/5.32.0/amd64-freebsd/CORE/hv.h:663:
In file included from /home/david/cpantesting/perl-5.32.0/lib/5.32.0/amd64-freebsd/CORE/hv_func.h:55:
/home/david/cpantesting/perl-5.32.0/lib/5.32.0/amd64-freebsd/CORE/stadtx_hash.h:113:5: warning: '(' and '{' tokens introducing statement expression appear in different macro expansion contexts [-Wcompound-token-split-by-macro]
    STADTX_SCRAMBLE64(state[0],UINT64_C(0x801178846e899d17));
    ^~~~~~~~~~~~~~~~~~~~~~~~~~~~~~~~~~~~~~~~~~~~~~~~~~~~~~~~
/home/david/cpantesting/perl-5.32.0/lib/5.32.0/amd64-freebsd/CORE/stadtx_hash.h:72:36: note: expanded from macro 'STADTX_SCRAMBLE64'
#define STADTX_SCRAMBLE64(v,prime) STMT_START {    \
                                   ^~~~~~~~~~
/home/david/cpantesting/perl-5.32.0/lib/5.32.0/amd64-freebsd/CORE/perl.h:666:29: note: expanded from macro 'STMT_START'
#   define STMT_START   (void)( /* gcc supports "({ STATEMENTS; })" */
                              ^
/home/david/cpantesting/perl-5.32.0/lib/5.32.0/amd64-freebsd/CORE/stadtx_hash.h:113:5: note: '{' token is here
    STADTX_SCRAMBLE64(state[0],UINT64_C(0x801178846e899d17));
    ^~~~~~~~~~~~~~~~~~~~~~~~~~~~~~~~~~~~~~~~~~~~~~~~~~~~~~~~
/home/david/cpantesting/perl-5.32.0/lib/5.32.0/amd64-freebsd/CORE/stadtx_hash.h:72:47: note: expanded from macro 'STADTX_SCRAMBLE64'
#define STADTX_SCRAMBLE64(v,prime) STMT_START {    \
                                              ^
/home/david/cpantesting/perl-5.32.0/lib/5.32.0/amd64-freebsd/CORE/stadtx_hash.h:113:5: warning: '}' and ')' tokens terminating statement expression appear in different macro expansion contexts [-Wcompound-token-split-by-macro]
    STADTX_SCRAMBLE64(state[0],UINT64_C(0x801178846e899d17));
    ^~~~~~~~~~~~~~~~~~~~~~~~~~~~~~~~~~~~~~~~~~~~~~~~~~~~~~~~
/home/david/cpantesting/perl-5.32.0/lib/5.32.0/amd64-freebsd/CORE/stadtx_hash.h:79:45: note: expanded from macro 'STADTX_SCRAMBLE64'
    v ^= (v >> 46);                         \
                                            ^
/home/david/cpantesting/perl-5.32.0/lib/5.32.0/amd64-freebsd/CORE/stadtx_hash.h:113:5: note: ')' token is here
    STADTX_SCRAMBLE64(state[0],UINT64_C(0x801178846e899d17));
    ^~~~~~~~~~~~~~~~~~~~~~~~~~~~~~~~~~~~~~~~~~~~~~~~~~~~~~~~
/home/david/cpantesting/perl-5.32.0/lib/5.32.0/amd64-freebsd/CORE/stadtx_hash.h:80:3: note: expanded from macro 'STADTX_SCRAMBLE64'
} STMT_END
  ^~~~~~~~
/home/david/cpantesting/perl-5.32.0/lib/5.32.0/amd64-freebsd/CORE/perl.h:667:21: note: expanded from macro 'STMT_END'
#   define STMT_END     )
                        ^
In file included from MD5.xs:40:
In file included from /home/david/cpantesting/perl-5.32.0/lib/5.32.0/amd64-freebsd/CORE/perl.h:3918:
In file included from /home/david/cpantesting/perl-5.32.0/lib/5.32.0/amd64-freebsd/CORE/hv.h:663:
In file included from /home/david/cpantesting/perl-5.32.0/lib/5.32.0/amd64-freebsd/CORE/hv_func.h:55:
/home/david/cpantesting/perl-5.32.0/lib/5.32.0/amd64-freebsd/CORE/stadtx_hash.h:114:5: warning: '(' and '{' tokens introducing statement expression appear in different macro expansion contexts [-Wcompound-token-split-by-macro]
    STADTX_SCRAMBLE64(state[0],UINT64_C(0xdd51e5d1c9a5a151));
    ^~~~~~~~~~~~~~~~~~~~~~~~~~~~~~~~~~~~~~~~~~~~~~~~~~~~~~~~
/home/david/cpantesting/perl-5.32.0/lib/5.32.0/amd64-freebsd/CORE/stadtx_hash.h:72:36: note: expanded from macro 'STADTX_SCRAMBLE64'
#define STADTX_SCRAMBLE64(v,prime) STMT_START {    \
                                   ^~~~~~~~~~
/home/david/cpantesting/perl-5.32.0/lib/5.32.0/amd64-freebsd/CORE/perl.h:666:29: note: expanded from macro 'STMT_START'
#   define STMT_START   (void)( /* gcc supports "({ STATEMENTS; })" */
                              ^
/home/david/cpantesting/perl-5.32.0/lib/5.32.0/amd64-freebsd/CORE/stadtx_hash.h:114:5: note: '{' token is here
    STADTX_SCRAMBLE64(state[0],UINT64_C(0xdd51e5d1c9a5a151));
    ^~~~~~~~~~~~~~~~~~~~~~~~~~~~~~~~~~~~~~~~~~~~~~~~~~~~~~~~
/home/david/cpantesting/perl-5.32.0/lib/5.32.0/amd64-freebsd/CORE/stadtx_hash.h:72:47: note: expanded from macro 'STADTX_SCRAMBLE64'
#define STADTX_SCRAMBLE64(v,prime) STMT_START {    \
                                              ^
/home/david/cpantesting/perl-5.32.0/lib/5.32.0/amd64-freebsd/CORE/stadtx_hash.h:114:5: warning: '}' and ')' tokens terminating statement expression appear in different macro expansion contexts [-Wcompound-token-split-by-macro]
    STADTX_SCRAMBLE64(state[0],UINT64_C(0xdd51e5d1c9a5a151));
    ^~~~~~~~~~~~~~~~~~~~~~~~~~~~~~~~~~~~~~~~~~~~~~~~~~~~~~~~
/home/david/cpantesting/perl-5.32.0/lib/5.32.0/amd64-freebsd/CORE/stadtx_hash.h:79:45: note: expanded from macro 'STADTX_SCRAMBLE64'
    v ^= (v >> 46);                         \
                                            ^
/home/david/cpantesting/perl-5.32.0/lib/5.32.0/amd64-freebsd/CORE/stadtx_hash.h:114:5: note: ')' token is here
    STADTX_SCRAMBLE64(state[0],UINT64_C(0xdd51e5d1c9a5a151));
    ^~~~~~~~~~~~~~~~~~~~~~~~~~~~~~~~~~~~~~~~~~~~~~~~~~~~~~~~
/home/david/cpantesting/perl-5.32.0/lib/5.32.0/amd64-freebsd/CORE/stadtx_hash.h:80:3: note: expanded from macro 'STADTX_SCRAMBLE64'
} STMT_END
  ^~~~~~~~
/home/david/cpantesting/perl-5.32.0/lib/5.32.0/amd64-freebsd/CORE/perl.h:667:21: note: expanded from macro 'STMT_END'
#   define STMT_END     )
                        ^
In file included from MD5.xs:40:
In file included from /home/david/cpantesting/perl-5.32.0/lib/5.32.0/amd64-freebsd/CORE/perl.h:3918:
In file included from /home/david/cpantesting/perl-5.32.0/lib/5.32.0/amd64-freebsd/CORE/hv.h:663:
In file included from /home/david/cpantesting/perl-5.32.0/lib/5.32.0/amd64-freebsd/CORE/hv_func.h:55:
/home/david/cpantesting/perl-5.32.0/lib/5.32.0/amd64-freebsd/CORE/stadtx_hash.h:115:5: warning: '(' and '{' tokens introducing statement expression appear in different macro expansion contexts [-Wcompound-token-split-by-macro]
    STADTX_SCRAMBLE64(state[1],UINT64_C(0x93a7d6c8c62e4835));
    ^~~~~~~~~~~~~~~~~~~~~~~~~~~~~~~~~~~~~~~~~~~~~~~~~~~~~~~~
/home/david/cpantesting/perl-5.32.0/lib/5.32.0/amd64-freebsd/CORE/stadtx_hash.h:72:36: note: expanded from macro 'STADTX_SCRAMBLE64'
#define STADTX_SCRAMBLE64(v,prime) STMT_START {    \
                                   ^~~~~~~~~~
/home/david/cpantesting/perl-5.32.0/lib/5.32.0/amd64-freebsd/CORE/perl.h:666:29: note: expanded from macro 'STMT_START'
#   define STMT_START   (void)( /* gcc supports "({ STATEMENTS; })" */
                              ^
/home/david/cpantesting/perl-5.32.0/lib/5.32.0/amd64-freebsd/CORE/stadtx_hash.h:115:5: note: '{' token is here
    STADTX_SCRAMBLE64(state[1],UINT64_C(0x93a7d6c8c62e4835));
    ^~~~~~~~~~~~~~~~~~~~~~~~~~~~~~~~~~~~~~~~~~~~~~~~~~~~~~~~
/home/david/cpantesting/perl-5.32.0/lib/5.32.0/amd64-freebsd/CORE/stadtx_hash.h:72:47: note: expanded from macro 'STADTX_SCRAMBLE64'
#define STADTX_SCRAMBLE64(v,prime) STMT_START {    \
                                              ^
/home/david/cpantesting/perl-5.32.0/lib/5.32.0/amd64-freebsd/CORE/stadtx_hash.h:115:5: warning: '}' and ')' tokens terminating statement expression appear in different macro expansion contexts [-Wcompound-token-split-by-macro]
    STADTX_SCRAMBLE64(state[1],UINT64_C(0x93a7d6c8c62e4835));
    ^~~~~~~~~~~~~~~~~~~~~~~~~~~~~~~~~~~~~~~~~~~~~~~~~~~~~~~~
/home/david/cpantesting/perl-5.32.0/lib/5.32.0/amd64-freebsd/CORE/stadtx_hash.h:79:45: note: expanded from macro 'STADTX_SCRAMBLE64'
    v ^= (v >> 46);                         \
                                            ^
/home/david/cpantesting/perl-5.32.0/lib/5.32.0/amd64-freebsd/CORE/stadtx_hash.h:115:5: note: ')' token is here
    STADTX_SCRAMBLE64(state[1],UINT64_C(0x93a7d6c8c62e4835));
    ^~~~~~~~~~~~~~~~~~~~~~~~~~~~~~~~~~~~~~~~~~~~~~~~~~~~~~~~
/home/david/cpantesting/perl-5.32.0/lib/5.32.0/amd64-freebsd/CORE/stadtx_hash.h:80:3: note: expanded from macro 'STADTX_SCRAMBLE64'
} STMT_END
  ^~~~~~~~
/home/david/cpantesting/perl-5.32.0/lib/5.32.0/amd64-freebsd/CORE/perl.h:667:21: note: expanded from macro 'STMT_END'
#   define STMT_END     )
                        ^
In file included from MD5.xs:40:
In file included from /home/david/cpantesting/perl-5.32.0/lib/5.32.0/amd64-freebsd/CORE/perl.h:3918:
In file included from /home/david/cpantesting/perl-5.32.0/lib/5.32.0/amd64-freebsd/CORE/hv.h:663:
In file included from /home/david/cpantesting/perl-5.32.0/lib/5.32.0/amd64-freebsd/CORE/hv_func.h:55:
/home/david/cpantesting/perl-5.32.0/lib/5.32.0/amd64-freebsd/CORE/stadtx_hash.h:116:5: warning: '(' and '{' tokens introducing statement expression appear in different macro expansion contexts [-Wcompound-token-split-by-macro]
    STADTX_SCRAMBLE64(state[1],UINT64_C(0x803340f36895c2b5));
    ^~~~~~~~~~~~~~~~~~~~~~~~~~~~~~~~~~~~~~~~~~~~~~~~~~~~~~~~
/home/david/cpantesting/perl-5.32.0/lib/5.32.0/amd64-freebsd/CORE/stadtx_hash.h:72:36: note: expanded from macro 'STADTX_SCRAMBLE64'
#define STADTX_SCRAMBLE64(v,prime) STMT_START {    \
                                   ^~~~~~~~~~
/home/david/cpantesting/perl-5.32.0/lib/5.32.0/amd64-freebsd/CORE/perl.h:666:29: note: expanded from macro 'STMT_START'
#   define STMT_START   (void)( /* gcc supports "({ STATEMENTS; })" */
                              ^
/home/david/cpantesting/perl-5.32.0/lib/5.32.0/amd64-freebsd/CORE/stadtx_hash.h:116:5: note: '{' token is here
    STADTX_SCRAMBLE64(state[1],UINT64_C(0x803340f36895c2b5));
    ^~~~~~~~~~~~~~~~~~~~~~~~~~~~~~~~~~~~~~~~~~~~~~~~~~~~~~~~
/home/david/cpantesting/perl-5.32.0/lib/5.32.0/amd64-freebsd/CORE/stadtx_hash.h:72:47: note: expanded from macro 'STADTX_SCRAMBLE64'
#define STADTX_SCRAMBLE64(v,prime) STMT_START {    \
                                              ^
/home/david/cpantesting/perl-5.32.0/lib/5.32.0/amd64-freebsd/CORE/stadtx_hash.h:116:5: warning: '}' and ')' tokens terminating statement expression appear in different macro expansion contexts [-Wcompound-token-split-by-macro]
    STADTX_SCRAMBLE64(state[1],UINT64_C(0x803340f36895c2b5));
    ^~~~~~~~~~~~~~~~~~~~~~~~~~~~~~~~~~~~~~~~~~~~~~~~~~~~~~~~
/home/david/cpantesting/perl-5.32.0/lib/5.32.0/amd64-freebsd/CORE/stadtx_hash.h:79:45: note: expanded from macro 'STADTX_SCRAMBLE64'
    v ^= (v >> 46);                         \
                                            ^
/home/david/cpantesting/perl-5.32.0/lib/5.32.0/amd64-freebsd/CORE/stadtx_hash.h:116:5: note: ')' token is here
    STADTX_SCRAMBLE64(state[1],UINT64_C(0x803340f36895c2b5));
    ^~~~~~~~~~~~~~~~~~~~~~~~~~~~~~~~~~~~~~~~~~~~~~~~~~~~~~~~
/home/david/cpantesting/perl-5.32.0/lib/5.32.0/amd64-freebsd/CORE/stadtx_hash.h:80:3: note: expanded from macro 'STADTX_SCRAMBLE64'
} STMT_END
  ^~~~~~~~
/home/david/cpantesting/perl-5.32.0/lib/5.32.0/amd64-freebsd/CORE/perl.h:667:21: note: expanded from macro 'STMT_END'
#   define STMT_END     )
                        ^
In file included from MD5.xs:40:
In file included from /home/david/cpantesting/perl-5.32.0/lib/5.32.0/amd64-freebsd/CORE/perl.h:3918:
In file included from /home/david/cpantesting/perl-5.32.0/lib/5.32.0/amd64-freebsd/CORE/hv.h:663:
In file included from /home/david/cpantesting/perl-5.32.0/lib/5.32.0/amd64-freebsd/CORE/hv_func.h:55:
/home/david/cpantesting/perl-5.32.0/lib/5.32.0/amd64-freebsd/CORE/stadtx_hash.h:117:5: warning: '(' and '{' tokens introducing statement expression appear in different macro expansion contexts [-Wcompound-token-split-by-macro]
    STADTX_SCRAMBLE64(state[2],UINT64_C(0xbea9344eb7565eeb));
    ^~~~~~~~~~~~~~~~~~~~~~~~~~~~~~~~~~~~~~~~~~~~~~~~~~~~~~~~
/home/david/cpantesting/perl-5.32.0/lib/5.32.0/amd64-freebsd/CORE/stadtx_hash.h:72:36: note: expanded from macro 'STADTX_SCRAMBLE64'
#define STADTX_SCRAMBLE64(v,prime) STMT_START {    \
                                   ^~~~~~~~~~
/home/david/cpantesting/perl-5.32.0/lib/5.32.0/amd64-freebsd/CORE/perl.h:666:29: note: expanded from macro 'STMT_START'
#   define STMT_START   (void)( /* gcc supports "({ STATEMENTS; })" */
                              ^
/home/david/cpantesting/perl-5.32.0/lib/5.32.0/amd64-freebsd/CORE/stadtx_hash.h:117:5: note: '{' token is here
    STADTX_SCRAMBLE64(state[2],UINT64_C(0xbea9344eb7565eeb));
    ^~~~~~~~~~~~~~~~~~~~~~~~~~~~~~~~~~~~~~~~~~~~~~~~~~~~~~~~
/home/david/cpantesting/perl-5.32.0/lib/5.32.0/amd64-freebsd/CORE/stadtx_hash.h:72:47: note: expanded from macro 'STADTX_SCRAMBLE64'
#define STADTX_SCRAMBLE64(v,prime) STMT_START {    \
                                              ^
/home/david/cpantesting/perl-5.32.0/lib/5.32.0/amd64-freebsd/CORE/stadtx_hash.h:117:5: warning: '}' and ')' tokens terminating statement expression appear in different macro expansion contexts [-Wcompound-token-split-by-macro]
    STADTX_SCRAMBLE64(state[2],UINT64_C(0xbea9344eb7565eeb));
    ^~~~~~~~~~~~~~~~~~~~~~~~~~~~~~~~~~~~~~~~~~~~~~~~~~~~~~~~
/home/david/cpantesting/perl-5.32.0/lib/5.32.0/amd64-freebsd/CORE/stadtx_hash.h:79:45: note: expanded from macro 'STADTX_SCRAMBLE64'
    v ^= (v >> 46);                         \
                                            ^
/home/david/cpantesting/perl-5.32.0/lib/5.32.0/amd64-freebsd/CORE/stadtx_hash.h:117:5: note: ')' token is here
    STADTX_SCRAMBLE64(state[2],UINT64_C(0xbea9344eb7565eeb));
    ^~~~~~~~~~~~~~~~~~~~~~~~~~~~~~~~~~~~~~~~~~~~~~~~~~~~~~~~
/home/david/cpantesting/perl-5.32.0/lib/5.32.0/amd64-freebsd/CORE/stadtx_hash.h:80:3: note: expanded from macro 'STADTX_SCRAMBLE64'
} STMT_END
  ^~~~~~~~
/home/david/cpantesting/perl-5.32.0/lib/5.32.0/amd64-freebsd/CORE/perl.h:667:21: note: expanded from macro 'STMT_END'
#   define STMT_END     )
                        ^
In file included from MD5.xs:40:
In file included from /home/david/cpantesting/perl-5.32.0/lib/5.32.0/amd64-freebsd/CORE/perl.h:3918:
In file included from /home/david/cpantesting/perl-5.32.0/lib/5.32.0/amd64-freebsd/CORE/hv.h:663:
In file included from /home/david/cpantesting/perl-5.32.0/lib/5.32.0/amd64-freebsd/CORE/hv_func.h:55:
/home/david/cpantesting/perl-5.32.0/lib/5.32.0/amd64-freebsd/CORE/stadtx_hash.h:118:5: warning: '(' and '{' tokens introducing statement expression appear in different macro expansion contexts [-Wcompound-token-split-by-macro]
    STADTX_SCRAMBLE64(state[2],UINT64_C(0xcd95d1e509b995cd));
    ^~~~~~~~~~~~~~~~~~~~~~~~~~~~~~~~~~~~~~~~~~~~~~~~~~~~~~~~
/home/david/cpantesting/perl-5.32.0/lib/5.32.0/amd64-freebsd/CORE/stadtx_hash.h:72:36: note: expanded from macro 'STADTX_SCRAMBLE64'
#define STADTX_SCRAMBLE64(v,prime) STMT_START {    \
                                   ^~~~~~~~~~
/home/david/cpantesting/perl-5.32.0/lib/5.32.0/amd64-freebsd/CORE/perl.h:666:29: note: expanded from macro 'STMT_START'
#   define STMT_START   (void)( /* gcc supports "({ STATEMENTS; })" */
                              ^
/home/david/cpantesting/perl-5.32.0/lib/5.32.0/amd64-freebsd/CORE/stadtx_hash.h:118:5: note: '{' token is here
    STADTX_SCRAMBLE64(state[2],UINT64_C(0xcd95d1e509b995cd));
    ^~~~~~~~~~~~~~~~~~~~~~~~~~~~~~~~~~~~~~~~~~~~~~~~~~~~~~~~
/home/david/cpantesting/perl-5.32.0/lib/5.32.0/amd64-freebsd/CORE/stadtx_hash.h:72:47: note: expanded from macro 'STADTX_SCRAMBLE64'
#define STADTX_SCRAMBLE64(v,prime) STMT_START {    \
                                              ^
/home/david/cpantesting/perl-5.32.0/lib/5.32.0/amd64-freebsd/CORE/stadtx_hash.h:118:5: warning: '}' and ')' tokens terminating statement expression appear in different macro expansion contexts [-Wcompound-token-split-by-macro]
    STADTX_SCRAMBLE64(state[2],UINT64_C(0xcd95d1e509b995cd));
    ^~~~~~~~~~~~~~~~~~~~~~~~~~~~~~~~~~~~~~~~~~~~~~~~~~~~~~~~
/home/david/cpantesting/perl-5.32.0/lib/5.32.0/amd64-freebsd/CORE/stadtx_hash.h:79:45: note: expanded from macro 'STADTX_SCRAMBLE64'
    v ^= (v >> 46);                         \
                                            ^
/home/david/cpantesting/perl-5.32.0/lib/5.32.0/amd64-freebsd/CORE/stadtx_hash.h:118:5: note: ')' token is here
    STADTX_SCRAMBLE64(state[2],UINT64_C(0xcd95d1e509b995cd));
    ^~~~~~~~~~~~~~~~~~~~~~~~~~~~~~~~~~~~~~~~~~~~~~~~~~~~~~~~
/home/david/cpantesting/perl-5.32.0/lib/5.32.0/amd64-freebsd/CORE/stadtx_hash.h:80:3: note: expanded from macro 'STADTX_SCRAMBLE64'
} STMT_END
  ^~~~~~~~
/home/david/cpantesting/perl-5.32.0/lib/5.32.0/amd64-freebsd/CORE/perl.h:667:21: note: expanded from macro 'STMT_END'
#   define STMT_END     )
                        ^
In file included from MD5.xs:40:
In file included from /home/david/cpantesting/perl-5.32.0/lib/5.32.0/amd64-freebsd/CORE/perl.h:3918:
In file included from /home/david/cpantesting/perl-5.32.0/lib/5.32.0/amd64-freebsd/CORE/hv.h:663:
In file included from /home/david/cpantesting/perl-5.32.0/lib/5.32.0/amd64-freebsd/CORE/hv_func.h:55:
/home/david/cpantesting/perl-5.32.0/lib/5.32.0/amd64-freebsd/CORE/stadtx_hash.h:119:5: warning: '(' and '{' tokens introducing statement expression appear in different macro expansion contexts [-Wcompound-token-split-by-macro]
    STADTX_SCRAMBLE64(state[3],UINT64_C(0x9999791977e30c13));
    ^~~~~~~~~~~~~~~~~~~~~~~~~~~~~~~~~~~~~~~~~~~~~~~~~~~~~~~~
/home/david/cpantesting/perl-5.32.0/lib/5.32.0/amd64-freebsd/CORE/stadtx_hash.h:72:36: note: expanded from macro 'STADTX_SCRAMBLE64'
#define STADTX_SCRAMBLE64(v,prime) STMT_START {    \
                                   ^~~~~~~~~~
/home/david/cpantesting/perl-5.32.0/lib/5.32.0/amd64-freebsd/CORE/perl.h:666:29: note: expanded from macro 'STMT_START'
#   define STMT_START   (void)( /* gcc supports "({ STATEMENTS; })" */
                              ^
/home/david/cpantesting/perl-5.32.0/lib/5.32.0/amd64-freebsd/CORE/stadtx_hash.h:119:5: note: '{' token is here
    STADTX_SCRAMBLE64(state[3],UINT64_C(0x9999791977e30c13));
    ^~~~~~~~~~~~~~~~~~~~~~~~~~~~~~~~~~~~~~~~~~~~~~~~~~~~~~~~
/home/david/cpantesting/perl-5.32.0/lib/5.32.0/amd64-freebsd/CORE/stadtx_hash.h:72:47: note: expanded from macro 'STADTX_SCRAMBLE64'
#define STADTX_SCRAMBLE64(v,prime) STMT_START {    \
                                              ^
/home/david/cpantesting/perl-5.32.0/lib/5.32.0/amd64-freebsd/CORE/stadtx_hash.h:119:5: warning: '}' and ')' tokens terminating statement expression appear in different macro expansion contexts [-Wcompound-token-split-by-macro]
    STADTX_SCRAMBLE64(state[3],UINT64_C(0x9999791977e30c13));
    ^~~~~~~~~~~~~~~~~~~~~~~~~~~~~~~~~~~~~~~~~~~~~~~~~~~~~~~~
/home/david/cpantesting/perl-5.32.0/lib/5.32.0/amd64-freebsd/CORE/stadtx_hash.h:79:45: note: expanded from macro 'STADTX_SCRAMBLE64'
    v ^= (v >> 46);                         \
                                            ^
/home/david/cpantesting/perl-5.32.0/lib/5.32.0/amd64-freebsd/CORE/stadtx_hash.h:119:5: note: ')' token is here
    STADTX_SCRAMBLE64(state[3],UINT64_C(0x9999791977e30c13));
    ^~~~~~~~~~~~~~~~~~~~~~~~~~~~~~~~~~~~~~~~~~~~~~~~~~~~~~~~
/home/david/cpantesting/perl-5.32.0/lib/5.32.0/amd64-freebsd/CORE/stadtx_hash.h:80:3: note: expanded from macro 'STADTX_SCRAMBLE64'
} STMT_END
  ^~~~~~~~
/home/david/cpantesting/perl-5.32.0/lib/5.32.0/amd64-freebsd/CORE/perl.h:667:21: note: expanded from macro 'STMT_END'
#   define STMT_END     )
                        ^
In file included from MD5.xs:40:
In file included from /home/david/cpantesting/perl-5.32.0/lib/5.32.0/amd64-freebsd/CORE/perl.h:3918:
In file included from /home/david/cpantesting/perl-5.32.0/lib/5.32.0/amd64-freebsd/CORE/hv.h:663:
In file included from /home/david/cpantesting/perl-5.32.0/lib/5.32.0/amd64-freebsd/CORE/hv_func.h:55:
/home/david/cpantesting/perl-5.32.0/lib/5.32.0/amd64-freebsd/CORE/stadtx_hash.h:120:5: warning: '(' and '{' tokens introducing statement expression appear in different macro expansion contexts [-Wcompound-token-split-by-macro]
    STADTX_SCRAMBLE64(state[3],UINT64_C(0xaab8b6b05abfc6cd));
    ^~~~~~~~~~~~~~~~~~~~~~~~~~~~~~~~~~~~~~~~~~~~~~~~~~~~~~~~
/home/david/cpantesting/perl-5.32.0/lib/5.32.0/amd64-freebsd/CORE/stadtx_hash.h:72:36: note: expanded from macro 'STADTX_SCRAMBLE64'
#define STADTX_SCRAMBLE64(v,prime) STMT_START {    \
                                   ^~~~~~~~~~
/home/david/cpantesting/perl-5.32.0/lib/5.32.0/amd64-freebsd/CORE/perl.h:666:29: note: expanded from macro 'STMT_START'
#   define STMT_START   (void)( /* gcc supports "({ STATEMENTS; })" */
                              ^
/home/david/cpantesting/perl-5.32.0/lib/5.32.0/amd64-freebsd/CORE/stadtx_hash.h:120:5: note: '{' token is here
    STADTX_SCRAMBLE64(state[3],UINT64_C(0xaab8b6b05abfc6cd));
    ^~~~~~~~~~~~~~~~~~~~~~~~~~~~~~~~~~~~~~~~~~~~~~~~~~~~~~~~
/home/david/cpantesting/perl-5.32.0/lib/5.32.0/amd64-freebsd/CORE/stadtx_hash.h:72:47: note: expanded from macro 'STADTX_SCRAMBLE64'
#define STADTX_SCRAMBLE64(v,prime) STMT_START {    \
                                              ^
/home/david/cpantesting/perl-5.32.0/lib/5.32.0/amd64-freebsd/CORE/stadtx_hash.h:120:5: warning: '}' and ')' tokens terminating statement expression appear in different macro expansion contexts [-Wcompound-token-split-by-macro]
    STADTX_SCRAMBLE64(state[3],UINT64_C(0xaab8b6b05abfc6cd));
    ^~~~~~~~~~~~~~~~~~~~~~~~~~~~~~~~~~~~~~~~~~~~~~~~~~~~~~~~
/home/david/cpantesting/perl-5.32.0/lib/5.32.0/amd64-freebsd/CORE/stadtx_hash.h:79:45: note: expanded from macro 'STADTX_SCRAMBLE64'
    v ^= (v >> 46);                         \
                                            ^
/home/david/cpantesting/perl-5.32.0/lib/5.32.0/amd64-freebsd/CORE/stadtx_hash.h:120:5: note: ')' token is here
    STADTX_SCRAMBLE64(state[3],UINT64_C(0xaab8b6b05abfc6cd));
    ^~~~~~~~~~~~~~~~~~~~~~~~~~~~~~~~~~~~~~~~~~~~~~~~~~~~~~~~
/home/david/cpantesting/perl-5.32.0/lib/5.32.0/amd64-freebsd/CORE/stadtx_hash.h:80:3: note: expanded from macro 'STADTX_SCRAMBLE64'
} STMT_END
  ^~~~~~~~
/home/david/cpantesting/perl-5.32.0/lib/5.32.0/amd64-freebsd/CORE/perl.h:667:21: note: expanded from macro 'STMT_END'
#   define STMT_END     )
                        ^
In file included from MD5.xs:40:
In file included from /home/david/cpantesting/perl-5.32.0/lib/5.32.0/amd64-freebsd/CORE/perl.h:3918:
In file included from /home/david/cpantesting/perl-5.32.0/lib/5.32.0/amd64-freebsd/CORE/hv.h:663:
/home/david/cpantesting/perl-5.32.0/lib/5.32.0/amd64-freebsd/CORE/hv_func.h:107:5: warning: '(' and '{' tokens introducing statement expression appear in different macro expansion contexts [-Wcompound-token-split-by-macro]
    _PERL_HASH_SEED_STATE(seed,state);
    ^~~~~~~~~~~~~~~~~~~~~~~~~~~~~~~~~
/home/david/cpantesting/perl-5.32.0/lib/5.32.0/amd64-freebsd/CORE/hv_func.h:91:43: note: expanded from macro '_PERL_HASH_SEED_STATE'
#define _PERL_HASH_SEED_STATE(seed,state) STMT_START {                                      \
                                          ^~~~~~~~~~
/home/david/cpantesting/perl-5.32.0/lib/5.32.0/amd64-freebsd/CORE/perl.h:666:29: note: expanded from macro 'STMT_START'
#   define STMT_START   (void)( /* gcc supports "({ STATEMENTS; })" */
                              ^
/home/david/cpantesting/perl-5.32.0/lib/5.32.0/amd64-freebsd/CORE/hv_func.h:107:5: note: '{' token is here
    _PERL_HASH_SEED_STATE(seed,state);
    ^~~~~~~~~~~~~~~~~~~~~~~~~~~~~~~~~
/home/david/cpantesting/perl-5.32.0/lib/5.32.0/amd64-freebsd/CORE/hv_func.h:91:54: note: expanded from macro '_PERL_HASH_SEED_STATE'
#define _PERL_HASH_SEED_STATE(seed,state) STMT_START {                                      \
                                                     ^
/home/david/cpantesting/perl-5.32.0/lib/5.32.0/amd64-freebsd/CORE/hv_func.h:107:5: warning: '}' and ')' tokens terminating statement expression appear in different macro expansion contexts [-Wcompound-token-split-by-macro]
    _PERL_HASH_SEED_STATE(seed,state);
    ^~~~~~~~~~~~~~~~~~~~~~~~~~~~~~~~~
/home/david/cpantesting/perl-5.32.0/lib/5.32.0/amd64-freebsd/CORE/hv_func.h:93:93: note: expanded from macro '_PERL_HASH_SEED_STATE'
    sbox32_seed_state96(seed + __PERL_HASH_SEED_BYTES, state + __PERL_HASH_STATE_BYTES);    \
                                                                                            ^
/home/david/cpantesting/perl-5.32.0/lib/5.32.0/amd64-freebsd/CORE/hv_func.h:107:5: note: ')' token is here
    _PERL_HASH_SEED_STATE(seed,state);
    ^~~~~~~~~~~~~~~~~~~~~~~~~~~~~~~~~
/home/david/cpantesting/perl-5.32.0/lib/5.32.0/amd64-freebsd/CORE/hv_func.h:94:3: note: expanded from macro '_PERL_HASH_SEED_STATE'
} STMT_END
  ^~~~~~~~
/home/david/cpantesting/perl-5.32.0/lib/5.32.0/amd64-freebsd/CORE/perl.h:667:21: note: expanded from macro 'STMT_END'
#   define STMT_END     )
                        ^
In file included from MD5.xs:40:
In file included from /home/david/cpantesting/perl-5.32.0/lib/5.32.0/amd64-freebsd/CORE/perl.h:3918:
In file included from /home/david/cpantesting/perl-5.32.0/lib/5.32.0/amd64-freebsd/CORE/hv.h:663:
/home/david/cpantesting/perl-5.32.0/lib/5.32.0/amd64-freebsd/CORE/hv_func.h:274:6: warning: '(' and '{' tokens introducing statement expression appear in different macro expansion contexts [-Wcompound-token-split-by-macro]
    ,SIPROUND;
     ^~~~~~~~
/home/david/cpantesting/perl-5.32.0/lib/5.32.0/amd64-freebsd/CORE/hv_func.h:175:3: note: expanded from macro 'SIPROUND'
  STMT_START {              \
  ^~~~~~~~~~
/home/david/cpantesting/perl-5.32.0/lib/5.32.0/amd64-freebsd/CORE/perl.h:666:29: note: expanded from macro 'STMT_START'
#   define STMT_START   (void)( /* gcc supports "({ STATEMENTS; })" */
                              ^
/home/david/cpantesting/perl-5.32.0/lib/5.32.0/amd64-freebsd/CORE/hv_func.h:219:5: note: expanded from macro 'PERL_SIPHASH_FNC'
    SIP_ROUNDS;                             \
    ^~~~~~~~~~
/home/david/cpantesting/perl-5.32.0/lib/5.32.0/amd64-freebsd/CORE/hv_func.h:274:6: note: '{' token is here
    ,SIPROUND;
     ^~~~~~~~
/home/david/cpantesting/perl-5.32.0/lib/5.32.0/amd64-freebsd/CORE/hv_func.h:175:14: note: expanded from macro 'SIPROUND'
  STMT_START {              \
             ^
/home/david/cpantesting/perl-5.32.0/lib/5.32.0/amd64-freebsd/CORE/hv_func.h:219:5: note: expanded from macro 'PERL_SIPHASH_FNC'
    SIP_ROUNDS;                             \
    ^~~~~~~~~~
/home/david/cpantesting/perl-5.32.0/lib/5.32.0/amd64-freebsd/CORE/hv_func.h:274:6: warning: '}' and ')' tokens terminating statement expression appear in different macro expansion contexts [-Wcompound-token-split-by-macro]
    ,SIPROUND;
     ^~~~~~~~
/home/david/cpantesting/perl-5.32.0/lib/5.32.0/amd64-freebsd/CORE/hv_func.h:180:3: note: expanded from macro 'SIPROUND'
  } STMT_END
  ^
/home/david/cpantesting/perl-5.32.0/lib/5.32.0/amd64-freebsd/CORE/hv_func.h:219:5: note: expanded from macro 'PERL_SIPHASH_FNC'
    SIP_ROUNDS;                             \
    ^~~~~~~~~~
/home/david/cpantesting/perl-5.32.0/lib/5.32.0/amd64-freebsd/CORE/hv_func.h:274:6: note: ')' token is here
    ,SIPROUND;
     ^~~~~~~~
/home/david/cpantesting/perl-5.32.0/lib/5.32.0/amd64-freebsd/CORE/hv_func.h:180:5: note: expanded from macro 'SIPROUND'
  } STMT_END
    ^~~~~~~~
/home/david/cpantesting/perl-5.32.0/lib/5.32.0/amd64-freebsd/CORE/perl.h:667:21: note: expanded from macro 'STMT_END'
#   define STMT_END     )
                        ^
/home/david/cpantesting/perl-5.32.0/lib/5.32.0/amd64-freebsd/CORE/hv_func.h:219:5: note: expanded from macro 'PERL_SIPHASH_FNC'
    SIP_ROUNDS;                             \
    ^~~~~~~~~~
/home/david/cpantesting/perl-5.32.0/lib/5.32.0/amd64-freebsd/CORE/hv_func.h:274:6: warning: '(' and '{' tokens introducing statement expression appear in different macro expansion contexts [-Wcompound-token-split-by-macro]
    ,SIPROUND;
     ^~~~~~~~
/home/david/cpantesting/perl-5.32.0/lib/5.32.0/amd64-freebsd/CORE/hv_func.h:175:3: note: expanded from macro 'SIPROUND'
  STMT_START {              \
  ^~~~~~~~~~
/home/david/cpantesting/perl-5.32.0/lib/5.32.0/amd64-freebsd/CORE/perl.h:666:29: note: expanded from macro 'STMT_START'
#   define STMT_START   (void)( /* gcc supports "({ STATEMENTS; })" */
                              ^
/home/david/cpantesting/perl-5.32.0/lib/5.32.0/amd64-freebsd/CORE/hv_func.h:238:3: note: expanded from macro 'PERL_SIPHASH_FNC'
  SIP_ROUNDS;                               \
  ^~~~~~~~~~
/home/david/cpantesting/perl-5.32.0/lib/5.32.0/amd64-freebsd/CORE/hv_func.h:274:6: note: '{' token is here
    ,SIPROUND;
     ^~~~~~~~
/home/david/cpantesting/perl-5.32.0/lib/5.32.0/amd64-freebsd/CORE/hv_func.h:175:14: note: expanded from macro 'SIPROUND'
  STMT_START {              \
             ^
/home/david/cpantesting/perl-5.32.0/lib/5.32.0/amd64-freebsd/CORE/hv_func.h:238:3: note: expanded from macro 'PERL_SIPHASH_FNC'
  SIP_ROUNDS;                               \
  ^~~~~~~~~~
/home/david/cpantesting/perl-5.32.0/lib/5.32.0/amd64-freebsd/CORE/hv_func.h:274:6: warning: '}' and ')' tokens terminating statement expression appear in different macro expansion contexts [-Wcompound-token-split-by-macro]
    ,SIPROUND;
     ^~~~~~~~
/home/david/cpantesting/perl-5.32.0/lib/5.32.0/amd64-freebsd/CORE/hv_func.h:180:3: note: expanded from macro 'SIPROUND'
  } STMT_END
  ^
/home/david/cpantesting/perl-5.32.0/lib/5.32.0/amd64-freebsd/CORE/hv_func.h:238:3: note: expanded from macro 'PERL_SIPHASH_FNC'
  SIP_ROUNDS;                               \
  ^~~~~~~~~~
/home/david/cpantesting/perl-5.32.0/lib/5.32.0/amd64-freebsd/CORE/hv_func.h:274:6: note: ')' token is here
    ,SIPROUND;
     ^~~~~~~~
/home/david/cpantesting/perl-5.32.0/lib/5.32.0/amd64-freebsd/CORE/hv_func.h:180:5: note: expanded from macro 'SIPROUND'
  } STMT_END
    ^~~~~~~~
/home/david/cpantesting/perl-5.32.0/lib/5.32.0/amd64-freebsd/CORE/perl.h:667:21: note: expanded from macro 'STMT_END'
#   define STMT_END     )
                        ^
/home/david/cpantesting/perl-5.32.0/lib/5.32.0/amd64-freebsd/CORE/hv_func.h:238:3: note: expanded from macro 'PERL_SIPHASH_FNC'
  SIP_ROUNDS;                               \
  ^~~~~~~~~~
/home/david/cpantesting/perl-5.32.0/lib/5.32.0/amd64-freebsd/CORE/hv_func.h:275:6: warning: '(' and '{' tokens introducing statement expression appear in different macro expansion contexts [-Wcompound-token-split-by-macro]
    ,SIPROUND;SIPROUND;SIPROUND;
     ^~~~~~~~
/home/david/cpantesting/perl-5.32.0/lib/5.32.0/amd64-freebsd/CORE/hv_func.h:175:3: note: expanded from macro 'SIPROUND'
  STMT_START {              \
  ^~~~~~~~~~
/home/david/cpantesting/perl-5.32.0/lib/5.32.0/amd64-freebsd/CORE/perl.h:666:29: note: expanded from macro 'STMT_START'
#   define STMT_START   (void)( /* gcc supports "({ STATEMENTS; })" */
                              ^
/home/david/cpantesting/perl-5.32.0/lib/5.32.0/amd64-freebsd/CORE/hv_func.h:244:3: note: expanded from macro 'PERL_SIPHASH_FNC'
  SIP_FINAL_ROUNDS                          \
  ^~~~~~~~~~~~~~~~
/home/david/cpantesting/perl-5.32.0/lib/5.32.0/amd64-freebsd/CORE/hv_func.h:275:6: note: '{' token is here
    ,SIPROUND;SIPROUND;SIPROUND;
     ^~~~~~~~
/home/david/cpantesting/perl-5.32.0/lib/5.32.0/amd64-freebsd/CORE/hv_func.h:175:14: note: expanded from macro 'SIPROUND'
  STMT_START {              \
             ^
/home/david/cpantesting/perl-5.32.0/lib/5.32.0/amd64-freebsd/CORE/hv_func.h:244:3: note: expanded from macro 'PERL_SIPHASH_FNC'
  SIP_FINAL_ROUNDS                          \
  ^~~~~~~~~~~~~~~~
/home/david/cpantesting/perl-5.32.0/lib/5.32.0/amd64-freebsd/CORE/hv_func.h:275:6: warning: '}' and ')' tokens terminating statement expression appear in different macro expansion contexts [-Wcompound-token-split-by-macro]
    ,SIPROUND;SIPROUND;SIPROUND;
     ^~~~~~~~
/home/david/cpantesting/perl-5.32.0/lib/5.32.0/amd64-freebsd/CORE/hv_func.h:180:3: note: expanded from macro 'SIPROUND'
  } STMT_END
  ^
/home/david/cpantesting/perl-5.32.0/lib/5.32.0/amd64-freebsd/CORE/hv_func.h:244:3: note: expanded from macro 'PERL_SIPHASH_FNC'
  SIP_FINAL_ROUNDS                          \
  ^~~~~~~~~~~~~~~~
/home/david/cpantesting/perl-5.32.0/lib/5.32.0/amd64-freebsd/CORE/hv_func.h:275:6: note: ')' token is here
    ,SIPROUND;SIPROUND;SIPROUND;
     ^~~~~~~~
/home/david/cpantesting/perl-5.32.0/lib/5.32.0/amd64-freebsd/CORE/hv_func.h:180:5: note: expanded from macro 'SIPROUND'
  } STMT_END
    ^~~~~~~~
/home/david/cpantesting/perl-5.32.0/lib/5.32.0/amd64-freebsd/CORE/perl.h:667:21: note: expanded from macro 'STMT_END'
#   define STMT_END     )
                        ^
/home/david/cpantesting/perl-5.32.0/lib/5.32.0/amd64-freebsd/CORE/hv_func.h:244:3: note: expanded from macro 'PERL_SIPHASH_FNC'
  SIP_FINAL_ROUNDS                          \
  ^~~~~~~~~~~~~~~~
/home/david/cpantesting/perl-5.32.0/lib/5.32.0/amd64-freebsd/CORE/hv_func.h:275:15: warning: '(' and '{' tokens introducing statement expression appear in different macro expansion contexts [-Wcompound-token-split-by-macro]
    ,SIPROUND;SIPROUND;SIPROUND;
              ^~~~~~~~
/home/david/cpantesting/perl-5.32.0/lib/5.32.0/amd64-freebsd/CORE/hv_func.h:175:3: note: expanded from macro 'SIPROUND'
  STMT_START {              \
  ^~~~~~~~~~
/home/david/cpantesting/perl-5.32.0/lib/5.32.0/amd64-freebsd/CORE/perl.h:666:29: note: expanded from macro 'STMT_START'
#   define STMT_START   (void)( /* gcc supports "({ STATEMENTS; })" */
                              ^
/home/david/cpantesting/perl-5.32.0/lib/5.32.0/amd64-freebsd/CORE/hv_func.h:244:3: note: expanded from macro 'PERL_SIPHASH_FNC'
  SIP_FINAL_ROUNDS                          \
  ^~~~~~~~~~~~~~~~
/home/david/cpantesting/perl-5.32.0/lib/5.32.0/amd64-freebsd/CORE/hv_func.h:275:15: note: '{' token is here
    ,SIPROUND;SIPROUND;SIPROUND;
              ^~~~~~~~
/home/david/cpantesting/perl-5.32.0/lib/5.32.0/amd64-freebsd/CORE/hv_func.h:175:14: note: expanded from macro 'SIPROUND'
  STMT_START {              \
             ^
/home/david/cpantesting/perl-5.32.0/lib/5.32.0/amd64-freebsd/CORE/hv_func.h:244:3: note: expanded from macro 'PERL_SIPHASH_FNC'
  SIP_FINAL_ROUNDS                          \
  ^~~~~~~~~~~~~~~~
/home/david/cpantesting/perl-5.32.0/lib/5.32.0/amd64-freebsd/CORE/hv_func.h:275:15: warning: '}' and ')' tokens terminating statement expression appear in different macro expansion contexts [-Wcompound-token-split-by-macro]
    ,SIPROUND;SIPROUND;SIPROUND;
              ^~~~~~~~
/home/david/cpantesting/perl-5.32.0/lib/5.32.0/amd64-freebsd/CORE/hv_func.h:180:3: note: expanded from macro 'SIPROUND'
  } STMT_END
  ^
/home/david/cpantesting/perl-5.32.0/lib/5.32.0/amd64-freebsd/CORE/hv_func.h:244:3: note: expanded from macro 'PERL_SIPHASH_FNC'
  SIP_FINAL_ROUNDS                          \
  ^~~~~~~~~~~~~~~~
/home/david/cpantesting/perl-5.32.0/lib/5.32.0/amd64-freebsd/CORE/hv_func.h:275:15: note: ')' token is here
    ,SIPROUND;SIPROUND;SIPROUND;
              ^~~~~~~~
/home/david/cpantesting/perl-5.32.0/lib/5.32.0/amd64-freebsd/CORE/hv_func.h:180:5: note: expanded from macro 'SIPROUND'
  } STMT_END
    ^~~~~~~~
/home/david/cpantesting/perl-5.32.0/lib/5.32.0/amd64-freebsd/CORE/perl.h:667:21: note: expanded from macro 'STMT_END'
#   define STMT_END     )
                        ^
/home/david/cpantesting/perl-5.32.0/lib/5.32.0/amd64-freebsd/CORE/hv_func.h:244:3: note: expanded from macro 'PERL_SIPHASH_FNC'
  SIP_FINAL_ROUNDS                          \
  ^~~~~~~~~~~~~~~~
/home/david/cpantesting/perl-5.32.0/lib/5.32.0/amd64-freebsd/CORE/hv_func.h:275:24: warning: '(' and '{' tokens introducing statement expression appear in different macro expansion contexts [-Wcompound-token-split-by-macro]
    ,SIPROUND;SIPROUND;SIPROUND;
                       ^~~~~~~~
/home/david/cpantesting/perl-5.32.0/lib/5.32.0/amd64-freebsd/CORE/hv_func.h:175:3: note: expanded from macro 'SIPROUND'
  STMT_START {              \
  ^~~~~~~~~~
/home/david/cpantesting/perl-5.32.0/lib/5.32.0/amd64-freebsd/CORE/perl.h:666:29: note: expanded from macro 'STMT_START'
#   define STMT_START   (void)( /* gcc supports "({ STATEMENTS; })" */
                              ^
/home/david/cpantesting/perl-5.32.0/lib/5.32.0/amd64-freebsd/CORE/hv_func.h:244:3: note: expanded from macro 'PERL_SIPHASH_FNC'
  SIP_FINAL_ROUNDS                          \
  ^~~~~~~~~~~~~~~~
/home/david/cpantesting/perl-5.32.0/lib/5.32.0/amd64-freebsd/CORE/hv_func.h:275:24: note: '{' token is here
    ,SIPROUND;SIPROUND;SIPROUND;
                       ^~~~~~~~
/home/david/cpantesting/perl-5.32.0/lib/5.32.0/amd64-freebsd/CORE/hv_func.h:175:14: note: expanded from macro 'SIPROUND'
  STMT_START {              \
             ^
/home/david/cpantesting/perl-5.32.0/lib/5.32.0/amd64-freebsd/CORE/hv_func.h:244:3: note: expanded from macro 'PERL_SIPHASH_FNC'
  SIP_FINAL_ROUNDS                          \
  ^~~~~~~~~~~~~~~~
/home/david/cpantesting/perl-5.32.0/lib/5.32.0/amd64-freebsd/CORE/hv_func.h:275:24: warning: '}' and ')' tokens terminating statement expression appear in different macro expansion contexts [-Wcompound-token-split-by-macro]
    ,SIPROUND;SIPROUND;SIPROUND;
                       ^~~~~~~~
/home/david/cpantesting/perl-5.32.0/lib/5.32.0/amd64-freebsd/CORE/hv_func.h:180:3: note: expanded from macro 'SIPROUND'
  } STMT_END
  ^
/home/david/cpantesting/perl-5.32.0/lib/5.32.0/amd64-freebsd/CORE/hv_func.h:244:3: note: expanded from macro 'PERL_SIPHASH_FNC'
  SIP_FINAL_ROUNDS                          \
  ^~~~~~~~~~~~~~~~
/home/david/cpantesting/perl-5.32.0/lib/5.32.0/amd64-freebsd/CORE/hv_func.h:275:24: note: ')' token is here
    ,SIPROUND;SIPROUND;SIPROUND;
                       ^~~~~~~~
/home/david/cpantesting/perl-5.32.0/lib/5.32.0/amd64-freebsd/CORE/hv_func.h:180:5: note: expanded from macro 'SIPROUND'
  } STMT_END
    ^~~~~~~~
/home/david/cpantesting/perl-5.32.0/lib/5.32.0/amd64-freebsd/CORE/perl.h:667:21: note: expanded from macro 'STMT_END'
#   define STMT_END     )
                        ^
/home/david/cpantesting/perl-5.32.0/lib/5.32.0/amd64-freebsd/CORE/hv_func.h:244:3: note: expanded from macro 'PERL_SIPHASH_FNC'
  SIP_FINAL_ROUNDS                          \
  ^~~~~~~~~~~~~~~~
/home/david/cpantesting/perl-5.32.0/lib/5.32.0/amd64-freebsd/CORE/hv_func.h:280:6: warning: '(' and '{' tokens introducing statement expression appear in different macro expansion contexts [-Wcompound-token-split-by-macro]
    ,SIPROUND;SIPROUND;
     ^~~~~~~~
/home/david/cpantesting/perl-5.32.0/lib/5.32.0/amd64-freebsd/CORE/hv_func.h:175:3: note: expanded from macro 'SIPROUND'
  STMT_START {              \
  ^~~~~~~~~~
/home/david/cpantesting/perl-5.32.0/lib/5.32.0/amd64-freebsd/CORE/perl.h:666:29: note: expanded from macro 'STMT_START'
#   define STMT_START   (void)( /* gcc supports "({ STATEMENTS; })" */
                              ^
/home/david/cpantesting/perl-5.32.0/lib/5.32.0/amd64-freebsd/CORE/hv_func.h:219:5: note: expanded from macro 'PERL_SIPHASH_FNC'
    SIP_ROUNDS;                             \
    ^~~~~~~~~~
/home/david/cpantesting/perl-5.32.0/lib/5.32.0/amd64-freebsd/CORE/hv_func.h:280:6: note: '{' token is here
    ,SIPROUND;SIPROUND;
     ^~~~~~~~
/home/david/cpantesting/perl-5.32.0/lib/5.32.0/amd64-freebsd/CORE/hv_func.h:175:14: note: expanded from macro 'SIPROUND'
  STMT_START {              \
             ^
/home/david/cpantesting/perl-5.32.0/lib/5.32.0/amd64-freebsd/CORE/hv_func.h:219:5: note: expanded from macro 'PERL_SIPHASH_FNC'
    SIP_ROUNDS;                             \
    ^~~~~~~~~~
/home/david/cpantesting/perl-5.32.0/lib/5.32.0/amd64-freebsd/CORE/hv_func.h:280:6: warning: '}' and ')' tokens terminating statement expression appear in different macro expansion contexts [-Wcompound-token-split-by-macro]
    ,SIPROUND;SIPROUND;
     ^~~~~~~~
/home/david/cpantesting/perl-5.32.0/lib/5.32.0/amd64-freebsd/CORE/hv_func.h:180:3: note: expanded from macro 'SIPROUND'
  } STMT_END
  ^
/home/david/cpantesting/perl-5.32.0/lib/5.32.0/amd64-freebsd/CORE/hv_func.h:219:5: note: expanded from macro 'PERL_SIPHASH_FNC'
    SIP_ROUNDS;                             \
    ^~~~~~~~~~
/home/david/cpantesting/perl-5.32.0/lib/5.32.0/amd64-freebsd/CORE/hv_func.h:280:6: note: ')' token is here
    ,SIPROUND;SIPROUND;
     ^~~~~~~~
/home/david/cpantesting/perl-5.32.0/lib/5.32.0/amd64-freebsd/CORE/hv_func.h:180:5: note: expanded from macro 'SIPROUND'
  } STMT_END
    ^~~~~~~~
/home/david/cpantesting/perl-5.32.0/lib/5.32.0/amd64-freebsd/CORE/perl.h:667:21: note: expanded from macro 'STMT_END'
#   define STMT_END     )
                        ^
/home/david/cpantesting/perl-5.32.0/lib/5.32.0/amd64-freebsd/CORE/hv_func.h:219:5: note: expanded from macro 'PERL_SIPHASH_FNC'
    SIP_ROUNDS;                             \
    ^~~~~~~~~~
/home/david/cpantesting/perl-5.32.0/lib/5.32.0/amd64-freebsd/CORE/hv_func.h:280:15: warning: '(' and '{' tokens introducing statement expression appear in different macro expansion contexts [-Wcompound-token-split-by-macro]
    ,SIPROUND;SIPROUND;
              ^~~~~~~~
/home/david/cpantesting/perl-5.32.0/lib/5.32.0/amd64-freebsd/CORE/hv_func.h:175:3: note: expanded from macro 'SIPROUND'
  STMT_START {              \
  ^~~~~~~~~~
/home/david/cpantesting/perl-5.32.0/lib/5.32.0/amd64-freebsd/CORE/perl.h:666:29: note: expanded from macro 'STMT_START'
#   define STMT_START   (void)( /* gcc supports "({ STATEMENTS; })" */
                              ^
/home/david/cpantesting/perl-5.32.0/lib/5.32.0/amd64-freebsd/CORE/hv_func.h:219:5: note: expanded from macro 'PERL_SIPHASH_FNC'
    SIP_ROUNDS;                             \
    ^~~~~~~~~~
/home/david/cpantesting/perl-5.32.0/lib/5.32.0/amd64-freebsd/CORE/hv_func.h:280:15: note: '{' token is here
    ,SIPROUND;SIPROUND;
              ^~~~~~~~
/home/david/cpantesting/perl-5.32.0/lib/5.32.0/amd64-freebsd/CORE/hv_func.h:175:14: note: expanded from macro 'SIPROUND'
  STMT_START {              \
             ^
/home/david/cpantesting/perl-5.32.0/lib/5.32.0/amd64-freebsd/CORE/hv_func.h:219:5: note: expanded from macro 'PERL_SIPHASH_FNC'
    SIP_ROUNDS;                             \
    ^~~~~~~~~~
/home/david/cpantesting/perl-5.32.0/lib/5.32.0/amd64-freebsd/CORE/hv_func.h:280:15: warning: '}' and ')' tokens terminating statement expression appear in different macro expansion contexts [-Wcompound-token-split-by-macro]
    ,SIPROUND;SIPROUND;
              ^~~~~~~~
/home/david/cpantesting/perl-5.32.0/lib/5.32.0/amd64-freebsd/CORE/hv_func.h:180:3: note: expanded from macro 'SIPROUND'
  } STMT_END
  ^
/home/david/cpantesting/perl-5.32.0/lib/5.32.0/amd64-freebsd/CORE/hv_func.h:219:5: note: expanded from macro 'PERL_SIPHASH_FNC'
    SIP_ROUNDS;                             \
    ^~~~~~~~~~
/home/david/cpantesting/perl-5.32.0/lib/5.32.0/amd64-freebsd/CORE/hv_func.h:280:15: note: ')' token is here
    ,SIPROUND;SIPROUND;
              ^~~~~~~~
/home/david/cpantesting/perl-5.32.0/lib/5.32.0/amd64-freebsd/CORE/hv_func.h:180:5: note: expanded from macro 'SIPROUND'
  } STMT_END
    ^~~~~~~~
/home/david/cpantesting/perl-5.32.0/lib/5.32.0/amd64-freebsd/CORE/perl.h:667:21: note: expanded from macro 'STMT_END'
#   define STMT_END     )
                        ^
/home/david/cpantesting/perl-5.32.0/lib/5.32.0/amd64-freebsd/CORE/hv_func.h:219:5: note: expanded from macro 'PERL_SIPHASH_FNC'
    SIP_ROUNDS;                             \
    ^~~~~~~~~~
/home/david/cpantesting/perl-5.32.0/lib/5.32.0/amd64-freebsd/CORE/hv_func.h:280:6: warning: '(' and '{' tokens introducing statement expression appear in different macro expansion contexts [-Wcompound-token-split-by-macro]
    ,SIPROUND;SIPROUND;
     ^~~~~~~~
/home/david/cpantesting/perl-5.32.0/lib/5.32.0/amd64-freebsd/CORE/hv_func.h:175:3: note: expanded from macro 'SIPROUND'
  STMT_START {              \
  ^~~~~~~~~~
/home/david/cpantesting/perl-5.32.0/lib/5.32.0/amd64-freebsd/CORE/perl.h:666:29: note: expanded from macro 'STMT_START'
#   define STMT_START   (void)( /* gcc supports "({ STATEMENTS; })" */
                              ^
/home/david/cpantesting/perl-5.32.0/lib/5.32.0/amd64-freebsd/CORE/hv_func.h:238:3: note: expanded from macro 'PERL_SIPHASH_FNC'
  SIP_ROUNDS;                               \
  ^~~~~~~~~~
/home/david/cpantesting/perl-5.32.0/lib/5.32.0/amd64-freebsd/CORE/hv_func.h:280:6: note: '{' token is here
    ,SIPROUND;SIPROUND;
     ^~~~~~~~
/home/david/cpantesting/perl-5.32.0/lib/5.32.0/amd64-freebsd/CORE/hv_func.h:175:14: note: expanded from macro 'SIPROUND'
  STMT_START {              \
             ^
/home/david/cpantesting/perl-5.32.0/lib/5.32.0/amd64-freebsd/CORE/hv_func.h:238:3: note: expanded from macro 'PERL_SIPHASH_FNC'
  SIP_ROUNDS;                               \
  ^~~~~~~~~~
/home/david/cpantesting/perl-5.32.0/lib/5.32.0/amd64-freebsd/CORE/hv_func.h:280:6: warning: '}' and ')' tokens terminating statement expression appear in different macro expansion contexts [-Wcompound-token-split-by-macro]
    ,SIPROUND;SIPROUND;
     ^~~~~~~~
/home/david/cpantesting/perl-5.32.0/lib/5.32.0/amd64-freebsd/CORE/hv_func.h:180:3: note: expanded from macro 'SIPROUND'
  } STMT_END
  ^
/home/david/cpantesting/perl-5.32.0/lib/5.32.0/amd64-freebsd/CORE/hv_func.h:238:3: note: expanded from macro 'PERL_SIPHASH_FNC'
  SIP_ROUNDS;                               \
  ^~~~~~~~~~
/home/david/cpantesting/perl-5.32.0/lib/5.32.0/amd64-freebsd/CORE/hv_func.h:280:6: note: ')' token is here
    ,SIPROUND;SIPROUND;
     ^~~~~~~~
/home/david/cpantesting/perl-5.32.0/lib/5.32.0/amd64-freebsd/CORE/hv_func.h:180:5: note: expanded from macro 'SIPROUND'
  } STMT_END
    ^~~~~~~~
/home/david/cpantesting/perl-5.32.0/lib/5.32.0/amd64-freebsd/CORE/perl.h:667:21: note: expanded from macro 'STMT_END'
#   define STMT_END     )
                        ^
/home/david/cpantesting/perl-5.32.0/lib/5.32.0/amd64-freebsd/CORE/hv_func.h:238:3: note: expanded from macro 'PERL_SIPHASH_FNC'
  SIP_ROUNDS;                               \
  ^~~~~~~~~~
/home/david/cpantesting/perl-5.32.0/lib/5.32.0/amd64-freebsd/CORE/hv_func.h:280:15: warning: '(' and '{' tokens introducing statement expression appear in different macro expansion contexts [-Wcompound-token-split-by-macro]
    ,SIPROUND;SIPROUND;
              ^~~~~~~~
/home/david/cpantesting/perl-5.32.0/lib/5.32.0/amd64-freebsd/CORE/hv_func.h:175:3: note: expanded from macro 'SIPROUND'
  STMT_START {              \
  ^~~~~~~~~~
/home/david/cpantesting/perl-5.32.0/lib/5.32.0/amd64-freebsd/CORE/perl.h:666:29: note: expanded from macro 'STMT_START'
#   define STMT_START   (void)( /* gcc supports "({ STATEMENTS; })" */
                              ^
/home/david/cpantesting/perl-5.32.0/lib/5.32.0/amd64-freebsd/CORE/hv_func.h:238:3: note: expanded from macro 'PERL_SIPHASH_FNC'
  SIP_ROUNDS;                               \
  ^~~~~~~~~~
/home/david/cpantesting/perl-5.32.0/lib/5.32.0/amd64-freebsd/CORE/hv_func.h:280:15: note: '{' token is here
    ,SIPROUND;SIPROUND;
              ^~~~~~~~
/home/david/cpantesting/perl-5.32.0/lib/5.32.0/amd64-freebsd/CORE/hv_func.h:175:14: note: expanded from macro 'SIPROUND'
  STMT_START {              \
             ^
/home/david/cpantesting/perl-5.32.0/lib/5.32.0/amd64-freebsd/CORE/hv_func.h:238:3: note: expanded from macro 'PERL_SIPHASH_FNC'
  SIP_ROUNDS;                               \
  ^~~~~~~~~~
/home/david/cpantesting/perl-5.32.0/lib/5.32.0/amd64-freebsd/CORE/hv_func.h:280:15: warning: '}' and ')' tokens terminating statement expression appear in different macro expansion contexts [-Wcompound-token-split-by-macro]
    ,SIPROUND;SIPROUND;
              ^~~~~~~~
/home/david/cpantesting/perl-5.32.0/lib/5.32.0/amd64-freebsd/CORE/hv_func.h:180:3: note: expanded from macro 'SIPROUND'
  } STMT_END
  ^
/home/david/cpantesting/perl-5.32.0/lib/5.32.0/amd64-freebsd/CORE/hv_func.h:238:3: note: expanded from macro 'PERL_SIPHASH_FNC'
  SIP_ROUNDS;                               \
  ^~~~~~~~~~
/home/david/cpantesting/perl-5.32.0/lib/5.32.0/amd64-freebsd/CORE/hv_func.h:280:15: note: ')' token is here
    ,SIPROUND;SIPROUND;
              ^~~~~~~~
/home/david/cpantesting/perl-5.32.0/lib/5.32.0/amd64-freebsd/CORE/hv_func.h:180:5: note: expanded from macro 'SIPROUND'
  } STMT_END
    ^~~~~~~~
/home/david/cpantesting/perl-5.32.0/lib/5.32.0/amd64-freebsd/CORE/perl.h:667:21: note: expanded from macro 'STMT_END'
#   define STMT_END     )
                        ^
/home/david/cpantesting/perl-5.32.0/lib/5.32.0/amd64-freebsd/CORE/hv_func.h:238:3: note: expanded from macro 'PERL_SIPHASH_FNC'
  SIP_ROUNDS;                               \
  ^~~~~~~~~~
/home/david/cpantesting/perl-5.32.0/lib/5.32.0/amd64-freebsd/CORE/hv_func.h:281:6: warning: '(' and '{' tokens introducing statement expression appear in different macro expansion contexts [-Wcompound-token-split-by-macro]
    ,SIPROUND;SIPROUND;SIPROUND;SIPROUND;
     ^~~~~~~~
/home/david/cpantesting/perl-5.32.0/lib/5.32.0/amd64-freebsd/CORE/hv_func.h:175:3: note: expanded from macro 'SIPROUND'
  STMT_START {              \
  ^~~~~~~~~~
/home/david/cpantesting/perl-5.32.0/lib/5.32.0/amd64-freebsd/CORE/perl.h:666:29: note: expanded from macro 'STMT_START'
#   define STMT_START   (void)( /* gcc supports "({ STATEMENTS; })" */
                              ^
/home/david/cpantesting/perl-5.32.0/lib/5.32.0/amd64-freebsd/CORE/hv_func.h:244:3: note: expanded from macro 'PERL_SIPHASH_FNC'
  SIP_FINAL_ROUNDS                          \
  ^~~~~~~~~~~~~~~~
/home/david/cpantesting/perl-5.32.0/lib/5.32.0/amd64-freebsd/CORE/hv_func.h:281:6: note: '{' token is here
    ,SIPROUND;SIPROUND;SIPROUND;SIPROUND;
     ^~~~~~~~
/home/david/cpantesting/perl-5.32.0/lib/5.32.0/amd64-freebsd/CORE/hv_func.h:175:14: note: expanded from macro 'SIPROUND'
  STMT_START {              \
             ^
/home/david/cpantesting/perl-5.32.0/lib/5.32.0/amd64-freebsd/CORE/hv_func.h:244:3: note: expanded from macro 'PERL_SIPHASH_FNC'
  SIP_FINAL_ROUNDS                          \
  ^~~~~~~~~~~~~~~~
/home/david/cpantesting/perl-5.32.0/lib/5.32.0/amd64-freebsd/CORE/hv_func.h:281:6: warning: '}' and ')' tokens terminating statement expression appear in different macro expansion contexts [-Wcompound-token-split-by-macro]
    ,SIPROUND;SIPROUND;SIPROUND;SIPROUND;
     ^~~~~~~~
/home/david/cpantesting/perl-5.32.0/lib/5.32.0/amd64-freebsd/CORE/hv_func.h:180:3: note: expanded from macro 'SIPROUND'
  } STMT_END
  ^
/home/david/cpantesting/perl-5.32.0/lib/5.32.0/amd64-freebsd/CORE/hv_func.h:244:3: note: expanded from macro 'PERL_SIPHASH_FNC'
  SIP_FINAL_ROUNDS                          \
  ^~~~~~~~~~~~~~~~
/home/david/cpantesting/perl-5.32.0/lib/5.32.0/amd64-freebsd/CORE/hv_func.h:281:6: note: ')' token is here
    ,SIPROUND;SIPROUND;SIPROUND;SIPROUND;
     ^~~~~~~~
/home/david/cpantesting/perl-5.32.0/lib/5.32.0/amd64-freebsd/CORE/hv_func.h:180:5: note: expanded from macro 'SIPROUND'
  } STMT_END
    ^~~~~~~~
/home/david/cpantesting/perl-5.32.0/lib/5.32.0/amd64-freebsd/CORE/perl.h:667:21: note: expanded from macro 'STMT_END'
#   define STMT_END     )
                        ^
/home/david/cpantesting/perl-5.32.0/lib/5.32.0/amd64-freebsd/CORE/hv_func.h:244:3: note: expanded from macro 'PERL_SIPHASH_FNC'
  SIP_FINAL_ROUNDS                          \
  ^~~~~~~~~~~~~~~~
/home/david/cpantesting/perl-5.32.0/lib/5.32.0/amd64-freebsd/CORE/hv_func.h:281:15: warning: '(' and '{' tokens introducing statement expression appear in different macro expansion contexts [-Wcompound-token-split-by-macro]
    ,SIPROUND;SIPROUND;SIPROUND;SIPROUND;
              ^~~~~~~~
/home/david/cpantesting/perl-5.32.0/lib/5.32.0/amd64-freebsd/CORE/hv_func.h:175:3: note: expanded from macro 'SIPROUND'
  STMT_START {              \
  ^~~~~~~~~~
/home/david/cpantesting/perl-5.32.0/lib/5.32.0/amd64-freebsd/CORE/perl.h:666:29: note: expanded from macro 'STMT_START'
#   define STMT_START   (void)( /* gcc supports "({ STATEMENTS; })" */
                              ^
/home/david/cpantesting/perl-5.32.0/lib/5.32.0/amd64-freebsd/CORE/hv_func.h:244:3: note: expanded from macro 'PERL_SIPHASH_FNC'
  SIP_FINAL_ROUNDS                          \
  ^~~~~~~~~~~~~~~~
/home/david/cpantesting/perl-5.32.0/lib/5.32.0/amd64-freebsd/CORE/hv_func.h:281:15: note: '{' token is here
    ,SIPROUND;SIPROUND;SIPROUND;SIPROUND;
              ^~~~~~~~
/home/david/cpantesting/perl-5.32.0/lib/5.32.0/amd64-freebsd/CORE/hv_func.h:175:14: note: expanded from macro 'SIPROUND'
  STMT_START {              \
             ^
/home/david/cpantesting/perl-5.32.0/lib/5.32.0/amd64-freebsd/CORE/hv_func.h:244:3: note: expanded from macro 'PERL_SIPHASH_FNC'
  SIP_FINAL_ROUNDS                          \
  ^~~~~~~~~~~~~~~~
/home/david/cpantesting/perl-5.32.0/lib/5.32.0/amd64-freebsd/CORE/hv_func.h:281:15: warning: '}' and ')' tokens terminating statement expression appear in different macro expansion contexts [-Wcompound-token-split-by-macro]
    ,SIPROUND;SIPROUND;SIPROUND;SIPROUND;
              ^~~~~~~~
/home/david/cpantesting/perl-5.32.0/lib/5.32.0/amd64-freebsd/CORE/hv_func.h:180:3: note: expanded from macro 'SIPROUND'
  } STMT_END
  ^
/home/david/cpantesting/perl-5.32.0/lib/5.32.0/amd64-freebsd/CORE/hv_func.h:244:3: note: expanded from macro 'PERL_SIPHASH_FNC'
  SIP_FINAL_ROUNDS                          \
  ^~~~~~~~~~~~~~~~
/home/david/cpantesting/perl-5.32.0/lib/5.32.0/amd64-freebsd/CORE/hv_func.h:281:15: note: ')' token is here
    ,SIPROUND;SIPROUND;SIPROUND;SIPROUND;
              ^~~~~~~~
/home/david/cpantesting/perl-5.32.0/lib/5.32.0/amd64-freebsd/CORE/hv_func.h:180:5: note: expanded from macro 'SIPROUND'
  } STMT_END
    ^~~~~~~~
/home/david/cpantesting/perl-5.32.0/lib/5.32.0/amd64-freebsd/CORE/perl.h:667:21: note: expanded from macro 'STMT_END'
#   define STMT_END     )
                        ^
/home/david/cpantesting/perl-5.32.0/lib/5.32.0/amd64-freebsd/CORE/hv_func.h:244:3: note: expanded from macro 'PERL_SIPHASH_FNC'
  SIP_FINAL_ROUNDS                          \
  ^~~~~~~~~~~~~~~~
/home/david/cpantesting/perl-5.32.0/lib/5.32.0/amd64-freebsd/CORE/hv_func.h:281:24: warning: '(' and '{' tokens introducing statement expression appear in different macro expansion contexts [-Wcompound-token-split-by-macro]
    ,SIPROUND;SIPROUND;SIPROUND;SIPROUND;
                       ^~~~~~~~
/home/david/cpantesting/perl-5.32.0/lib/5.32.0/amd64-freebsd/CORE/hv_func.h:175:3: note: expanded from macro 'SIPROUND'
  STMT_START {              \
  ^~~~~~~~~~
/home/david/cpantesting/perl-5.32.0/lib/5.32.0/amd64-freebsd/CORE/perl.h:666:29: note: expanded from macro 'STMT_START'
#   define STMT_START   (void)( /* gcc supports "({ STATEMENTS; })" */
                              ^
/home/david/cpantesting/perl-5.32.0/lib/5.32.0/amd64-freebsd/CORE/hv_func.h:244:3: note: expanded from macro 'PERL_SIPHASH_FNC'
  SIP_FINAL_ROUNDS                          \
  ^~~~~~~~~~~~~~~~
/home/david/cpantesting/perl-5.32.0/lib/5.32.0/amd64-freebsd/CORE/hv_func.h:281:24: note: '{' token is here
    ,SIPROUND;SIPROUND;SIPROUND;SIPROUND;
                       ^~~~~~~~
/home/david/cpantesting/perl-5.32.0/lib/5.32.0/amd64-freebsd/CORE/hv_func.h:175:14: note: expanded from macro 'SIPROUND'
  STMT_START {              \
             ^
/home/david/cpantesting/perl-5.32.0/lib/5.32.0/amd64-freebsd/CORE/hv_func.h:244:3: note: expanded from macro 'PERL_SIPHASH_FNC'
  SIP_FINAL_ROUNDS                          \
  ^~~~~~~~~~~~~~~~
/home/david/cpantesting/perl-5.32.0/lib/5.32.0/amd64-freebsd/CORE/hv_func.h:281:24: warning: '}' and ')' tokens terminating statement expression appear in different macro expansion contexts [-Wcompound-token-split-by-macro]
    ,SIPROUND;SIPROUND;SIPROUND;SIPROUND;
                       ^~~~~~~~
/home/david/cpantesting/perl-5.32.0/lib/5.32.0/amd64-freebsd/CORE/hv_func.h:180:3: note: expanded from macro 'SIPROUND'
  } STMT_END
  ^
/home/david/cpantesting/perl-5.32.0/lib/5.32.0/amd64-freebsd/CORE/hv_func.h:244:3: note: expanded from macro 'PERL_SIPHASH_FNC'
  SIP_FINAL_ROUNDS                          \
  ^~~~~~~~~~~~~~~~
/home/david/cpantesting/perl-5.32.0/lib/5.32.0/amd64-freebsd/CORE/hv_func.h:281:24: note: ')' token is here
    ,SIPROUND;SIPROUND;SIPROUND;SIPROUND;
                       ^~~~~~~~
/home/david/cpantesting/perl-5.32.0/lib/5.32.0/amd64-freebsd/CORE/hv_func.h:180:5: note: expanded from macro 'SIPROUND'
  } STMT_END
    ^~~~~~~~
/home/david/cpantesting/perl-5.32.0/lib/5.32.0/amd64-freebsd/CORE/perl.h:667:21: note: expanded from macro 'STMT_END'
#   define STMT_END     )
                        ^
/home/david/cpantesting/perl-5.32.0/lib/5.32.0/amd64-freebsd/CORE/hv_func.h:244:3: note: expanded from macro 'PERL_SIPHASH_FNC'
  SIP_FINAL_ROUNDS                          \
  ^~~~~~~~~~~~~~~~
/home/david/cpantesting/perl-5.32.0/lib/5.32.0/amd64-freebsd/CORE/hv_func.h:281:33: warning: '(' and '{' tokens introducing statement expression appear in different macro expansion contexts [-Wcompound-token-split-by-macro]
    ,SIPROUND;SIPROUND;SIPROUND;SIPROUND;
                                ^~~~~~~~
/home/david/cpantesting/perl-5.32.0/lib/5.32.0/amd64-freebsd/CORE/hv_func.h:175:3: note: expanded from macro 'SIPROUND'
  STMT_START {              \
  ^~~~~~~~~~
/home/david/cpantesting/perl-5.32.0/lib/5.32.0/amd64-freebsd/CORE/perl.h:666:29: note: expanded from macro 'STMT_START'
#   define STMT_START   (void)( /* gcc supports "({ STATEMENTS; })" */
                              ^
/home/david/cpantesting/perl-5.32.0/lib/5.32.0/amd64-freebsd/CORE/hv_func.h:244:3: note: expanded from macro 'PERL_SIPHASH_FNC'
  SIP_FINAL_ROUNDS                          \
  ^~~~~~~~~~~~~~~~
/home/david/cpantesting/perl-5.32.0/lib/5.32.0/amd64-freebsd/CORE/hv_func.h:281:33: note: '{' token is here
    ,SIPROUND;SIPROUND;SIPROUND;SIPROUND;
                                ^~~~~~~~
/home/david/cpantesting/perl-5.32.0/lib/5.32.0/amd64-freebsd/CORE/hv_func.h:175:14: note: expanded from macro 'SIPROUND'
  STMT_START {              \
             ^
/home/david/cpantesting/perl-5.32.0/lib/5.32.0/amd64-freebsd/CORE/hv_func.h:244:3: note: expanded from macro 'PERL_SIPHASH_FNC'
  SIP_FINAL_ROUNDS                          \
  ^~~~~~~~~~~~~~~~
/home/david/cpantesting/perl-5.32.0/lib/5.32.0/amd64-freebsd/CORE/hv_func.h:281:33: warning: '}' and ')' tokens terminating statement expression appear in different macro expansion contexts [-Wcompound-token-split-by-macro]
    ,SIPROUND;SIPROUND;SIPROUND;SIPROUND;
                                ^~~~~~~~
/home/david/cpantesting/perl-5.32.0/lib/5.32.0/amd64-freebsd/CORE/hv_func.h:180:3: note: expanded from macro 'SIPROUND'
  } STMT_END
  ^
/home/david/cpantesting/perl-5.32.0/lib/5.32.0/amd64-freebsd/CORE/hv_func.h:244:3: note: expanded from macro 'PERL_SIPHASH_FNC'
  SIP_FINAL_ROUNDS                          \
  ^~~~~~~~~~~~~~~~
/home/david/cpantesting/perl-5.32.0/lib/5.32.0/amd64-freebsd/CORE/hv_func.h:281:33: note: ')' token is here
    ,SIPROUND;SIPROUND;SIPROUND;SIPROUND;
                                ^~~~~~~~
/home/david/cpantesting/perl-5.32.0/lib/5.32.0/amd64-freebsd/CORE/hv_func.h:180:5: note: expanded from macro 'SIPROUND'
  } STMT_END
    ^~~~~~~~
/home/david/cpantesting/perl-5.32.0/lib/5.32.0/amd64-freebsd/CORE/perl.h:667:21: note: expanded from macro 'STMT_END'
#   define STMT_END     )
                        ^
/home/david/cpantesting/perl-5.32.0/lib/5.32.0/amd64-freebsd/CORE/hv_func.h:244:3: note: expanded from macro 'PERL_SIPHASH_FNC'
  SIP_FINAL_ROUNDS                          \
  ^~~~~~~~~~~~~~~~
In file included from MD5.xs:40:
In file included from /home/david/cpantesting/perl-5.32.0/lib/5.32.0/amd64-freebsd/CORE/perl.h:6158:
/home/david/cpantesting/perl-5.32.0/lib/5.32.0/amd64-freebsd/CORE/inline.h:2209:5: warning: '(' and '{' tokens introducing statement expression appear in different macro expansion contexts [-Wcompound-token-split-by-macro]
    CX_POP_SAVEARRAY(cx);
    ^~~~~~~~~~~~~~~~~~~~
/home/david/cpantesting/perl-5.32.0/lib/5.32.0/amd64-freebsd/CORE/cop.h:657:5: note: expanded from macro 'CX_POP_SAVEARRAY'
    STMT_START {                                                        \
    ^~~~~~~~~~
/home/david/cpantesting/perl-5.32.0/lib/5.32.0/amd64-freebsd/CORE/perl.h:666:29: note: expanded from macro 'STMT_START'
#   define STMT_START   (void)( /* gcc supports "({ STATEMENTS; })" */
                              ^
/home/david/cpantesting/perl-5.32.0/lib/5.32.0/amd64-freebsd/CORE/inline.h:2209:5: note: '{' token is here
    CX_POP_SAVEARRAY(cx);
    ^~~~~~~~~~~~~~~~~~~~
/home/david/cpantesting/perl-5.32.0/lib/5.32.0/amd64-freebsd/CORE/cop.h:657:16: note: expanded from macro 'CX_POP_SAVEARRAY'
    STMT_START {                                                        \
               ^
In file included from MD5.xs:40:
In file included from /home/david/cpantesting/perl-5.32.0/lib/5.32.0/amd64-freebsd/CORE/perl.h:6158:
/home/david/cpantesting/perl-5.32.0/lib/5.32.0/amd64-freebsd/CORE/inline.h:2209:5: warning: '}' and ')' tokens terminating statement expression appear in different macro expansion contexts [-Wcompound-token-split-by-macro]
    CX_POP_SAVEARRAY(cx);
    ^~~~~~~~~~~~~~~~~~~~
/home/david/cpantesting/perl-5.32.0/lib/5.32.0/amd64-freebsd/CORE/cop.h:662:5: note: expanded from macro 'CX_POP_SAVEARRAY'
    } STMT_END
    ^
/home/david/cpantesting/perl-5.32.0/lib/5.32.0/amd64-freebsd/CORE/inline.h:2209:5: note: ')' token is here
    CX_POP_SAVEARRAY(cx);
    ^~~~~~~~~~~~~~~~~~~~
/home/david/cpantesting/perl-5.32.0/lib/5.32.0/amd64-freebsd/CORE/cop.h:662:7: note: expanded from macro 'CX_POP_SAVEARRAY'
    } STMT_END
      ^~~~~~~~
/home/david/cpantesting/perl-5.32.0/lib/5.32.0/amd64-freebsd/CORE/perl.h:667:21: note: expanded from macro 'STMT_END'
#   define STMT_END     )
                        ^
In file included from MD5.xs:40:
In file included from /home/david/cpantesting/perl-5.32.0/lib/5.32.0/amd64-freebsd/CORE/perl.h:6158:
/home/david/cpantesting/perl-5.32.0/lib/5.32.0/amd64-freebsd/CORE/inline.h:2215:9: warning: '(' and '{' tokens introducing statement expression appear in different macro expansion contexts [-Wcompound-token-split-by-macro]
        CLEAR_ARGARRAY(av);
        ^~~~~~~~~~~~~~~~~~
/home/david/cpantesting/perl-5.32.0/lib/5.32.0/amd64-freebsd/CORE/cop.h:667:5: note: expanded from macro 'CLEAR_ARGARRAY'
    STMT_START {                                                        \
    ^~~~~~~~~~
/home/david/cpantesting/perl-5.32.0/lib/5.32.0/amd64-freebsd/CORE/perl.h:666:29: note: expanded from macro 'STMT_START'
#   define STMT_START   (void)( /* gcc supports "({ STATEMENTS; })" */
                              ^
/home/david/cpantesting/perl-5.32.0/lib/5.32.0/amd64-freebsd/CORE/inline.h:2215:9: note: '{' token is here
        CLEAR_ARGARRAY(av);
        ^~~~~~~~~~~~~~~~~~
/home/david/cpantesting/perl-5.32.0/lib/5.32.0/amd64-freebsd/CORE/cop.h:667:16: note: expanded from macro 'CLEAR_ARGARRAY'
    STMT_START {                                                        \
               ^
In file included from MD5.xs:40:
In file included from /home/david/cpantesting/perl-5.32.0/lib/5.32.0/amd64-freebsd/CORE/perl.h:6158:
/home/david/cpantesting/perl-5.32.0/lib/5.32.0/amd64-freebsd/CORE/inline.h:2215:9: warning: '}' and ')' tokens terminating statement expression appear in different macro expansion contexts [-Wcompound-token-split-by-macro]
        CLEAR_ARGARRAY(av);
        ^~~~~~~~~~~~~~~~~~
/home/david/cpantesting/perl-5.32.0/lib/5.32.0/amd64-freebsd/CORE/cop.h:671:5: note: expanded from macro 'CLEAR_ARGARRAY'
    } STMT_END
    ^
/home/david/cpantesting/perl-5.32.0/lib/5.32.0/amd64-freebsd/CORE/inline.h:2215:9: note: ')' token is here
        CLEAR_ARGARRAY(av);
        ^~~~~~~~~~~~~~~~~~
/home/david/cpantesting/perl-5.32.0/lib/5.32.0/amd64-freebsd/CORE/cop.h:671:7: note: expanded from macro 'CLEAR_ARGARRAY'
    } STMT_END
      ^~~~~~~~
/home/david/cpantesting/perl-5.32.0/lib/5.32.0/amd64-freebsd/CORE/perl.h:667:21: note: expanded from macro 'STMT_END'
#   define STMT_END     )
                        ^
MD5.xs:597:2: warning: '(' and '{' tokens introducing statement expression appear in different macro expansion contexts [-Wcompound-token-split-by-macro]
        XSRETURN(1);
        ^~~~~~~~~~~
/home/david/cpantesting/perl-5.32.0/lib/5.32.0/amd64-freebsd/CORE/XSUB.h:315:5: note: expanded from macro 'XSRETURN'
    STMT_START {                                        \
    ^~~~~~~~~~
/home/david/cpantesting/perl-5.32.0/lib/5.32.0/amd64-freebsd/CORE/perl.h:666:29: note: expanded from macro 'STMT_START'
#   define STMT_START   (void)( /* gcc supports "({ STATEMENTS; })" */
                              ^
MD5.xs:597:2: note: '{' token is here
        XSRETURN(1);
        ^~~~~~~~~~~
/home/david/cpantesting/perl-5.32.0/lib/5.32.0/amd64-freebsd/CORE/XSUB.h:315:16: note: expanded from macro 'XSRETURN'
    STMT_START {                                        \
               ^
MD5.xs:597:2: warning: '}' and ')' tokens terminating statement expression appear in different macro expansion contexts [-Wcompound-token-split-by-macro]
        XSRETURN(1);
        ^~~~~~~~~~~
/home/david/cpantesting/perl-5.32.0/lib/5.32.0/amd64-freebsd/CORE/XSUB.h:320:5: note: expanded from macro 'XSRETURN'
    } STMT_END
    ^
MD5.xs:597:2: note: ')' token is here
        XSRETURN(1);
        ^~~~~~~~~~~
/home/david/cpantesting/perl-5.32.0/lib/5.32.0/amd64-freebsd/CORE/XSUB.h:320:7: note: expanded from macro 'XSRETURN'
    } STMT_END
      ^~~~~~~~
/home/david/cpantesting/perl-5.32.0/lib/5.32.0/amd64-freebsd/CORE/perl.h:667:21: note: expanded from macro 'STMT_END'
#   define STMT_END     )
                        ^
MD5.xs:610:2: warning: '(' and '{' tokens introducing statement expression appear in different macro expansion contexts [-Wcompound-token-split-by-macro]
        XSRETURN(1);
        ^~~~~~~~~~~
/home/david/cpantesting/perl-5.32.0/lib/5.32.0/amd64-freebsd/CORE/XSUB.h:315:5: note: expanded from macro 'XSRETURN'
    STMT_START {                                        \
    ^~~~~~~~~~
/home/david/cpantesting/perl-5.32.0/lib/5.32.0/amd64-freebsd/CORE/perl.h:666:29: note: expanded from macro 'STMT_START'
#   define STMT_START   (void)( /* gcc supports "({ STATEMENTS; })" */
                              ^
MD5.xs:610:2: note: '{' token is here
        XSRETURN(1);
        ^~~~~~~~~~~
/home/david/cpantesting/perl-5.32.0/lib/5.32.0/amd64-freebsd/CORE/XSUB.h:315:16: note: expanded from macro 'XSRETURN'
    STMT_START {                                        \
               ^
MD5.xs:610:2: warning: '}' and ')' tokens terminating statement expression appear in different macro expansion contexts [-Wcompound-token-split-by-macro]
        XSRETURN(1);
        ^~~~~~~~~~~
/home/david/cpantesting/perl-5.32.0/lib/5.32.0/amd64-freebsd/CORE/XSUB.h:320:5: note: expanded from macro 'XSRETURN'
    } STMT_END
    ^
MD5.xs:610:2: note: ')' token is here
        XSRETURN(1);
        ^~~~~~~~~~~
/home/david/cpantesting/perl-5.32.0/lib/5.32.0/amd64-freebsd/CORE/XSUB.h:320:7: note: expanded from macro 'XSRETURN'
    } STMT_END
      ^~~~~~~~
/home/david/cpantesting/perl-5.32.0/lib/5.32.0/amd64-freebsd/CORE/perl.h:667:21: note: expanded from macro 'STMT_END'
#   define STMT_END     )
                        ^
MD5.c:806:5: warning: '(' and '{' tokens introducing statement expression appear in different macro expansion contexts [-Wcompound-token-split-by-macro]
    XSRETURN_EMPTY;
    ^~~~~~~~~~~~~~
/home/david/cpantesting/perl-5.32.0/lib/5.32.0/amd64-freebsd/CORE/XSUB.h:330:24: note: expanded from macro 'XSRETURN_EMPTY'
#define XSRETURN_EMPTY STMT_START {                XSRETURN(0); } STMT_END
                       ^~~~~~~~~~
/home/david/cpantesting/perl-5.32.0/lib/5.32.0/amd64-freebsd/CORE/perl.h:666:29: note: expanded from macro 'STMT_START'
#   define STMT_START   (void)( /* gcc supports "({ STATEMENTS; })" */
                              ^
MD5.c:806:5: note: '{' token is here
    XSRETURN_EMPTY;
    ^~~~~~~~~~~~~~
/home/david/cpantesting/perl-5.32.0/lib/5.32.0/amd64-freebsd/CORE/XSUB.h:330:35: note: expanded from macro 'XSRETURN_EMPTY'
#define XSRETURN_EMPTY STMT_START {                XSRETURN(0); } STMT_END
                                  ^
MD5.c:806:5: warning: '(' and '{' tokens introducing statement expression appear in different macro expansion contexts [-Wcompound-token-split-by-macro]
    XSRETURN_EMPTY;
    ^~~~~~~~~~~~~~
/home/david/cpantesting/perl-5.32.0/lib/5.32.0/amd64-freebsd/CORE/XSUB.h:330:52: note: expanded from macro 'XSRETURN_EMPTY'
#define XSRETURN_EMPTY STMT_START {                XSRETURN(0); } STMT_END
                                                   ^~~~~~~~~~~
/home/david/cpantesting/perl-5.32.0/lib/5.32.0/amd64-freebsd/CORE/XSUB.h:315:5: note: expanded from macro 'XSRETURN'
    STMT_START {                                        \
    ^~~~~~~~~~
/home/david/cpantesting/perl-5.32.0/lib/5.32.0/amd64-freebsd/CORE/perl.h:666:29: note: expanded from macro 'STMT_START'
#   define STMT_START   (void)( /* gcc supports "({ STATEMENTS; })" */
                              ^
MD5.c:806:5: note: '{' token is here
    XSRETURN_EMPTY;
    ^~~~~~~~~~~~~~
/home/david/cpantesting/perl-5.32.0/lib/5.32.0/amd64-freebsd/CORE/XSUB.h:330:52: note: expanded from macro 'XSRETURN_EMPTY'
#define XSRETURN_EMPTY STMT_START {                XSRETURN(0); } STMT_END
                                                   ^~~~~~~~~~~
/home/david/cpantesting/perl-5.32.0/lib/5.32.0/amd64-freebsd/CORE/XSUB.h:315:16: note: expanded from macro 'XSRETURN'
    STMT_START {                                        \
               ^
MD5.c:806:5: warning: '}' and ')' tokens terminating statement expression appear in different macro expansion contexts [-Wcompound-token-split-by-macro]
    XSRETURN_EMPTY;
    ^~~~~~~~~~~~~~
/home/david/cpantesting/perl-5.32.0/lib/5.32.0/amd64-freebsd/CORE/XSUB.h:330:52: note: expanded from macro 'XSRETURN_EMPTY'
#define XSRETURN_EMPTY STMT_START {                XSRETURN(0); } STMT_END
                                                   ^~~~~~~~~~~
/home/david/cpantesting/perl-5.32.0/lib/5.32.0/amd64-freebsd/CORE/XSUB.h:320:5: note: expanded from macro 'XSRETURN'
    } STMT_END
    ^
MD5.c:806:5: note: ')' token is here
    XSRETURN_EMPTY;
    ^~~~~~~~~~~~~~
/home/david/cpantesting/perl-5.32.0/lib/5.32.0/amd64-freebsd/CORE/XSUB.h:330:52: note: expanded from macro 'XSRETURN_EMPTY'
#define XSRETURN_EMPTY STMT_START {                XSRETURN(0); } STMT_END
                                                   ^~~~~~~~~~~
/home/david/cpantesting/perl-5.32.0/lib/5.32.0/amd64-freebsd/CORE/XSUB.h:320:7: note: expanded from macro 'XSRETURN'
    } STMT_END
      ^~~~~~~~
/home/david/cpantesting/perl-5.32.0/lib/5.32.0/amd64-freebsd/CORE/perl.h:667:21: note: expanded from macro 'STMT_END'
#   define STMT_END     )
                        ^
MD5.c:806:5: warning: '}' and ')' tokens terminating statement expression appear in different macro expansion contexts [-Wcompound-token-split-by-macro]
    XSRETURN_EMPTY;
    ^~~~~~~~~~~~~~
/home/david/cpantesting/perl-5.32.0/lib/5.32.0/amd64-freebsd/CORE/XSUB.h:330:65: note: expanded from macro 'XSRETURN_EMPTY'
#define XSRETURN_EMPTY STMT_START {                XSRETURN(0); } STMT_END
                                                                ^
MD5.c:806:5: note: ')' token is here
    XSRETURN_EMPTY;
    ^~~~~~~~~~~~~~
/home/david/cpantesting/perl-5.32.0/lib/5.32.0/amd64-freebsd/CORE/XSUB.h:330:67: note: expanded from macro 'XSRETURN_EMPTY'
#define XSRETURN_EMPTY STMT_START {                XSRETURN(0); } STMT_END
                                                                  ^~~~~~~~
/home/david/cpantesting/perl-5.32.0/lib/5.32.0/amd64-freebsd/CORE/perl.h:667:21: note: expanded from macro 'STMT_END'
#   define STMT_END     )
                        ^
MD5.xs:633:2: warning: '(' and '{' tokens introducing statement expression appear in different macro expansion contexts [-Wcompound-token-split-by-macro]
        XSRETURN(1);  /* self */
        ^~~~~~~~~~~
/home/david/cpantesting/perl-5.32.0/lib/5.32.0/amd64-freebsd/CORE/XSUB.h:315:5: note: expanded from macro 'XSRETURN'
    STMT_START {                                        \
    ^~~~~~~~~~
/home/david/cpantesting/perl-5.32.0/lib/5.32.0/amd64-freebsd/CORE/perl.h:666:29: note: expanded from macro 'STMT_START'
#   define STMT_START   (void)( /* gcc supports "({ STATEMENTS; })" */
                              ^
MD5.xs:633:2: note: '{' token is here
        XSRETURN(1);  /* self */
        ^~~~~~~~~~~
/home/david/cpantesting/perl-5.32.0/lib/5.32.0/amd64-freebsd/CORE/XSUB.h:315:16: note: expanded from macro 'XSRETURN'
    STMT_START {                                        \
               ^
MD5.xs:633:2: warning: '}' and ')' tokens terminating statement expression appear in different macro expansion contexts [-Wcompound-token-split-by-macro]
        XSRETURN(1);  /* self */
        ^~~~~~~~~~~
/home/david/cpantesting/perl-5.32.0/lib/5.32.0/amd64-freebsd/CORE/XSUB.h:320:5: note: expanded from macro 'XSRETURN'
    } STMT_END
    ^
MD5.xs:633:2: note: ')' token is here
        XSRETURN(1);  /* self */
        ^~~~~~~~~~~
/home/david/cpantesting/perl-5.32.0/lib/5.32.0/amd64-freebsd/CORE/XSUB.h:320:7: note: expanded from macro 'XSRETURN'
    } STMT_END
      ^~~~~~~~
/home/david/cpantesting/perl-5.32.0/lib/5.32.0/amd64-freebsd/CORE/perl.h:667:21: note: expanded from macro 'STMT_END'
#   define STMT_END     )
                        ^
MD5.xs:663:7: warning: '(' and '{' tokens introducing statement expression appear in different macro expansion contexts [-Wcompound-token-split-by-macro]
                    XSRETURN(1);  /* self */
                    ^~~~~~~~~~~
/home/david/cpantesting/perl-5.32.0/lib/5.32.0/amd64-freebsd/CORE/XSUB.h:315:5: note: expanded from macro 'XSRETURN'
    STMT_START {                                        \
    ^~~~~~~~~~
/home/david/cpantesting/perl-5.32.0/lib/5.32.0/amd64-freebsd/CORE/perl.h:666:29: note: expanded from macro 'STMT_START'
#   define STMT_START   (void)( /* gcc supports "({ STATEMENTS; })" */
                              ^
MD5.xs:663:7: note: '{' token is here
                    XSRETURN(1);  /* self */
                    ^~~~~~~~~~~
/home/david/cpantesting/perl-5.32.0/lib/5.32.0/amd64-freebsd/CORE/XSUB.h:315:16: note: expanded from macro 'XSRETURN'
    STMT_START {                                        \
               ^
MD5.xs:663:7: warning: '}' and ')' tokens terminating statement expression appear in different macro expansion contexts [-Wcompound-token-split-by-macro]
                    XSRETURN(1);  /* self */
                    ^~~~~~~~~~~
/home/david/cpantesting/perl-5.32.0/lib/5.32.0/amd64-freebsd/CORE/XSUB.h:320:5: note: expanded from macro 'XSRETURN'
    } STMT_END
    ^
MD5.xs:663:7: note: ')' token is here
                    XSRETURN(1);  /* self */
                    ^~~~~~~~~~~
/home/david/cpantesting/perl-5.32.0/lib/5.32.0/amd64-freebsd/CORE/XSUB.h:320:7: note: expanded from macro 'XSRETURN'
    } STMT_END
      ^~~~~~~~
/home/david/cpantesting/perl-5.32.0/lib/5.32.0/amd64-freebsd/CORE/perl.h:667:21: note: expanded from macro 'STMT_END'
#   define STMT_END     )
                        ^
MD5.xs:680:2: warning: '(' and '{' tokens introducing statement expression appear in different macro expansion contexts [-Wcompound-token-split-by-macro]
        XSRETURN(1);  /* self */
        ^~~~~~~~~~~
/home/david/cpantesting/perl-5.32.0/lib/5.32.0/amd64-freebsd/CORE/XSUB.h:315:5: note: expanded from macro 'XSRETURN'
    STMT_START {                                        \
    ^~~~~~~~~~
/home/david/cpantesting/perl-5.32.0/lib/5.32.0/amd64-freebsd/CORE/perl.h:666:29: note: expanded from macro 'STMT_START'
#   define STMT_START   (void)( /* gcc supports "({ STATEMENTS; })" */
                              ^
MD5.xs:680:2: note: '{' token is here
        XSRETURN(1);  /* self */
        ^~~~~~~~~~~
/home/david/cpantesting/perl-5.32.0/lib/5.32.0/amd64-freebsd/CORE/XSUB.h:315:16: note: expanded from macro 'XSRETURN'
    STMT_START {                                        \
               ^
MD5.xs:680:2: warning: '}' and ')' tokens terminating statement expression appear in different macro expansion contexts [-Wcompound-token-split-by-macro]
        XSRETURN(1);  /* self */
        ^~~~~~~~~~~
/home/david/cpantesting/perl-5.32.0/lib/5.32.0/amd64-freebsd/CORE/XSUB.h:320:5: note: expanded from macro 'XSRETURN'
    } STMT_END
    ^
MD5.xs:680:2: note: ')' token is here
        XSRETURN(1);  /* self */
        ^~~~~~~~~~~
/home/david/cpantesting/perl-5.32.0/lib/5.32.0/amd64-freebsd/CORE/XSUB.h:320:7: note: expanded from macro 'XSRETURN'
    } STMT_END
      ^~~~~~~~
/home/david/cpantesting/perl-5.32.0/lib/5.32.0/amd64-freebsd/CORE/perl.h:667:21: note: expanded from macro 'STMT_END'
#   define STMT_END     )
                        ^
MD5.c:898:5: warning: '(' and '{' tokens introducing statement expression appear in different macro expansion contexts [-Wcompound-token-split-by-macro]
    XSRETURN_EMPTY;
    ^~~~~~~~~~~~~~
/home/david/cpantesting/perl-5.32.0/lib/5.32.0/amd64-freebsd/CORE/XSUB.h:330:24: note: expanded from macro 'XSRETURN_EMPTY'
#define XSRETURN_EMPTY STMT_START {                XSRETURN(0); } STMT_END
                       ^~~~~~~~~~
/home/david/cpantesting/perl-5.32.0/lib/5.32.0/amd64-freebsd/CORE/perl.h:666:29: note: expanded from macro 'STMT_START'
#   define STMT_START   (void)( /* gcc supports "({ STATEMENTS; })" */
                              ^
MD5.c:898:5: note: '{' token is here
    XSRETURN_EMPTY;
    ^~~~~~~~~~~~~~
/home/david/cpantesting/perl-5.32.0/lib/5.32.0/amd64-freebsd/CORE/XSUB.h:330:35: note: expanded from macro 'XSRETURN_EMPTY'
#define XSRETURN_EMPTY STMT_START {                XSRETURN(0); } STMT_END
                                  ^
MD5.c:898:5: warning: '(' and '{' tokens introducing statement expression appear in different macro expansion contexts [-Wcompound-token-split-by-macro]
    XSRETURN_EMPTY;
    ^~~~~~~~~~~~~~
/home/david/cpantesting/perl-5.32.0/lib/5.32.0/amd64-freebsd/CORE/XSUB.h:330:52: note: expanded from macro 'XSRETURN_EMPTY'
#define XSRETURN_EMPTY STMT_START {                XSRETURN(0); } STMT_END
                                                   ^~~~~~~~~~~
/home/david/cpantesting/perl-5.32.0/lib/5.32.0/amd64-freebsd/CORE/XSUB.h:315:5: note: expanded from macro 'XSRETURN'
    STMT_START {                                        \
    ^~~~~~~~~~
/home/david/cpantesting/perl-5.32.0/lib/5.32.0/amd64-freebsd/CORE/perl.h:666:29: note: expanded from macro 'STMT_START'
#   define STMT_START   (void)( /* gcc supports "({ STATEMENTS; })" */
                              ^
MD5.c:898:5: note: '{' token is here
    XSRETURN_EMPTY;
    ^~~~~~~~~~~~~~
/home/david/cpantesting/perl-5.32.0/lib/5.32.0/amd64-freebsd/CORE/XSUB.h:330:52: note: expanded from macro 'XSRETURN_EMPTY'
#define XSRETURN_EMPTY STMT_START {                XSRETURN(0); } STMT_END
                                                   ^~~~~~~~~~~
/home/david/cpantesting/perl-5.32.0/lib/5.32.0/amd64-freebsd/CORE/XSUB.h:315:16: note: expanded from macro 'XSRETURN'
    STMT_START {                                        \
               ^
MD5.c:898:5: warning: '}' and ')' tokens terminating statement expression appear in different macro expansion contexts [-Wcompound-token-split-by-macro]
    XSRETURN_EMPTY;
    ^~~~~~~~~~~~~~
/home/david/cpantesting/perl-5.32.0/lib/5.32.0/amd64-freebsd/CORE/XSUB.h:330:52: note: expanded from macro 'XSRETURN_EMPTY'
#define XSRETURN_EMPTY STMT_START {                XSRETURN(0); } STMT_END
                                                   ^~~~~~~~~~~
/home/david/cpantesting/perl-5.32.0/lib/5.32.0/amd64-freebsd/CORE/XSUB.h:320:5: note: expanded from macro 'XSRETURN'
    } STMT_END
    ^
MD5.c:898:5: note: ')' token is here
    XSRETURN_EMPTY;
    ^~~~~~~~~~~~~~
/home/david/cpantesting/perl-5.32.0/lib/5.32.0/amd64-freebsd/CORE/XSUB.h:330:52: note: expanded from macro 'XSRETURN_EMPTY'
#define XSRETURN_EMPTY STMT_START {                XSRETURN(0); } STMT_END
                                                   ^~~~~~~~~~~
/home/david/cpantesting/perl-5.32.0/lib/5.32.0/amd64-freebsd/CORE/XSUB.h:320:7: note: expanded from macro 'XSRETURN'
    } STMT_END
      ^~~~~~~~
/home/david/cpantesting/perl-5.32.0/lib/5.32.0/amd64-freebsd/CORE/perl.h:667:21: note: expanded from macro 'STMT_END'
#   define STMT_END     )
                        ^
MD5.c:898:5: warning: '}' and ')' tokens terminating statement expression appear in different macro expansion contexts [-Wcompound-token-split-by-macro]
    XSRETURN_EMPTY;
    ^~~~~~~~~~~~~~
/home/david/cpantesting/perl-5.32.0/lib/5.32.0/amd64-freebsd/CORE/XSUB.h:330:65: note: expanded from macro 'XSRETURN_EMPTY'
#define XSRETURN_EMPTY STMT_START {                XSRETURN(0); } STMT_END
                                                                ^
MD5.c:898:5: note: ')' token is here
    XSRETURN_EMPTY;
    ^~~~~~~~~~~~~~
/home/david/cpantesting/perl-5.32.0/lib/5.32.0/amd64-freebsd/CORE/XSUB.h:330:67: note: expanded from macro 'XSRETURN_EMPTY'
#define XSRETURN_EMPTY STMT_START {                XSRETURN(0); } STMT_END
                                                                  ^~~~~~~~
/home/david/cpantesting/perl-5.32.0/lib/5.32.0/amd64-freebsd/CORE/perl.h:667:21: note: expanded from macro 'STMT_END'
#   define STMT_END     )
                        ^
MD5.xs:695:9: warning: '(' and '{' tokens introducing statement expression appear in different macro expansion contexts [-Wcompound-token-split-by-macro]
        XSRETURN(1);
        ^~~~~~~~~~~
/home/david/cpantesting/perl-5.32.0/lib/5.32.0/amd64-freebsd/CORE/XSUB.h:315:5: note: expanded from macro 'XSRETURN'
    STMT_START {                                        \
    ^~~~~~~~~~
/home/david/cpantesting/perl-5.32.0/lib/5.32.0/amd64-freebsd/CORE/perl.h:666:29: note: expanded from macro 'STMT_START'
#   define STMT_START   (void)( /* gcc supports "({ STATEMENTS; })" */
                              ^
MD5.xs:695:9: note: '{' token is here
        XSRETURN(1);
        ^~~~~~~~~~~
/home/david/cpantesting/perl-5.32.0/lib/5.32.0/amd64-freebsd/CORE/XSUB.h:315:16: note: expanded from macro 'XSRETURN'
    STMT_START {                                        \
               ^
MD5.xs:695:9: warning: '}' and ')' tokens terminating statement expression appear in different macro expansion contexts [-Wcompound-token-split-by-macro]
        XSRETURN(1);
        ^~~~~~~~~~~
/home/david/cpantesting/perl-5.32.0/lib/5.32.0/amd64-freebsd/CORE/XSUB.h:320:5: note: expanded from macro 'XSRETURN'
    } STMT_END
    ^
MD5.xs:695:9: note: ')' token is here
        XSRETURN(1);
        ^~~~~~~~~~~
/home/david/cpantesting/perl-5.32.0/lib/5.32.0/amd64-freebsd/CORE/XSUB.h:320:7: note: expanded from macro 'XSRETURN'
    } STMT_END
      ^~~~~~~~
/home/david/cpantesting/perl-5.32.0/lib/5.32.0/amd64-freebsd/CORE/perl.h:667:21: note: expanded from macro 'STMT_END'
#   define STMT_END     )
                        ^
MD5.xs:718:6: warning: '(' and '{' tokens introducing statement expression appear in different macro expansion contexts [-Wcompound-token-split-by-macro]
            XSRETURN(1); /* ctx */
            ^~~~~~~~~~~
/home/david/cpantesting/perl-5.32.0/lib/5.32.0/amd64-freebsd/CORE/XSUB.h:315:5: note: expanded from macro 'XSRETURN'
    STMT_START {                                        \
    ^~~~~~~~~~
/home/david/cpantesting/perl-5.32.0/lib/5.32.0/amd64-freebsd/CORE/perl.h:666:29: note: expanded from macro 'STMT_START'
#   define STMT_START   (void)( /* gcc supports "({ STATEMENTS; })" */
                              ^
MD5.xs:718:6: note: '{' token is here
            XSRETURN(1); /* ctx */
            ^~~~~~~~~~~
/home/david/cpantesting/perl-5.32.0/lib/5.32.0/amd64-freebsd/CORE/XSUB.h:315:16: note: expanded from macro 'XSRETURN'
    STMT_START {                                        \
               ^
MD5.xs:718:6: warning: '}' and ')' tokens terminating statement expression appear in different macro expansion contexts [-Wcompound-token-split-by-macro]
            XSRETURN(1); /* ctx */
            ^~~~~~~~~~~
/home/david/cpantesting/perl-5.32.0/lib/5.32.0/amd64-freebsd/CORE/XSUB.h:320:5: note: expanded from macro 'XSRETURN'
    } STMT_END
    ^
MD5.xs:718:6: note: ')' token is here
            XSRETURN(1); /* ctx */
            ^~~~~~~~~~~
/home/david/cpantesting/perl-5.32.0/lib/5.32.0/amd64-freebsd/CORE/XSUB.h:320:7: note: expanded from macro 'XSRETURN'
    } STMT_END
      ^~~~~~~~
/home/david/cpantesting/perl-5.32.0/lib/5.32.0/amd64-freebsd/CORE/perl.h:667:21: note: expanded from macro 'STMT_END'
#   define STMT_END     )
                        ^
MD5.xs:720:6: warning: '(' and '{' tokens introducing statement expression appear in different macro expansion contexts [-Wcompound-token-split-by-macro]
            XSRETURN(0);
            ^~~~~~~~~~~
/home/david/cpantesting/perl-5.32.0/lib/5.32.0/amd64-freebsd/CORE/XSUB.h:315:5: note: expanded from macro 'XSRETURN'
    STMT_START {                                        \
    ^~~~~~~~~~
/home/david/cpantesting/perl-5.32.0/lib/5.32.0/amd64-freebsd/CORE/perl.h:666:29: note: expanded from macro 'STMT_START'
#   define STMT_START   (void)( /* gcc supports "({ STATEMENTS; })" */
                              ^
MD5.xs:720:6: note: '{' token is here
            XSRETURN(0);
            ^~~~~~~~~~~
/home/david/cpantesting/perl-5.32.0/lib/5.32.0/amd64-freebsd/CORE/XSUB.h:315:16: note: expanded from macro 'XSRETURN'
    STMT_START {                                        \
               ^
MD5.xs:720:6: warning: '}' and ')' tokens terminating statement expression appear in different macro expansion contexts [-Wcompound-token-split-by-macro]
            XSRETURN(0);
            ^~~~~~~~~~~
/home/david/cpantesting/perl-5.32.0/lib/5.32.0/amd64-freebsd/CORE/XSUB.h:320:5: note: expanded from macro 'XSRETURN'
    } STMT_END
    ^
MD5.xs:720:6: note: ')' token is here
            XSRETURN(0);
            ^~~~~~~~~~~
/home/david/cpantesting/perl-5.32.0/lib/5.32.0/amd64-freebsd/CORE/XSUB.h:320:7: note: expanded from macro 'XSRETURN'
    } STMT_END
      ^~~~~~~~
/home/david/cpantesting/perl-5.32.0/lib/5.32.0/amd64-freebsd/CORE/perl.h:667:21: note: expanded from macro 'STMT_END'
#   define STMT_END     )
                        ^
MD5.xs:728:2: warning: '(' and '{' tokens introducing statement expression appear in different macro expansion contexts [-Wcompound-token-split-by-macro]
        EXTEND(SP, 3);
        ^~~~~~~~~~~~~
/home/david/cpantesting/perl-5.32.0/lib/5.32.0/amd64-freebsd/CORE/pp.h:371:25: note: expanded from macro 'EXTEND'
#  define EXTEND(p,n)   STMT_START {                                    \
                        ^~~~~~~~~~
/home/david/cpantesting/perl-5.32.0/lib/5.32.0/amd64-freebsd/CORE/perl.h:666:29: note: expanded from macro 'STMT_START'
#   define STMT_START   (void)( /* gcc supports "({ STATEMENTS; })" */
                              ^
MD5.xs:728:2: note: '{' token is here
        EXTEND(SP, 3);
        ^~~~~~~~~~~~~
/home/david/cpantesting/perl-5.32.0/lib/5.32.0/amd64-freebsd/CORE/pp.h:371:36: note: expanded from macro 'EXTEND'
#  define EXTEND(p,n)   STMT_START {                                    \
                                   ^
MD5.xs:728:2: warning: '}' and ')' tokens terminating statement expression appear in different macro expansion contexts [-Wcompound-token-split-by-macro]
        EXTEND(SP, 3);
        ^~~~~~~~~~~~~
/home/david/cpantesting/perl-5.32.0/lib/5.32.0/amd64-freebsd/CORE/pp.h:376:28: note: expanded from macro 'EXTEND'
                         } } STMT_END
                           ^
MD5.xs:728:2: note: ')' token is here
        EXTEND(SP, 3);
        ^~~~~~~~~~~~~
/home/david/cpantesting/perl-5.32.0/lib/5.32.0/amd64-freebsd/CORE/pp.h:376:30: note: expanded from macro 'EXTEND'
                         } } STMT_END
                             ^~~~~~~~
/home/david/cpantesting/perl-5.32.0/lib/5.32.0/amd64-freebsd/CORE/perl.h:667:21: note: expanded from macro 'STMT_END'
#   define STMT_END     )
                        ^
MD5.xs:734:6: warning: '(' and '{' tokens introducing statement expression appear in different macro expansion contexts [-Wcompound-token-split-by-macro]
            XSRETURN(2);
            ^~~~~~~~~~~
/home/david/cpantesting/perl-5.32.0/lib/5.32.0/amd64-freebsd/CORE/XSUB.h:315:5: note: expanded from macro 'XSRETURN'
    STMT_START {                                        \
    ^~~~~~~~~~
/home/david/cpantesting/perl-5.32.0/lib/5.32.0/amd64-freebsd/CORE/perl.h:666:29: note: expanded from macro 'STMT_START'
#   define STMT_START   (void)( /* gcc supports "({ STATEMENTS; })" */
                              ^
MD5.xs:734:6: note: '{' token is here
            XSRETURN(2);
            ^~~~~~~~~~~
/home/david/cpantesting/perl-5.32.0/lib/5.32.0/amd64-freebsd/CORE/XSUB.h:315:16: note: expanded from macro 'XSRETURN'
    STMT_START {                                        \
               ^
MD5.xs:734:6: warning: '}' and ')' tokens terminating statement expression appear in different macro expansion contexts [-Wcompound-token-split-by-macro]
            XSRETURN(2);
            ^~~~~~~~~~~
/home/david/cpantesting/perl-5.32.0/lib/5.32.0/amd64-freebsd/CORE/XSUB.h:320:5: note: expanded from macro 'XSRETURN'
    } STMT_END
    ^
MD5.xs:734:6: note: ')' token is here
            XSRETURN(2);
            ^~~~~~~~~~~
/home/david/cpantesting/perl-5.32.0/lib/5.32.0/amd64-freebsd/CORE/XSUB.h:320:7: note: expanded from macro 'XSRETURN'
    } STMT_END
      ^~~~~~~~
/home/david/cpantesting/perl-5.32.0/lib/5.32.0/amd64-freebsd/CORE/perl.h:667:21: note: expanded from macro 'STMT_END'
#   define STMT_END     )
                        ^
MD5.xs:738:2: warning: '(' and '{' tokens introducing statement expression appear in different macro expansion contexts [-Wcompound-token-split-by-macro]
        XSRETURN(3);
        ^~~~~~~~~~~
/home/david/cpantesting/perl-5.32.0/lib/5.32.0/amd64-freebsd/CORE/XSUB.h:315:5: note: expanded from macro 'XSRETURN'
    STMT_START {                                        \
    ^~~~~~~~~~
/home/david/cpantesting/perl-5.32.0/lib/5.32.0/amd64-freebsd/CORE/perl.h:666:29: note: expanded from macro 'STMT_START'
#   define STMT_START   (void)( /* gcc supports "({ STATEMENTS; })" */
                              ^
MD5.xs:738:2: note: '{' token is here
        XSRETURN(3);
        ^~~~~~~~~~~
/home/david/cpantesting/perl-5.32.0/lib/5.32.0/amd64-freebsd/CORE/XSUB.h:315:16: note: expanded from macro 'XSRETURN'
    STMT_START {                                        \
               ^
MD5.xs:738:2: warning: '}' and ')' tokens terminating statement expression appear in different macro expansion contexts [-Wcompound-token-split-by-macro]
        XSRETURN(3);
        ^~~~~~~~~~~
/home/david/cpantesting/perl-5.32.0/lib/5.32.0/amd64-freebsd/CORE/XSUB.h:320:5: note: expanded from macro 'XSRETURN'
    } STMT_END
    ^
MD5.xs:738:2: note: ')' token is here
        XSRETURN(3);
        ^~~~~~~~~~~
/home/david/cpantesting/perl-5.32.0/lib/5.32.0/amd64-freebsd/CORE/XSUB.h:320:7: note: expanded from macro 'XSRETURN'
    } STMT_END
      ^~~~~~~~
/home/david/cpantesting/perl-5.32.0/lib/5.32.0/amd64-freebsd/CORE/perl.h:667:21: note: expanded from macro 'STMT_END'
#   define STMT_END     )
                        ^
MD5.xs:796:9: warning: '(' and '{' tokens introducing statement expression appear in different macro expansion contexts [-Wcompound-token-split-by-macro]
        XSRETURN(1);
        ^~~~~~~~~~~
/home/david/cpantesting/perl-5.32.0/lib/5.32.0/amd64-freebsd/CORE/XSUB.h:315:5: note: expanded from macro 'XSRETURN'
    STMT_START {                                        \
    ^~~~~~~~~~
/home/david/cpantesting/perl-5.32.0/lib/5.32.0/amd64-freebsd/CORE/perl.h:666:29: note: expanded from macro 'STMT_START'
#   define STMT_START   (void)( /* gcc supports "({ STATEMENTS; })" */
                              ^
MD5.xs:796:9: note: '{' token is here
        XSRETURN(1);
        ^~~~~~~~~~~
/home/david/cpantesting/perl-5.32.0/lib/5.32.0/amd64-freebsd/CORE/XSUB.h:315:16: note: expanded from macro 'XSRETURN'
    STMT_START {                                        \
               ^
MD5.xs:796:9: warning: '}' and ')' tokens terminating statement expression appear in different macro expansion contexts [-Wcompound-token-split-by-macro]
        XSRETURN(1);
        ^~~~~~~~~~~
/home/david/cpantesting/perl-5.32.0/lib/5.32.0/amd64-freebsd/CORE/XSUB.h:320:5: note: expanded from macro 'XSRETURN'
    } STMT_END
    ^
MD5.xs:796:9: note: ')' token is here
        XSRETURN(1);
        ^~~~~~~~~~~
/home/david/cpantesting/perl-5.32.0/lib/5.32.0/amd64-freebsd/CORE/XSUB.h:320:7: note: expanded from macro 'XSRETURN'
    } STMT_END
      ^~~~~~~~
/home/david/cpantesting/perl-5.32.0/lib/5.32.0/amd64-freebsd/CORE/perl.h:667:21: note: expanded from macro 'STMT_END'
#   define STMT_END     )
                        ^
126 warnings generated.
rm -f blib/arch/auto/Digest/MD5/MD5.so
cc  -shared  -L/usr/local/lib -fstack-protector-strong  MD5.o  -o blib/arch/auto/Digest/MD5/MD5.so        
chmod 755 blib/arch/auto/Digest/MD5/MD5.so
PERL_DL_NONLAZY=1 "/usr/home/david/cpantesting/perl-5.32.0/bin/perl" "-MExtUtils::Command::MM" "-MTest::Harness" "-e" "undef *Test::Harness::Switches; test_harness(0, 'blib/lib', 'blib/arch')" t/*.t
Subroutine Digest::MD5::md5 redefined at t/lib/SPVMImpl.pm line 28.
Subroutine Digest::MD5::md5_hex redefined at t/lib/SPVMImpl.pm line 48.
Subroutine Digest::MD5::md5_base64 redefined at t/lib/SPVMImpl.pm line 68.
Subroutine Digest::MD5::new redefined at t/lib/SPVMImpl.pm line 77.
t/align.t .... ok
Subroutine Digest::MD5::md5 redefined at t/lib/SPVMImpl.pm line 28.
Subroutine Digest::MD5::md5_hex redefined at t/lib/SPVMImpl.pm line 48.
Subroutine Digest::MD5::md5_base64 redefined at t/lib/SPVMImpl.pm line 68.
Subroutine Digest::MD5::new redefined at t/lib/SPVMImpl.pm line 77.
t/basic.t .... ok
Subroutine Digest::MD5::md5 redefined at t/lib/SPVMImpl.pm line 28.
Subroutine Digest::MD5::md5_hex redefined at t/lib/SPVMImpl.pm line 48.
Subroutine Digest::MD5::md5_base64 redefined at t/lib/SPVMImpl.pm line 68.
Subroutine Digest::MD5::new redefined at t/lib/SPVMImpl.pm line 77.
t/md5-aaa.t .. ok
Subroutine Digest::MD5::md5 redefined at t/lib/SPVMImpl.pm line 28.
Subroutine Digest::MD5::md5_hex redefined at t/lib/SPVMImpl.pm line 48.
Subroutine Digest::MD5::md5_base64 redefined at t/lib/SPVMImpl.pm line 68.
Subroutine Digest::MD5::new redefined at t/lib/SPVMImpl.pm line 77.
t/utf8.t ..... ok
Subroutine Digest::MD5::md5 redefined at t/lib/SPVMImpl.pm line 28.
Subroutine Digest::MD5::md5_hex redefined at t/lib/SPVMImpl.pm line 48.
Subroutine Digest::MD5::md5_base64 redefined at t/lib/SPVMImpl.pm line 68.
Subroutine Digest::MD5::new redefined at t/lib/SPVMImpl.pm line 77.
t/warns.t .... ok
All tests successful.
Files=5, Tests=269,  2 wallclock secs ( 0.09 usr  0.02 sys +  1.44 cusr  0.29 csys =  1.83 CPU)
Result: PASS

------------------------------
PREREQUISITES
------------------------------

Prerequisite modules loaded:

requires:

    Module              Need   Have  
    ------------------- ------ ------
    SPVM                0.9691 0.9691

build_requires:

    Module              Need   Have  
    ------------------- ------ ------
    ExtUtils::MakeMaker 0      7.44  

configure_requires:

    Module              Need   Have  
    ------------------- ------ ------
    SPVM                0.9691 0.9691


------------------------------
ENVIRONMENT AND OTHER CONTEXT
------------------------------

Environment variables:

    AUTOMATED_TESTING = 1
    LANG = en_GB.UTF-8
    NONINTERACTIVE_TESTING = 1
    PATH = /home/david/perl5/perlbrew/bin:/home/david/perl5/perlbrew/perls/perl-5.30.2/bin:/home/david/.cargo/bin:/sbin:/bin:/usr/sbin:/usr/bin:/usr/local/sbin:/usr/local/bin:/home/david/bin
    PERL = 5.32.0
    PERL5LIB = 
    PERL5OPT = 
    PERL5_CPANPLUS_IS_RUNNING = 91443
    PERL5_CPAN_IS_RUNNING = 91443
    PERLBREW_HOME = /home/david/.perlbrew
    PERLBREW_MANPATH = /home/david/perl5/perlbrew/perls/perl-5.30.2/man
    PERLBREW_PATH = /home/david/perl5/perlbrew/bin:/home/david/perl5/perlbrew/perls/perl-5.30.2/bin
    PERLBREW_PERL = perl-5.30.2
    PERLBREW_ROOT = /home/david/perl5/perlbrew
    PERLBREW_SHELLRC_VERSION = 0.89
    PERLBREW_VERSION = 0.89
    PERLVER = 5.32.0
    PERL_INLINE_DIRECTORY = /home/david/.Inline-5.32.0
    PERL_MM_USE_DEFAULT = 1
    PERL_USE_UNSAFE_INC = 0
    SHELL = /usr/local/bin/bash
    TERM = screen

Perl special variables (and OS-specific diagnostics, for MSWin32):

    $^X = /usr/home/david/cpantesting/perl-5.32.0/bin/perl
    $UID/$EUID = 1001 / 1001
    $GID = 1001 1001 0
    $EGID = 1001 1001 0

Perl module toolchain versions installed:

    Module              Have    
    ------------------- --------
    CPAN                2.27    
    CPAN::Meta          2.150010
    Cwd                 3.78    
    ExtUtils::CBuilder  0.280236
    ExtUtils::Command   7.44    
    ExtUtils::Install   2.14    
    ExtUtils::MakeMaker 7.44    
    ExtUtils::Manifest  1.72    
    ExtUtils::ParseXS   3.40    
    File::Spec          3.78    
    JSON                n/a     
    JSON::PP            4.04    
    Module::Build       0.4232  
    Module::Signature   n/a     
    Parse::CPAN::Meta   2.150010
    Test::Harness       3.42    
    Test::More          1.302192
    YAML                1.30    
    YAML::Syck          n/a     
    version             0.9924  


--

Summary of my perl5 (revision 5 version 32 subversion 0) configuration:
   
  Platform:
    osname=freebsd
    osvers=13.0-release-p7
    archname=amd64-freebsd
    uname='freebsd cpantesting-freebsd-utm.local 13.0-release-p7 freebsd 13.0-release-p7 #0: mon jan 31 18:24:03 utc 2022 root@amd64-builder.daemonology.net:usrobjusrsrcamd64.amd64sysgeneric amd64 '
    config_args='-de -Dprefix=/home/david/cpantesting/perl-5.32.0'
    hint=recommended
    useposix=true
    d_sigaction=define
    useithreads=undef
    usemultiplicity=undef
    use64bitint=define
    use64bitall=define
    uselongdouble=undef
    usemymalloc=n
    default_inc_excludes_dot=define
    bincompat5005=undef
  Compiler:
    cc='cc'
    ccflags ='-DHAS_FPSETMASK -DHAS_FLOATINGPOINT_H -fno-strict-aliasing -pipe -fstack-protector-strong -I/usr/local/include'
    optimize='-O2'
    cppflags='-DHAS_FPSETMASK -DHAS_FLOATINGPOINT_H -fno-strict-aliasing -pipe -fstack-protector-strong -I/usr/local/include'
    ccversion=''
    gccversion='FreeBSD Clang 11.0.1 (git@github.com:llvm/llvm-project.git llvmorg-11.0.1-0-g43ff75f2c3fe)'
    gccosandvers=''
    intsize=4
    longsize=8
    ptrsize=8
    doublesize=8
    byteorder=12345678
    doublekind=3
    d_longlong=define
    longlongsize=8
    d_longdbl=define
    longdblsize=16
    longdblkind=3
    ivtype='long'
    ivsize=8
    nvtype='double'
    nvsize=8
    Off_t='off_t'
    lseeksize=8
    alignbytes=8
    prototype=define
  Linker and Libraries:
    ld='cc'
    ldflags ='-Wl,-E  -fstack-protector-strong -L/usr/local/lib'
    libpth=/usr/lib /usr/local/lib /usr/lib/clang/11.0.1/lib /usr/lib
    libs=-lpthread -lgdbm -ldl -lm -lcrypt -lutil -lc
    perllibs=-lpthread -ldl -lm -lcrypt -lutil -lc
    libc=
    so=so
    useshrplib=false
    libperl=libperl.a
    gnulibc_version=''
  Dynamic Linking:
    dlsrc=dl_dlopen.xs
    dlext=so
    d_dlsymun=undef
    ccdlflags=' '
    cccdlflags='-DPIC -fPIC'
    lddlflags='-shared  -L/usr/local/lib -fstack-protector-strong'


Characteristics of this binary (from libperl): 
  Compile-time options:
    HAS_TIMES
    PERLIO_LAYERS
    PERL_COPY_ON_WRITE
    PERL_DONT_CREATE_GVSV
    PERL_MALLOC_WRAP
    PERL_OP_PARENT
    PERL_PRESERVE_IVUV
    USE_64_BIT_ALL
    USE_64_BIT_INT
    USE_LARGE_FILES
    USE_LOCALE
    USE_LOCALE_COLLATE
    USE_LOCALE_CTYPE
    USE_LOCALE_NUMERIC
    USE_LOCALE_TIME
    USE_PERLIO
    USE_PERL_ATOF
  Locally applied patches:
    Devel::PatchPerl 2.08
  Built under freebsd
  Compiled at Feb  3 2022 13:37:09
  %ENV:
    PERL="5.32.0"
    PERL5LIB=""
    PERL5OPT=""
    PERL5_CPANPLUS_IS_RUNNING="91443"
    PERL5_CPAN_IS_RUNNING="91443"
    PERLBREW_HOME="/home/david/.perlbrew"
    PERLBREW_MANPATH="/home/david/perl5/perlbrew/perls/perl-5.30.2/man"
    PERLBREW_PATH="/home/david/perl5/perlbrew/bin:/home/david/perl5/perlbrew/perls/perl-5.30.2/bin"
    PERLBREW_PERL="perl-5.30.2"
    PERLBREW_ROOT="/home/david/perl5/perlbrew"
    PERLBREW_SHELLRC_VERSION="0.89"
    PERLBREW_VERSION="0.89"
    PERLVER="5.32.0"
    PERL_INLINE_DIRECTORY="/home/david/.Inline-5.32.0"
    PERL_MM_USE_DEFAULT="1"
    PERL_USE_UNSAFE_INC="0"
  @INC:
    /home/david/cpantesting/perl-5.32.0/lib/site_perl/5.32.0/amd64-freebsd
    /home/david/cpantesting/perl-5.32.0/lib/site_perl/5.32.0
    /home/david/cpantesting/perl-5.32.0/lib/5.32.0/amd64-freebsd
    /home/david/cpantesting/perl-5.32.0/lib/5.32.0