StorageDisplay v2.06 Perl 5 v5.40.0 x86_64-linux-thread-multi

Status
Pass
From
Andreas J. König (ANDK)
Dist
StorageDisplay v2.06
Platform
Perl 5 v5.40.0 x86_64-linux-thread-multi
Date
2024-06-16 10:19:21
ID
e5f85fcc-2bc9-11ef-b692-e972c0f4ad7c
This distribution has been tested as part of the CPAN Testers
project, supporting the Perl programming language.  See
http://wiki.cpantesters.org/ for more information or email
questions to cpan-testers-discuss@perl.org


--
Dear Vincent Danjean,

This is a computer-generated report for StorageDisplay-2.06
on perl 5.40.0, created by CPAN-Reporter-1.2019.

Thank you for uploading your work to CPAN.  Congratulations!
All tests were successful.

Sections of this report:

    * Tester comments
    * Program output
    * Prerequisites
    * Environment and other context

------------------------------
TESTER COMMENTS
------------------------------

Additional comments from tester:

this report is from an automated smoke testing program
and was not reviewed by a human for accuracy

------------------------------
PROGRAM OUTPUT
------------------------------

Output from '/usr/bin/make test':

PERL_DL_NONLAZY=1 "/tmp/basesmoker-reloperl-CxT1/bin/perl" "-MExtUtils::Command::MM" "-MTest::Harness" "-e" "undef *Test::Harness::Switches; test_harness(0, 'blib/lib', 'blib/arch')" t/*.t
# Testing with Perl 5.040000, /tmp/basesmoker-reloperl-CxT1/bin/perl
#     Carp version is 1.54
#     Data::Compare version is 1.29
#     Data::Dumper version is 2.189
#     ExtUtils::MakeMaker version is 7.70
#     Getopt::Long version is 2.57
#     IO::Select version is 1.55
#     JSON::PP version is 4.16
#     Math::BigFloat version is 2.003002
#     Math::BigInt version is 2.003002
#     Moose version is 2.2207
#     MooseX::NonMoose version is 0.26
#     MooseX::Role::Parameterized version is 1.11
#     Net::OpenSSH version is 0.84
#     Object::ID version is v0.1.2
#     POSIX version is 2.20
#     Path::Class version is 0.37
#     Path::Class::Dir version is 0.37
#     Pod::Usage version is 2.03
#     Scalar::Util version is 1.63
#     Storable version is 3.32
#     Term::ReadKey version is 2.38
#     Test2::V0 version is 0.000162
#     Test::File::Contents version is 0.242
#     Test::More version is 1.302199
#     Test::Script version is 1.29
#     Types::Standard version is 2.004000
#     base version is 2.27
#     bignum version is 0.67
#     bigrat version is 0.67
#     namespace::sweep version is 0.006
#     parent version is 0.241
#     strict version is 1.13
#     utf8 version is 1.25
#     warnings version is 1.70
t/000-report-versions.t .. ok
t/05_round.t ............. ok
t/06_int-data-dumper.t ... ok
# JSON::PP: boolean_values support: 1
# JSON::PP: allow_bignum support: 1
# JSON::PP has boolean_values: 1
t/07_json.t .............. ok
# $VAR1 = {
#           's1' => {
#                     'bf' => bless( {
#                                      '_e' => bless( [
#                                                       0
#                                                     ], 'Math::BigInt::Calc' ),
#                                      '_es' => '+',
#                                      '_m' => bless( [
#                                                       '401'
#                                                     ], 'Math::BigInt::Calc' ),
#                                      'sign' => '+'
#                                    }, 'Math::BigFloat' ),
#                     'bf2bf' => bless( {
#                                         '_e' => bless( [
#                                                          0
#                                                        ], 'Math::BigInt::Calc' ),
#                                         '_es' => '+',
#                                         '_m' => bless( [
#                                                          '431'
#                                                        ], 'Math::BigInt::Calc' ),
#                                         'sign' => '+'
#                                       }, 'Math::BigFloat' ),
#                     'bf2i' => bless( {
#                                        '_e' => bless( [
#                                                         0
#                                                       ], 'Math::BigInt::Calc' ),
#                                        '_es' => '+',
#                                        '_m' => bless( [
#                                                         '411'
#                                                       ], 'Math::BigInt::Calc' ),
#                                        'sign' => '+'
#                                      }, 'Math::BigFloat' ),
#                     'bf2s' => bless( {
#                                        '_e' => bless( [
#                                                         0
#                                                       ], 'Math::BigInt::Calc' ),
#                                        '_es' => '+',
#                                        '_m' => bless( [
#                                                         '421'
#                                                       ], 'Math::BigInt::Calc' ),
#                                        'sign' => '+'
#                                      }, 'Math::BigFloat' ),
#                     'bi' => bless( {
#                                      'sign' => '+',
#                                      'value' => bless( [
#                                                          '301'
#                                                        ], 'Math::BigInt::Calc' )
#                                    }, 'Math::BigInt' ),
#                     'bi2bi' => bless( {
#                                         'sign' => '+',
#                                         'value' => bless( [
#                                                             '331'
#                                                           ], 'Math::BigInt::Calc' )
#                                       }, 'Math::BigInt' ),
#                     'bi2i' => bless( {
#                                        'sign' => '+',
#                                        'value' => bless( [
#                                                            '311'
#                                                          ], 'Math::BigInt::Calc' )
#                                      }, 'Math::BigInt' ),
#                     'bi2s' => bless( {
#                                        'sign' => '+',
#                                        'value' => bless( [
#                                                            '321'
#                                                          ], 'Math::BigInt::Calc' )
#                                      }, 'Math::BigInt' ),
#                     'i' => 101,
#                     'i2i' => 111,
#                     'i2s' => 121,
#                     's' => '201',
#                     's2i' => '211',
#                     's2s' => '221'
#                   },
#           's2' => {
#                     'bf' => bless( {
#                                      '_e' => bless( [
#                                                       0
#                                                     ], 'Math::BigInt::Calc' ),
#                                      '_es' => '+',
#                                      '_m' => bless( [
#                                                       '401'
#                                                     ], 'Math::BigInt::Calc' ),
#                                      'sign' => '+'
#                                    }, 'Math::BigFloat' ),
#                     'bf2bf' => bless( {
#                                         '_e' => bless( [
#                                                          0
#                                                        ], 'Math::BigInt::Calc' ),
#                                         '_es' => '+',
#                                         '_m' => bless( [
#                                                          '431'
#                                                        ], 'Math::BigInt::Calc' ),
#                                         'sign' => '+'
#                                       }, 'Math::BigFloat' ),
#                     'bf2i' => 411,
#                     'bf2s' => '421',
#                     'bi' => bless( {
#                                      'sign' => '+',
#                                      'value' => bless( [
#                                                          '301'
#                                                        ], 'Math::BigInt::Calc' )
#                                    }, 'Math::BigInt' ),
#                     'bi2bi' => bless( {
#                                         'sign' => '+',
#                                         'value' => bless( [
#                                                             '331'
#                                                           ], 'Math::BigInt::Calc' )
#                                       }, 'Math::BigInt' ),
#                     'bi2i' => 311,
#                     'bi2s' => '321',
#                     'i' => 101,
#                     'i2i' => 111,
#                     'i2s' => '121',
#                     's' => '201',
#                     's2i' => 211,
#                     's2s' => '221'
#                   }
#         };
t/08_bigint.t ............ ok
t/10_scripts.t ........... ok
t/20_reference.t ......... ok
t/author-critic.t ........ skipped: these tests are for testing by the author
t/author-distmeta.t ...... skipped: these tests are for testing by the author
t/author-pod-syntax.t .... skipped: these tests are for testing by the author
All tests successful.
Files=10, Tests=93, 21 wallclock secs ( 0.04 usr  0.02 sys + 15.94 cusr  4.49 csys = 20.49 CPU)
Result: PASS

------------------------------
PREREQUISITES
------------------------------

Prerequisite modules loaded:

requires:

    Module                      Need     Have    
    --------------------------- -------- --------
    base                        0        2.27    
    bignum                      0.51     0.67    
    bigrat                      0.51     0.67    
    Carp                        0        1.54    
    Data::Compare               0        1.29    
    Data::Dumper                0        2.189   
    Getopt::Long                0        2.57    
    IO::Select                  0        1.55    
    JSON::PP                    0        4.16    
    Moose                       0        2.2207  
    Moose::Role                 0        2.2207  
    MooseX::NonMoose            0        0.26    
    MooseX::Role::Parameterized 0        1.11    
    namespace::sweep            0        0.006   
    Net::OpenSSH                0        0.84    
    Object::ID                  0        v0.1.2  
    parent                      0        0.241   
    Path::Class::Dir            0        0.37    
    perl                        5.014000 5.040000
    Pod::Usage                  0        2.03    
    POSIX                       0        2.20    
    Scalar::Util                0        1.63    
    Storable                    0        3.32    
    strict                      0        1.13    
    Term::ReadKey               0        2.38    
    Types::Standard             0        2.004000
    warnings                    0        1.70    

build_requires:

    Module                      Need     Have    
    --------------------------- -------- --------
    ExtUtils::MakeMaker         0        7.70    
    Math::BigFloat              0        2.003002
    Math::BigInt                0        2.003002
    Path::Class                 0        0.37    
    Test2::V0                   0        0.000162
    Test::File::Contents        0        0.242   
    Test::More                  0.94     1.302199
    Test::Script                0        1.29    
    utf8                        0        1.25    

configure_requires:

    Module                      Need     Have    
    --------------------------- -------- --------
    ExtUtils::MakeMaker         0        7.70    


------------------------------
ENVIRONMENT AND OTHER CONTEXT
------------------------------

Environment variables:

    AUTOMATED_TESTING = 1
    LANG = en_US.UTF-8
    LC_ADDRESS = de_DE.UTF-8
    LC_IDENTIFICATION = de_DE.UTF-8
    LC_MEASUREMENT = de_DE.UTF-8
    LC_MONETARY = de_DE.UTF-8
    LC_NAME = de_DE.UTF-8
    LC_NUMERIC = de_DE.UTF-8
    LC_PAPER = de_DE.UTF-8
    LC_TELEPHONE = de_DE.UTF-8
    LC_TIME = de_DE.UTF-8
    PATH = /home/sand/bin:/usr/local/bin:/usr/local/sbin:/usr/sbin:/usr/bin:/sbin:/bin:/usr/games:/usr/local/games:/snap/bin:/usr/local/perl/bin:/usr/X11/bin
    PERL = /tmp/basesmoker-reloperl-CxT1/bin/perl
    PERL5LIB = /tmp/loop_over_bdir-2623-8CpJOC/Debian-Packages-0.03-0/blib/arch:/tmp/loop_over_bdir-2623-8CpJOC/Debian-Packages-0.03-0/blib/lib:/tmp/loop_over_bdir-2623-8CpJOC/CORBA-Python-2.66-0/blib/arch:/tmp/loop_over_bdir-2623-8CpJOC/CORBA-Python-2.66-0/blib/lib:/tmp/loop_over_bdir-2623-8CpJOC/dta-tokwrap-0.98-0/blib/arch:/tmp/loop_over_bdir-2623-8CpJOC/dta-tokwrap-0.98-0/blib/lib:/tmp/loop_over_bdir-2623-8CpJOC/triceps-2.1.0-0/blib/arch:/tmp/loop_over_bdir-2623-8CpJOC/triceps-2.1.0-0/blib/lib:/tmp/loop_over_bdir-2623-8CpJOC/MP3-PodcastFetch-1.05-0/blib/arch:/tmp/loop_over_bdir-2623-8CpJOC/MP3-PodcastFetch-1.05-0/blib/lib:/tmp/loop_over_bdir-2623-8CpJOC/LiquidWeb-Storm-CLI-1.03-0/blib/arch:/tmp/loop_over_bdir-2623-8CpJOC/LiquidWeb-Storm-CLI-1.03-0/blib/lib:/tmp/loop_over_bdir-2623-8CpJOC/Devel-Required-0.16-0/blib/arch:/tmp/loop_over_bdir-2623-8CpJOC/Devel-Required-0.16-0/blib/lib:/tmp/loop_over_bdir-2623-8CpJOC/DBIx-Migration-Directories-0.12-0/blib/arch:/tmp/loop_over_bdir-2623-8CpJOC/DBIx-Migration-Directories-0.12-0/blib/lib:/tmp/loop_over_bdir-2623-8CpJOC/RDF-NLP-SPARQLQuery-0.1-0/blib/arch:/tmp/loop_over_bdir-2623-8CpJOC/RDF-NLP-SPARQLQuery-0.1-0/blib/lib:/tmp/loop_over_bdir-2623-8CpJOC/AllKnowingDNS-1.7-0/blib/arch:/tmp/loop_over_bdir-2623-8CpJOC/AllKnowingDNS-1.7-0/blib/lib:/tmp/loop_over_bdir-2623-8CpJOC/Lingua-BioYaTeA-0.11-0/blib/arch:/tmp/loop_over_bdir-2623-8CpJOC/Lingua-BioYaTeA-0.11-0/blib/lib:/tmp/loop_over_bdir-2623-8CpJOC/Lingua-YaTeA-0.626-0/blib/arch:/tmp/loop_over_bdir-2623-8CpJOC/Lingua-YaTeA-0.626-0/blib/lib:/tmp/loop_over_bdir-2623-8CpJOC/Linux-InitFS-0.2-0/blib/arch:/tmp/loop_over_bdir-2623-8CpJOC/Linux-InitFS-0.2-0/blib/lib:/tmp/loop_over_bdir-2623-8CpJOC/perl-Hardware-UPS-Perl-0.43-0/blib/arch:/tmp/loop_over_bdir-2623-8CpJOC/perl-Hardware-UPS-Perl-0.43-0/blib/lib:/tmp/loop_over_bdir-2623-8CpJOC/mmds-1.902-0/blib/arch:/tmp/loop_over_bdir-2623-8CpJOC/mmds-1.902-0/blib/lib:/tmp/loop_over_bdir-2623-8CpJOC/Simulation-Automate-1.0.1-0/blib/arch:/tmp/loop_over_bdir-2623-8CpJOC/Simulation-Automate-1.0.1-0/blib/lib:/tmp/loop_over_bdir-2623-8CpJOC/Dpkg-1.22.6-0/blib/arch:/tmp/loop_over_bdir-2623-8CpJOC/Dpkg-1.22.6-0/blib/lib
    PERL5OPT = 
    PERL5_CPANPLUS_IS_RUNNING = 2631
    PERL5_CPAN_IS_RUNNING = 2631
    PERL_CANARY_STABILITY_NOPROMPT = 1
    PERL_MM_USE_DEFAULT = 1
    PERL_USE_UNSAFE_INC = 1
    SHELL = /usr/bin/zsh
    TERM = screen

Perl special variables (and OS-specific diagnostics, for MSWin32):

    $^X = /tmp/basesmoker-reloperl-CxT1/bin/perl
    $UID/$EUID = 1005 / 1005
    $GID = 1005 1005
    $EGID = 1005 1005

Perl module toolchain versions installed:

    Module              Have    
    ------------------- --------
    CPAN                2.36    
    CPAN::Meta          2.150010
    Cwd                 3.90    
    ExtUtils::CBuilder  0.280240
    ExtUtils::Command   7.70    
    ExtUtils::Install   2.22    
    ExtUtils::MakeMaker 7.70    
    ExtUtils::Manifest  1.75    
    ExtUtils::ParseXS   3.51    
    File::Spec          3.90    
    JSON                4.10    
    JSON::PP            4.16    
    Module::Build       0.4234  
    Module::Signature   0.88    
    Parse::CPAN::Meta   2.150010
    Test2               1.302199
    Test::Harness       3.48    
    Test::More          1.302199
    YAML                1.31    
    YAML::Syck          1.34    
    version             0.9932  


--

Summary of my perl5 (revision 5 version 40 subversion 0) configuration:
  Commit id: f22a16ecf4821b7e93d2569f630817a2631fddd9
  Platform:
    osname=linux
    osvers=6.5.0-35-generic
    archname=x86_64-linux-thread-multi
    uname='linux k93jammy 6.5.0-35-generic #35~22.04.1-ubuntu smp preempt_dynamic tue may 7 09:00:52 utc 2 x86_64 x86_64 x86_64 gnulinux '
    config_args='-Dprefix=/home/sand/src/perl/repoperls/installed-perls/host/k93jammy/v5.40.0/b4f3 -Dmyhostname=k93jammy -Dinstallusrbinperl=n -Uversiononly -Dusedevel -des -Ui_db -Dlibswanted=cl pthread socket inet nsl gdbm dbm malloc dl ld sun m crypt sec util c cposix posix ucb BSD gdbm_compat -Duseithreads -Uuselongdouble -DEBUGGING=-g'
    hint=recommended
    useposix=true
    d_sigaction=define
    useithreads=define
    usemultiplicity=define
    use64bitint=define
    use64bitall=define
    uselongdouble=undef
    usemymalloc=n
    default_inc_excludes_dot=define
  Compiler:
    cc='cc'
    ccflags ='-D_REENTRANT -D_GNU_SOURCE -fwrapv -fno-strict-aliasing -pipe -fstack-protector-strong -I/usr/local/include -D_LARGEFILE_SOURCE -D_FILE_OFFSET_BITS=64'
    optimize='-O2 -g'
    cppflags='-D_REENTRANT -D_GNU_SOURCE -fwrapv -fno-strict-aliasing -pipe -fstack-protector-strong -I/usr/local/include'
    ccversion=''
    gccversion='11.4.0'
    gccosandvers=''
    intsize=4
    longsize=8
    ptrsize=8
    doublesize=8
    byteorder=12345678
    doublekind=3
    d_longlong=define
    longlongsize=8
    d_longdbl=define
    longdblsize=16
    longdblkind=3
    ivtype='long'
    ivsize=8
    nvtype='double'
    nvsize=8
    Off_t='off_t'
    lseeksize=8
    alignbytes=8
    prototype=define
  Linker and Libraries:
    ld='cc'
    ldflags =' -fstack-protector-strong -L/usr/local/lib'
    libpth=/usr/local/lib /usr/lib/x86_64-linux-gnu /usr/lib /usr/lib64
    libs=-lpthread -lnsl -ldl -lm -lcrypt -lutil -lc
    perllibs=-lpthread -lnsl -ldl -lm -lcrypt -lutil -lc
    libc=/lib/x86_64-linux-gnu/libc.so.6
    so=so
    useshrplib=false
    libperl=libperl.a
    gnulibc_version='2.35'
  Dynamic Linking:
    dlsrc=dl_dlopen.xs
    dlext=so
    d_dlsymun=undef
    ccdlflags='-Wl,-E'
    cccdlflags='-fPIC'
    lddlflags='-shared -O2 -g -L/usr/local/lib -fstack-protector-strong'


Characteristics of this binary (from libperl): 
  Compile-time options:
    HAS_LONG_DOUBLE
    HAS_STRTOLD
    HAS_TIMES
    MULTIPLICITY
    PERLIO_LAYERS
    PERL_COPY_ON_WRITE
    PERL_DONT_CREATE_GVSV
    PERL_HASH_FUNC_SIPHASH13
    PERL_HASH_USE_SBOX32
    PERL_MALLOC_WRAP
    PERL_OP_PARENT
    PERL_PRESERVE_IVUV
    PERL_USE_DEVEL
    PERL_USE_SAFE_PUTENV
    USE_64_BIT_ALL
    USE_64_BIT_INT
    USE_ITHREADS
    USE_LARGE_FILES
    USE_LOCALE
    USE_LOCALE_COLLATE
    USE_LOCALE_CTYPE
    USE_LOCALE_NUMERIC
    USE_LOCALE_TIME
    USE_PERLIO
    USE_PERL_ATOF
    USE_REENTRANT_API
    USE_THREAD_SAFE_LOCALE
  Built under linux
  Compiled at Jun 11 2024 04:44:22
  %ENV:
    PERL="/tmp/basesmoker-reloperl-CxT1/bin/perl"
    PERL5LIB="/tmp/loop_over_bdir-2623-8CpJOC/Debian-Packages-0.03-0/blib/arch:/tmp/loop_over_bdir-2623-8CpJOC/Debian-Packages-0.03-0/blib/lib:/tmp/loop_over_bdir-2623-8CpJOC/CORBA-Python-2.66-0/blib/arch:/tmp/loop_over_bdir-2623-8CpJOC/CORBA-Python-2.66-0/blib/lib:/tmp/loop_over_bdir-2623-8CpJOC/dta-tokwrap-0.98-0/blib/arch:/tmp/loop_over_bdir-2623-8CpJOC/dta-tokwrap-0.98-0/blib/lib:/tmp/loop_over_bdir-2623-8CpJOC/triceps-2.1.0-0/blib/arch:/tmp/loop_over_bdir-2623-8CpJOC/triceps-2.1.0-0/blib/lib:/tmp/loop_over_bdir-2623-8CpJOC/MP3-PodcastFetch-1.05-0/blib/arch:/tmp/loop_over_bdir-2623-8CpJOC/MP3-PodcastFetch-1.05-0/blib/lib:/tmp/loop_over_bdir-2623-8CpJOC/LiquidWeb-Storm-CLI-1.03-0/blib/arch:/tmp/loop_over_bdir-2623-8CpJOC/LiquidWeb-Storm-CLI-1.03-0/blib/lib:/tmp/loop_over_bdir-2623-8CpJOC/Devel-Required-0.16-0/blib/arch:/tmp/loop_over_bdir-2623-8CpJOC/Devel-Required-0.16-0/blib/lib:/tmp/loop_over_bdir-2623-8CpJOC/DBIx-Migration-Directories-0.12-0/blib/arch:/tmp/loop_over_bdir-2623-8CpJOC/DBIx-Migration-Directories-0.12-0/blib/lib:/tmp/loop_over_bdir-2623-8CpJOC/RDF-NLP-SPARQLQuery-0.1-0/blib/arch:/tmp/loop_over_bdir-2623-8CpJOC/RDF-NLP-SPARQLQuery-0.1-0/blib/lib:/tmp/loop_over_bdir-2623-8CpJOC/AllKnowingDNS-1.7-0/blib/arch:/tmp/loop_over_bdir-2623-8CpJOC/AllKnowingDNS-1.7-0/blib/lib:/tmp/loop_over_bdir-2623-8CpJOC/Lingua-BioYaTeA-0.11-0/blib/arch:/tmp/loop_over_bdir-2623-8CpJOC/Lingua-BioYaTeA-0.11-0/blib/lib:/tmp/loop_over_bdir-2623-8CpJOC/Lingua-YaTeA-0.626-0/blib/arch:/tmp/loop_over_bdir-2623-8CpJOC/Lingua-YaTeA-0.626-0/blib/lib:/tmp/loop_over_bdir-2623-8CpJOC/Linux-InitFS-0.2-0/blib/arch:/tmp/loop_over_bdir-2623-8CpJOC/Linux-InitFS-0.2-0/blib/lib:/tmp/loop_over_bdir-2623-8CpJOC/perl-Hardware-UPS-Perl-0.43-0/blib/arch:/tmp/loop_over_bdir-2623-8CpJOC/perl-Hardware-UPS-Perl-0.43-0/blib/lib:/tmp/loop_over_bdir-2623-8CpJOC/mmds-1.902-0/blib/arch:/tmp/loop_over_bdir-2623-8CpJOC/mmds-1.902-0/blib/lib:/tmp/loop_over_bdir-2623-8CpJOC/Simulation-Automate-1.0.1-0/blib/arch:/tmp/loop_over_bdir-2623-8CpJOC/Simulation-Automate-1.0.1-0/blib/lib:/tmp/loop_over_bdir-2623-8CpJOC/Dpkg-1.22.6-0/blib/arch:/tmp/loop_over_bdir-2623-8CpJOC/Dpkg-1.22.6-0/blib/lib"
    PERL5OPT=""
    PERL5_CPANPLUS_IS_RUNNING="2631"
    PERL5_CPAN_IS_RUNNING="2631"
    PERL_CANARY_STABILITY_NOPROMPT="1"
    PERL_MM_USE_DEFAULT="1"
    PERL_USE_UNSAFE_INC="1"
  @INC:
    /tmp/loop_over_bdir-2623-8CpJOC/Debian-Packages-0.03-0/blib/arch
    /tmp/loop_over_bdir-2623-8CpJOC/Debian-Packages-0.03-0/blib/lib
    /tmp/loop_over_bdir-2623-8CpJOC/CORBA-Python-2.66-0/blib/arch
    /tmp/loop_over_bdir-2623-8CpJOC/CORBA-Python-2.66-0/blib/lib
    /tmp/loop_over_bdir-2623-8CpJOC/dta-tokwrap-0.98-0/blib/arch
    /tmp/loop_over_bdir-2623-8CpJOC/dta-tokwrap-0.98-0/blib/lib
    /tmp/loop_over_bdir-2623-8CpJOC/triceps-2.1.0-0/blib/arch
    /tmp/loop_over_bdir-2623-8CpJOC/triceps-2.1.0-0/blib/lib
    /tmp/loop_over_bdir-2623-8CpJOC/MP3-PodcastFetch-1.05-0/blib/arch
    /tmp/loop_over_bdir-2623-8CpJOC/MP3-PodcastFetch-1.05-0/blib/lib
    /tmp/loop_over_bdir-2623-8CpJOC/LiquidWeb-Storm-CLI-1.03-0/blib/arch
    /tmp/loop_over_bdir-2623-8CpJOC/LiquidWeb-Storm-CLI-1.03-0/blib/lib
    /tmp/loop_over_bdir-2623-8CpJOC/Devel-Required-0.16-0/blib/arch
    /tmp/loop_over_bdir-2623-8CpJOC/Devel-Required-0.16-0/blib/lib
    /tmp/loop_over_bdir-2623-8CpJOC/DBIx-Migration-Directories-0.12-0/blib/arch
    /tmp/loop_over_bdir-2623-8CpJOC/DBIx-Migration-Directories-0.12-0/blib/lib
    /tmp/loop_over_bdir-2623-8CpJOC/RDF-NLP-SPARQLQuery-0.1-0/blib/arch
    /tmp/loop_over_bdir-2623-8CpJOC/RDF-NLP-SPARQLQuery-0.1-0/blib/lib
    /tmp/loop_over_bdir-2623-8CpJOC/AllKnowingDNS-1.7-0/blib/arch
    /tmp/loop_over_bdir-2623-8CpJOC/AllKnowingDNS-1.7-0/blib/lib
    /tmp/loop_over_bdir-2623-8CpJOC/Lingua-BioYaTeA-0.11-0/blib/arch
    /tmp/loop_over_bdir-2623-8CpJOC/Lingua-BioYaTeA-0.11-0/blib/lib
    /tmp/loop_over_bdir-2623-8CpJOC/Lingua-YaTeA-0.626-0/blib/arch
    /tmp/loop_over_bdir-2623-8CpJOC/Lingua-YaTeA-0.626-0/blib/lib
    /tmp/loop_over_bdir-2623-8CpJOC/Linux-InitFS-0.2-0/blib/arch
    /tmp/loop_over_bdir-2623-8CpJOC/Linux-InitFS-0.2-0/blib/lib
    /tmp/loop_over_bdir-2623-8CpJOC/perl-Hardware-UPS-Perl-0.43-0/blib/arch
    /tmp/loop_over_bdir-2623-8CpJOC/perl-Hardware-UPS-Perl-0.43-0/blib/lib
    /tmp/loop_over_bdir-2623-8CpJOC/mmds-1.902-0/blib/arch
    /tmp/loop_over_bdir-2623-8CpJOC/mmds-1.902-0/blib/lib
    /tmp/loop_over_bdir-2623-8CpJOC/Simulation-Automate-1.0.1-0/blib/arch
    /tmp/loop_over_bdir-2623-8CpJOC/Simulation-Automate-1.0.1-0/blib/lib
    /tmp/loop_over_bdir-2623-8CpJOC/Dpkg-1.22.6-0/blib/arch
    /tmp/loop_over_bdir-2623-8CpJOC/Dpkg-1.22.6-0/blib/lib
    /home/sand/src/perl/repoperls/installed-perls/host/k93jammy/v5.40.0/b4f3/lib/site_perl/5.40.0/x86_64-linux-thread-multi
    /home/sand/src/perl/repoperls/installed-perls/host/k93jammy/v5.40.0/b4f3/lib/site_perl/5.40.0
    /home/sand/src/perl/repoperls/installed-perls/host/k93jammy/v5.40.0/b4f3/lib/5.40.0/x86_64-linux-thread-multi
    /home/sand/src/perl/repoperls/installed-perls/host/k93jammy/v5.40.0/b4f3/lib/5.40.0
    .