Class-Container v0.13 Perl 5 v5.38.2 x86_64-linux
- Status
- Pass
- From
- Len Jaffe
- Dist
-
Class-Container v0.13
- Platform
- Perl 5 v5.38.2 x86_64-linux
- Date
- 2024-03-01 04:33:49
- ID
- e613d2b4-d784-11ee-bdf9-98e60da0be91
This distribution has been tested as part of the CPAN Testers
project, supporting the Perl programming language. See
http://wiki.cpantesters.org/ for more information or email
questions to cpan-testers-discuss@perl.org
--
Dear KWILLIAMS,
This is a computer-generated report for Class-Container-0.13
on perl 5.38.2, created by App::cpanminus::reporter 0.21 (1.7042).
Thank you for uploading your work to CPAN. Congratulations!
All tests were successful.
Sections of this report:
* Tester comments
* Program output
* Prerequisites
* Environment and other context
------------------------------
TESTER COMMENTS
------------------------------
Additional comments from tester:
none provided
------------------------------
PROGRAM OUTPUT
------------------------------
Output from '':
Building and testing Class-Container-0.13
Building Class-Container
t/01-basic.t ....... ok
t/02-decorator.t ... ok
t/author-critic.t .. skipped: these tests are for testing by the author
All tests successful.
Files=3, Tests=92, 0 wallclock secs ( 0.04 usr 0.01 sys + 0.22 cusr 0.01 csys = 0.28 CPU)
Result: PASS
------------------------------
PREREQUISITES
------------------------------
Prerequisite modules loaded:
runtime:
Module Need Have
------------------- ------ ------
B::Deparse 0 1.74
Carp 0 1.54
Params::Validate 0 1.31
Scalar::Util 0 1.63
strict 0 1.12
vars 0 1.05
build:
Module Need Have
------------------- ------ ------
Module::Build 0.3601 0.4234
configure:
Module Need Have
------------------- ------ ------
ExtUtils::MakeMaker 6.30 7.70
Module::Build 0.3601 0.4234
------------------------------
ENVIRONMENT AND OTHER CONTEXT
------------------------------
Environment variables:
LANG = en_US.UTF-8
LANGUAGE = en_US
PATH = /home/len/perl5/perlbrew/bin:/home/len/perl5/perlbrew/perls/perl-5.38.2/bin:/home/len/bin:/usr/local/lib/nodejs/node-v18.7.0-linux-x64/bin:/home/len/.rvm/gems/ruby-2.5.1/bin:/home/len/.rvm/gems/ruby-2.5.1@global/bin:/home/len/.rvm/rubies/ruby-2.5.1/bin:/usr/local/lib/nodejs/node-v18.7.0-linux-x64/bin:/usr/local/sbin:/usr/local/bin:/usr/sbin:/usr/bin:/sbin:/bin:/usr/games:/usr/local/games:/home/len/.rvm/bin:/home/len/.rvm/bin:/usr/local/heroku/bin:/home/len/.rvm/bin:/usr/local/bin:/usr/bin:/usr/local/go/bin:/home/len/go/bin
PERL5LIB = /home/len/perl5/lib/perl5
PERLBREW_HOME = /home/len/.perlbrew
PERLBREW_MANPATH = /home/len/perl5/perlbrew/perls/perl-5.38.2/man
PERLBREW_PATH = /home/len/perl5/perlbrew/bin:/home/len/perl5/perlbrew/perls/perl-5.38.2/bin
PERLBREW_PERL = perl-5.38.2
PERLBREW_ROOT = /home/len/perl5/perlbrew
PERLBREW_SHELLRC_VERSION = 0.98
PERLBREW_VERSION = 0.98
SHELL = /bin/bash
TERM = xterm
Perl special variables (and OS-specific diagnostics, for MSWin32):
EGID = 1000 4 24 27 30 46 108 124 125 130 1000 1001
EUID = 1000
EXECUTABLE_NAME = /home/len/perl5/perlbrew/perls/perl-5.38.2/bin/perl
GID = 1000 4 24 27 30 46 108 124 125 130 1000 1001
UID = 1000
Perl module toolchain versions installed:
Module Have
------------------- --------
CPAN 2.36
CPAN::Meta 2.150010
Cwd 3.89
ExtUtils::CBuilder 0.280238
ExtUtils::Command 7.70
ExtUtils::Install 2.22
ExtUtils::MakeMaker 7.70
ExtUtils::Manifest 1.75
ExtUtils::ParseXS 3.51
File::Spec 3.88
JSON n/a
JSON::PP 4.16
Module::Build 0.4234
Module::Signature n/a
Parse::CPAN::Meta 2.150010
Test::Harness 3.48
Test::More 1.302198
YAML 1.31
YAML::Syck n/a
version 0.9930
--
Summary of my perl5 (revision 5 version 38 subversion 2) configuration:
Platform:
osname=linux
osvers=4.4.0-51-generic
archname=x86_64-linux
uname='linux echoes 4.4.0-51-generic #72~14.04.1-ubuntu smp thu nov 24 19:22:30 utc 2016 x86_64 x86_64 x86_64 gnulinux '
config_args='-de -Dprefix=/home/len/perl5/perlbrew/perls/perl-5.38.2 -Aeval:scriptdir=/home/len/perl5/perlbrew/perls/perl-5.38.2/bin'
hint=recommended
useposix=true
d_sigaction=define
useithreads=undef
usemultiplicity=undef
use64bitint=define
use64bitall=define
uselongdouble=undef
usemymalloc=n
default_inc_excludes_dot=define
Compiler:
cc='cc'
ccflags ='-std=gnu99 -fwrapv -fno-strict-aliasing -pipe -fstack-protector -I/usr/local/include -D_LARGEFILE_SOURCE -D_FILE_OFFSET_BITS=64'
optimize='-O2'
cppflags='-std=gnu99 -fwrapv -fno-strict-aliasing -pipe -fstack-protector -I/usr/local/include'
ccversion=''
gccversion='4.8.4'
gccosandvers=''
intsize=4
longsize=8
ptrsize=8
doublesize=8
byteorder=12345678
doublekind=3
d_longlong=define
longlongsize=8
d_longdbl=define
longdblsize=16
longdblkind=3
ivtype='long'
ivsize=8
nvtype='double'
nvsize=8
Off_t='off_t'
lseeksize=8
alignbytes=8
prototype=define
Linker and Libraries:
ld='cc'
ldflags =' -fstack-protector -L/usr/local/lib'
libpth=/usr/local/lib /usr/lib/x86_64-linux-gnu /usr/lib /lib/x86_64-linux-gnu /lib/../lib /usr/lib/../lib /lib /lib64 /usr/lib64
libs=-lpthread -lgdbm -ldl -lm -lcrypt -lutil -lc -lgdbm_compat
perllibs=-lpthread -ldl -lm -lcrypt -lutil -lc
libc=libc-2.19.so
so=so
useshrplib=false
libperl=libperl.a
gnulibc_version='2.19'
Dynamic Linking:
dlsrc=dl_dlopen.xs
dlext=so
d_dlsymun=undef
ccdlflags='-Wl,-E'
cccdlflags='-fPIC'
lddlflags='-shared -O2 -L/usr/local/lib -fstack-protector'
Characteristics of this binary (from libperl):
Compile-time options:
HAS_LONG_DOUBLE
HAS_STRTOLD
HAS_TIMES
PERLIO_LAYERS
PERL_COPY_ON_WRITE
PERL_DONT_CREATE_GVSV
PERL_HASH_FUNC_SIPHASH13
PERL_HASH_USE_SBOX32
PERL_MALLOC_WRAP
PERL_OP_PARENT
PERL_PRESERVE_IVUV
PERL_USE_SAFE_PUTENV
USE_64_BIT_ALL
USE_64_BIT_INT
USE_LARGE_FILES
USE_LOCALE
USE_LOCALE_COLLATE
USE_LOCALE_CTYPE
USE_LOCALE_NUMERIC
USE_LOCALE_TIME
USE_PERLIO
USE_PERL_ATOF
Built under linux
Compiled at Feb 29 2024 22:29:01
%ENV:
PERL5LIB="/home/len/perl5/lib/perl5"
PERLBREW_HOME="/home/len/.perlbrew"
PERLBREW_MANPATH="/home/len/perl5/perlbrew/perls/perl-5.38.2/man"
PERLBREW_PATH="/home/len/perl5/perlbrew/bin:/home/len/perl5/perlbrew/perls/perl-5.38.2/bin"
PERLBREW_PERL="perl-5.38.2"
PERLBREW_ROOT="/home/len/perl5/perlbrew"
PERLBREW_SHELLRC_VERSION="0.98"
PERLBREW_VERSION="0.98"
@INC:
/home/len/perl5/lib/perl5
/home/len/perl5/perlbrew/perls/perl-5.38.2/lib/site_perl/5.38.2/x86_64-linux
/home/len/perl5/perlbrew/perls/perl-5.38.2/lib/site_perl/5.38.2
/home/len/perl5/perlbrew/perls/perl-5.38.2/lib/5.38.2/x86_64-linux
/home/len/perl5/perlbrew/perls/perl-5.38.2/lib/5.38.2