Report for HTML-FormFu-MultiForm-1.01-TRIAL

Back
From: metabase:user:314402c4-2aae-11df-837a-5e0a49663a4f
Subject: PASS HTML-FormFu-MultiForm-1.01-TRIAL v5.8.9 FreeBSD
Date: 2017-07-24T19:32:58Z

This distribution has been tested as part of the CPAN Testers
project, supporting the Perl programming language.  See
http://wiki.cpantesters.org/ for more information or email
questions to cpan-testers-discuss@perl.org


--
Dear Nigel Metheringham,

This is a computer-generated report for HTML-FormFu-MultiForm-1.01-TRIAL
on perl 5.8.9, created by CPAN-Reporter-1.2018.

Thank you for uploading your work to CPAN.  Congratulations!
All tests were successful.

Sections of this report:

    * Tester comments
    * Program output
    * Prerequisites
    * Environment and other context

------------------------------
TESTER COMMENTS
------------------------------

Additional comments from tester:

none provided

------------------------------
PROGRAM OUTPUT
------------------------------

Output from '/usr/bin/make test':

PERL_DL_NONLAZY=1 "/usr/perl5.8.9/bin/perl" "-MExtUtils::Command::MM" "-MTest::Harness" "-e" "undef *Test::Harness::Switches; test_harness(0, 'blib/lib', 'blib/arch')" t/*.t t/multiform-misc/*.t t/multiform-nested-name/*.t t/multiform-no-combine/*.t t/multiform/*.t t/multiform_hidden_name/*.t
# 
# Versions for all modules listed in MYMETA.json (including optional ones):
# 
# === Configure Requires ===
# 
#     Module              Want Have
#     ------------------- ---- ----
#     ExtUtils::MakeMaker  any 7.24
# 
# === Build Requires ===
# 
#     Module              Want Have
#     ------------------- ---- ----
#     ExtUtils::MakeMaker  any 7.24
# 
# === Test Requires ===
# 
#     Module                                            Want     Have
#     ------------------------------------------------- ---- --------
#     Code::TidyAll::Plugin::Perl::AlignMooseAttributes  any     0.01
#     Cwd                                                any     3.62
#     ExtUtils::MakeMaker                                any     7.24
#     Fatal                                              any     2.29
#     File::Spec                                         any     3.62
#     Pod::Coverage::TrustPod                            any 0.100003
#     Pod::Tidy                                          any  missing
#     Test::CPAN::Meta                                   any     0.25
#     Test::Differences                                  any     0.64
#     Test::EOL                                          any     2.00
#     Test::Kwalitee                                    1.21     1.26
#     Test::Memory::Cycle                                any     1.06
#     Test::More                                        0.92 1.302086
#     Test::NoTabs                                       any     2.00
#     Test::PAUSE::Permissions                           any  missing
#     Test::Pod                                         1.41     1.51
#     Test::Pod::Coverage                               1.08     1.10
#     YAML::XS                                           any     0.65
#     warnings                                           any  1.05_01
# 
# === Test Recommends ===
# 
#     Module         Want     Have
#     ---------- -------- --------
#     CPAN::Meta 2.120900 2.150010
# 
# === Runtime Requires ===
# 
#     Module                                       Want   Have
#     -------------------------------------------- ---- ------
#     Carp                                          any   1.38
#     Clone                                         any   0.39
#     Crypt::CBC                                    any   2.33
#     Crypt::DES                                    any   2.07
#     HTML::FormFu                                  any   2.01
#     HTML::FormFu::Attribute                       any   2.01
#     HTML::FormFu::ObjectUtil                      any   2.01
#     HTML::FormFu::QueryType::CGI                  any   2.01
#     HTML::FormFu::Role::FormAndElementMethods     any   2.01
#     HTML::FormFu::Role::FormBlockAndFieldMethods  any   2.01
#     HTML::FormFu::Role::NestedHashUtils           any   2.01
#     HTML::FormFu::Role::Populate                  any   2.01
#     List::MoreUtils                               any  0.416
#     Moose                                         any 2.2006
#     MooseX::Attribute::Chained                    any  1.0.2
#     Scalar::Util                                  any   1.48
#     Storable                                      any   2.51
#     overload                                      any   1.06
#     strict                                        any   1.03
# 
# 
# *** WARNING WARNING WARNING WARNING WARNING WARNING WARNING WARNING ***
# 
# The following REQUIRED prerequisites were not satisfied:
# 
# Pod::Tidy is not installed (any version required)
# Test::PAUSE::Permissions is not installed (any version required)
# 
t/00-report-prereqs.t ........................ ok
t/multiform-misc-file-client-side.t .......... skipped: CGI tmp_upload_dir functionality makes this unusable on modern versions
t/multiform-misc/accessors.t ................. ok
t/multiform-misc/file-server-side.t .......... skipped: CGI tmp_upload_dir functionality makes this unusable on modern versions
t/multiform-nested-name/0_render_page_1.t .... ok
t/multiform-nested-name/1_submit_page_1.t .... ok
t/multiform-nested-name/2_render_page_2.t .... ok
t/multiform-nested-name/3_submit_page_2.t .... ok
t/multiform-nested-name/4_complete_page_3.t .. ok
t/multiform-no-combine/0_render_page_1.t ..... ok
t/multiform-no-combine/1_submit_page_1.t ..... ok
t/multiform-no-combine/2_render_page_2.t ..... ok
t/multiform-no-combine/3_submit_page_2.t ..... ok
t/multiform-no-combine/4_complete_page_3.t ... ok
t/multiform/0_render_page_1.t ................ ok
t/multiform/1_submit_page_1.t ................ ok
t/multiform/2_render_page_2.t ................ ok
t/multiform/3_submit_page_2.t ................ ok
t/multiform/4_complete_page_3.t .............. ok
t/multiform_hidden_name/0_render_page_1.t .... ok
t/multiform_hidden_name/1_submit_page_1.t .... ok
t/multiform_hidden_name/2_render_page_2.t .... ok
t/multiform_hidden_name/3_submit_page_2.t .... ok
t/multiform_hidden_name/4_complete_page_3.t .. ok
All tests successful.
Files=24, Tests=111, 29 wallclock secs ( 0.04 usr  0.19 sys + 24.63 cusr  2.88 csys = 27.73 CPU)
Result: PASS

------------------------------
PREREQUISITES
------------------------------

Prerequisite modules loaded:

requires:

    Module                                            Need Have    
    ------------------------------------------------- ---- --------
    Carp                                              0    1.38    
    Clone                                             0    0.39    
    Crypt::CBC                                        0    2.33    
    Crypt::DES                                        0    2.07    
    HTML::FormFu                                      0    2.01    
    HTML::FormFu::Attribute                           0    2.01    
    HTML::FormFu::ObjectUtil                          0    2.01    
    HTML::FormFu::QueryType::CGI                      0    2.01    
    HTML::FormFu::Role::FormAndElementMethods         0    2.01    
    HTML::FormFu::Role::FormBlockAndFieldMethods      0    2.01    
    HTML::FormFu::Role::NestedHashUtils               0    2.01    
    HTML::FormFu::Role::Populate                      0    2.01    
    List::MoreUtils                                   0    0.416   
    Moose                                             0    2.2006  
    MooseX::Attribute::Chained                        0    1.0.2   
    overload                                          0    1.06    
    Scalar::Util                                      0    1.48    
    Storable                                          0    2.51    
    strict                                            0    1.03    

build_requires:

    Module                                            Need Have    
    ------------------------------------------------- ---- --------
    Code::TidyAll::Plugin::Perl::AlignMooseAttributes 0    0.01    
    Cwd                                               0    3.62    
    ExtUtils::MakeMaker                               0    7.24    
    Fatal                                             0    2.29    
    File::Spec                                        0    3.62    
    Pod::Coverage::TrustPod                           0    0.100003
  ! Pod::Tidy                                         0    n/a     
    Test::CPAN::Meta                                  0    0.25    
    Test::Differences                                 0    0.64    
    Test::EOL                                         0    2.00    
    Test::Kwalitee                                    1.21 1.26    
    Test::Memory::Cycle                               0    1.06    
    Test::More                                        0.92 1.302086
    Test::NoTabs                                      0    2.00    
  ! Test::PAUSE::Permissions                          0    n/a     
    Test::Pod                                         1.41 1.51    
    Test::Pod::Coverage                               1.08 1.10    
    warnings                                          0    1.05_01 
    YAML::XS                                          0    0.65    

configure_requires:

    Module                                            Need Have    
    ------------------------------------------------- ---- --------
    ExtUtils::MakeMaker                               0    7.24    


------------------------------
ENVIRONMENT AND OTHER CONTEXT
------------------------------

Environment variables:

    LC_ALL = de_DE.ISO8859-1
    PATH = /usr/local/bin:/usr/bin:/bin:/usr/local/sbin:/usr/sbin:/sbin:/home/cpansand/bin/freebsd9.3:/home/cpansand/bin/sh:/home/cpansand/bin:/usr/games:/home/cpansand/devel:/usr/home/eserte/src/srezic-misc/scripts
    PERL5LIB = /home/eserte/.cpan/build/2017072418/Code-TidyAll-Plugin-Perl-AlignMooseAttributes-0.01-1/blib/arch:/home/eserte/.cpan/build/2017072418/Code-TidyAll-Plugin-Perl-AlignMooseAttributes-0.01-1/blib/lib:/home/eserte/.cpan/build/2017072418/Manta-Client-Manta-Client-0.2-3/blib/arch:/home/eserte/.cpan/build/2017072418/Manta-Client-Manta-Client-0.2-3/blib/lib:/home/eserte/.cpan/build/2017072418/Plack-Middleware-XForwardedFor-0.172050-3/blib/arch:/home/eserte/.cpan/build/2017072418/Plack-Middleware-XForwardedFor-0.172050-3/blib/lib:/home/eserte/.cpan/build/2017072418/Bit-Manip-PP-1.07-3/blib/arch:/home/eserte/.cpan/build/2017072418/Bit-Manip-PP-1.07-3/blib/lib:/home/eserte/.cpan/build/2017072418/Geo-Coder-XYZ-0.06-3/blib/arch:/home/eserte/.cpan/build/2017072418/Geo-Coder-XYZ-0.06-3/blib/lib:/home/eserte/.cpan/build/2017072418/MooX-Options-4.101-3/blib/arch:/home/eserte/.cpan/build/2017072418/MooX-Options-4.101-3/blib/lib:/home/eserte/.cpan/build/2017072418/Params-Check-Item-0.02-3/blib/arch:/home/eserte/.cpan/build/2017072418/Params-Check-Item-0.02-3/blib/lib:/home/eserte/.cpan/build/2017072418/Alien-Autotools-0.99_02-3/blib/arch:/home/eserte/.cpan/build/2017072418/Alien-Autotools-0.99_02-3/blib/lib:/home/eserte/.cpan/build/2017072418/Alien-Build-0.73-3/blib/arch:/home/eserte/.cpan/build/2017072418/Alien-Build-0.73-3/blib/lib:/home/eserte/.cpan/build/2017072418/Log-ger-Output-Perl-0.001-3/blib/arch:/home/eserte/.cpan/build/2017072418/Log-ger-Output-Perl-0.001-3/blib/lib
    PERL5OPT = 
    PERL5_CPANPLUS_IS_RUNNING = 59410
    PERL5_CPAN_IS_RUNNING = 59410
    PERL5_CPAN_IS_RUNNING_IN_RECURSION = 50731,59410
    PERLDOC = -MPod::Perldoc::ToTextOverstrike
    PERL_BATCH = yes
    PERL_CANARY_STABILITY_NOPROMPT = 1
    PERL_CPAN_REPORTER_CONFIG = /var/tmp/cpansmoker-1023/2017072418/cpanreporter_000_config.ini
    PERL_EXTUTILS_AUTOINSTALL = --defaultdeps
    SHELL = /usr/local/bin/zsh
    TERM = screen
    TMPDIR = /var/tmp/cpansmoker-1023/2017072418

Perl special variables (and OS-specific diagnostics, for MSWin32):

    $^X = /usr/perl5.8.9/bin/perl
    $UID/$EUID = 1023 / 1023
    $GID = 1023 1023
    $EGID = 1023 1023

Perl module toolchain versions installed:

    Module              Have    
    ------------------- --------
    CPAN                2.16    
    CPAN::Meta          2.150010
    Cwd                 3.62    
    ExtUtils::CBuilder  0.280226
    ExtUtils::Command   7.24    
    ExtUtils::Install   2.12    
    ExtUtils::MakeMaker 7.24    
    ExtUtils::Manifest  1.70    
    ExtUtils::ParseXS   3.30    
    File::Spec          3.62    
    JSON                2.93    
    JSON::PP            2.94    
    Module::Build       0.4224  
    Module::Signature   0.79    
    Parse::CPAN::Meta   2.150010
    Test::Harness       3.39    
    Test::More          1.302086
    YAML                1.23    
    YAML::Syck          1.30    
    version             0.9918  


--

Summary of my perl5 (revision 5 version 8 subversion 9) configuration:
  Platform:
    osname=freebsd, osvers=9.2-release-p4, archname=amd64-freebsd
    uname='freebsd cvrsnica-freebsd-92 9.2-release-p4 freebsd 9.2-release-p4 #0: tue apr 8 18:08:22 utc 2014 root@amd64-builder.daemonology.net:usrobjusrsrcsysgeneric amd64 '
    config_args='-ds -e -Dprefix=/usr/perl5.8.9'
    hint=recommended, useposix=true, d_sigaction=define
    usethreads=undef use5005threads=undef useithreads=undef usemultiplicity=undef
    useperlio=define d_sfio=undef uselargefiles=define usesocks=undef
    use64bitint=define use64bitall=define uselongdouble=undef
    usemymalloc=n, bincompat5005=undef
  Compiler:
    cc='cc', ccflags ='-DHAS_FPSETMASK -DHAS_FLOATINGPOINT_H -fno-strict-aliasing -pipe -I/usr/local/include',
    optimize='-O',
    cppflags='-DHAS_FPSETMASK -DHAS_FLOATINGPOINT_H -fno-strict-aliasing -pipe -I/usr/local/include'
    ccversion='', gccversion='4.2.1 20070831 patched [FreeBSD]', gccosandvers=''
    intsize=4, longsize=8, ptrsize=8, doublesize=8, byteorder=12345678
    d_longlong=define, longlongsize=8, d_longdbl=define, longdblsize=16
    ivtype='long', ivsize=8, nvtype='double', nvsize=8, Off_t='off_t', lseeksize=8
    alignbytes=8, prototype=define
  Linker and Libraries:
    ld='cc', ldflags ='-Wl,-E  -L/usr/local/lib'
    libpth=/usr/lib /usr/local/lib
    libs=-lgdbm -lm -lcrypt -lutil -lc
    perllibs=-lm -lcrypt -lutil -lc
    libc=, so=so, useshrplib=false, libperl=libperl.a
    gnulibc_version=''
  Dynamic Linking:
    dlsrc=dl_dlopen.xs, dlext=so, d_dlsymun=undef, ccdlflags=' '
    cccdlflags='-DPIC -fPIC', lddlflags='-shared  -L/usr/local/lib'


Characteristics of this binary (from libperl): 
  Compile-time options: PERL_MALLOC_WRAP USE_64_BIT_ALL USE_64_BIT_INT
                        USE_FAST_STDIO USE_LARGE_FILES USE_PERLIO
  Built under freebsd
  Compiled at May 15 2014 22:27:57
  %ENV:
    PERL5LIB="/home/eserte/.cpan/build/2017072418/Code-TidyAll-Plugin-Perl-AlignMooseAttributes-0.01-1/blib/arch:/home/eserte/.cpan/build/2017072418/Code-TidyAll-Plugin-Perl-AlignMooseAttributes-0.01-1/blib/lib:/home/eserte/.cpan/build/2017072418/Manta-Client-Manta-Client-0.2-3/blib/arch:/home/eserte/.cpan/build/2017072418/Manta-Client-Manta-Client-0.2-3/blib/lib:/home/eserte/.cpan/build/2017072418/Plack-Middleware-XForwardedFor-0.172050-3/blib/arch:/home/eserte/.cpan/build/2017072418/Plack-Middleware-XForwardedFor-0.172050-3/blib/lib:/home/eserte/.cpan/build/2017072418/Bit-Manip-PP-1.07-3/blib/arch:/home/eserte/.cpan/build/2017072418/Bit-Manip-PP-1.07-3/blib/lib:/home/eserte/.cpan/build/2017072418/Geo-Coder-XYZ-0.06-3/blib/arch:/home/eserte/.cpan/build/2017072418/Geo-Coder-XYZ-0.06-3/blib/lib:/home/eserte/.cpan/build/2017072418/MooX-Options-4.101-3/blib/arch:/home/eserte/.cpan/build/2017072418/MooX-Options-4.101-3/blib/lib:/home/eserte/.cpan/build/2017072418/Params-Check-Item-0.02-3/blib/arch:/home/eserte/.cpan/build/2017072418/Params-Check-Item-0.02-3/blib/lib:/home/eserte/.cpan/build/2017072418/Alien-Autotools-0.99_02-3/blib/arch:/home/eserte/.cpan/build/2017072418/Alien-Autotools-0.99_02-3/blib/lib:/home/eserte/.cpan/build/2017072418/Alien-Build-0.73-3/blib/arch:/home/eserte/.cpan/build/2017072418/Alien-Build-0.73-3/blib/lib:/home/eserte/.cpan/build/2017072418/Log-ger-Output-Perl-0.001-3/blib/arch:/home/eserte/.cpan/build/2017072418/Log-ger-Output-Perl-0.001-3/blib/lib"
    PERL5OPT=""
    PERL5_CPANPLUS_IS_RUNNING="59410"
    PERL5_CPAN_IS_RUNNING="59410"
    PERL5_CPAN_IS_RUNNING_IN_RECURSION="50731,59410"
    PERLDOC="-MPod::Perldoc::ToTextOverstrike"
    PERL_BATCH="yes"
    PERL_CANARY_STABILITY_NOPROMPT="1"
    PERL_CPAN_REPORTER_CONFIG="/var/tmp/cpansmoker-1023/2017072418/cpanreporter_000_config.ini"
    PERL_EXTUTILS_AUTOINSTALL="--defaultdeps"
  @INC:
    /home/eserte/.cpan/build/2017072418/Code-TidyAll-Plugin-Perl-AlignMooseAttributes-0.01-1/blib/arch
    /home/eserte/.cpan/build/2017072418/Code-TidyAll-Plugin-Perl-AlignMooseAttributes-0.01-1/blib/lib
    /home/eserte/.cpan/build/2017072418/Manta-Client-Manta-Client-0.2-3/blib/arch
    /home/eserte/.cpan/build/2017072418/Manta-Client-Manta-Client-0.2-3/blib/lib
    /home/eserte/.cpan/build/2017072418/Plack-Middleware-XForwardedFor-0.172050-3/blib/arch
    /home/eserte/.cpan/build/2017072418/Plack-Middleware-XForwardedFor-0.172050-3/blib/lib
    /home/eserte/.cpan/build/2017072418/Bit-Manip-PP-1.07-3/blib/arch
    /home/eserte/.cpan/build/2017072418/Bit-Manip-PP-1.07-3/blib/lib
    /home/eserte/.cpan/build/2017072418/Geo-Coder-XYZ-0.06-3/blib/arch
    /home/eserte/.cpan/build/2017072418/Geo-Coder-XYZ-0.06-3/blib/lib
    /home/eserte/.cpan/build/2017072418/MooX-Options-4.101-3/blib/arch
    /home/eserte/.cpan/build/2017072418/MooX-Options-4.101-3/blib/lib
    /home/eserte/.cpan/build/2017072418/Params-Check-Item-0.02-3/blib/arch
    /home/eserte/.cpan/build/2017072418/Params-Check-Item-0.02-3/blib/lib
    /home/eserte/.cpan/build/2017072418/Alien-Autotools-0.99_02-3/blib/arch
    /home/eserte/.cpan/build/2017072418/Alien-Autotools-0.99_02-3/blib/lib
    /home/eserte/.cpan/build/2017072418/Alien-Build-0.73-3/blib/arch
    /home/eserte/.cpan/build/2017072418/Alien-Build-0.73-3/blib/lib
    /home/eserte/.cpan/build/2017072418/Log-ger-Output-Perl-0.001-3/blib/arch
    /home/eserte/.cpan/build/2017072418/Log-ger-Output-Perl-0.001-3/blib/lib
    /usr/perl5.8.9/lib/5.8.9/amd64-freebsd
    /usr/perl5.8.9/lib/5.8.9
    /usr/perl5.8.9/lib/site_perl/5.8.9/amd64-freebsd
    /usr/perl5.8.9/lib/site_perl/5.8.9
    .