Back
From: metabase:user:31d414ea-2aae-11df-837a-5e0a49663a4f
Subject: PASS Dist-Zilla-Plugin-CheckIssues-0.009 v5.16.3 GNU/Linux
Date: 2015-09-29T15:29:39Z
This distribution has been tested as part of the CPAN Testers
project, supporting the Perl programming language. See
http://wiki.cpantesters.org/ for more information or email
questions to cpan-testers-discuss@perl.org
--
Dear Karen Etheridge,
This is a computer-generated report for Dist-Zilla-Plugin-CheckIssues-0.009
on perl 5.16.3, created by CPAN-Reporter-1.2014.
Thank you for uploading your work to CPAN. Congratulations!
All tests were successful.
Sections of this report:
* Tester comments
* Program output
* Prerequisites
* Environment and other context
------------------------------
TESTER COMMENTS
------------------------------
Additional comments from tester:
this report is from an automated smoke testing program
and was not reviewed by a human for accuracy
------------------------------
PROGRAM OUTPUT
------------------------------
Output from '/usr/bin/make test':
PERL_DL_NONLAZY=1 "/home/david/cpantesting/perl-5.16.3/bin/perl" "-MExtUtils::Command::MM" "-MTest::Harness" "-e" "undef *Test::Harness::Switches; test_harness(0, 'blib/lib', 'blib/arch')" t/*.t
#
# Versions for all modules listed in MYMETA.json (including optional ones):
#
# === Configure Requires ===
#
# Module Want Have
# ------------------------ -------- --------
# CPAN::Meta::Requirements 2.120620 2.127
# ExtUtils::MakeMaker any 7.04
# Module::Metadata any 1.000027
#
# === Build Requires ===
#
# Module Want Have
# ------------------- ---- ----
# ExtUtils::MakeMaker any 7.04
#
# === Test Requires ===
#
# Module Want Have
# ------------------------------- ---- --------
# Dist::Zilla::App::Tester any 5.039
# Dist::Zilla::Role::MetaProvider any 5.039
# ExtUtils::MakeMaker any 7.04
# File::Spec any 3.47
# File::pushd any 1.005
# Moose::Util any 2.1603
# Path::Tiny any 0.072
# Test::DZil any 5.039
# Test::Deep any 0.117
# Test::Fatal any 0.014
# Test::More 0.88 1.001014
# if any 0.0602
# lib any 0.63
#
# === Test Recommends ===
#
# Module Want Have
# ---------- -------- --------
# CPAN::Meta 2.120900 2.150005
#
# === Runtime Requires ===
#
# Module Want Have
# -------------------------------- -------- --------
# Dist::Zilla::App any 5.039
# Dist::Zilla::Role::BeforeRelease any 5.039
# Encode any 2.44_01
# HTTP::Headers any 6.05
# HTTP::Tiny any 0.017
# JSON::MaybeXS 1.001000 1.003005
# List::Util 1.33 1.42
# Moose any 2.1603
# Term::ANSIColor 3.00 3.01
# namespace::autoclean any 0.27
# strict any 1.07
# warnings any 1.13
#
# === Other Modules ===
#
# Module Have
# ------------- -------
# App::Cmd 0.328
# Log::Dispatch 2.51
# Pod::Coverage missing
#
t/00-report-prereqs.t .. ok
t/01-basic.t ........... ok
t/02-no-rt.t ........... ok
t/03-no-repo.t ......... ok
t/04-command.t ......... ok
t/zzz-check-breaks.t ... ok
All tests successful.
Files=6, Tests=19, 9 wallclock secs ( 0.02 usr 0.02 sys + 3.36 cusr 0.26 csys = 3.66 CPU)
Result: PASS
------------------------------
PREREQUISITES
------------------------------
Prerequisite modules loaded:
requires:
Module Need Have
-------------------------------- -------- --------
Dist::Zilla::App 0 5.039
Dist::Zilla::Role::BeforeRelease 0 5.039
Encode 0 2.44_01
HTTP::Headers 0 6.05
HTTP::Tiny 0 0.017
JSON::MaybeXS 1.001000 1.003005
List::Util 1.33 1.42
Moose 0 2.1603
namespace::autoclean 0 0.27
perl 5.006 5.016003
strict 0 1.07
Term::ANSIColor 3.00 3.01
warnings 0 1.13
build_requires:
Module Need Have
-------------------------------- -------- --------
Dist::Zilla::App::Tester 0 5.039
Dist::Zilla::Role::MetaProvider 0 5.039
ExtUtils::MakeMaker 0 7.04
File::pushd 0 1.005
File::Spec 0 3.47
if 0 0.0602
lib 0 0.63
Moose::Util 0 2.1603
Path::Tiny 0 0.072
Test::Deep 0 0.117
Test::DZil 0 5.039
Test::Fatal 0 0.014
Test::More 0.88 1.001014
configure_requires:
Module Need Have
-------------------------------- -------- --------
CPAN::Meta::Requirements 2.120620 2.127
ExtUtils::MakeMaker 0 7.04
Module::Metadata 0 1.000027
perl 5.006 5.016003
------------------------------
ENVIRONMENT AND OTHER CONTEXT
------------------------------
Environment variables:
AUTOMATED_TESTING = 1
NONINTERACTIVE_TESTING = 1
PATH = /usr/local/bin:/usr/bin:/bin:/usr/games
PERL = 5.16.3
PERL5LIB =
PERL5OPT =
PERL5_CPANPLUS_IS_RUNNING = 25576
PERL5_CPAN_IS_RUNNING = 25576
PERLVER = 5.16.3
PERL_INLINE_DIRECTORY = /home/david/.Inline-5.16.3
PERL_MM_USE_DEFAULT = 1
SHELL = /bin/bash
TERM = screen
Perl special variables (and OS-specific diagnostics, for MSWin32):
$^X = /home/david/cpantesting/perl-5.16.3/bin/perl
$UID/$EUID = 1000 / 1000
$GID = 1000 1000
$EGID = 1000 1000
Perl module toolchain versions installed:
Module Have
------------------- --------
CPAN 2.10
CPAN::Meta 2.150005
Cwd 3.47
ExtUtils::CBuilder 0.280206
ExtUtils::Command 1.17
ExtUtils::Install 1.58
ExtUtils::MakeMaker 7.04
ExtUtils::Manifest 1.70
ExtUtils::ParseXS 3.16
File::Spec 3.47
JSON 2.53
JSON::PP 2.27203
Module::Build 0.4214
Module::Signature n/a
Parse::CPAN::Meta 1.4417
Test::Harness 3.35
Test::More 1.001014
YAML 1.15
YAML::Syck n/a
version 0.9912
--
Summary of my perl5 (revision 5 version 16 subversion 3) configuration:
Platform:
osname=linux, osvers=3.2.0-4-amd64, archname=x86_64-linux-thread-multi
uname='linux pigsty.barnyard.co.uk 3.2.0-4-amd64 #1 smp debian 3.2.35-2 x86_64 gnulinux '
config_args='-de -Dprefix=/home/david/cpantesting/perl-5.16.3 -Dusethreads -Duse64bitall'
hint=recommended, useposix=true, d_sigaction=define
useithreads=define, usemultiplicity=define
useperlio=define, d_sfio=undef, uselargefiles=define, usesocks=undef
use64bitint=define, use64bitall=define, uselongdouble=undef
usemymalloc=n, bincompat5005=undef
Compiler:
cc='cc', ccflags ='-D_REENTRANT -D_GNU_SOURCE -fno-strict-aliasing -pipe -fstack-protector -I/usr/local/include -D_LARGEFILE_SOURCE -D_FILE_OFFSET_BITS=64',
optimize='-O2',
cppflags='-D_REENTRANT -D_GNU_SOURCE -fno-strict-aliasing -pipe -fstack-protector -I/usr/local/include'
ccversion='', gccversion='4.1.2 20061115 (prerelease) (Debian 4.1.1-21)', gccosandvers=''
intsize=4, longsize=8, ptrsize=8, doublesize=8, byteorder=12345678
d_longlong=define, longlongsize=8, d_longdbl=define, longdblsize=16
ivtype='long', ivsize=8, nvtype='double', nvsize=8, Off_t='off_t', lseeksize=8
alignbytes=8, prototype=define
Linker and Libraries:
ld='cc', ldflags =' -fstack-protector -L/usr/local/lib'
libpth=/usr/local/lib /lib /usr/lib /lib64 /usr/lib64
libs=-lnsl -lgdbm -ldb -ldl -lm -lcrypt -lutil -lpthread -lc -lgdbm_compat
perllibs=-lnsl -ldl -lm -lcrypt -lutil -lpthread -lc
libc=/lib/libc-2.3.6.so, so=so, useshrplib=false, libperl=libperl.a
gnulibc_version='2.3.6'
Dynamic Linking:
dlsrc=dl_dlopen.xs, dlext=so, d_dlsymun=undef, ccdlflags='-Wl,-E'
cccdlflags='-fPIC', lddlflags='-shared -O2 -L/usr/local/lib -fstack-protector'
Characteristics of this binary (from libperl):
Compile-time options: HAS_TIMES MULTIPLICITY PERLIO_LAYERS
PERL_DONT_CREATE_GVSV PERL_IMPLICIT_CONTEXT
PERL_MALLOC_WRAP PERL_PRESERVE_IVUV USE_64_BIT_ALL
USE_64_BIT_INT USE_ITHREADS USE_LARGE_FILES
USE_LOCALE USE_LOCALE_COLLATE USE_LOCALE_CTYPE
USE_LOCALE_NUMERIC USE_PERLIO USE_PERL_ATOF
USE_REENTRANT_API
Built under linux
Compiled at Mar 22 2013 21:25:26
%ENV:
PERL="5.16.3"
PERL5LIB=""
PERL5OPT=""
PERL5_CPANPLUS_IS_RUNNING="25576"
PERL5_CPAN_IS_RUNNING="25576"
PERLVER="5.16.3"
PERL_INLINE_DIRECTORY="/home/david/.Inline-5.16.3"
PERL_MM_USE_DEFAULT="1"
@INC:
/home/david/cpantesting/perl-5.16.3/lib/site_perl/5.16.3/x86_64-linux-thread-multi
/home/david/cpantesting/perl-5.16.3/lib/site_perl/5.16.3
/home/david/cpantesting/perl-5.16.3/lib/5.16.3/x86_64-linux-thread-multi
/home/david/cpantesting/perl-5.16.3/lib/5.16.3
.