Report for Dist-Zilla-Plugin-Test-UseAllModules-0.002

Back
From: metabase:user:8286d1fc-3d52-11e2-9ec4-cb9cdd236785
Subject: PASS Dist-Zilla-Plugin-Test-UseAllModules-0.002 v5.16.1 GNU/Linux
Date: 2013-11-19T18:53:38Z

This distribution has been tested as part of the CPAN Testers
project, supporting the Perl programming language.  See
http://wiki.cpantesters.org/ for more information or email
questions to cpan-testers-discuss@perl.org


--
Dear Alexei Znamensky,

This is a computer-generated report for Dist-Zilla-Plugin-Test-UseAllModules-0.002
on perl 5.16.1, created by CPAN-Reporter-1.2010.

Thank you for uploading your work to CPAN.  Congratulations!
All tests were successful.

Sections of this report:

    * Tester comments
    * Program output
    * Prerequisites
    * Environment and other context

------------------------------
TESTER COMMENTS
------------------------------

Additional comments from tester:

this report is from an automated smoke testing program
and was not reviewed by a human for accuracy

------------------------------
PROGRAM OUTPUT
------------------------------

Output from '/usr/local/bin/make test':

PERL_DL_NONLAZY=1 /opt/perl444-27-5.16.1/bin/perl "-MExtUtils::Command::MM" "-MTest::Harness" "-e" "undef *Test::Harness::Switches; test_harness(0, 'blib/lib', 'blib/arch')" t/*.t
t/00-compile.t ................ skipped: no tests to run
t/00-load.t ................... ok
# 
# 
# perl: v5.16.1 (wanted 5.006) on linux from /opt/perl444-27-5.16.1/bin/perl
# 
# Dist::Zilla::Plugin::InlineFiles              => 5.006      (want any version)
# Dist::Zilla::Role::PrereqSource               => 5.006      (want any version)
# English                                       => 1.05       (want any version)
# ExtUtils::MakeMaker                           => 6.82       (want 6.30)   
# File::Find                                    => 1.20       (want any version)
# File::Temp                                    => 0.2304     (want any version)
# Moose                                         => 2.1005     (want any version)
# Test::More                                    => 1.001002   (want 0.88)   
# Test::UseAllModules                           => 0.14       (want 0.13)   
# namespace::autoclean                          => 0.14       (want any version)
# 
# Thanks for using my code.  I hope it works for you.
# If not, please try and include this output in the bug report.
# That will help me reproduce the issue and solve you problem.
# 
t/000-report-versions-tiny.t .. ok
Use of uninitialized value $file_name in -e at /opt/perl444-27-5.16.1/lib/site_perl/5.16.1/File/Slurp.pm line 116.
Use of uninitialized value $file_name in sysopen at /opt/perl444-27-5.16.1/lib/site_perl/5.16.1/File/Slurp.pm line 193.
Use of uninitialized value $file_name in concatenation (.) or string at /opt/perl444-27-5.16.1/lib/site_perl/5.16.1/File/Slurp.pm line 194.
Couldn't require Perl::Critic::Policy::Documentation::PodSpelling : read_file '' - sysopen: 2 at /opt/perl444-27-5.16.1/lib/site_perl/5.16.1/Pod/Wordlist.pm line 22.
Compilation failed in require at /opt/perl444-27-5.16.1/lib/site_perl/5.16.1/Pod/Spell.pm line 10.
BEGIN failed--compilation aborted at /opt/perl444-27-5.16.1/lib/site_perl/5.16.1/Pod/Spell.pm line 10.
Compilation failed in require at /opt/perl444-27-5.16.1/lib/site_perl/5.16.1/Perl/Critic/Policy/Documentation/PodSpelling.pm line 21.
BEGIN failed--compilation aborted at /opt/perl444-27-5.16.1/lib/site_perl/5.16.1/Perl/Critic/Policy/Documentation/PodSpelling.pm line 21.
Compilation failed in require at (eval 89) line 2.
 at /opt/perl444-27-5.16.1/lib/site_perl/5.16.1/Module/Pluggable.pm line 32.
t/author-critic.t ............. ok
# Unable to parse MANIFEST.SKIP file:
# 2
# Using default skip data from ExtUtils::Manifest 1.63
t/release-dist-manifest.t ..... ok
t/release-distmeta.t .......... ok
t/release-eol.t ............... ok
t/release-kwalitee.t .......... ok
t/release-meta-json.t ......... ok
t/release-minimum-version.t ... skipped: no minimum perl version could be determined
t/release-mojibake.t .......... ok
t/release-no-tabs.t ........... ok
t/release-pod-coverage.t ...... ok
t/release-pod-linkcheck.t ..... ok
t/release-pod-syntax.t ........ ok
t/release-portability.t ....... ok
t/release-test-version.t ...... ok
t/release-unused-vars.t ....... ok
All tests successful.
Files=18, Tests=75, 25 wallclock secs ( 0.23 usr  0.05 sys + 18.50 cusr  1.49 csys = 20.27 CPU)
Result: PASS

------------------------------
PREREQUISITES
------------------------------

Prerequisite modules loaded:

requires:

    Module                           Need  Have    
    -------------------------------- ----- --------
    Dist::Zilla::Plugin::InlineFiles 0     5.006   
    Dist::Zilla::Role::PrereqSource  0     5.006   
    Moose                            0     2.1005  
    namespace::autoclean             0     0.14    
    Test::UseAllModules              0.13  0.14    

build_requires:

    Module                           Need  Have    
    -------------------------------- ----- --------
    English                          0     1.05    
    File::Find                       0     1.20    
    File::Temp                       0     0.2304  
    perl                             5.006 5.016001
    Test::More                       0.88  1.001002
    Test::UseAllModules              0     0.14    

configure_requires:

    Module                           Need  Have    
    -------------------------------- ----- --------
    ExtUtils::MakeMaker              6.30  6.82    


------------------------------
ENVIRONMENT AND OTHER CONTEXT
------------------------------

Environment variables:

    AUTHOR_TESTING = 1
    AUTOMATED_TESTING = 1
    LANG = en_US.UTF-8
    PATH = /usr/lib/qt-3.3/bin:/usr/kerberos/sbin:/usr/kerberos/bin:/usr/lib/ccache:/usr/local/sbin:/usr/local/bin:/sbin:/bin:/usr/sbin:/usr/bin:/usr/X11R6/bin:/usr/lib/alliance/bin:/opt/real/RealPlayer:/root/bin:/usr/lib/alliance/bin:/opt/real/RealPlayer
    PERL5LIB = 
    PERL5OPT = 
    PERL5_CPANPLUS_IS_RUNNING = 17831
    PERL5_CPAN_IS_RUNNING = 17831
    PERL_ANYEVENT_MODEL = POE
    PERL_MM_USE_DEFAULT = 1
    SHELL = /bin/bash
    TERM = xterm

Perl special variables (and OS-specific diagnostics, for MSWin32):

    $^X = /opt/perl444-27-5.16.1/bin/perl
    $UID/$EUID = 0 / 0
    $GID = 0 0 1 2 3 4 6 10
    $EGID = 0 0 1 2 3 4 6 10

Perl module toolchain versions installed:

    Module              Have    
    ------------------- --------
    CPAN                2.00    
    CPAN::Meta          2.132830
    Cwd                 3.40    
    ExtUtils::CBuilder  0.280212
    ExtUtils::Command   1.17    
    ExtUtils::Install   1.58    
    ExtUtils::MakeMaker 6.82    
    ExtUtils::Manifest  1.63    
    ExtUtils::ParseXS   3.22    
    File::Spec          3.40    
    JSON                2.90    
    JSON::PP            2.27203 
    Module::Build       0.4200  
    Module::Signature   0.73    
    Parse::CPAN::Meta   1.4409  
    Test::Harness       3.30    
    Test::More          1.001002
    YAML                0.84    
    YAML::Syck          1.27    
    version             0.9904  


--

Summary of my perl5 (revision 5 version 16 subversion 1) configuration:
   
  Platform:
    osname=linux, osvers=2.6.27-repin.1, archname=i686-linux-thread-multi-64int-ld
    uname='linux localhost.localdomain 2.6.27-repin.1 #1 smp tue jan 25 20:07:21 msk 2011 i686 i686 i386 gnulinux '
    config_args='-Dcc=/opt/444/bin/gcc -Doptimize=-O3 -DDMALLOC=/usr/local/bin/dmalloc -Dprefix=/opt/perl444-27-5.16.1 -DDEBUGGING -Duseithreads'
    hint=recommended, useposix=true, d_sigaction=define
    useithreads=define, usemultiplicity=define
    useperlio=define, d_sfio=undef, uselargefiles=define, usesocks=undef
    use64bitint=define, use64bitall=undef, uselongdouble=define
    usemymalloc=n, bincompat5005=undef
  Compiler:
    cc='/opt/444/bin/gcc', ccflags ='-DDMALLOC -D_LARGEFILE_SOURCE -D_FILE_OFFSET_BITS=64',
    optimize='-O3 -g',
    cppflags='-DDMALLOC'
    ccversion='', gccversion='4.4.4', gccosandvers=''
    intsize=4, longsize=4, ptrsize=4, doublesize=8, byteorder=12345678
    d_longlong=define, longlongsize=8, d_longdbl=define, longdblsize=12
    ivtype='long long', ivsize=8, nvtype='long double', nvsize=12, Off_t='off_t', lseeksize=8
    alignbytes=4, prototype=define
  Linker and Libraries:
    ld='/opt/444/bin/gcc', ldflags =' -L/usr/local/lib'
    libpth=/usr/local/lib /lib /usr/lib
    libs=-lnsl -lgdbm -ldb -ldl -lm -lcrypt -lutil -lpthread -lc
    perllibs=-lnsl -ldl -lm -lcrypt -lutil -lpthread -lc
    libc=/lib/libc-2.5.so, so=so, useshrplib=true, libperl=libperl.so
    gnulibc_version='2.5'
  Dynamic Linking:
    dlsrc=dl_dlopen.xs, dlext=so, d_dlsymun=undef, ccdlflags='-Wl,-E -Wl,-rpath,/opt/perl444-27-5.16.1/lib/5.16.1/i686-linux-thread-multi-64int-ld/CORE'
    cccdlflags='-fPIC', lddlflags='-shared -O3 -g -L/usr/local/lib'


Characteristics of this binary (from libperl): 
  Compile-time options: HAS_TIMES MULTIPLICITY PERLIO_LAYERS
                        PERL_DONT_CREATE_GVSV PERL_IMPLICIT_CONTEXT PERL_MAD
                        PERL_MALLOC_WRAP PERL_PRESERVE_IVUV USE_64_BIT_INT
                        USE_FAST_STDIO USE_ITHREADS USE_LARGE_FILES
                        USE_LOCALE USE_LOCALE_COLLATE USE_LOCALE_CTYPE
                        USE_LOCALE_NUMERIC USE_LONG_DOUBLE USE_PERLIO
                        USE_PERL_ATOF USE_REENTRANT_API
  Built under linux
  Compiled at Nov 14 2013 01:25:40
  %ENV:
    PERL5LIB=""
    PERL5OPT=""
    PERL5_CPANPLUS_IS_RUNNING="17831"
    PERL5_CPAN_IS_RUNNING="17831"
    PERL_ANYEVENT_MODEL="POE"
    PERL_MM_USE_DEFAULT="1"
  @INC:
    /opt/perl444-27-5.16.1/lib/site_perl/5.16.1/i686-linux-thread-multi-64int-ld
    /opt/perl444-27-5.16.1/lib/site_perl/5.16.1
    /opt/perl444-27-5.16.1/lib/5.16.1/i686-linux-thread-multi-64int-ld
    /opt/perl444-27-5.16.1/lib/5.16.1
    .