Back
From: metabase:user:30977d10-2aae-11df-837a-5e0a49663a4f
Subject: PASS Plucene-1.25 v5.14.1 GNU/Linux
Date: 2011-07-01T21:34:29Z
This distribution has been tested as part of the CPAN Testers
project, supporting the Perl programming language. See
http://wiki.cpantesters.org/ for more information or email
questions to cpan-testers-discuss@perl.org
--
Dear Tony Bowden,
This is a computer-generated report for Plucene-1.25
on perl 5.14.1, created by CPAN-Reporter-1.1902.
Thank you for uploading your work to CPAN. Congratulations!
All tests were successful.
Sections of this report:
* Tester comments
* Program output
* Prerequisites
* Environment and other context
------------------------------
TESTER COMMENTS
------------------------------
Additional comments from tester:
this report is from an automated smoke testing program
and was not reviewed by a human for accuracy
------------------------------
PROGRAM OUTPUT
------------------------------
Output from './Build test':
t/98_pod_coverage.t .. ok
t/99_pod.t ........... ok
t/analyzers.t ........ ok
t/datesearch.t ....... ok
t/dateserializer.t ... ok
t/deletable.t ........ ok
t/delete.t ........... ok
t/indexsearcher.t .... ok
t/mergefactor.t ...... ok
t/queryparser.t ...... ok
t/regress-01.t ....... ok
t/regress-02.t ....... ok
t/regress-04.t ....... ok
t/search_hits.t ...... ok
t/searchtest.t ....... ok
t/segments.t ......... ok
t/similarity.t ....... ok
t/sloppy_scorer.t .... ok
# Indexing the entire Odyssey. This may take some time
# t/data/book1
# t/data/book10
# t/data/book11
# t/data/book12
# t/data/book13
# t/data/book14
# t/data/book15
# t/data/book16
# t/data/book17
# t/data/book18
# t/data/book19
# t/data/book2
# t/data/book20
# t/data/book21
# t/data/book22
# t/data/book23
# t/data/book24
# t/data/book3
# t/data/book4
# t/data/book5
# t/data/book6
# t/data/book7
# t/data/book8
# t/data/book9
# t/data/preface
# Closing
t/stress.t ........... ok
t/terminfostest.t .... ok
t/testbitvector.t .... ok
t/testindexwriter.t .. ok
t/tokenfilter.t ...... ok
t/tokenizer.t ........ ok
t/utf8.t ............. ok
All tests successful.
Files=25, Tests=6101, 53 wallclock secs ( 0.71 usr 0.07 sys + 15.44 cusr 1.00 csys = 17.22 CPU)
Result: PASS
------------------------------
PREREQUISITES
------------------------------
Prerequisite modules loaded:
requires:
Module Need Have
--------------------- --------- -------
Bit::Vector::Minimal 1.0 1.3
Carp 0 1.20
Class::Accessor 0.18 0.34
Class::Accessor::Fast 0.02 0.34
Class::Virtual 0.03 0.06
Encode 0 2.43
File::Spec::Functions 1.1 3.33
IO::File 1.08 1.15
IO::Handle 1.21_00 1.31
IO::Scalar 2.104 2.110
Lingua::Stem::En 2.12 2.16
List::Util 1.13 1.23
Memoize 1.01 1.02
Tie::Array::Sorted 1.1 1.41
Time::Piece 1.08 1.20_01
build_requires:
Module Need Have
--------------------- --------- -------
File::Slurp 2002.1031 9999.19
Test::Harness 2.30 3.23
------------------------------
ENVIRONMENT AND OTHER CONTEXT
------------------------------
Environment variables:
AUTOMATED_TESTING = 1
LANG = en_US.UTF-8
LANGUAGE = en
LC_COLLATE = C
LC_MONETARY = C
LC_NUMERIC = C
LC_TIME = C
PATH = /usr/local/sbin:/usr/local/bin:/usr/sbin:/usr/bin:/sbin:/bin
PERL5LIB =
PERL5OPT =
PERL5_CPANPLUS_IS_RUNNING = 28526
PERL5_CPAN_IS_RUNNING = 28526
PERL5_CPAN_IS_RUNNING_IN_RECURSION = 2439,28526
PERL_CR_SMOKER_CURRENT = PluceneSimple-1.04
PERL_EXTUTILS_AUTOINSTALL = --defaultdeps
PERL_MM_USE_DEFAULT = 1
SHELL = /bin/bash
TERM = xterm
Perl special variables (and OS-specific diagnostics, for MSWin32):
$^X = /home/trushel/perl/perl5141m/bin/perl
$UID/$EUID = 138375 / 138375
$GID = 5762 4 20 21 24 25 26 30 44 46 104 105 119 122 431 5762
$EGID = 5762 4 20 21 24 25 26 30 44 46 104 105 119 122 431 5762
Perl module toolchain versions installed:
Module Have
------------------- --------
CPAN 1.9600
Cwd 3.36
ExtUtils::CBuilder 0.280203
ExtUtils::Command 1.17
ExtUtils::Install 1.56
ExtUtils::MakeMaker 6.57_11
ExtUtils::Manifest 1.58
ExtUtils::ParseXS 2.2210
File::Spec 3.33
Module::Build 0.3800
Module::Signature 0.68
Test::Harness 3.23
Test::More 0.98
YAML 0.73
YAML::Syck 1.17
version 0.91
--
Summary of my perl5 (revision 5 version 14 subversion 1) configuration:
Platform:
osname=linux, osvers=2.6.32-32-generic, archname=x86_64-linux-multi
uname='linux trushel-glaptop 2.6.32-32-generic #62-ubuntu smp wed apr 20 21:52:38 utc 2011 x86_64 gnulinux '
config_args=''
hint=recommended, useposix=true, d_sigaction=define
useithreads=undef, usemultiplicity=define
useperlio=define, d_sfio=undef, uselargefiles=define, usesocks=undef
use64bitint=define, use64bitall=define, uselongdouble=undef
usemymalloc=n, bincompat5005=undef
Compiler:
cc='cc', ccflags ='-fno-strict-aliasing -pipe -fstack-protector -I/usr/local/include -D_LARGEFILE_SOURCE -D_FILE_OFFSET_BITS=64',
optimize='-O2',
cppflags='-fno-strict-aliasing -pipe -fstack-protector -I/usr/local/include'
ccversion='', gccversion='4.4.3', gccosandvers=''
intsize=4, longsize=8, ptrsize=8, doublesize=8, byteorder=12345678
d_longlong=define, longlongsize=8, d_longdbl=define, longdblsize=16
ivtype='long', ivsize=8, nvtype='double', nvsize=8, Off_t='off_t', lseeksize=8
alignbytes=8, prototype=define
Linker and Libraries:
ld='cc', ldflags =' -fstack-protector -L/usr/local/lib'
libpth=/usr/local/lib /lib/../lib /usr/lib/../lib /lib /usr/lib /usr/lib/x86_64-linux-gnu /lib64 /usr/lib64
libs=-lnsl -ldl -lm -lcrypt -lutil -lc
perllibs=-lnsl -ldl -lm -lcrypt -lutil -lc
libc=/lib/libc-2.11.1.so, so=so, useshrplib=false, libperl=libperl.a
gnulibc_version='2.11.1'
Dynamic Linking:
dlsrc=dl_dlopen.xs, dlext=so, d_dlsymun=undef, ccdlflags='-Wl,-E'
cccdlflags='-fPIC', lddlflags='-shared -O2 -L/usr/local/lib -fstack-protector'
Characteristics of this binary (from libperl):
Compile-time options: MULTIPLICITY PERL_DONT_CREATE_GVSV
PERL_IMPLICIT_CONTEXT PERL_MALLOC_WRAP
PERL_PRESERVE_IVUV USE_64_BIT_ALL USE_64_BIT_INT
USE_LARGE_FILES USE_PERLIO USE_PERL_ATOF
Built under linux
Compiled at Jun 22 2011 23:18:17
%ENV:
PERL5LIB=""
PERL5OPT=""
PERL5_CPANPLUS_IS_RUNNING="28526"
PERL5_CPAN_IS_RUNNING="28526"
PERL5_CPAN_IS_RUNNING_IN_RECURSION="2439,28526"
PERL_CR_SMOKER_CURRENT="PluceneSimple-1.04"
PERL_EXTUTILS_AUTOINSTALL="--defaultdeps"
PERL_MM_USE_DEFAULT="1"
@INC:
/home/trushel/perl/perl5141m/lib/site_perl/5.14.1/x86_64-linux-multi
/home/trushel/perl/perl5141m/lib/site_perl/5.14.1
/home/trushel/perl/perl5141m/lib/5.14.1/x86_64-linux-multi
/home/trushel/perl/perl5141m/lib/5.14.1
.