Alien-OpenSSL v0.10_3 Perl 5 v5.24.3 RC1 amd64-freebsd

Status
Pass
From
Slaven Rezić (SREZIC)
Dist
Alien-OpenSSL v0.10_3
Platform
Perl 5 v5.24.3 RC1 amd64-freebsd
Date
2017-11-15 19:19:28
ID
e6921318-ca39-11e7-8672-d918d68ed570
This distribution has been tested as part of the CPAN Testers
project, supporting the Perl programming language.  See
http://wiki.cpantesters.org/ for more information or email
questions to cpan-testers-discuss@perl.org


--
Dear Johanna Amann,

This is a computer-generated report for Alien-OpenSSL-0.10_3
on perl 5.24.3, created by CPAN-Reporter-1.2018.

Thank you for uploading your work to CPAN.  Congratulations!
All tests were successful.

Sections of this report:

    * Tester comments
    * Program output
    * Prerequisites
    * Environment and other context

------------------------------
TESTER COMMENTS
------------------------------

Additional comments from tester:

none provided

------------------------------
PROGRAM OUTPUT
------------------------------

Output from '/usr/bin/make test':

"/usr/perl5.24.3-RC1p/bin/perl" -MAlien::Build::MM=cmd -e test
Alien::Build::Plugin::PkgConfig::Negotiate> Using PkgConfig plugin: PkgConfig::LibPkgConf
Alien::Build::CommandSequence> + make test
make depend && make _tests
( cd test;  mkdir -p test-runs;  SRCTOP=../.  BLDTOP=../.  RESULT_D=test-runs  PERL="/usr/perl5.24.3-RC1p/bin/perl"  EXE_EXT=  OPENSSL_ENGINES=`cd .././engines; pwd`  OPENSSL_DEBUG_MEMORY=on  /usr/perl5.24.3-RC1p/bin/perl .././test/run_tests.pl  )
../test/recipes/01-test_abort.t ............ ok
../test/recipes/01-test_sanity.t ........... ok
../test/recipes/01-test_symbol_presence.t .. ok
../test/recipes/02-test_ordinals.t ......... ok
../test/recipes/03-test_exdata.t ........... ok
../test/recipes/03-test_ui.t ............... ok
../test/recipes/04-test_pem.t .............. ok
../test/recipes/05-test_bf.t ............... ok
../test/recipes/05-test_cast.t ............. ok
../test/recipes/05-test_des.t .............. ok
../test/recipes/05-test_hmac.t ............. ok
../test/recipes/05-test_idea.t ............. ok
../test/recipes/05-test_md2.t .............. skipped: md2 is not supported by this OpenSSL build
../test/recipes/05-test_md4.t .............. ok
../test/recipes/05-test_md5.t .............. ok
../test/recipes/05-test_mdc2.t ............. ok
../test/recipes/05-test_rand.t ............. ok
../test/recipes/05-test_rc2.t .............. ok
../test/recipes/05-test_rc4.t .............. ok
../test/recipes/05-test_rc5.t .............. skipped: rc5 is not supported by this OpenSSL build
../test/recipes/05-test_rmd.t .............. ok
../test/recipes/05-test_sha1.t ............. ok
../test/recipes/05-test_sha256.t ........... ok
../test/recipes/05-test_sha512.t ........... ok
../test/recipes/05-test_wp.t ............... ok
../test/recipes/10-test_bn.t ............... ok
../test/recipes/10-test_exp.t .............. ok
../test/recipes/15-test_dh.t ............... ok
../test/recipes/15-test_dsa.t .............. ok
../test/recipes/15-test_ec.t ............... ok
../test/recipes/15-test_ecdsa.t ............ ok
../test/recipes/15-test_genrsa.t ........... ok
../test/recipes/15-test_rsa.t .............. ok
../test/recipes/15-test_rsapss.t ........... ok
../test/recipes/20-test_enc.t .............. ok
../test/recipes/20-test_passwd.t ........... ok
../test/recipes/25-test_crl.t .............. ok
../test/recipes/25-test_d2i.t .............. ok
../test/recipes/25-test_pkcs7.t ............ ok
../test/recipes/25-test_req.t .............. ok
../test/recipes/25-test_sid.t .............. ok
../test/recipes/25-test_verify.t ........... ok
../test/recipes/25-test_x509.t ............. ok
../test/recipes/30-test_afalg.t ............ skipped: test_afalg not supported for this build
../test/recipes/30-test_engine.t ........... ok
../test/recipes/30-test_evp.t .............. ok
../test/recipes/30-test_evp_extra.t ........ ok
../test/recipes/30-test_pbelu.t ............ ok
../test/recipes/40-test_rehash.t ........... ok
../test/recipes/60-test_x509_store.t ....... ok
../test/recipes/70-test_asyncio.t .......... ok
../test/recipes/70-test_bad_dtls.t ......... ok
../test/recipes/70-test_clienthello.t ...... ok
../test/recipes/70-test_packet.t ........... ok
../test/recipes/70-test_sslcbcpadding.t .... ok
../test/recipes/70-test_sslcertstatus.t .... ok
../test/recipes/70-test_sslextension.t ..... ok
../test/recipes/70-test_sslmessages.t ...... ok
../test/recipes/70-test_sslrecords.t ....... ok
../test/recipes/70-test_sslsessiontick.t ... ok
../test/recipes/70-test_sslskewith0p.t ..... ok
../test/recipes/70-test_sslvertol.t ........ ok
../test/recipes/70-test_tlsextms.t ......... ok
../test/recipes/70-test_verify_extra.t ..... ok
../test/recipes/80-test_ca.t ............... ok
../test/recipes/80-test_cipherlist.t ....... ok
../test/recipes/80-test_cms.t .............. ok
../test/recipes/80-test_ct.t ............... ok
../test/recipes/80-test_dane.t ............. ok
../test/recipes/80-test_dtls.t ............. ok
../test/recipes/80-test_dtlsv1listen.t ..... ok
../test/recipes/80-test_ocsp.t ............. ok
../test/recipes/80-test_pkcs12.t ........... ok
../test/recipes/80-test_ssl_new.t .......... ok
../test/recipes/80-test_ssl_old.t .......... ok
../test/recipes/80-test_ssl_test_ctx.t ..... ok
../test/recipes/80-test_sslcorrupt.t ....... ok
../test/recipes/80-test_tsa.t .............. ok
../test/recipes/80-test_x509aux.t .......... ok
../test/recipes/90-test_async.t ............ ok
../test/recipes/90-test_bio_enc.t .......... ok
../test/recipes/90-test_bioprint.t ......... ok
../test/recipes/90-test_constant_time.t .... ok
../test/recipes/90-test_fuzz.t ............. ok
../test/recipes/90-test_gmdiff.t ........... ok
../test/recipes/90-test_heartbeat.t ........ skipped: heartbeats is not supported by this OpenSSL build
../test/recipes/90-test_ige.t .............. ok
../test/recipes/90-test_memleak.t .......... ok
../test/recipes/90-test_p5_crpt2.t ......... ok
../test/recipes/90-test_secmem.t ........... ok
../test/recipes/90-test_shlibload.t ........ ok
../test/recipes/90-test_srp.t .............. ok
../test/recipes/90-test_sslapi.t ........... ok
../test/recipes/90-test_threads.t .......... ok
../test/recipes/90-test_v3name.t ........... ok
All tests successful.
Files=95, Tests=554, 51 wallclock secs ( 0.45 usr  0.12 sys + 31.32 cusr 17.05 csys = 48.95 CPU)
Result: PASS
PERL_DL_NONLAZY=1 "/usr/perl5.24.3-RC1p/bin/perl" "-MExtUtils::Command::MM" "-MTest::Harness" "-e" "undef *Test::Harness::Switches; test_harness(0, 'blib/lib', 'blib/arch')" t/*.t
# Libs: -L/home/cpansand/.cpan/build/2017111600/Alien-OpenSSL-0.10_3-0/blib/lib/auto/share/dist/Alien-OpenSSL/lib -lssl -lcrypto
# Cflags: -I/home/cpansand/.cpan/build/2017111600/Alien-OpenSSL-0.10_3-0/blib/lib/auto/share/dist/Alien-OpenSSL/include
# Install type: share
t/00-use.t ........ ok
t/01-signature.t .. skipped: Set the environment variable TEST_SIGNATURE to enable this test.
t/author-pod.t .... skipped: Author testing disabled
t/ffi.t ........... ok
t/xs.t ............ ok
All tests successful.
Files=5, Tests=8,  1 wallclock secs ( 0.03 usr  0.01 sys +  0.81 cusr  0.23 csys =  1.08 CPU)
Result: PASS

------------------------------
PREREQUISITES
------------------------------

Prerequisite modules loaded:

requires:

    Module                                       Need  Have    
    -------------------------------------------- ----- --------
    Alien::Build                                 1.30  1.32    

build_requires:

    Module                                       Need  Have    
    -------------------------------------------- ----- --------
    Alien::Build::MM                             1.30  1.32    
    Alien::Build::Plugin::Gather::IsolateDynamic 0.48  1.32    
    Archive::Tar                                 0     2.26    
    Config                                       0     5.024003
    HTML::LinkExtor                              0     3.69    
    HTTP::Tiny                                   0.044 0.070   
    IO::Socket::SSL                              1.56  2.051   
    IO::Zlib                                     0     1.10    
    Net::SSLeay                                  1.49  1.81    
    Sort::Versions                               0     1.62    
    Test::More                                   0.96  1.302096
    Text::Template                               0     1.47    
    URI                                          0     1.72    
    URI::Escape                                  0     3.31    

configure_requires:

    Module                                       Need  Have    
    -------------------------------------------- ----- --------
    Alien::Build                                 1.30  1.32    
    Alien::Build::MM                             1.30  1.32    
    Alien::Build::Plugin::Fetch::CurlCommand     1.19  1.32    
    Alien::Build::Plugin::Fetch::Wget            1.19  1.32    


------------------------------
ENVIRONMENT AND OTHER CONTEXT
------------------------------

Environment variables:

    PATH = /usr/local/bin:/usr/bin:/bin:/usr/local/sbin:/usr/sbin:/sbin:/home/cpansand/bin/freebsd11.0:/home/cpansand/bin/sh:/home/cpansand/bin:/usr/games:/home/cpansand/devel:/home/eserte/src/srezic-misc/scripts
    PERL5LIB = /home/cpansand/.cpan/build/2017111600/Alien-Build-1.32-0/blib/arch:/home/cpansand/.cpan/build/2017111600/Alien-Build-1.32-0/blib/lib
    PERL5OPT = 
    PERL5_CPANPLUS_IS_RUNNING = 89923
    PERL5_CPAN_IS_RUNNING = 89923
    PERL5_CPAN_IS_RUNNING_IN_RECURSION = 66927,89923
    PERLDOC = -MPod::Perldoc::ToTextOverstrike
    PERL_BATCH = yes
    PERL_CANARY_STABILITY_NOPROMPT = 1
    PERL_CPAN_REPORTER_CONFIG = /var/tmp/cpansmoker-1023/2017111600/cpanreporter_000_config.ini
    PERL_EXTUTILS_AUTOINSTALL = --defaultdeps
    SHELL = /usr/local/bin/zsh
    TERM = screen
    TMPDIR = /var/tmp/cpansmoker-1023/2017111600

Perl special variables (and OS-specific diagnostics, for MSWin32):

    $^X = /usr/perl5.24.3-RC1p/bin/perl
    $UID/$EUID = 1023 / 1023
    $GID = 1023 1023
    $EGID = 1023 1023

Perl module toolchain versions installed:

    Module              Have      
    ------------------- ----------
    CPAN                2.16      
    CPAN::Meta          2.150005  
    Cwd                 3.63_01   
    ExtUtils::CBuilder  0.280226  
    ExtUtils::Command   7.30      
    ExtUtils::Install   2.14      
    ExtUtils::MakeMaker 7.30      
    ExtUtils::Manifest  1.70      
    ExtUtils::ParseXS   3.35      
    File::Spec          3.63_01   
    JSON                2.94      
    JSON::PP            2.94      
    Module::Build       0.4224    
    Module::Signature   0.81      
    Parse::CPAN::Meta   1.4417_001
    Test::Harness       3.39      
    Test::More          1.302096  
    YAML                1.23      
    YAML::Syck          1.30      
    version             0.9918    


--

Summary of my perl5 (revision 5 version 24 subversion 3) configuration:
   
  Platform:
    osname=freebsd, osvers=11.1-stable, archname=amd64-freebsd
    uname='freebsd ali3.bbbike.org 11.1-stable freebsd 11.1-stable #0 r313908+86423c22e2d(stable11): thu sep 7 22:30:27 utc 2017 root@ali3.bbbike.org:usrobjhomeprojectsfreebsdsysgeneric amd64 '
    config_args='-ds -e -Dprefix=/usr/perl5.24.3-RC1p -Dcf_email=srezic@cpan.org -Doptimize=-O2 -pipe'
    hint=recommended, useposix=true, d_sigaction=define
    useithreads=undef, usemultiplicity=undef
    use64bitint=define, use64bitall=define, uselongdouble=undef
    usemymalloc=n, bincompat5005=undef
  Compiler:
    cc='cc', ccflags ='-DHAS_FPSETMASK -DHAS_FLOATINGPOINT_H -fno-strict-aliasing -pipe -fstack-protector-strong -I/usr/local/include -D_FORTIFY_SOURCE=2',
    optimize='-O2 -pipe',
    cppflags='-DHAS_FPSETMASK -DHAS_FLOATINGPOINT_H -fno-strict-aliasing -pipe -fstack-protector-strong -I/usr/local/include'
    ccversion='', gccversion='4.2.1 Compatible FreeBSD Clang 4.0.0 (tags/RELEASE_400/final 297347)', gccosandvers=''
    intsize=4, longsize=8, ptrsize=8, doublesize=8, byteorder=12345678, doublekind=3
    d_longlong=define, longlongsize=8, d_longdbl=define, longdblsize=16, longdblkind=3
    ivtype='long', ivsize=8, nvtype='double', nvsize=8, Off_t='off_t', lseeksize=8
    alignbytes=8, prototype=define
  Linker and Libraries:
    ld='cc', ldflags ='-pthread -Wl,-E  -fstack-protector-strong -L/usr/local/lib'
    libpth=/usr/lib /usr/local/lib /usr/bin/../lib/clang/4.0.0/lib /usr/lib
    libs=-lpthread -lgdbm -lm -lcrypt -lutil -lc
    perllibs=-lpthread -lm -lcrypt -lutil -lc
    libc=, so=so, useshrplib=false, libperl=libperl.a
    gnulibc_version=''
  Dynamic Linking:
    dlsrc=dl_dlopen.xs, dlext=so, d_dlsymun=undef, ccdlflags=' '
    cccdlflags='-DPIC -fPIC', lddlflags='-shared  -L/usr/local/lib -fstack-protector-strong'


Characteristics of this binary (from libperl): 
  Compile-time options: HAS_TIMES PERLIO_LAYERS PERL_COPY_ON_WRITE
                        PERL_DONT_CREATE_GVSV
                        PERL_HASH_FUNC_ONE_AT_A_TIME_HARD PERL_MALLOC_WRAP
                        PERL_PRESERVE_IVUV USE_64_BIT_ALL USE_64_BIT_INT
                        USE_LARGE_FILES USE_LOCALE USE_LOCALE_COLLATE
                        USE_LOCALE_CTYPE USE_LOCALE_NUMERIC USE_LOCALE_TIME
                        USE_PERLIO USE_PERL_ATOF
  Locally applied patches:
	RC1
  Built under freebsd
  Compiled at Sep 10 2017 16:26:52
  %ENV:
    PERL5LIB="/home/cpansand/.cpan/build/2017111600/Alien-Build-1.32-0/blib/arch:/home/cpansand/.cpan/build/2017111600/Alien-Build-1.32-0/blib/lib"
    PERL5OPT=""
    PERL5_CPANPLUS_IS_RUNNING="89923"
    PERL5_CPAN_IS_RUNNING="89923"
    PERL5_CPAN_IS_RUNNING_IN_RECURSION="66927,89923"
    PERLDOC="-MPod::Perldoc::ToTextOverstrike"
    PERL_BATCH="yes"
    PERL_CANARY_STABILITY_NOPROMPT="1"
    PERL_CPAN_REPORTER_CONFIG="/var/tmp/cpansmoker-1023/2017111600/cpanreporter_000_config.ini"
    PERL_EXTUTILS_AUTOINSTALL="--defaultdeps"
  @INC:
    /home/cpansand/.cpan/build/2017111600/Alien-Build-1.32-0/blib/arch
    /home/cpansand/.cpan/build/2017111600/Alien-Build-1.32-0/blib/lib
    /usr/perl5.24.3-RC1p/lib/site_perl/5.24.3/amd64-freebsd
    /usr/perl5.24.3-RC1p/lib/site_perl/5.24.3
    /usr/perl5.24.3-RC1p/lib/5.24.3/amd64-freebsd
    /usr/perl5.24.3-RC1p/lib/5.24.3
    .