StorageDisplay v2.01 Perl 5 v5.36.0 x86_64-linux-thread-multi

Status
Pass
From
Slaven Rezić
Dist
StorageDisplay v2.01
Platform
Perl 5 v5.36.0 x86_64-linux-thread-multi
Date
2023-03-25 22:03:40
ID
e6e2979a-cb58-11ed-b978-e1036e8775ea
This distribution has been tested as part of the CPAN Testers
project, supporting the Perl programming language.  See
http://wiki.cpantesters.org/ for more information or email
questions to cpan-testers-discuss@perl.org


--
Dear Vincent Danjean,

This is a computer-generated report for StorageDisplay-2.01
on perl 5.36.0, created by CPAN-Reporter-1.2018.

Thank you for uploading your work to CPAN.  Congratulations!
All tests were successful.

Sections of this report:

    * Tester comments
    * Program output
    * Prerequisites
    * Environment and other context

------------------------------
TESTER COMMENTS
------------------------------

Additional comments from tester:

none provided

------------------------------
PROGRAM OUTPUT
------------------------------

Output from '/usr/bin/make test':

PERL_DL_NONLAZY=1 "/opt/perl-5.36.0t/bin/perl" "-MExtUtils::Command::MM" "-MTest::Harness" "-e" "undef *Test::Harness::Switches; test_harness(0, 'blib/lib', 'blib/arch')" t/*.t
# Testing with Perl 5.036000, /opt/perl-5.36.0t/bin/perl
#     Carp version is 1.52
#     Data::Compare version is 1.27
#     Data::Dumper version is 2.184
#     ExtUtils::MakeMaker version is 7.64
#     Getopt::Long version is 2.52
#     IO::Select version is 1.49
#     JSON::PP version is 4.07
#     Moose version is 2.2201
#     MooseX::NonMoose version is 0.26
#     MooseX::Role::Parameterized version is 1.11
#     Net::OpenSSH version is 0.83
#     Object::ID version is v0.1.2
#     POSIX version is 2.03
#     Path::Class version is 0.37
#     Path::Class::Dir version is 0.37
#     Pod::Usage version is 2.01
#     Scalar::Util version is 1.62
#     Storable version is 3.26
#     Term::ReadKey version is 2.38
#     Test2::V0 version is 0.000145
#     Test::File::Contents version is 0.242
#     Test::More version is 1.302190
#     Test::Script version is 1.29
#     Types::Standard version is 1.012004
#     base version is 2.27
#     bignum version is 0.65
#     bigrat version is 0.65
#     namespace::sweep version is 0.006
#     parent version is 0.238
#     strict version is 1.12
#     utf8 version is 1.24
#     warnings version is 1.58
t/000-report-versions.t .. ok
t/05_round.t ............. ok
t/06_int-data-dumper.t ... ok
# JSON::PP: boolean_values support: 1
# JSON::PP: allow_bignum support: 1
# JSON::PP has boolean_values: 1
t/07_json.t .............. ok
t/10_scripts.t ........... ok
t/20_reference.t ......... ok
t/author-critic.t ........ skipped: these tests are for testing by the author
t/author-distmeta.t ...... skipped: these tests are for testing by the author
t/author-pod-syntax.t .... skipped: these tests are for testing by the author
All tests successful.
Files=9, Tests=111, 11 wallclock secs ( 0.02 usr  0.03 sys +  8.55 cusr  2.54 csys = 11.14 CPU)
Result: PASS

------------------------------
PREREQUISITES
------------------------------

Prerequisite modules loaded:

requires:

    Module                      Need     Have    
    --------------------------- -------- --------
    base                        0        2.27    
    bignum                      0.51     0.65    
    bigrat                      0.51     0.65    
    Carp                        0        1.52    
    Data::Compare               0        1.27    
    Data::Dumper                0        2.184   
    Getopt::Long                0        2.52    
    IO::Select                  0        1.49    
    JSON::PP                    0        4.07    
    Moose                       0        2.2201  
    Moose::Role                 0        2.2201  
    MooseX::NonMoose            0        0.26    
    MooseX::Role::Parameterized 0        1.11    
    namespace::sweep            0        0.006   
    Net::OpenSSH                0        0.83    
    Object::ID                  0        v0.1.2  
    parent                      0        0.238   
    Path::Class::Dir            0        0.37    
    perl                        5.014000 5.036000
    Pod::Usage                  0        2.01    
    POSIX                       0        2.03    
    Scalar::Util                0        1.62    
    Storable                    0        3.26    
    strict                      0        1.12    
    Term::ReadKey               0        2.38    
    Types::Standard             0        1.012004
    warnings                    0        1.58    

build_requires:

    Module                      Need     Have    
    --------------------------- -------- --------
    ExtUtils::MakeMaker         0        7.64    
    Path::Class                 0        0.37    
    Test2::V0                   0        0.000145
    Test::File::Contents        0        0.242   
    Test::More                  0.94     1.302190
    Test::Script                0        1.29    
    utf8                        0        1.24    

configure_requires:

    Module                      Need     Have    
    --------------------------- -------- --------
    ExtUtils::MakeMaker         0        7.64    


------------------------------
ENVIRONMENT AND OTHER CONTEXT
------------------------------

Environment variables:

    LANG = C
    PATH = /usr/local/bin:/usr/bin:/bin:/usr/local/sbin:/usr/sbin:/sbin:/home/cpansand/bin/linux-gnu:/home/cpansand/bin/sh:/home/cpansand/bin:/usr/games:/home/cpansand/devel:/home/eserte/src/srezic-misc/scripts
    PERL5LIB = /home/cpansand/.cpan/build/2023032522/namespace-sweep-0.006-0/blib/arch:/home/cpansand/.cpan/build/2023032522/namespace-sweep-0.006-0/blib/lib:/home/cpansand/.cpan/build/2023032522/Test-Script-1.29-0/blib/arch:/home/cpansand/.cpan/build/2023032522/Test-Script-1.29-0/blib/lib:/home/cpansand/.cpan/build/2023032522/Test-File-Contents-0.242-0/blib/arch:/home/cpansand/.cpan/build/2023032522/Test-File-Contents-0.242-0/blib/lib:/home/cpansand/.cpan/build/2023032522/Object-ID-v0.1.2-0/blib/arch:/home/cpansand/.cpan/build/2023032522/Object-ID-v0.1.2-0/blib/lib:/home/cpansand/.cpan/build/2023032522/Hash-FieldHash-0.15-0/blib/arch:/home/cpansand/.cpan/build/2023032522/Hash-FieldHash-0.15-0/blib/lib:/home/cpansand/.cpan/build/2023032522/Net-OpenSSH-0.83-0/blib/arch:/home/cpansand/.cpan/build/2023032522/Net-OpenSSH-0.83-0/blib/lib
    PERL5OPT = 
    PERL5_CPANPLUS_IS_RUNNING = 3348034
    PERL5_CPAN_IS_RUNNING = 3348034
    PERL5_CPAN_IS_RUNNING_IN_RECURSION = 3017748,3348034
    PERLDOC = -MPod::Perldoc::ToTextOverstrike
    PERL_BATCH = yes
    PERL_CANARY_STABILITY_NOPROMPT = 1
    PERL_CPAN_REPORTER_CONFIG = /var/tmp/cpansmoker-1023/2023032518/cpanreporter_003_config.ini
    PERL_EXTUTILS_AUTOINSTALL = --defaultdeps
    PERL_USE_UNSAFE_INC = 1
    SHELL = /usr/bin/zsh
    TERM = screen
    TMPDIR = /var/tmp/cpansmoker-1023/2023032518

Perl special variables (and OS-specific diagnostics, for MSWin32):

    $^X = /opt/perl-5.36.0t/bin/perl
    $UID/$EUID = 1023 / 1023
    $GID = 1023 1023
    $EGID = 1023 1023

Perl module toolchain versions installed:

    Module              Have    
    ------------------- --------
    CPAN                2.33    
    CPAN::Meta          2.150010
    Cwd                 3.84    
    ExtUtils::CBuilder  0.280236
    ExtUtils::Command   7.64    
    ExtUtils::Install   2.20    
    ExtUtils::MakeMaker 7.64    
    ExtUtils::Manifest  1.73    
    ExtUtils::ParseXS   3.45    
    File::Spec          3.84    
    JSON                4.06    
    JSON::PP            4.07    
    Module::Build       0.4231  
    Module::Signature   n/a     
    Parse::CPAN::Meta   2.150010
    Test::Harness       3.44    
    Test::More          1.302190
    YAML                1.30    
    YAML::Syck          1.34    
    version             0.9929  


--

Summary of my perl5 (revision 5 version 36 subversion 0) configuration:
   
  Platform:
    osname=linux
    osvers=5.10.0-13-amd64
    archname=x86_64-linux-thread-multi
    uname='linux eserte 5.10.0-13-amd64 #1 smp debian 5.10.106-1 (2022-03-17) x86_64 gnulinux '
    config_args='-ds -e -Dprefix=/opt/perl-5.36.0t -Dusethreads -Dcf_email=srezic@cpan.org'
    hint=recommended
    useposix=true
    d_sigaction=define
    useithreads=define
    usemultiplicity=define
    use64bitint=define
    use64bitall=define
    uselongdouble=undef
    usemymalloc=n
    default_inc_excludes_dot=define
  Compiler:
    cc='cc'
    ccflags ='-D_REENTRANT -D_GNU_SOURCE -fwrapv -fno-strict-aliasing -pipe -fstack-protector-strong -I/usr/local/include -D_LARGEFILE_SOURCE -D_FILE_OFFSET_BITS=64 -D_FORTIFY_SOURCE=2'
    optimize='-O2'
    cppflags='-D_REENTRANT -D_GNU_SOURCE -fwrapv -fno-strict-aliasing -pipe -fstack-protector-strong -I/usr/local/include'
    ccversion=''
    gccversion='10.2.1 20210110'
    gccosandvers=''
    intsize=4
    longsize=8
    ptrsize=8
    doublesize=8
    byteorder=12345678
    doublekind=3
    d_longlong=define
    longlongsize=8
    d_longdbl=define
    longdblsize=16
    longdblkind=3
    ivtype='long'
    ivsize=8
    nvtype='double'
    nvsize=8
    Off_t='off_t'
    lseeksize=8
    alignbytes=8
    prototype=define
  Linker and Libraries:
    ld='cc'
    ldflags =' -fstack-protector-strong -L/usr/local/lib'
    libpth=/usr/local/lib /usr/lib/x86_64-linux-gnu /usr/lib /lib/x86_64-linux-gnu /lib
    libs=-lpthread -lnsl -lgdbm -ldb -ldl -lm -lcrypt -lutil -lc
    perllibs=-lpthread -lnsl -ldl -lm -lcrypt -lutil -lc
    libc=libc-2.31.so
    so=so
    useshrplib=false
    libperl=libperl.a
    gnulibc_version='2.31'
  Dynamic Linking:
    dlsrc=dl_dlopen.xs
    dlext=so
    d_dlsymun=undef
    ccdlflags='-Wl,-E'
    cccdlflags='-fPIC'
    lddlflags='-shared -O2 -L/usr/local/lib -fstack-protector-strong'


Characteristics of this binary (from libperl): 
  Compile-time options:
    HAS_TIMES
    MULTIPLICITY
    PERLIO_LAYERS
    PERL_COPY_ON_WRITE
    PERL_DONT_CREATE_GVSV
    PERL_MALLOC_WRAP
    PERL_OP_PARENT
    PERL_PRESERVE_IVUV
    USE_64_BIT_ALL
    USE_64_BIT_INT
    USE_ITHREADS
    USE_LARGE_FILES
    USE_LOCALE
    USE_LOCALE_COLLATE
    USE_LOCALE_CTYPE
    USE_LOCALE_NUMERIC
    USE_LOCALE_TIME
    USE_PERLIO
    USE_PERL_ATOF
    USE_REENTRANT_API
    USE_THREAD_SAFE_LOCALE
  Built under linux
  Compiled at May 30 2022 19:18:45
  %ENV:
    PERL5LIB="/home/cpansand/.cpan/build/2023032522/namespace-sweep-0.006-0/blib/arch:/home/cpansand/.cpan/build/2023032522/namespace-sweep-0.006-0/blib/lib:/home/cpansand/.cpan/build/2023032522/Test-Script-1.29-0/blib/arch:/home/cpansand/.cpan/build/2023032522/Test-Script-1.29-0/blib/lib:/home/cpansand/.cpan/build/2023032522/Test-File-Contents-0.242-0/blib/arch:/home/cpansand/.cpan/build/2023032522/Test-File-Contents-0.242-0/blib/lib:/home/cpansand/.cpan/build/2023032522/Object-ID-v0.1.2-0/blib/arch:/home/cpansand/.cpan/build/2023032522/Object-ID-v0.1.2-0/blib/lib:/home/cpansand/.cpan/build/2023032522/Hash-FieldHash-0.15-0/blib/arch:/home/cpansand/.cpan/build/2023032522/Hash-FieldHash-0.15-0/blib/lib:/home/cpansand/.cpan/build/2023032522/Net-OpenSSH-0.83-0/blib/arch:/home/cpansand/.cpan/build/2023032522/Net-OpenSSH-0.83-0/blib/lib"
    PERL5OPT=""
    PERL5_CPANPLUS_IS_RUNNING="3348034"
    PERL5_CPAN_IS_RUNNING="3348034"
    PERL5_CPAN_IS_RUNNING_IN_RECURSION="3017748,3348034"
    PERLDOC="-MPod::Perldoc::ToTextOverstrike"
    PERL_BATCH="yes"
    PERL_CANARY_STABILITY_NOPROMPT="1"
    PERL_CPAN_REPORTER_CONFIG="/var/tmp/cpansmoker-1023/2023032518/cpanreporter_003_config.ini"
    PERL_EXTUTILS_AUTOINSTALL="--defaultdeps"
    PERL_USE_UNSAFE_INC="1"
  @INC:
    /home/cpansand/.cpan/build/2023032522/namespace-sweep-0.006-0/blib/arch
    /home/cpansand/.cpan/build/2023032522/namespace-sweep-0.006-0/blib/lib
    /home/cpansand/.cpan/build/2023032522/Test-Script-1.29-0/blib/arch
    /home/cpansand/.cpan/build/2023032522/Test-Script-1.29-0/blib/lib
    /home/cpansand/.cpan/build/2023032522/Test-File-Contents-0.242-0/blib/arch
    /home/cpansand/.cpan/build/2023032522/Test-File-Contents-0.242-0/blib/lib
    /home/cpansand/.cpan/build/2023032522/Object-ID-v0.1.2-0/blib/arch
    /home/cpansand/.cpan/build/2023032522/Object-ID-v0.1.2-0/blib/lib
    /home/cpansand/.cpan/build/2023032522/Hash-FieldHash-0.15-0/blib/arch
    /home/cpansand/.cpan/build/2023032522/Hash-FieldHash-0.15-0/blib/lib
    /home/cpansand/.cpan/build/2023032522/Net-OpenSSH-0.83-0/blib/arch
    /home/cpansand/.cpan/build/2023032522/Net-OpenSSH-0.83-0/blib/lib
    /opt/perl-5.36.0t/lib/site_perl/5.36.0/x86_64-linux-thread-multi
    /opt/perl-5.36.0t/lib/site_perl/5.36.0
    /opt/perl-5.36.0t/lib/5.36.0/x86_64-linux-thread-multi
    /opt/perl-5.36.0t/lib/5.36.0
    .