Gtk2-Ex-MenuView v4 Perl 5 v5.8.3 x86_64-linux-ld

Status
Pass
From
Andreas J. König (ANDK)
Dist
Gtk2-Ex-MenuView v4
Platform
Perl 5 v5.8.3 x86_64-linux-ld
Date
2019-06-07 06:31:37
ID
e6e821f8-88ed-11e9-b52d-a82f9f98ef1c
This distribution has been tested as part of the CPAN Testers
project, supporting the Perl programming language.  See
http://wiki.cpantesters.org/ for more information or email
questions to cpan-testers-discuss@perl.org


--
Dear Kevin Ryde,

This is a computer-generated report for Gtk2-Ex-MenuView-4
on perl 5.8.3, created by CPAN-Reporter-1.2018.

Thank you for uploading your work to CPAN.  Congratulations!
All tests were successful.

Sections of this report:

    * Tester comments
    * Program output
    * Prerequisites
    * Environment and other context

------------------------------
TESTER COMMENTS
------------------------------

Additional comments from tester:

this report is from an automated smoke testing program
and was not reviewed by a human for accuracy

------------------------------
PROGRAM OUTPUT
------------------------------

Output from '/usr/bin/make test':

PERL_DL_NONLAZY=1 "/tmp/basesmoker-reloperl-Q8x_/bin/perl" "-MExtUtils::Command::MM" "-MTest::Harness" "-e" "undef *Test::Harness::Switches; test_harness(0, 'blib/lib', 'blib/arch')" t/*.t
# size_request create 0
# create 0
# create 1
# wait_for_event(): 'map-event' ran 6 events/iterations
# Gtk2::ListStore=HASH(0x55e10e84cc90) signal handlers connected: 113,114,115,116,117
# Gtk2::ListStore=HASH(0x55e10e84eb80) signal handlers connected: 123,124,125,126,127
# Gtk2::ListStore=HASH(0x55e10e84cf40) signal handlers connected: 128,129,130,131,132
# item create 1
# recurse for item0
# item create 0
# item_create_or_update of 0
# main_iterations(): ran 15 events/iterations
# Gtk2::ListStore=HASH(0x55e10e84cf60) signal handlers connected: 181,182,183,184,185
# main_iterations(): ran 0 events/iterations
t/MenuView-display.t .. ok
# Test::Weaken version 3.022000
# Perl-Gtk2    version 1.24992
# Perl-Glib    version 1.329
# Compiled against Glib version 2.56.4.
# Running on       Glib version 2.56.4.
# Compiled against Gtk version 2.24.32.
# Running on       Gtk version 2.24.32.
# create 0
# create 1
# wait_for_event(): 'map-event' ran 6 events/iterations
t/MenuView-weaken.t ... ok
t/MenuView.t .......... ok
All tests successful.
Files=3, Tests=123,  1 wallclock secs ( 0.04 usr  0.01 sys +  0.43 cusr  0.10 csys =  0.58 CPU)
Result: PASS

------------------------------
PREREQUISITES
------------------------------

Prerequisite modules loaded:

requires:

    Module                 Need  Have    
    ---------------------- ----- --------
    Glib::Ex::SignalBits   9     16      
    Glib::Ex::SignalIds    0     16      
    Glib::Ex::SourceIds    0     16      
    Glib::Object::Subclass 0     1.329   
    Gtk2                   1.200 1.24992 
    perl                   5.008 5.008003

build_requires:

    Module                 Need  Have    
    ---------------------- ----- --------
    ExtUtils::MakeMaker    0     7.36    

configure_requires:

    Module                 Need  Have    
    ---------------------- ----- --------
    ExtUtils::MakeMaker    0     7.36    


------------------------------
ENVIRONMENT AND OTHER CONTEXT
------------------------------

Environment variables:

    AUTOMATED_TESTING = 1
    LANG = en_US.UTF-8
    PATH = /home/sand/bin:/usr/local/bin:/usr/local/sbin:/usr/sbin:/usr/bin:/sbin:/bin:/usr/games:/usr/local/games:/usr/local/perl/bin:/usr/X11/bin
    PERL5LIB = 
    PERL5OPT = 
    PERL5_CPANPLUS_IS_RUNNING = 28385
    PERL5_CPAN_IS_RUNNING = 28385
    PERL_CANARY_STABILITY_NOPROMPT = 1
    PERL_MM_USE_DEFAULT = 1
    PERL_USE_UNSAFE_INC = 1
    SHELL = /usr/bin/zsh
    TERM = screen

Perl special variables (and OS-specific diagnostics, for MSWin32):

    $^X = /tmp/basesmoker-reloperl-Q8x_/bin/perl
    $UID/$EUID = 1005 / 1005
    $GID = 1005 1005
    $EGID = 1005 1005

Perl module toolchain versions installed:

    Module              Have    
    ------------------- --------
    CPAN                2.27    
    CPAN::Meta          2.150010
    Cwd                 3.75    
    ExtUtils::CBuilder  0.280231
    ExtUtils::Command   7.36    
    ExtUtils::Install   2.14    
    ExtUtils::MakeMaker 7.36    
    ExtUtils::Manifest  1.72    
    ExtUtils::ParseXS   3.35    
    File::Spec          3.75    
    JSON                4.02    
    JSON::PP            4.02    
    Module::Build       0.4229  
    Module::Signature   0.83    
    Parse::CPAN::Meta   2.150010
    Test::Harness       3.42    
    Test::More          1.302164
    YAML                1.29    
    YAML::Syck          1.31    
    version             0.9924  


--

Summary of my perl5 (revision 5.0 version 8 subversion 3) configuration:
  Platform:
    osname=linux, osvers=4.15.0-50-generic, archname=x86_64-linux-ld
    uname='linux k93bionic 4.15.0-50-generic #54-ubuntu smp mon may 6 18:46:08 utc 2019 x86_64 x86_64 x86_64 gnulinux '
    config_args='-Dprefix=/home/sand/src/perl/repoperls/installed-perls/host/k93bionic/perl-5.8.3/94e4 -Dmyhostname=k93bionic -Dinstallusrbinperl=n -Uversiononly -Dusedevel -des -Ui_db -Dlibswanted=cl pthread socket inet nsl gdbm dbm malloc dl ld sun m crypt sec util c cposix posix ucb BSD gdbm_compat -Uuseithreads -Duselongdouble -Doptimize=-g'
    hint=recommended, useposix=true, d_sigaction=define
    usethreads=undef use5005threads=undef useithreads=undef usemultiplicity=undef
    useperlio=define d_sfio=undef uselargefiles=define usesocks=undef
    use64bitint=define use64bitall=define uselongdouble=define
    usemymalloc=n, bincompat5005=undef
  Compiler:
    cc='cc', ccflags ='-DDEBUGGING -fno-strict-aliasing -I/usr/local/include -D_LARGEFILE_SOURCE -D_FILE_OFFSET_BITS=64',
    optimize='-g',
    cppflags='-DDEBUGGING -fno-strict-aliasing -I/usr/local/include'
    ccversion='', gccversion='7.4.0', gccosandvers=''
    intsize=4, longsize=8, ptrsize=8, doublesize=8, byteorder=12345678
    d_longlong=define, longlongsize=8, d_longdbl=define, longdblsize=16
    ivtype='long', ivsize=8, nvtype='long double', nvsize=16, Off_t='off_t', lseeksize=8
    alignbytes=16, prototype=define
  Linker and Libraries:
    ld='cc', ldflags =' -L/usr/local/lib'
    libpth=/usr/local/lib /lib/x86_64-linux-gnu /lib/../lib /usr/lib/x86_64-linux-gnu /usr/lib/../lib /lib /usr/lib
    libs=-lpthread -lnsl -ldl -lm -lcrypt -lutil -lc
    perllibs=-lpthread -lnsl -ldl -lm -lcrypt -lutil -lc
    libc=libc-2.27.so, so=so, useshrplib=false, libperl=libperl.a
    gnulibc_version='2.27'
  Dynamic Linking:
    dlsrc=dl_dlopen.xs, dlext=so, d_dlsymun=undef, ccdlflags='-rdynamic'
    cccdlflags='-fpic', lddlflags='-shared -L/usr/local/lib'


Characteristics of this binary (from libperl): 
  Compile-time options: DEBUGGING USE_64_BIT_INT USE_64_BIT_ALL USE_LONG_DOUBLE USE_LARGE_FILES
  Built under linux
  Compiled at Jun  2 2019 06:44:02
  %ENV:
    PERL5LIB=""
    PERL5OPT=""
    PERL5_CPANPLUS_IS_RUNNING="28385"
    PERL5_CPAN_IS_RUNNING="28385"
    PERL_CANARY_STABILITY_NOPROMPT="1"
    PERL_MM_USE_DEFAULT="1"
    PERL_USE_UNSAFE_INC="1"
  @INC:
    /home/sand/src/perl/repoperls/installed-perls/host/k93bionic/perl-5.8.3/94e4/lib/5.8.3/x86_64-linux-ld
    /home/sand/src/perl/repoperls/installed-perls/host/k93bionic/perl-5.8.3/94e4/lib/5.8.3
    /home/sand/src/perl/repoperls/installed-perls/host/k93bionic/perl-5.8.3/94e4/lib/site_perl/5.8.3/x86_64-linux-ld
    /home/sand/src/perl/repoperls/installed-perls/host/k93bionic/perl-5.8.3/94e4/lib/site_perl/5.8.3
    /home/sand/src/perl/repoperls/installed-perls/host/k93bionic/perl-5.8.3/94e4/lib/site_perl
    .