Capture-Tiny-Extended v0.114 Perl 5 v5.41.4 i86pc-solaris-thread-multi-64
- Status
- Pass
- From
- Carlos Guevara
- Dist
-
Capture-Tiny-Extended v0.114
- Platform
- Perl 5 v5.41.4 i86pc-solaris-thread-multi-64
- Date
- 2024-09-07 13:20:07
- ID
- e6f17dbc-6d1b-11ef-a73c-ecf550c66e9f
This distribution has been tested as part of the CPAN Testers
project, supporting the Perl programming language. See
http://wiki.cpantesters.org/ for more information or email
questions to cpan-testers-discuss@perl.org
--
Dear Christian Walde,
This is a computer-generated report for Capture-Tiny-Extended-0.114
on perl 5.41.4, created by CPAN-Reporter-1.2020.
Thank you for uploading your work to CPAN. Congratulations!
All tests were successful.
Sections of this report:
* Tester comments
* Program output
* Prerequisites
* Environment and other context
------------------------------
TESTER COMMENTS
------------------------------
Additional comments from tester:
this report is from an automated smoke testing program
and was not reviewed by a human for accuracy
------------------------------
PROGRAM OUTPUT
------------------------------
Output from '/usr/bin/make test':
PERL_DL_NONLAZY=1 "/export/home/cpan/bin/perl/bin/perl5.41.4" "-MExtUtils::Command::MM" "-MTest::Harness" "-e" "undef *Test::Harness::Switches; test_harness(0, 'blib/lib', 'blib/arch')" t/*.t
t/00-compile.t ............. ok
t/01-Capture-Tiny.t ........ ok
t/02-capture.t ............. ok
t/03-tee.t ................. ok
t/06-stdout-closed.t ....... ok
t/07-stderr-closed.t ....... ok
t/08-stdin-closed.t ........ ok
t/09-preserve-exit-code.t .. ok
t/10-stdout-string.t ....... ok
t/11-stderr-string.t ....... ok
t/12-stdin-string.t ........ ok
t/13-stdout-tied.t ......... ok
t/14-stderr-tied.t ......... ok
t/15-stdin-tied.t .......... ok
t/16-catch-errors.t ........ ok
All tests successful.
Test Summary Report
-------------------
t/13-stdout-tied.t (Wstat: 0 Tests: 489 Failed: 0)
TODO passed: 2-4, 12-13, 21-22, 29-31, 39-40, 48-49
56, 65, 74, 76, 85, 93-94, 101, 103, 112
120-121, 128-133, 148-150, 166-168, 182-187
202-204, 220-222, 236-239, 250, 262, 272-275
286, 298, 308, 310, 312-314, 316-317, 342-343
346-347, 369, 371-373, 375-377, 398, 400
402-404, 406-407, 432-433, 436-437, 459
461-463, 465-467
t/14-stderr-tied.t (Wstat: 0 Tests: 489 Failed: 0)
TODO passed: 8-10, 17, 19, 26, 28, 35-37, 44, 46, 53
55, 58, 61, 64, 67, 70, 73, 80-82, 89-91
98-100, 107-109, 116-118, 125-127, 140-145
158-159, 162, 176-177, 180, 194-199, 212-213
216, 230-231, 234, 244-247, 256-257, 259
268-269, 271, 280-283, 292-293, 295, 304-305
307, 328-337, 358-367, 388-397, 418-427
448-457, 478-487
Files=15, Tests=4904, 16 wallclock secs ( 0.50 usr 0.07 sys + 5.89 cusr 7.40 csys = 13.86 CPU)
Result: PASS
------------------------------
PREREQUISITES
------------------------------
Prerequisite modules loaded:
requires:
Module Need Have
------------------- ---- --------
Carp 0 1.54
Exporter 0 5.78
File::Spec 0 3.92
File::Temp 0 0.2311
IO::Handle 0 1.55
build_requires:
Module Need Have
------------------- ---- --------
File::Find 0 1.44
Test::More 0.62 1.302203
configure_requires:
Module Need Have
------------------- ---- --------
ExtUtils::MakeMaker 6.30 7.70
------------------------------
ENVIRONMENT AND OTHER CONTEXT
------------------------------
Environment variables:
AUTOMATED_TESTING = 1
DATE_MANIP_TEST_DM5 = 1
LANG = en_US.UTF-8
LC_ALL = C
NONINTERACTIVE_TESTING = 1
NO_NETWORK_TESTING = 1
PATH = /export/home/cpan/bin/perl/bin:/usr/bin:/usr/sbin:/sbin:/opt/ooce/bin:/usr/gnu/bin
PERL5LIB =
PERL5OPT =
PERL5_CPANPLUS_IS_RUNNING = 27296
PERL5_CPAN_IS_RUNNING = 27296
PERL_MM_USE_DEFAULT = 1
PERL_USE_UNSAFE_INC = 1
SHELL = /bin/bash
TERM = screen
Perl special variables (and OS-specific diagnostics, for MSWin32):
$^X = /export/home/cpan/bin/perl/bin/perl5.41.4
$UID/$EUID = 101 / 101
$GID = 1 1
$EGID = 1 1
Perl module toolchain versions installed:
Module Have
------------------- --------
CPAN 2.36
CPAN::Meta 2.150010
Cwd 3.92
ExtUtils::CBuilder 0.280240
ExtUtils::Command 7.70
ExtUtils::Install 2.22
ExtUtils::MakeMaker 7.70
ExtUtils::Manifest 1.75
ExtUtils::ParseXS 3.54
File::Spec 3.92
JSON 4.10
JSON::PP 4.16
Module::Build 0.4234
Module::Signature 0.88
Parse::CPAN::Meta 2.150010
Test2 1.302203
Test::Harness 3.50
Test::More 1.302203
YAML 1.31
YAML::Syck 1.34
version 0.9933
--
Summary of my perl5 (revision 5 version 41 subversion 4) configuration:
Commit id: 7d1bcef647add115390867c8b812d6666cdb91dc
Platform:
osname=solaris
osvers=2.11
archname=i86pc-solaris-thread-multi-64
uname='sunos cjg-omniosce 5.11 omnios-r151050-49db1c0a0fe i86pc i386 i86pc '
config_args='-des -Dprefix=/export/home/cpan/bin/perl -Dscriptdir=/export/home/cpan/bin/perl/bin -Dusedevel -Duse64bitall -Dcc=gcc -Duseithreads'
hint=recommended
useposix=true
d_sigaction=define
useithreads=define
usemultiplicity=define
use64bitint=define
use64bitall=define
uselongdouble=undef
usemymalloc=n
default_inc_excludes_dot=define
Compiler:
cc='gcc'
ccflags ='-D_REENTRANT -m64 -fwrapv -fno-strict-aliasing -pipe -fstack-protector-strong -D_LARGEFILE_SOURCE -D_FILE_OFFSET_BITS=64 -D_FORTIFY_SOURCE=2'
optimize='-O'
cppflags='-D_REENTRANT -m64 -fwrapv -fno-strict-aliasing -pipe -fstack-protector-strong'
ccversion=''
gccversion='13.2.0'
gccosandvers=''
intsize=4
longsize=8
ptrsize=8
doublesize=8
byteorder=12345678
doublekind=3
d_longlong=define
longlongsize=8
d_longdbl=define
longdblsize=16
longdblkind=3
ivtype='long'
ivsize=8
nvtype='double'
nvsize=8
Off_t='off_t'
lseeksize=8
alignbytes=8
prototype=define
Linker and Libraries:
ld='gcc'
ldflags =' -m64 -fstack-protector-strong -L/usr/gnu/lib '
libpth=/opt/gcc-13/lib /usr/lib /usr/gnu/lib /usr/ccs/lib
libs=-lpthread -lsocket -lnsl -ldl -lm -lc
perllibs=-lpthread -lsocket -lnsl -ldl -lm -lc
libc=/lib/libc.so
so=so
useshrplib=true
libperl=libperl.so
gnulibc_version=''
Dynamic Linking:
dlsrc=dl_dlopen.xs
dlext=so
d_dlsymun=undef
ccdlflags=' -R /export/home/cpan/bin/perl/lib/5.41.4/i86pc-solaris-thread-multi-64/CORE'
cccdlflags='-fPIC'
lddlflags=' -shared -m64 -L/usr/gnu/lib -fstack-protector-strong'
Characteristics of this binary (from libperl):
Compile-time options:
HAS_LONG_DOUBLE
HAS_STRTOLD
HAS_TIMES
MULTIPLICITY
PERLIO_LAYERS
PERL_COPY_ON_WRITE
PERL_DONT_CREATE_GVSV
PERL_HASH_FUNC_SIPHASH13
PERL_HASH_USE_SBOX32
PERL_MALLOC_WRAP
PERL_OP_PARENT
PERL_PRESERVE_IVUV
PERL_USE_DEVEL
PERL_USE_SAFE_PUTENV
USE_64_BIT_ALL
USE_64_BIT_INT
USE_ITHREADS
USE_LARGE_FILES
USE_LOCALE
USE_LOCALE_COLLATE
USE_LOCALE_CTYPE
USE_LOCALE_NUMERIC
USE_LOCALE_TIME
USE_PERLIO
USE_PERL_ATOF
USE_REENTRANT_API
USE_THREAD_SAFE_LOCALE
Built under solaris
Compiled at Sep 6 2024 19:42:10
%ENV:
PERL5LIB=""
PERL5OPT=""
PERL5_CPANPLUS_IS_RUNNING="27296"
PERL5_CPAN_IS_RUNNING="27296"
PERL_MM_USE_DEFAULT="1"
PERL_USE_UNSAFE_INC="1"
@INC:
/export/home/cpan/bin/perl/lib/site_perl/5.41.4/i86pc-solaris-thread-multi-64
/export/home/cpan/bin/perl/lib/site_perl/5.41.4
/export/home/cpan/bin/perl/lib/5.41.4/i86pc-solaris-thread-multi-64
/export/home/cpan/bin/perl/lib/5.41.4
.