Report for Gtk2-1.245

Back
From: metabase:user:3143a46e-bb30-11e0-8dd5-45d7e6fb0a34
Subject: PASS Gtk2-1.245 v5.16.0 GNU/Linux
Date: 2012-11-28T08:02:06Z

This distribution has been tested as part of the CPAN Testers
project, supporting the Perl programming language.  See
http://wiki.cpantesters.org/ for more information or email
questions to cpan-testers-discuss@perl.org


--
Dear Torsten Schoenfeld,

This is a computer-generated report for Gtk2-1.245
on perl 5.16.0, created by CPAN-Reporter-1.2006.

Thank you for uploading your work to CPAN.  Congratulations!
All tests were successful.

Sections of this report:

    * Tester comments
    * Program output
    * Prerequisites
    * Environment and other context

------------------------------
TESTER COMMENTS
------------------------------

Additional comments from tester:

this report is from an automated smoke testing program
and was not reviewed by a human for accuracy

------------------------------
PROGRAM OUTPUT
------------------------------

Output from '/usr/bin/make test':

PERL_DL_NONLAZY=1 /usr/bin/perl "-MExtUtils::Command::MM" "-e" "test_harness(0, 'blib/lib', 'blib/arch')" t/*.t
# Testing Gtk2 1.245
#    Running against gtk+ 2.24.10
#   Compiled against gtk+ 2.24.10
#               and pango 1.30.1
t/00.Gtk2.t ........................ ok
t/01.GtkWindow.t ................... ok
t/02.GtkContainer.t ................ ok
t/Gdk.t ............................ ok
t/GdkCairo.t ....................... ok
t/GdkColor.t ....................... ok
t/GdkCursor.t ...................... ok
t/GdkDisplay.t ..................... ok
t/GdkDisplayManager.t .............. ok
t/GdkDnd.t ......................... ok
t/GdkDrawable.t .................... ok
t/GdkEvent.t ....................... ok
t/GdkGC.t .......................... ok
t/GdkImage.t ....................... ok
t/GdkInput.t ....................... ok
t/GdkKeys.t ........................ ok
t/GdkPango.t ....................... ok
t/GdkPixbuf.t ...................... ok
t/GdkPixbufLoader.t ................ ok
t/GdkPixbufSimpleAnim.t ............ ok
Gdk-WARNING **: XID collision, trouble ahead at t/GdkPixmap.t line 16.
Gdk-WARNING **: XID collision, trouble ahead at t/GdkPixmap.t line 25.
Gdk-WARNING **: XID collision, trouble ahead at t/GdkPixmap.t line 40.
t/GdkPixmap.t ...................... ok
t/GdkProperty.t .................... ok
t/GdkRegion.t ...................... ok
t/GdkRgb.t ......................... ok
t/GdkScreen.t ...................... ok
t/GdkSelection.t ................... ok
t/GdkVisual.t ...................... ok
t/GdkWindow.t ...................... ok
t/GdkX11.t ......................... ok
t/GtkAboutDialog.t ................. ok
t/GtkAccelGroup.t .................. ok
t/GtkAccelLabel.t .................. ok
t/GtkAccelMap.t .................... ok
t/GtkAction.t ...................... ok
t/GtkActionGroup.t ................. ok
t/GtkActivatable.t ................. ok
t/GtkAdjustment.t .................. ok
t/GtkAlignment.t ................... ok
t/GtkArrow.t ....................... ok
t/GtkAspectFrame.t ................. ok
t/GtkAssistant.t ................... ok
t/GtkBin.t ......................... ok
t/GtkBindings.t .................... ok
t/GtkBox.t ......................... ok
t/GtkBuildable.t ................... ok
t/GtkBuildableIface.t .............. ok
t/GtkBuilder.t ..................... ok
t/GtkButton.t ...................... ok
t/GtkButtonBox.t ................... ok
t/GtkCalendar.t .................... ok
GLib-GObject-CRITICAL **: Object class EditableTest doesn't implement property 'editing-canceled' from interface 'GtkCellEditable' at /root/.cpan/build/Glib-1.280-mJJhCS/blib/lib/Glib/Object/Subclass.pm line 233.
t/GtkCellEditable.t ................ ok
t/GtkCellLayout.t .................. ok
t/GtkCellLayoutIface.t ............. ok
t/GtkCellRenderer.t ................ ok
t/GtkCellRendererAccel.t ........... ok
t/GtkCellRendererCombo.t ........... ok
t/GtkCellRendererIface-Chaining.t .. ok
t/GtkCellRendererPixbuf.t .......... ok
t/GtkCellRendererProgress.t ........ ok
t/GtkCellRendererSpin.t ............ ok
t/GtkCellRendererSpinner.t ......... ok
t/GtkCellRendererText.t ............ ok
t/GtkCellRendererToggle.t .......... ok
t/GtkCellView.t .................... ok
t/GtkCheckButton.t ................. ok
t/GtkCheckMenuItem.t ............... ok
t/GtkClipboard.t ................... ok
t/GtkColorButton.t ................. ok
t/GtkColorSelection.t .............. ok
t/GtkColorSelectionDialog.t ........ ok
t/GtkCombo.t ....................... ok
t/GtkComboBox.t .................... ok
t/GtkComboBoxEntry.t ............... ok
t/GtkCurve.t ....................... ok
t/GtkDialog.t ...................... ok
Gdk-CRITICAL **: IA__gdk_window_get_screen: assertion `GDK_IS_WINDOW (window)' failed at t/GtkDnd.t line 55.
Gtk-CRITICAL **: IA__gtk_drag_set_icon_pixmap: assertion `!mask || gdk_window_get_screen (mask) == screen' failed at t/GtkDnd.t line 55.
t/GtkDnd.t ......................... ok
t/GtkDrawingArea.t ................. ok
t/GtkEditable.t .................... ok
t/GtkEntry.t ....................... ok
t/GtkEntryBuffer.t ................. ok
t/GtkEntryCompletion.t ............. ok
t/GtkEventBox.t .................... ok
t/GtkExpander.t .................... ok
t/GtkFileChooser.t ................. skipped: this test is unreliable
t/GtkFileChooserButton.t ........... ok
t/GtkFileChooserDialog.t ........... ok
t/GtkFileChooserWidget.t ........... ok
t/GtkFileFilter.t .................. ok
t/GtkFileSelection.t ............... ok
t/GtkFixed.t ....................... ok
t/GtkFontButton.t .................. ok
t/GtkFontSelection.t ............... ok
t/GtkFrame.t ....................... ok
t/GtkGammaCurve.t .................. ok
t/GtkGC.t .......................... ok
t/GtkHandleBox.t ................... ok
t/GtkHBox.t ........................ ok
t/GtkHButtonBox.t .................. ok
t/GtkHPaned.t ...................... ok
t/GtkHRuler.t ...................... ok
t/GtkHScale.t ...................... ok
t/GtkHScrollbar.t .................. ok
t/GtkHSeparator.t .................. ok
t/GtkHSV.t ......................... ok
t/GtkIconFactory.t ................. ok
t/GtkIconTheme.t ................... ok
t/GtkIconView.t .................... ok
t/GtkImage.t ....................... ok
t/GtkImageMenuItem.t ............... ok
t/GtkIMContext.t ................... ok
t/GtkInfoBar.t ..................... ok
t/GtkInputDialog.t ................. ok
t/GtkInvisible.t ................... ok
t/GtkItemFactory.t ................. ok
t/GtkLabel.t ....................... ok
t/GtkLayout.t ...................... ok
t/GtkLinkButton.t .................. ok
t/GtkListStore.t ................... ok
t/GtkMenu.t ........................ ok
t/GtkMenuBar.t ..................... ok
t/GtkMenuItem.t .................... ok
t/GtkMenuShell.t ................... ok
t/GtkMenuToolButton.t .............. ok
ALSA lib confmisc.c:768:(parse_card) cannot find card '0'
ALSA lib conf.c:4241:(_snd_config_evaluate) function snd_func_card_driver returned error: No such file or directory
ALSA lib confmisc.c:392:(snd_func_concat) error evaluating strings
ALSA lib conf.c:4241:(_snd_config_evaluate) function snd_func_concat returned error: No such file or directory
ALSA lib confmisc.c:1251:(snd_func_refer) error evaluating name
ALSA lib conf.c:4241:(_snd_config_evaluate) function snd_func_refer returned error: No such file or directory
ALSA lib conf.c:4720:(snd_config_expand) Evaluate error: No such file or directory
ALSA lib pcm.c:2217:(snd_pcm_open_noupdate) Unknown PCM default
Cannot connect to server socket err = No such file or directory
Cannot connect to server socket
jack server is not running or cannot be started
AL lib: alc_initconfig: Failed to initialize backend "pulse"
AL lib: alsa_open_playback: Could not open playback device 'default': No such file or directory
t/GtkMessageDialog.t ............... ok
t/GtkMisc.t ........................ ok
t/GtkNotebook.t .................... ok
t/GtkObject.t ...................... ok
t/GtkOffscreenWindow.t ............. ok
t/GtkOptionMenu.t .................. ok
t/GtkOrientable.t .................. ok
t/GtkPageSetup.t ................... ok
t/GtkPaned.t ....................... ok
t/GtkPaperSize.t ................... ok
t/GtkPrintContext.t ................ ok
t/GtkPrintOperation.t .............. ok
t/GtkPrintOperationPreview.t ....... ok
t/GtkPrintSettings.t ............... ok
t/GtkProgressBar.t ................. ok
t/GtkRadioAction.t ................. ok
t/GtkRadioButton.t ................. ok
t/GtkRadioMenuItem.t ............... ok
t/GtkRadioToolButton.t ............. ok
t/GtkRange.t ....................... ok
t/GtkRc.t .......................... ok
t/GtkRecentAction.t ................ ok
t/GtkRecentChooser.t ............... ok
t/GtkRecentChooserDialog.t ......... ok
t/GtkRecentChooserMenu.t ........... ok
t/GtkRecentChooserWidget.t ......... ok
t/GtkRecentFilter.t ................ ok
t/GtkRecentManager.t ............... ok
t/GtkRuler.t ....................... ok
t/GtkScale.t ....................... ok
t/GtkScaleButton.t ................. ok
t/GtkScrolledWindow.t .............. ok
t/GtkSelection.t ................... ok
t/GtkSeparatorMenuItem.t ........... ok
t/GtkSeparatorToolItem.t ........... ok
t/GtkShow.t ........................ skipped: can only test interactively
t/GtkSimpleList.t .................. ok
t/GtkSimpleMenu.t .................. ok
t/GtkSizeGroup.t ................... ok
t/GtkSocket-GtkPlug.t .............. ok
t/GtkSpinButton.t .................. ok
t/GtkSpinner.t ..................... ok
t/GtkStatusbar.t ................... ok
t/GtkStatusIcon.t .................. ok
t/GtkStock.t ....................... ok
t/GtkStyle.t ....................... ok
t/GtkTable.t ....................... ok
t/GtkTearoffMenuItem.t ............. ok
t/GtkTextBuffer.t .................. ok
GLib-WARNING **: (gerror.c:390):g_error_new_valist: runtime check failed: (domain != 0) at t/GtkTextBufferRichText.t line 210, <DATA> line 1.
t/GtkTextBufferRichText.t .......... ok
t/GtkTextChildAnchor.t ............. ok
t/GtkTextIter.t .................... ok
t/GtkTextMark.t .................... ok
t/GtkTextTag.t ..................... ok
t/GtkTextTagTable.t ................ ok
t/GtkTextView.t .................... ok
t/GtkToggleAction.t ................ ok
t/GtkToggleButton.t ................ ok
t/GtkToggleToolButton.t ............ ok
t/GtkToolbar.t ..................... ok
t/GtkToolButton.t .................. ok
t/GtkToolItem.t .................... ok
t/GtkToolItemGroup.t ............... ok
t/GtkToolPalette.t ................. ok
t/GtkToolShell.t ................... ok
t/GtkTooltip.t ..................... ok
t/GtkTooltips.t .................... ok
t/GtkTreeDnd.t ..................... ok
t/GtkTreeModel.t ................... ok
t/GtkTreeModelFilter.t ............. ok
t/GtkTreeModelIface.t .............. ok
t/GtkTreeModelSort.t ............... ok
t/GtkTreeSelection.t ............... ok
t/GtkTreeSortable.t ................ ok
t/GtkTreeStore.t ................... ok
t/GtkTreeView-Dnd.t ................ skipped: this test is interactive
t/GtkTreeView.t .................... ok
t/GtkUIManager.t ................... ok
t/GtkVBox.t ........................ ok
t/GtkVButtonBox.t .................. ok
t/GtkViewport.t .................... ok
t/GtkVolumeButton.t ................ ok
t/GtkVPaned.t ...................... ok
t/GtkVRuler.t ...................... ok
t/GtkVScale.t ...................... ok
t/GtkVScrollbar.t .................. ok
t/GtkVSeparator.t .................. ok
t/GtkWidget.t ...................... ok
t/pango-compat.t ................... ok
t/PangoAttributes.t ................ ok
t/PangoCairo.t ..................... ok
t/PangoContext.t ................... ok
t/PangoFont.t ...................... ok
t/PangoFontMap.t ................... ok
t/PangoFontset.t ................... ok
t/PangoGravity.t ................... ok
t/PangoLayout.t .................... ok
t/PangoMatrix.t .................... ok
t/PangoRenderer.t .................. ok
t/PangoScript.t .................... ok
t/PangoTabs.t ...................... ok
t/PangoTypes.t ..................... ok
t/set-scroll-adjustments-signal.t .. ok
t/signal-chaining.t ................ ok
t/tied-objects.t ................... ok
t/version-checks.t ................. ok
All tests successful.
Files=229, Tests=5082, 27 wallclock secs ( 2.03 usr  0.84 sys + 19.64 cusr  4.42 csys = 26.93 CPU)
Result: PASS

------------------------------
PREREQUISITES
------------------------------

Prerequisite modules loaded:

requires:

    Module              Need  Have   
    ------------------- ----- -------
    Cairo               1.000 1.101  
    ExtUtils::Depends   0.300 0.304  
    ExtUtils::PkgConfig 1.030 1.13   
    Glib                1.240 1.280  
    Pango               1.220 1.223  

build_requires:

    Module              Need  Have   
    ------------------- ----- -------
    ExtUtils::MakeMaker 0     6.63_02

configure_requires:

    Module              Need  Have   
    ------------------- ----- -------
    Cairo               1.000 1.101  
    ExtUtils::Depends   0.300 0.304  
    ExtUtils::MakeMaker 0     6.63_02
    ExtUtils::PkgConfig 1.030 1.13   
    Glib                1.240 1.280  
    Pango               1.220 1.223  


------------------------------
ENVIRONMENT AND OTHER CONTEXT
------------------------------

Environment variables:

    AUTOMATED_TESTING = 1
    LANG = POSIX
    LC_CTYPE = en_US.UTF-8
    PATH = /sbin:/usr/sbin:/usr/local/sbin:/usr/local/bin:/usr/bin:/bin:/usr/bin/X11:/usr/X11R6/bin:/usr/games
    PERL5LIB = /root/.cpan/build/Pango-1.223-8YFNlZ/blib/arch:/root/.cpan/build/Pango-1.223-8YFNlZ/blib/lib:/root/.cpan/build/Cairo-1.101-BUX7qE/blib/arch:/root/.cpan/build/Cairo-1.101-BUX7qE/blib/lib:/root/.cpan/build/Glib-1.280-mJJhCS/blib/arch:/root/.cpan/build/Glib-1.280-mJJhCS/blib/lib:/root/.cpan/build/ExtUtils-PkgConfig-1.13-MTyC2V/blib/arch:/root/.cpan/build/ExtUtils-PkgConfig-1.13-MTyC2V/blib/lib:/root/.cpan/build/MooseX-StrictConstructor-0.19-Vgjdh0/blib/arch:/root/.cpan/build/MooseX-StrictConstructor-0.19-Vgjdh0/blib/lib:/root/.cpan/build/MooseX-Clone-0.05-ZiDVSR/blib/arch:/root/.cpan/build/MooseX-Clone-0.05-ZiDVSR/blib/lib:/root/.cpan/build/Hash-Util-FieldHash-Compat-0.03-boX8jC/blib/arch:/root/.cpan/build/Hash-Util-FieldHash-Compat-0.03-boX8jC/blib/lib
    PERL5OPT = 
    PERL5_CPANPLUS_IS_RUNNING = 28037
    PERL5_CPAN_IS_RUNNING = 28037
    PERL5_CPAN_IS_RUNNING_IN_RECURSION = 14599,28037
    PERL_CR_SMOKER_CURRENT = Gapp-App-0.222
    PERL_EXTUTILS_AUTOINSTALL = --defaultdeps
    PERL_MM_USE_DEFAULT = 1
    SHELL = /bin/bash
    TERM = xterm
    TMPDIR = /tmp

Perl special variables (and OS-specific diagnostics, for MSWin32):

    $^X = /usr/bin/perl
    $UID/$EUID = 0 / 0
    $GID = 0 0
    $EGID = 0 0

Perl module toolchain versions installed:

    Module              Have    
    ------------------- --------
    CPAN                1.9800  
    CPAN::Meta          2.120921
    Cwd                 3.39_02 
    ExtUtils::CBuilder  0.280206
    ExtUtils::Command   1.17    
    ExtUtils::Install   1.58    
    ExtUtils::MakeMaker 6.63_02 
    ExtUtils::Manifest  1.61    
    ExtUtils::ParseXS   3.16    
    File::Spec          3.39_02 
    JSON                2.53    
    JSON::PP            2.27200 
    Module::Build       0.4003  
    Module::Signature   n/a     
    Parse::CPAN::Meta   1.4404  
    Test::Harness       3.23    
    Test::More          0.98    
    YAML                0.84    
    YAML::Syck          1.21    
    version             0.9901  


--

Summary of my perl5 (revision 5 version 16 subversion 0) configuration:
   
  Platform:
    osname=linux, osvers=3.1.10-1.9-default, archname=x86_64-linux-thread-multi
    uname='linux build33 3.1.10-1.9-default #1 smp thu apr 5 18:48:38 utc 2012 (4a97ec8) x86_64 x86_64 x86_64 gnulinux '
    config_args='-ds -e -Dprefix=/usr -Dvendorprefix=/usr -Dinstallusrbinperl -Dusethreads -Di_db -Di_dbm -Di_ndbm -Di_gdbm -Dd_dbm_open -Duseshrplib=true -Doptimize=-fmessage-length=0 -O2 -Wall -D_FORTIFY_SOURCE=2 -fstack-protector -funwind-tables -fasynchronous-unwind-tables -g -Wall -pipe -Accflags=-DPERL_USE_SAFE_PUTENV -Dotherlibdirs=/usr/lib/perl5/site_perl'
    hint=recommended, useposix=true, d_sigaction=define
    useithreads=define, usemultiplicity=define
    useperlio=define, d_sfio=undef, uselargefiles=define, usesocks=undef
    use64bitint=define, use64bitall=define, uselongdouble=undef
    usemymalloc=n, bincompat5005=undef
  Compiler:
    cc='cc', ccflags ='-D_REENTRANT -D_GNU_SOURCE -DPERL_USE_SAFE_PUTENV -fno-strict-aliasing -pipe -fstack-protector -D_LARGEFILE_SOURCE -D_FILE_OFFSET_BITS=64',
    optimize='-fmessage-length=0 -O2 -Wall -D_FORTIFY_SOURCE=2 -fstack-protector -funwind-tables -fasynchronous-unwind-tables -g -Wall -pipe',
    cppflags='-D_REENTRANT -D_GNU_SOURCE -DPERL_USE_SAFE_PUTENV -fno-strict-aliasing -pipe -fstack-protector'
    ccversion='', gccversion='4.7.1 20120713 [gcc-4_7-branch revision 189457]', gccosandvers=''
    intsize=4, longsize=8, ptrsize=8, doublesize=8, byteorder=12345678
    d_longlong=define, longlongsize=8, d_longdbl=define, longdblsize=16
    ivtype='long', ivsize=8, nvtype='double', nvsize=8, Off_t='off_t', lseeksize=8
    alignbytes=8, prototype=define
  Linker and Libraries:
    ld='cc', ldflags =' -L/usr/local/lib64 -fstack-protector'
    libpth=/lib64 /usr/lib64 /usr/local/lib64
    libs=-lm -ldl -lcrypt -lpthread
    perllibs=-lm -ldl -lcrypt -lpthread
    libc=/lib64/libc-2.15.so, so=so, useshrplib=true, libperl=libperl.so
    gnulibc_version='2.15'
  Dynamic Linking:
    dlsrc=dl_dlopen.xs, dlext=so, d_dlsymun=undef, ccdlflags='-Wl,-E -Wl,-rpath,/usr/lib/perl5/5.16.0/x86_64-linux-thread-multi/CORE'
    cccdlflags='-fPIC', lddlflags='-shared -L/usr/local/lib64 -fstack-protector'


Characteristics of this binary (from libperl): 
  Compile-time options: HAS_TIMES MULTIPLICITY PERLIO_LAYERS
                        PERL_DONT_CREATE_GVSV PERL_IMPLICIT_CONTEXT
                        PERL_MALLOC_WRAP PERL_PRESERVE_IVUV
                        PERL_USE_SAFE_PUTENV USE_64_BIT_ALL USE_64_BIT_INT
                        USE_ITHREADS USE_LARGE_FILES USE_LOCALE
                        USE_LOCALE_COLLATE USE_LOCALE_CTYPE
                        USE_LOCALE_NUMERIC USE_PERLIO USE_PERL_ATOF
                        USE_REENTRANT_API
  Built under linux
  Compiled at Jul 16 2012 08:51:58
  %ENV:
    PERL5LIB="/root/.cpan/build/Pango-1.223-8YFNlZ/blib/arch:/root/.cpan/build/Pango-1.223-8YFNlZ/blib/lib:/root/.cpan/build/Cairo-1.101-BUX7qE/blib/arch:/root/.cpan/build/Cairo-1.101-BUX7qE/blib/lib:/root/.cpan/build/Glib-1.280-mJJhCS/blib/arch:/root/.cpan/build/Glib-1.280-mJJhCS/blib/lib:/root/.cpan/build/ExtUtils-PkgConfig-1.13-MTyC2V/blib/arch:/root/.cpan/build/ExtUtils-PkgConfig-1.13-MTyC2V/blib/lib:/root/.cpan/build/MooseX-StrictConstructor-0.19-Vgjdh0/blib/arch:/root/.cpan/build/MooseX-StrictConstructor-0.19-Vgjdh0/blib/lib:/root/.cpan/build/MooseX-Clone-0.05-ZiDVSR/blib/arch:/root/.cpan/build/MooseX-Clone-0.05-ZiDVSR/blib/lib:/root/.cpan/build/Hash-Util-FieldHash-Compat-0.03-boX8jC/blib/arch:/root/.cpan/build/Hash-Util-FieldHash-Compat-0.03-boX8jC/blib/lib"
    PERL5OPT=""
    PERL5_CPANPLUS_IS_RUNNING="28037"
    PERL5_CPAN_IS_RUNNING="28037"
    PERL5_CPAN_IS_RUNNING_IN_RECURSION="14599,28037"
    PERL_CR_SMOKER_CURRENT="Gapp-App-0.222"
    PERL_EXTUTILS_AUTOINSTALL="--defaultdeps"
    PERL_MM_USE_DEFAULT="1"
  @INC:
    /root/.cpan/build/Pango-1.223-8YFNlZ/blib/arch
    /root/.cpan/build/Pango-1.223-8YFNlZ/blib/lib
    /root/.cpan/build/Cairo-1.101-BUX7qE/blib/arch
    /root/.cpan/build/Cairo-1.101-BUX7qE/blib/lib
    /root/.cpan/build/Glib-1.280-mJJhCS/blib/arch
    /root/.cpan/build/Glib-1.280-mJJhCS/blib/lib
    /root/.cpan/build/ExtUtils-PkgConfig-1.13-MTyC2V/blib/arch
    /root/.cpan/build/ExtUtils-PkgConfig-1.13-MTyC2V/blib/lib
    /root/.cpan/build/MooseX-StrictConstructor-0.19-Vgjdh0/blib/arch
    /root/.cpan/build/MooseX-StrictConstructor-0.19-Vgjdh0/blib/lib
    /root/.cpan/build/MooseX-Clone-0.05-ZiDVSR/blib/arch
    /root/.cpan/build/MooseX-Clone-0.05-ZiDVSR/blib/lib
    /root/.cpan/build/Hash-Util-FieldHash-Compat-0.03-boX8jC/blib/arch
    /root/.cpan/build/Hash-Util-FieldHash-Compat-0.03-boX8jC/blib/lib
    /usr/lib/perl5/site_perl/5.16.0/x86_64-linux-thread-multi
    /usr/lib/perl5/site_perl/5.16.0
    /usr/lib/perl5/vendor_perl/5.16.0/x86_64-linux-thread-multi
    /usr/lib/perl5/vendor_perl/5.16.0
    /usr/lib/perl5/5.16.0/x86_64-linux-thread-multi
    /usr/lib/perl5/5.16.0
    /usr/lib/perl5/site_perl/5.16.0/x86_64-linux-thread-multi
    /usr/lib/perl5/site_perl/5.16.0
    /usr/lib/perl5/site_perl
    .