Devel-Declare-Parser v0.020 Perl 5 v5.20.2 darwin-2level

Status
Pass
From
Neil Bowers
Dist
Devel-Declare-Parser v0.020
Platform
Perl 5 v5.20.2 darwin-2level
Date
2022-06-24 16:30:04
ID
e6f517d6-f3da-11ec-b448-ca051e5bddec
This distribution has been tested as part of the CPAN Testers
project, supporting the Perl programming language.  See
http://wiki.cpantesters.org/ for more information or email
questions to cpan-testers-discuss@perl.org


--
Dear Chad Granum,

This is a computer-generated report for Devel-Declare-Parser-0.020
on perl 5.20.2, created by CPAN-Reporter-1.2018.

Thank you for uploading your work to CPAN.  Congratulations!
All tests were successful.

Sections of this report:

    * Tester comments
    * Program output
    * Prerequisites
    * Environment and other context

------------------------------
TESTER COMMENTS
------------------------------

Additional comments from tester:

none provided

------------------------------
PROGRAM OUTPUT
------------------------------

Output from './Build test':

!!! Test::Exception::LessClever is deprecated at t/Codeblock.t line 5.
t/Codeblock.t .. ok
!!! Test::Exception::LessClever is deprecated at t/Method.t line 5.
t/Method.t ..... ok
!!! Test::Exception::LessClever is deprecated at t/Parser.t line 6.
t/Parser.t ..... ok
t/Parsers.t .... ok
!!! Test::Exception::LessClever is deprecated at t/Sublike.t line 5.
t/Sublike.t .... ok
All tests successful.
Files=5, Tests=67,  0 wallclock secs ( 0.01 usr  0.02 sys +  0.40 cusr  0.06 csys =  0.49 CPU)
Result: PASS

------------------------------
PREREQUISITES
------------------------------

Prerequisite modules loaded:

requires:

    Module                      Need  Have    
    --------------------------- ----- --------
    B::Compiling                0.02  0.06    
    B::Hooks::EndOfScope        0.08  0.24    
    Carp                        0     1.50    
    Devel::Declare              0.006 0.006022
    Scalar::Util                0     1.59    
    Test::Exception::LessClever 0.005 0.009   
    Test::Simple                0.88  1.302190

configure_requires:

    Module                      Need  Have    
    --------------------------- ----- --------
    Module::Build               0.42  0.4231  


------------------------------
ENVIRONMENT AND OTHER CONTEXT
------------------------------

Environment variables:

    PATH = /usr/local/apache/bin:/usr/local/bin:/opt/local/bin:/usr/local/bin:/usr/bin:/bin:/usr/sbin:/sbin:/Applications/VMware Fusion.app/Contents/Public:/usr/local/go/bin:/opt/X11/bin:/usr/local/git/bin
    PERL5LIB = 
    PERL5OPT = 
    PERL5_CPANPLUS_IS_RUNNING = 32769
    PERL5_CPAN_IS_RUNNING = 32769
    SHELL = /bin/sh
    TERM = xterm

Perl special variables (and OS-specific diagnostics, for MSWin32):

    $^X = /usr/local/perl/5202/bin/perl
    $UID/$EUID = 0 / 0
    $GID = 0 0 1 2 3 4 5 8 9 12 20 29 61 80 33 98 100
    $EGID = 0 0 1 2 3 4 5 8 9 12 20 29 61 80 33 98 100

Perl module toolchain versions installed:

    Module              Have    
    ------------------- --------
    CPAN                2.05    
    CPAN::Meta          2.150010
    Cwd                 3.75    
    ExtUtils::CBuilder  0.280236
    ExtUtils::Command   7.62    
    ExtUtils::Install   2.06    
    ExtUtils::MakeMaker 7.62    
    ExtUtils::Manifest  1.70    
    ExtUtils::ParseXS   3.35    
    File::Spec          3.75    
    JSON                4.03    
    JSON::PP            4.06    
    Module::Build       0.4231  
    Module::Signature   n/a     
    Parse::CPAN::Meta   2.150010
    Test::Harness       3.44    
    Test::More          1.302190
    YAML                1.18    
    YAML::Syck          n/a     
    version             0.9929  


--

Summary of my perl5 (revision 5 version 20 subversion 2) configuration:
   
  Platform:
    osname=darwin, osvers=15.6.0, archname=darwin-2level
    uname='darwin tucumcari.home 15.6.0 darwin kernel version 15.6.0: thu jun 23 18:25:34 pdt 2016; root:xnu-3248.60.10~1release_x86_64 x86_64 '
    config_args=''
    hint=recommended, useposix=true, d_sigaction=define
    useithreads=undef, usemultiplicity=undef
    use64bitint=define, use64bitall=define, uselongdouble=undef
    usemymalloc=n, bincompat5005=undef
  Compiler:
    cc='gcc', ccflags ='-fno-common -DPERL_DARWIN -fno-strict-aliasing -pipe -fstack-protector -I/usr/local/include -I/opt/local/include',
    optimize='-O3',
    cppflags='-fno-common -DPERL_DARWIN -fno-strict-aliasing -pipe -fstack-protector -I/usr/local/include -I/opt/local/include'
    ccversion='', gccversion='4.2.1 Compatible Apple LLVM 7.0.2 (clang-700.1.81)', gccosandvers=''
    intsize=4, longsize=8, ptrsize=8, doublesize=8, byteorder=12345678
    d_longlong=define, longlongsize=8, d_longdbl=define, longdblsize=16
    ivtype='long', ivsize=8, nvtype='double', nvsize=8, Off_t='off_t', lseeksize=8
    alignbytes=8, prototype=define
  Linker and Libraries:
    ld='env MACOSX_DEPLOYMENT_TARGET=10.3 gcc', ldflags =' -fstack-protector -L/usr/local/lib -L/opt/local/lib'
    libpth=/Applications/Xcode.app/Contents/Developer/Toolchains/XcodeDefault.xctoolchain/usr/bin/../lib/clang/7.0.2/lib /Applications/Xcode.app/Contents/Developer/Toolchains/XcodeDefault.xctoolchain/usr/lib /Applications/Xcode.app/Contents/Developer/Platforms/MacOSX.platform/Developer/SDKs/MacOSX10.11.sdk/usr/lib /usr/local/lib /opt/local/lib /usr/lib
    libs=-lgdbm -ldbm -ldl -lm -lutil -lc
    perllibs=-ldl -lm -lutil -lc
    libc=, so=dylib, useshrplib=false, libperl=libperl.a
    gnulibc_version=''
  Dynamic Linking:
    dlsrc=dl_dlopen.xs, dlext=bundle, d_dlsymun=undef, ccdlflags=' '
    cccdlflags=' ', lddlflags=' -bundle -undefined dynamic_lookup -L/usr/local/lib -L/opt/local/lib -fstack-protector'


Characteristics of this binary (from libperl): 
  Compile-time options: HAS_TIMES PERLIO_LAYERS PERL_DONT_CREATE_GVSV
                        PERL_HASH_FUNC_ONE_AT_A_TIME_HARD PERL_MALLOC_WRAP
                        PERL_NEW_COPY_ON_WRITE PERL_PRESERVE_IVUV
                        USE_64_BIT_ALL USE_64_BIT_INT USE_LARGE_FILES
                        USE_LOCALE USE_LOCALE_COLLATE USE_LOCALE_CTYPE
                        USE_LOCALE_NUMERIC USE_PERLIO USE_PERL_ATOF
  Built under darwin
  Compiled at Jul 22 2016 22:43:36
  %ENV:
    PERL5LIB=""
    PERL5OPT=""
    PERL5_CPANPLUS_IS_RUNNING="32769"
    PERL5_CPAN_IS_RUNNING="32769"
  @INC:
    /usr/local/perl/5202/lib/site_perl/5.20.2/darwin-2level
    /usr/local/perl/5202/lib/site_perl/5.20.2
    /usr/local/perl/5202/lib/5.20.2/darwin-2level
    /usr/local/perl/5202/lib/5.20.2
    .