Catalyst-Authentication-Credential-HTTP v1.018 Perl 5 v5.41.4 x86_64-linux
- Status
- Pass
- From
- Andreas J. König (ANDK)
- Dist
-
Catalyst-Authentication-Credential-HTTP v1.018
- Platform
- Perl 5 v5.41.4 x86_64-linux
- Date
- 2024-10-20 09:44:29
- ID
- e6fe9f4c-8ec7-11ef-86fc-95624a1cc18b
This distribution has been tested as part of the CPAN Testers
project, supporting the Perl programming language. See
http://wiki.cpantesters.org/ for more information or email
questions to cpan-testers-discuss@perl.org
--
Dear Karen Etheridge,
This is a computer-generated report for Catalyst-Authentication-Credential-HTTP-1.018
on perl 5.41.4, created by CPAN-Reporter-1.2020.
Thank you for uploading your work to CPAN. Congratulations!
All tests were successful.
Sections of this report:
* Tester comments
* Program output
* Prerequisites
* Environment and other context
------------------------------
TESTER COMMENTS
------------------------------
Additional comments from tester:
this report is from an automated smoke testing program
and was not reviewed by a human for accuracy
------------------------------
PROGRAM OUTPUT
------------------------------
Output from './Build test':
#
# Versions for all modules listed in MYMETA.json (including optional ones):
#
# === Configure Requires ===
#
# Module Want Have
# ------------------- ----- -----
# Module::Build::Tiny 0.034 0.051
#
# === Test Requires ===
#
# Module Want Have
# ------------------------- ---- ----------
# Catalyst::Controller any undef
# File::Spec any 3.93
# FindBin any 1.54
# HTTP::Headers any 6.46
# HTTP::Request any 6.46
# Module::Metadata any 1.000038
# Test::Exception any 0.43
# Test::MockObject any 1.20200122
# Test::MockObject::Extends any 1.20200122
# Test::More any 1.302204
# Test::Needs any 0.002010
# lib any 0.65
#
# === Test Recommends ===
#
# Module Want Have
# ---------- -------- --------
# CPAN::Meta 2.120900 2.150010
#
# === Runtime Requires ===
#
# Module Want Have
# ---------------------------------------------- ------- --------
# Catalyst any 5.90131
# Catalyst::Authentication::Credential::Password any undef
# Catalyst::Plugin::Authentication 0.10005 0.10024
# Class::Accessor::Fast any 0.51
# Data::UUID 0.11 1.227
# Digest::MD5 any 2.58_01
# String::Escape any 2010.002
# URI::Escape any 5.29
# base any 2.27
# strict any 1.13
# warnings any 1.70
#
# === Other Modules ===
#
# Module Have
# ------------- ----
# JSON::PP 4.16
# Pod::Coverage 0.23
# Sub::Name 0.27
# YAML 1.31
# autodie 2.37
#
t/00-report-prereqs.t ....... ok
# Catalyst 5.90131
# Catalyst::Plugin::Authentication 0.10024
# Catalyst::Authentication::Credential::HTTP 1.018
t/00use.t ................... ok
t/basic.t ................... ok
t/live_app.t ................ skipped: Need Test::WWW::Mechanize::Catalyst 0.51
t/live_app_digest.t ......... skipped: Need Catalyst::Plugin::Cache, Test::WWW::Mechanize::Catalyst 0.51
t/live_app_digest_dotnet.t .. skipped: Need Catalyst::Plugin::Cache, Test::WWW::Mechanize::Catalyst 0.51
All tests successful.
Files=6, Tests=39, 1 wallclock secs ( 0.03 usr 0.01 sys + 1.61 cusr 0.19 csys = 1.84 CPU)
Result: PASS
------------------------------
PREREQUISITES
------------------------------
Prerequisite modules loaded:
requires:
Module Need Have
---------------------------------------------- ------- ----------
base 0 2.27
Catalyst 0 5.90131
Catalyst::Authentication::Credential::Password 0 0
Catalyst::Plugin::Authentication 0.10005 0.10024
Class::Accessor::Fast 0 0.51
Data::UUID 0.11 1.227
Digest::MD5 0 2.58_01
perl 5.006 5.041004
strict 0 1.13
String::Escape 0 2010.002
URI::Escape 0 5.29
warnings 0 1.70
build_requires:
Module Need Have
---------------------------------------------- ------- ----------
Catalyst::Controller 0 0
File::Spec 0 3.93
FindBin 0 1.54
HTTP::Headers 0 6.46
HTTP::Request 0 6.46
lib 0 0.65
Module::Metadata 0 1.000038
perl 5.006 5.041004
Test::Exception 0 0.43
Test::MockObject 0 1.20200122
Test::MockObject::Extends 0 1.20200122
Test::More 0 1.302204
Test::Needs 0 0.002010
configure_requires:
Module Need Have
---------------------------------------------- ------- ----------
Module::Build::Tiny 0.034 0.051
perl 5.006 5.041004
------------------------------
ENVIRONMENT AND OTHER CONTEXT
------------------------------
Environment variables:
AUTOMATED_TESTING = 1
LANG = en_US.UTF-8
LC_ADDRESS = de_DE.UTF-8
LC_IDENTIFICATION = de_DE.UTF-8
LC_MEASUREMENT = de_DE.UTF-8
LC_MONETARY = de_DE.UTF-8
LC_NAME = de_DE.UTF-8
LC_NUMERIC = de_DE.UTF-8
LC_PAPER = de_DE.UTF-8
LC_TELEPHONE = de_DE.UTF-8
LC_TIME = de_DE.UTF-8
PATH = /home/sand/bin:/usr/local/bin:/usr/local/sbin:/usr/sbin:/usr/bin:/sbin:/bin:/usr/games:/usr/local/games:/snap/bin:/usr/local/perl/bin:/usr/X11/bin
PERL5LIB =
PERL5OPT =
PERL5_CPANPLUS_IS_RUNNING = 2263823
PERL5_CPAN_IS_RUNNING = 2263823
PERL_CANARY_STABILITY_NOPROMPT = 1
PERL_MM_USE_DEFAULT = 1
PERL_USE_UNSAFE_INC = 1
SHELL = /usr/bin/zsh
TERM = screen
Perl special variables (and OS-specific diagnostics, for MSWin32):
$^X = /tmp/basesmoker-reloperl-l2Mf/bin/perl
$UID/$EUID = 1005 / 1005
$GID = 1005 1005
$EGID = 1005 1005
Perl module toolchain versions installed:
Module Have
------------------- --------
CPAN 2.37
CPAN::Meta 2.150010
Cwd 3.92
ExtUtils::CBuilder 0.280240
ExtUtils::Command 7.70
ExtUtils::Install 2.22
ExtUtils::MakeMaker 7.70
ExtUtils::Manifest 1.75
ExtUtils::ParseXS 3.54
File::Spec 3.93
JSON 4.10
JSON::PP 4.16
Module::Build 0.4234
Module::Signature 0.89
Parse::CPAN::Meta 2.150010
Test2 1.302204
Test::Harness 3.50
Test::More 1.302204
YAML 1.31
YAML::Syck 1.34
version 0.9933
--
Summary of my perl5 (revision 5 version 41 subversion 4) configuration:
Commit id: 87deea969a7552a96b077acb5708d74c65099c51
Platform:
osname=linux
osvers=6.8.0-40-generic
archname=x86_64-linux
uname='linux k93jammy 6.8.0-40-generic #40~22.04.3-ubuntu smp preempt_dynamic tue jul 30 17:30:19 utc 2 x86_64 x86_64 x86_64 gnulinux '
config_args='-Dprefix=/home/sand/src/perl/repoperls/installed-perls/host/k93jammy/v5.41.4/6567 -Dmyhostname=k93jammy -Dinstallusrbinperl=n -Uversiononly -Dusedevel -des -Ui_db -Dlibswanted=cl pthread socket inet nsl gdbm dbm malloc dl ld sun m crypt sec util c cposix posix ucb BSD gdbm_compat -Uuseithreads -Uuselongdouble -DEBUGGING=-g'
hint=recommended
useposix=true
d_sigaction=define
useithreads=undef
usemultiplicity=undef
use64bitint=define
use64bitall=define
uselongdouble=undef
usemymalloc=n
default_inc_excludes_dot=define
Compiler:
cc='cc'
ccflags ='-fwrapv -fno-strict-aliasing -pipe -fstack-protector-strong -I/usr/local/include -D_LARGEFILE_SOURCE -D_FILE_OFFSET_BITS=64'
optimize='-O2 -g'
cppflags='-fwrapv -fno-strict-aliasing -pipe -fstack-protector-strong -I/usr/local/include'
ccversion=''
gccversion='11.4.0'
gccosandvers=''
intsize=4
longsize=8
ptrsize=8
doublesize=8
byteorder=12345678
doublekind=3
d_longlong=define
longlongsize=8
d_longdbl=define
longdblsize=16
longdblkind=3
ivtype='long'
ivsize=8
nvtype='double'
nvsize=8
Off_t='off_t'
lseeksize=8
alignbytes=8
prototype=define
Linker and Libraries:
ld='cc'
ldflags =' -fstack-protector-strong -L/usr/local/lib'
libpth=/usr/local/lib /usr/lib/x86_64-linux-gnu /usr/lib /usr/lib64
libs=-lpthread -lnsl -ldl -lm -lcrypt -lutil -lc
perllibs=-lpthread -lnsl -ldl -lm -lcrypt -lutil -lc
libc=/lib/x86_64-linux-gnu/libc.so.6
so=so
useshrplib=false
libperl=libperl.a
gnulibc_version='2.35'
Dynamic Linking:
dlsrc=dl_dlopen.xs
dlext=so
d_dlsymun=undef
ccdlflags='-Wl,-E'
cccdlflags='-fPIC'
lddlflags='-shared -O2 -g -L/usr/local/lib -fstack-protector-strong'
Characteristics of this binary (from libperl):
Compile-time options:
HAS_LONG_DOUBLE
HAS_STRTOLD
HAS_TIMES
PERLIO_LAYERS
PERL_COPY_ON_WRITE
PERL_DONT_CREATE_GVSV
PERL_HASH_FUNC_SIPHASH13
PERL_HASH_USE_SBOX32
PERL_MALLOC_WRAP
PERL_OP_PARENT
PERL_PRESERVE_IVUV
PERL_USE_DEVEL
PERL_USE_SAFE_PUTENV
USE_64_BIT_ALL
USE_64_BIT_INT
USE_LARGE_FILES
USE_LOCALE
USE_LOCALE_COLLATE
USE_LOCALE_CTYPE
USE_LOCALE_NUMERIC
USE_LOCALE_TIME
USE_PERLIO
USE_PERL_ATOF
Built under linux
Compiled at Sep 21 2024 07:58:15
%ENV:
PERL5LIB=""
PERL5OPT=""
PERL5_CPANPLUS_IS_RUNNING="2263823"
PERL5_CPAN_IS_RUNNING="2263823"
PERL_CANARY_STABILITY_NOPROMPT="1"
PERL_MM_USE_DEFAULT="1"
PERL_USE_UNSAFE_INC="1"
@INC:
/home/sand/src/perl/repoperls/installed-perls/host/k93jammy/v5.41.4/6567/lib/site_perl/5.41.4/x86_64-linux
/home/sand/src/perl/repoperls/installed-perls/host/k93jammy/v5.41.4/6567/lib/site_perl/5.41.4
/home/sand/src/perl/repoperls/installed-perls/host/k93jammy/v5.41.4/6567/lib/5.41.4/x86_64-linux
/home/sand/src/perl/repoperls/installed-perls/host/k93jammy/v5.41.4/6567/lib/5.41.4
.