Report for B-Utils-0.21

Back
From: metabase:user:4bb19ea0-b064-11df-ac73-2d518c32fe74
Subject: PASS B-Utils-0.21 v5.17.1 GNU/Linux
Date: 2012-06-29T16:53:07Z

This distribution has been tested as part of the CPAN Testers
project, supporting the Perl programming language.  See
http://wiki.cpantesters.org/ for more information or email
questions to cpan-testers-discuss@perl.org


--
Dear Joshua ben Jore,

This is a computer-generated report for B-Utils-0.21
on perl 5.17.1, created by CPAN-Reporter-1.2006.

Thank you for uploading your work to CPAN.  Congratulations!
All tests were successful.

Sections of this report:

    * Tester comments
    * Program output
    * Prerequisites
    * Environment and other context

------------------------------
TESTER COMMENTS
------------------------------

Additional comments from tester:

none provided

------------------------------
PROGRAM OUTPUT
------------------------------

Output from 'make test':

PERL_DL_NONLAZY=1 /home/stefan/perl5/perlbrew/perls/perl-5.17.1-thread-multi/bin/perl5.17.1 "-MExtUtils::Command::MM" "-e" "test_harness(0, 'blib/lib', 'blib/arch')" t/*.t t/*/*.t
t/10use.t ........................... ok
t/11export.t ........................ ok
t/regression_walkallops_filtered.t .. ok
t/release-pod-syntax.t .............. skipped: these tests are for release candidate testing
t/utils/20all_starts.t .............. ok
t/utils/21all_roots.t ............... ok
t/utils/22anon_subs.t ............... ok
t/utils/30parent.t .................. ok
t/utils/31oldname.t ................. skipped: No tests written yet.
t/utils/32kids.t .................... skipped: No tests written yet.
t/utils/33ancestors.t ............... skipped: No tests written yet.
t/utils/34descendants.t ............. skipped: No tests written yet.
t/utils/35siblings.t ................ skipped: No tests written yet.
t/utils/36previous.t ................ skipped: No tests written yet.
t/utils/37stringify.t ............... skipped: No tests written yet.
t/utils/40walk.t .................... skipped: No tests written yet.
t/utils/41walkfilt.t ................ skipped: No tests written yet.
t/utils/42all.t ..................... skipped: No tests written yet.
t/utils/43allfilt.t ................. skipped: No tests written yet.
t/utils/44optrep.t .................. skipped: No tests written yet.
t/utils/50carp.t .................... skipped: No tests written yet.
t/utils/51croak.t ................... skipped: No tests written yet.
All tests successful.
Files=22, Tests=130,  1 wallclock secs ( 0.04 usr  0.03 sys +  0.78 cusr  0.07 csys =  0.92 CPU)
Result: PASS

------------------------------
PREREQUISITES
------------------------------

Prerequisite modules loaded:

requires:

    Module              Need  Have    
    ------------------- ----- --------
    Exporter            0     5.66    
    ExtUtils::CBuilder  0     0.280208
    perl                5.006 5.017001
    Scalar::Util        0     1.25    
    Task::Weaken        0     1.04    
    Test::More          0     0.98    

build_requires:

    Module              Need  Have    
    ------------------- ----- --------
    ExtUtils::MakeMaker 0     6.63_02 

configure_requires:

    Module              Need  Have    
    ------------------- ----- --------
    ExtUtils::CBuilder  0     0.280208
    ExtUtils::Depends   0.301 0.304   


------------------------------
ENVIRONMENT AND OTHER CONTEXT
------------------------------

Environment variables:

    LANG = en_US.UTF-8
    PATH = /home/stefan/perl5/perlbrew/bin:/home/stefan/perl5/perlbrew/perls/perl-5.17.1-thread-multi/bin:/usr/local/sbin:/usr/local/bin:/usr/sbin:/usr/bin:/sbin:/bin:/usr/games
    PATH_WITHOUT_PERLBREW = /usr/local/sbin:/usr/local/bin:/usr/sbin:/usr/bin:/sbin:/bin:/usr/games
    PERL5LIB = 
    PERL5OPT = 
    PERL5_CPANPLUS_IS_RUNNING = 6800
    PERL5_CPAN_IS_RUNNING = 6800
    PERLBREW_BASHRC_VERSION = 0.33
    PERLBREW_HOME = /home/stefan/.perlbrew
    PERLBREW_MANPATH = /home/stefan/perl5/perlbrew/perls/perl-5.17.1-thread-multi/man
    PERLBREW_PATH = /home/stefan/perl5/perlbrew/bin:/home/stefan/perl5/perlbrew/perls/perl-5.17.1-thread-multi/bin
    PERLBREW_PERL = perl-5.17.1-thread-multi
    PERLBREW_ROOT = /home/stefan/perl5/perlbrew
    PERLBREW_VERSION = 0.43
    SHELL = /bin/bash
    TERM = xterm

Perl special variables (and OS-specific diagnostics, for MSWin32):

    $^X = /home/stefan/perl5/perlbrew/perls/perl-5.17.1-thread-multi/bin/perl5.17.1
    $UID/$EUID = 1000 / 1000
    $GID = 1000 4 20 24 46 108 117 123 124 1000
    $EGID = 1000 4 20 24 46 108 117 123 124 1000

Perl module toolchain versions installed:

    Module              Have    
    ------------------- --------
    CPAN                1.9800  
    CPAN::Meta          2.120921
    Cwd                 3.39_02 
    ExtUtils::CBuilder  0.280208
    ExtUtils::Command   1.17    
    ExtUtils::Install   1.58    
    ExtUtils::MakeMaker 6.63_02 
    ExtUtils::Manifest  1.61    
    ExtUtils::ParseXS   3.17    
    File::Spec          3.39_02 
    JSON                2.53    
    JSON::PP            2.27200 
    Module::Build       0.4001  
    Module::Signature   n/a     
    Parse::CPAN::Meta   1.4404  
    Test::Harness       3.25    
    Test::More          0.98    
    YAML                0.81    
    YAML::Syck          1.20    
    version             0.99    


--

Summary of my perl5 (revision 5 version 17 subversion 1) configuration:
   
  Platform:
    osname=linux, osvers=2.6.28-19-generic, archname=x86_64-linux-thread-multi
    uname='linux pc-stefan 2.6.28-19-generic #66-ubuntu smp sat oct 16 18:00:58 utc 2010 x86_64 gnulinux '
    config_args='-de -Dprefix=/home/stefan/perl5/perlbrew/perls/perl-5.17.1-thread-multi -Dusethreads -Dusedevel'
    hint=recommended, useposix=true, d_sigaction=define
    useithreads=define, usemultiplicity=define
    useperlio=define, d_sfio=undef, uselargefiles=define, usesocks=undef
    use64bitint=define, use64bitall=define, uselongdouble=undef
    usemymalloc=n, bincompat5005=undef
  Compiler:
    cc='cc', ccflags ='-D_REENTRANT -D_GNU_SOURCE -fno-strict-aliasing -pipe -fstack-protector -I/usr/local/include -D_LARGEFILE_SOURCE -D_FILE_OFFSET_BITS=64',
    optimize='-O2',
    cppflags='-D_REENTRANT -D_GNU_SOURCE -fno-strict-aliasing -pipe -fstack-protector -I/usr/local/include'
    ccversion='', gccversion='4.3.3', gccosandvers=''
    intsize=4, longsize=8, ptrsize=8, doublesize=8, byteorder=12345678
    d_longlong=define, longlongsize=8, d_longdbl=define, longdblsize=16
    ivtype='long', ivsize=8, nvtype='double', nvsize=8, Off_t='off_t', lseeksize=8
    alignbytes=8, prototype=define
  Linker and Libraries:
    ld='cc', ldflags =' -fstack-protector -L/usr/local/lib'
    libpth=/usr/local/lib /lib/../lib /usr/lib/../lib /lib /usr/lib /lib64 /usr/lib64
    libs=-lnsl -ldl -lm -lcrypt -lutil -lpthread -lc
    perllibs=-lnsl -ldl -lm -lcrypt -lutil -lpthread -lc
    libc=/lib/libc-2.9.so, so=so, useshrplib=false, libperl=libperl.a
    gnulibc_version='2.9'
  Dynamic Linking:
    dlsrc=dl_dlopen.xs, dlext=so, d_dlsymun=undef, ccdlflags='-Wl,-E'
    cccdlflags='-fPIC', lddlflags='-shared -O2 -L/usr/local/lib -fstack-protector'


Characteristics of this binary (from libperl): 
  Compile-time options: HAS_TIMES MULTIPLICITY PERLIO_LAYERS
                        PERL_DONT_CREATE_GVSV PERL_IMPLICIT_CONTEXT
                        PERL_MALLOC_WRAP PERL_PRESERVE_IVUV PERL_USE_DEVEL
                        USE_64_BIT_ALL USE_64_BIT_INT USE_ITHREADS
                        USE_LARGE_FILES USE_LOCALE USE_LOCALE_COLLATE
                        USE_LOCALE_CTYPE USE_LOCALE_NUMERIC USE_PERLIO
                        USE_PERL_ATOF USE_REENTRANT_API
  Built under linux
  Compiled at Jun 28 2012 15:59:54
  %ENV:
    PERL5LIB=""
    PERL5OPT=""
    PERL5_CPANPLUS_IS_RUNNING="6800"
    PERL5_CPAN_IS_RUNNING="6800"
    PERLBREW_BASHRC_VERSION="0.33"
    PERLBREW_HOME="/home/stefan/.perlbrew"
    PERLBREW_MANPATH="/home/stefan/perl5/perlbrew/perls/perl-5.17.1-thread-multi/man"
    PERLBREW_PATH="/home/stefan/perl5/perlbrew/bin:/home/stefan/perl5/perlbrew/perls/perl-5.17.1-thread-multi/bin"
    PERLBREW_PERL="perl-5.17.1-thread-multi"
    PERLBREW_ROOT="/home/stefan/perl5/perlbrew"
    PERLBREW_VERSION="0.43"
  @INC:
    /home/stefan/perl5/perlbrew/perls/perl-5.17.1-thread-multi/lib/site_perl/5.17.1/x86_64-linux-thread-multi
    /home/stefan/perl5/perlbrew/perls/perl-5.17.1-thread-multi/lib/site_perl/5.17.1
    /home/stefan/perl5/perlbrew/perls/perl-5.17.1-thread-multi/lib/5.17.1/x86_64-linux-thread-multi
    /home/stefan/perl5/perlbrew/perls/perl-5.17.1-thread-multi/lib/5.17.1
    .