HTTP-Request-Generator v0.11 Perl 5 v5.37.0 x86_64-linux-thread-multi

Status
Pass
From
Andreas J. König (ANDK)
Dist
HTTP-Request-Generator v0.11
Platform
Perl 5 v5.37.0 x86_64-linux-thread-multi
Date
2022-08-02 04:02:18
ID
e70dbd6c-1217-11ed-94a8-d7cebde7f7f0
This distribution has been tested as part of the CPAN Testers
project, supporting the Perl programming language.  See
http://wiki.cpantesters.org/ for more information or email
questions to cpan-testers-discuss@perl.org


--
Dear Max Maischein,

This is a computer-generated report for HTTP-Request-Generator-0.11
on perl 5.37.0, created by CPAN-Reporter-1.2018.

Thank you for uploading your work to CPAN.  Congratulations!
All tests were successful.

Sections of this report:

    * Tester comments
    * Program output
    * Prerequisites
    * Environment and other context

------------------------------
TESTER COMMENTS
------------------------------

Additional comments from tester:

this report is from an automated smoke testing program
and was not reviewed by a human for accuracy

------------------------------
PROGRAM OUTPUT
------------------------------

Output from '/usr/bin/make test':

PERL_DL_NONLAZY=1 "/home/sand/src/perl/repoperls/installed-perls/host/k93msid/v5.37.0/29fb/bin/perl" "-MExtUtils::Command::MM" "-MTest::Harness" "-e" "undef *Test::Harness::Switches; test_harness(0, 'blib/lib', 'blib/arch')" t/00-load.t t/02-http-generator.t t/03-wrap-http-request.t t/03-wrap-plack.t t/03-wrap.t t/04-url-expansion.t
# Testing HTTP::Request::Generator 0.11, Perl 5.037000
# Algorithm::Loops 1.032
# AutoLoader 5.74
# Carp 1.52
# Config 5.037000
# Cwd 3.84
# Encode 3.17
# Encode::Alias 2.24
# Encode::Config 2.05
# Encode::ConfigLocal 1655178661
# Encode::Encoding 2.08
# Encode::MIME::Name 1.03
# Exporter 5.77
# Exporter::Heavy 5.77
# Exporter::Tiny 1.002002
# ExtUtils::Liblist 7.64
# ExtUtils::Liblist::Kid 7.64
# ExtUtils::MM 7.64
# ExtUtils::MM_Any 7.64
# ExtUtils::MM_Unix 7.64
# ExtUtils::MY 7.64
# ExtUtils::MakeMaker 7.64
# ExtUtils::MakeMaker::Config 7.64
# ExtUtils::MakeMaker::Locale 7.64
# ExtUtils::MakeMaker::version 7.64
# Fcntl 1.15
# File::Basename 2.85
# File::Glob 1.37
# File::Path 2.18
# File::Spec 3.84
# File::Spec::Unix 3.84
# Filter::Simple 0.96
# Filter::Util::Call 1.6
# Filter::signatures 0.17
# HTTP::Request::Generator 0.11
# I18N::Langinfo 0.21
# List::MoreUtils 0.430
# List::MoreUtils::PP 0.430
# List::MoreUtils::XS 0.430
# List::Util 1.62
# Log::Agent 1.005
# Log::Agent::Formatting <unknown>
# Log::Agent::Message <unknown>
# Log::Agent::Priorities <unknown>
# POSIX 2.03
# PerlIO 1.12
# Scalar::Util 1.62
# Storable 3.26
# Test::Builder 1.302191
# Test::Builder::Formatter 1.302191
# Test::Builder::Module 1.302191
# Test::Builder::TodoDiag 1.302191
# Test::More 1.302191
# Test2::API 1.302191
# Test2::API::Context 1.302191
# Test2::API::Instance 1.302191
# Test2::API::Stack 1.302191
# Test2::Event 1.302191
# Test2::Event::Bail 1.302191
# Test2::Event::Diag 1.302191
# Test2::Event::Exception 1.302191
# Test2::Event::Fail 1.302191
# Test2::Event::Note 1.302191
# Test2::Event::Ok 1.302191
# Test2::Event::Pass 1.302191
# Test2::Event::Plan 1.302191
# Test2::Event::Skip 1.302191
# Test2::Event::Subtest 1.302191
# Test2::Event::V2 1.302191
# Test2::Event::Waiting 1.302191
# Test2::EventFacet 1.302191
# Test2::EventFacet::About 1.302191
# Test2::EventFacet::Amnesty 1.302191
# Test2::EventFacet::Assert 1.302191
# Test2::EventFacet::Control 1.302191
# Test2::EventFacet::Error 1.302191
# Test2::EventFacet::Hub 1.302191
# Test2::EventFacet::Info 1.302191
# Test2::EventFacet::Meta 1.302191
# Test2::EventFacet::Parent 1.302191
# Test2::EventFacet::Plan 1.302191
# Test2::EventFacet::Trace 1.302191
# Test2::Formatter 1.302191
# Test2::Formatter::TAP 1.302191
# Test2::Hub 1.302191
# Test2::Hub::Interceptor 1.302191
# Test2::Hub::Interceptor::Terminator 1.302191
# Test2::Hub::Subtest 1.302191
# Test2::Util 1.302191
# Test2::Util::ExternalMeta 1.302191
# Test2::Util::Facets2Legacy 1.302191
# Test2::Util::HashBase 1.302191
# Test2::Util::Trace 1.302191
# Text::Balanced 2.06
# Tie::Hash 1.06
# Time::HiRes 1.977
# URI 5.12
# URI::Escape 5.12
# XSLoader 0.31
# base 2.27
# bytes 1.08
# constant 1.33
# feature 1.73
# mro 1.26
# overload 1.35
# overloading 0.02
# parent 0.238
# re 0.43
# strict 1.12
# vars 1.05
# version 0.9929
# version::regex 0.9929
# warnings 1.58
# warnings::register 1.04
t/00-load.t ............... ok
t/02-http-generator.t ..... ok
t/03-wrap-http-request.t .. ok
t/03-wrap-plack.t ......... ok
t/03-wrap.t ............... ok
t/04-url-expansion.t ...... ok
All tests successful.
Files=6, Tests=67,  5 wallclock secs ( 0.07 usr  0.02 sys +  2.49 cusr  0.30 csys =  2.88 CPU)
Result: PASS

------------------------------
PREREQUISITES
------------------------------

Prerequisite modules loaded:

requires:

    Module              Need  Have    
    ------------------- ----- --------
    Algorithm::Loops    0     1.032   
    Carp                0     1.52    
    Exporter            5     5.77    
    Filter::signatures  0     0.17    
    List::MoreUtils     0     0.430   
    perl                5.006 5.037000
    URI                 0     5.12    
    URI::Escape         0     5.12    

build_requires:

    Module              Need  Have    
    ------------------- ----- --------
    Data::Dumper        0     2.184   
    ExtUtils::MakeMaker 0     7.64    
    File::Spec          0     3.84    
    Test::More          0     1.302191

configure_requires:

    Module              Need  Have    
    ------------------- ----- --------
    ExtUtils::MakeMaker 0     7.64    


------------------------------
ENVIRONMENT AND OTHER CONTEXT
------------------------------

Environment variables:

    AUTOMATED_TESTING = 1
    LANG = en_US.UTF-8
    LANGUAGE = en_US:en
    PATH = /home/sand/bin:/usr/local/bin:/usr/bin:/bin:/usr/games:/usr/local/perl/bin:/usr/X11/bin:/sbin:/usr/sbin
    PERL5LIB = 
    PERL5OPT = 
    PERL5_CPANPLUS_IS_RUNNING = 2952816
    PERL5_CPAN_IS_RUNNING = 2952816
    PERL_CANARY_STABILITY_NOPROMPT = 1
    PERL_MM_USE_DEFAULT = 1
    PERL_USE_UNSAFE_INC = 1
    SHELL = /usr/bin/zsh
    TERM = screen

Perl special variables (and OS-specific diagnostics, for MSWin32):

    $^X = /home/sand/src/perl/repoperls/installed-perls/host/k93msid/v5.37.0/29fb/bin/perl
    $UID/$EUID = 1005 / 1005
    $GID = 1005 1005
    $EGID = 1005 1005

Perl module toolchain versions installed:

    Module              Have    
    ------------------- --------
    CPAN                2.34    
    CPAN::Meta          2.150010
    Cwd                 3.84    
    ExtUtils::CBuilder  0.280236
    ExtUtils::Command   7.64    
    ExtUtils::Install   2.20    
    ExtUtils::MakeMaker 7.64    
    ExtUtils::Manifest  1.73    
    ExtUtils::ParseXS   3.45    
    File::Spec          3.84    
    JSON                4.07    
    JSON::PP            4.10    
    Module::Build       0.4231  
    Module::Signature   0.88    
    Parse::CPAN::Meta   2.150010
    Test::Harness       3.44    
    Test::More          1.302191
    YAML                1.30    
    YAML::Syck          1.34    
    version             0.9929  


--

Summary of my perl5 (revision 5 version 37 subversion 0) configuration:
  Commit id: 2c8fc00e10c85d241338e71377aff04f4f7a7b6f
  Platform:
    osname=linux
    osvers=5.10.0-14-amd64
    archname=x86_64-linux-thread-multi
    uname='linux k93msid 5.10.0-14-amd64 #1 smp debian 5.10.113-1 (2022-04-29) x86_64 gnulinux '
    config_args='-Dprefix=/home/sand/src/perl/repoperls/installed-perls/host/k93msid/v5.37.0/29fb -Dmyhostname=k93msid -Dinstallusrbinperl=n -Uversiononly -Dusedevel -des -Ui_db -Dlibswanted=cl pthread socket inet nsl gdbm dbm malloc dl ld sun m crypt sec util c cposix posix ucb BSD gdbm_compat -Duseithreads -Uuselongdouble -DEBUGGING=both'
    hint=recommended
    useposix=true
    d_sigaction=define
    useithreads=define
    usemultiplicity=define
    use64bitint=define
    use64bitall=define
    uselongdouble=undef
    usemymalloc=n
    default_inc_excludes_dot=define
  Compiler:
    cc='cc'
    ccflags ='-D_REENTRANT -D_GNU_SOURCE -fwrapv -DDEBUGGING -fno-strict-aliasing -pipe -fstack-protector-strong -I/usr/local/include -D_LARGEFILE_SOURCE -D_FILE_OFFSET_BITS=64 -D_FORTIFY_SOURCE=2'
    optimize='-O2 -g'
    cppflags='-D_REENTRANT -D_GNU_SOURCE -fwrapv -DDEBUGGING -fno-strict-aliasing -pipe -fstack-protector-strong -I/usr/local/include'
    ccversion=''
    gccversion='11.3.0'
    gccosandvers=''
    intsize=4
    longsize=8
    ptrsize=8
    doublesize=8
    byteorder=12345678
    doublekind=3
    d_longlong=define
    longlongsize=8
    d_longdbl=define
    longdblsize=16
    longdblkind=3
    ivtype='long'
    ivsize=8
    nvtype='double'
    nvsize=8
    Off_t='off_t'
    lseeksize=8
    alignbytes=8
    prototype=define
  Linker and Libraries:
    ld='cc'
    ldflags =' -fstack-protector-strong -L/usr/local/lib'
    libpth=/usr/local/lib /usr/lib/x86_64-linux-gnu /usr/lib /usr/lib64
    libs=-lpthread -lnsl -ldl -lm -lcrypt -lutil -lc
    perllibs=-lpthread -lnsl -ldl -lm -lcrypt -lutil -lc
    libc=libc-2.33.so
    so=so
    useshrplib=false
    libperl=libperl.a
    gnulibc_version='2.33'
  Dynamic Linking:
    dlsrc=dl_dlopen.xs
    dlext=so
    d_dlsymun=undef
    ccdlflags='-Wl,-E'
    cccdlflags='-fPIC'
    lddlflags='-shared -O2 -g -L/usr/local/lib -fstack-protector-strong'


Characteristics of this binary (from libperl): 
  Compile-time options:
    DEBUGGING
    HAS_TIMES
    MULTIPLICITY
    PERLIO_LAYERS
    PERL_COPY_ON_WRITE
    PERL_DONT_CREATE_GVSV
    PERL_MALLOC_WRAP
    PERL_OP_PARENT
    PERL_PRESERVE_IVUV
    PERL_TRACK_MEMPOOL
    PERL_USE_DEVEL
    USE_64_BIT_ALL
    USE_64_BIT_INT
    USE_ITHREADS
    USE_LARGE_FILES
    USE_LOCALE
    USE_LOCALE_COLLATE
    USE_LOCALE_CTYPE
    USE_LOCALE_NUMERIC
    USE_LOCALE_TIME
    USE_PERLIO
    USE_PERL_ATOF
    USE_REENTRANT_API
    USE_THREAD_SAFE_LOCALE
  Built under linux
  Compiled at May 29 2022 16:01:30
  %ENV:
    PERL5LIB=""
    PERL5OPT=""
    PERL5_CPANPLUS_IS_RUNNING="2952816"
    PERL5_CPAN_IS_RUNNING="2952816"
    PERL_CANARY_STABILITY_NOPROMPT="1"
    PERL_MM_USE_DEFAULT="1"
    PERL_USE_UNSAFE_INC="1"
  @INC:
    /home/sand/src/perl/repoperls/installed-perls/host/k93msid/v5.37.0/29fb/lib/site_perl/5.37.0/x86_64-linux-thread-multi
    /home/sand/src/perl/repoperls/installed-perls/host/k93msid/v5.37.0/29fb/lib/site_perl/5.37.0
    /home/sand/src/perl/repoperls/installed-perls/host/k93msid/v5.37.0/29fb/lib/5.37.0/x86_64-linux-thread-multi
    /home/sand/src/perl/repoperls/installed-perls/host/k93msid/v5.37.0/29fb/lib/5.37.0
    .