Back
From: metabase:user:d2c9f356-b46f-11df-9a90-20a83c0b7757
Subject: PASS Net-Netfilter-NetFlow-1.113260 v5.15.6 SunOS/Solaris
Date: 2012-01-07T03:23:00Z
This distribution has been tested as part of the CPAN Testers
project, supporting the Perl programming language. See
http://wiki.cpantesters.org/ for more information or email
questions to cpan-testers-discuss@perl.org
--
Dear Oliver Gorwits,
This is a computer-generated report for Net-Netfilter-NetFlow-1.113260
on perl 5.15.6, created by CPAN-Reporter-1.2003.
Thank you for uploading your work to CPAN. Congratulations!
All tests were successful.
Sections of this report:
* Tester comments
* Program output
* Prerequisites
* Environment and other context
------------------------------
TESTER COMMENTS
------------------------------
Additional comments from tester:
this report is from an automated smoke testing program
and was not reviewed by a human for accuracy
------------------------------
PROGRAM OUTPUT
------------------------------
Output from '/usr/local/bin/make test':
PERL_DL_NONLAZY=1 /export/home/cpant4/perl5/bin/perl5.15.6 "-MExtUtils::Command::MM" "-e" "test_harness(0, 'blib/lib', 'blib/arch')" t/*.t
t/10-load.t ....... ok
t/pod-coverage.t .. ok
t/pod.t ........... ok
All tests successful.
Files=3, Tests=10, 1 wallclock secs ( 0.03 usr 0.01 sys + 0.29 cusr 0.05 csys = 0.38 CPU)
Result: PASS
------------------------------
PREREQUISITES
------------------------------
Prerequisite modules loaded:
requires:
Module Need Have
-------------------------------- ------- --------
base 0 2.18
Config 0 0
Config::Any 0.15 0.23
Config::General 0 2.50
! Daemon::Generic 0 n/a
Exporter 0 5.66
ExtUtils::MakeMaker 0 6.63_02
File::Slurp 9999.06 9999.19
File::Spec 0 3.34
Getopt::Long 0 2.38
IPC::Run 0 0.90
Log::Dispatch::Config 0 1.04
Log::Dispatch::Configurator::Any 0 1.110690
POSIX 0 1.27
strict 0 1.06
Time::HiRes 0 1.9724
warnings 0 1.12
build_requires:
Module Need Have
-------------------------------- ------- --------
Test::More 0 0.98
configure_requires:
Module Need Have
-------------------------------- ------- --------
ExtUtils::MakeMaker 6.30 6.63_02
------------------------------
ENVIRONMENT AND OTHER CONTEXT
------------------------------
Environment variables:
AUTOMATED_TESTING = 1
LANG = C
LD_LIBRARY_PATH = /usr/local/lib:
PATH = /export/home/cpant4/perl5/bin:/usr/local/bin:/usr/bin
PERL5LIB = /export/home/cpant4/.cpan/build/Event-1.20-ZuKiIB/blib/arch:/export/home/cpant4/.cpan/build/Event-1.20-ZuKiIB/blib/lib:/export/home/cpant4/.cpan/build/File-Flock-2008.01-6hISPA/blib/arch:/export/home/cpant4/.cpan/build/File-Flock-2008.01-6hISPA/blib/lib:/export/home/cpant4/.cpan/build/Eval-LineNumbers-0.31-c_5G76/blib/arch:/export/home/cpant4/.cpan/build/Eval-LineNumbers-0.31-c_5G76/blib/lib:/export/home/cpant4/.cpan/build/Log-Dispatch-Configurator-Any-1.110690-F3kr6H/blib/arch:/export/home/cpant4/.cpan/build/Log-Dispatch-Configurator-Any-1.110690-F3kr6H/blib/lib:/export/home/cpant4/.cpan/build/Log-Dispatch-Config-1.04-hMKdSo/blib/arch:/export/home/cpant4/.cpan/build/Log-Dispatch-Config-1.04-hMKdSo/blib/lib:/export/home/cpant4/.cpan/build/Log-Dispatch-2.29-BUtKcM/blib/arch:/export/home/cpant4/.cpan/build/Log-Dispatch-2.29-BUtKcM/blib/lib:/export/home/cpant4/.cpan/build/IPC-Run-0.90-PTEoxh/blib/arch:/export/home/cpant4/.cpan/build/IPC-Run-0.90-PTEoxh/blib/lib
PERL5OPT =
PERL5_CPANPLUS_IS_RUNNING = 18426
PERL5_CPAN_IS_RUNNING = 18426
PERL5_CPAN_IS_RUNNING_IN_RECURSION = 18508,18426
PERL_CR_SMOKER_CURRENT = Net-Netfilter-NetFlow-1.113260
PERL_EXTUTILS_AUTOINSTALL = --defaultdeps
PERL_MM_USE_DEFAULT = 1
SHELL = /bin/bash
TERM = xterm
Perl special variables (and OS-specific diagnostics, for MSWin32):
$^X = /export/home/cpant4/perl5/bin/perl5.15.6
$UID/$EUID = 104 / 104
$GID = 1 1
$EGID = 1 1
Perl module toolchain versions installed:
Module Have
------------------- --------
CPAN 1.9800
CPAN::Meta 2.113640
Cwd 3.38
ExtUtils::CBuilder 0.280205
ExtUtils::Command 1.17
ExtUtils::Install 1.57
ExtUtils::MakeMaker 6.63_02
ExtUtils::Manifest 1.60
ExtUtils::ParseXS 3.11
File::Spec 3.34
JSON 2.53
JSON::PP 2.27200
Module::Build 0.39_01
Module::Signature n/a
Parse::CPAN::Meta 1.4401
Test::Harness 3.23
Test::More 0.98
YAML 0.78
YAML::Syck 1.19
version 0.95
--
Summary of my perl5 (revision 5 version 15 subversion 6) configuration:
Platform:
osname=solaris, osvers=2.10, archname=i86pc-solaris-64int
uname='sunos vmrz0046 5.10 generic_141445-09 i86pc i386 i86pc solaris '
config_args='-Dcc=gcc -Dprefix=~/perl5 -Duse64bitint -Dusedevel -d'
hint=recommended, useposix=true, d_sigaction=define
useithreads=undef, usemultiplicity=undef
useperlio=define, d_sfio=undef, uselargefiles=define, usesocks=undef
use64bitint=define, use64bitall=undef, uselongdouble=undef
usemymalloc=n, bincompat5005=undef
Compiler:
cc='gcc', ccflags ='-DPTR_IS_LONG -fno-strict-aliasing -pipe -I/usr/local/include -D_LARGEFILE_SOURCE -D_FILE_OFFSET_BITS=64 -DPERL_USE_SAFE_PUTENV',
optimize='-O',
cppflags='-DPTR_IS_LONG -fno-strict-aliasing -pipe -I/usr/local/include'
ccversion='', gccversion='3.4.6', gccosandvers='solaris2.10'
intsize=4, longsize=4, ptrsize=4, doublesize=8, byteorder=12345678
d_longlong=define, longlongsize=8, d_longdbl=define, longdblsize=12
ivtype='long long', ivsize=8, nvtype='double', nvsize=8, Off_t='off_t', lseeksize=8
alignbytes=4, prototype=define
Linker and Libraries:
ld='gcc', ldflags =' -L/usr/local/lib '
libpth=/usr/local/lib /usr/lib /usr/ccs/lib
libs=-lsocket -lnsl -lgdbm -ldl -lm -lc
perllibs=-lsocket -lnsl -ldl -lm -lc
libc=/lib/libc.so, so=so, useshrplib=false, libperl=libperl.a
gnulibc_version=''
Dynamic Linking:
dlsrc=dl_dlopen.xs, dlext=so, d_dlsymun=undef, ccdlflags=' '
cccdlflags='-fPIC', lddlflags='-G -L/usr/local/lib'
Characteristics of this binary (from libperl):
Compile-time options: HAS_TIMES PERLIO_LAYERS PERL_DONT_CREATE_GVSV
PERL_MALLOC_WRAP PERL_PRESERVE_IVUV PERL_USE_DEVEL
PERL_USE_SAFE_PUTENV USE_64_BIT_INT USE_LARGE_FILES
USE_LOCALE USE_LOCALE_COLLATE USE_LOCALE_CTYPE
USE_LOCALE_NUMERIC USE_PERLIO USE_PERL_ATOF
Built under solaris
Compiled at Jan 2 2012 15:02:15
%ENV:
PERL5LIB="/export/home/cpant4/.cpan/build/Event-1.20-ZuKiIB/blib/arch:/export/home/cpant4/.cpan/build/Event-1.20-ZuKiIB/blib/lib:/export/home/cpant4/.cpan/build/File-Flock-2008.01-6hISPA/blib/arch:/export/home/cpant4/.cpan/build/File-Flock-2008.01-6hISPA/blib/lib:/export/home/cpant4/.cpan/build/Eval-LineNumbers-0.31-c_5G76/blib/arch:/export/home/cpant4/.cpan/build/Eval-LineNumbers-0.31-c_5G76/blib/lib:/export/home/cpant4/.cpan/build/Log-Dispatch-Configurator-Any-1.110690-F3kr6H/blib/arch:/export/home/cpant4/.cpan/build/Log-Dispatch-Configurator-Any-1.110690-F3kr6H/blib/lib:/export/home/cpant4/.cpan/build/Log-Dispatch-Config-1.04-hMKdSo/blib/arch:/export/home/cpant4/.cpan/build/Log-Dispatch-Config-1.04-hMKdSo/blib/lib:/export/home/cpant4/.cpan/build/Log-Dispatch-2.29-BUtKcM/blib/arch:/export/home/cpant4/.cpan/build/Log-Dispatch-2.29-BUtKcM/blib/lib:/export/home/cpant4/.cpan/build/IPC-Run-0.90-PTEoxh/blib/arch:/export/home/cpant4/.cpan/build/IPC-Run-0.90-PTEoxh/blib/lib"
PERL5OPT=""
PERL5_CPANPLUS_IS_RUNNING="18426"
PERL5_CPAN_IS_RUNNING="18426"
PERL5_CPAN_IS_RUNNING_IN_RECURSION="18508,18426"
PERL_CR_SMOKER_CURRENT="Net-Netfilter-NetFlow-1.113260"
PERL_EXTUTILS_AUTOINSTALL="--defaultdeps"
PERL_MM_USE_DEFAULT="1"
@INC:
/export/home/cpant4/.cpan/build/Event-1.20-ZuKiIB/blib/arch
/export/home/cpant4/.cpan/build/Event-1.20-ZuKiIB/blib/lib
/export/home/cpant4/.cpan/build/File-Flock-2008.01-6hISPA/blib/arch
/export/home/cpant4/.cpan/build/File-Flock-2008.01-6hISPA/blib/lib
/export/home/cpant4/.cpan/build/Eval-LineNumbers-0.31-c_5G76/blib/arch
/export/home/cpant4/.cpan/build/Eval-LineNumbers-0.31-c_5G76/blib/lib
/export/home/cpant4/.cpan/build/Log-Dispatch-Configurator-Any-1.110690-F3kr6H/blib/arch
/export/home/cpant4/.cpan/build/Log-Dispatch-Configurator-Any-1.110690-F3kr6H/blib/lib
/export/home/cpant4/.cpan/build/Log-Dispatch-Config-1.04-hMKdSo/blib/arch
/export/home/cpant4/.cpan/build/Log-Dispatch-Config-1.04-hMKdSo/blib/lib
/export/home/cpant4/.cpan/build/Log-Dispatch-2.29-BUtKcM/blib/arch
/export/home/cpant4/.cpan/build/Log-Dispatch-2.29-BUtKcM/blib/lib
/export/home/cpant4/.cpan/build/IPC-Run-0.90-PTEoxh/blib/arch
/export/home/cpant4/.cpan/build/IPC-Run-0.90-PTEoxh/blib/lib
/export/home/cpant4/perl5/lib/site_perl/5.15.6/i86pc-solaris-64int
/export/home/cpant4/perl5/lib/site_perl/5.15.6
/export/home/cpant4/perl5/lib/5.15.6/i86pc-solaris-64int
/export/home/cpant4/perl5/lib/5.15.6
/export/home/cpant4/perl5/lib/site_perl
.