POE-Loop-Glib v0.038 Perl 5 v5.35.4 x86_64-linux-thread-multi-ld

Status
Pass
From
Andreas J. König (ANDK)
Dist
POE-Loop-Glib v0.038
Platform
Perl 5 v5.35.4 x86_64-linux-thread-multi-ld
Date
2021-10-04 19:47:27
ID
e71d4b60-254b-11ec-bfc5-fe7a5627bece
This distribution has been tested as part of the CPAN Testers
project, supporting the Perl programming language.  See
http://wiki.cpantesters.org/ for more information or email
questions to cpan-testers-discuss@perl.org


--
Dear Apocalypse,

This is a computer-generated report for POE-Loop-Glib-0.038
on perl 5.35.4, created by CPAN-Reporter-1.2018.

Thank you for uploading your work to CPAN.  Congratulations!
All tests were successful.

Sections of this report:

    * Tester comments
    * Program output
    * Prerequisites
    * Environment and other context

------------------------------
TESTER COMMENTS
------------------------------

Additional comments from tester:

this report is from an automated smoke testing program
and was not reviewed by a human for accuracy

------------------------------
PROGRAM OUTPUT
------------------------------

Output from './Build test':

t/1_load.t ............................. ok
t/apocalypse.t ......................... skipped: Test::Apocalypse required for validating the distribution
# Testing POE 1.368, POE::Test::Loops 1.360, Using Loop(POE::Loop::Glib), Perl 5.035004, /tmp/basesmoker-reloperl-9z0u/bin/perl on linux
t/glib/00_info.t ....................... ok
t/glib/all_errors.t .................... skipped: most of these should move into other test files
GLib-CRITICAL **: Source ID 4 was not found when attempting to remove it at /tmp/loop_over_bdir-7909-BnEYB4/POE-Loop-Glib-0.038-0/blib/lib/POE/Loop/Glib.pm line 53.
GLib-CRITICAL **: Source ID 10 was not found when attempting to remove it at /tmp/loop_over_bdir-7909-BnEYB4/POE-Loop-Glib-0.038-0/blib/lib/POE/Loop/Glib.pm line 53.
t/glib/comp_tcp.t ...................... ok
# You might see a 'disconnect' error during this test.
# It may be ignored.
GLib-CRITICAL **: Source ID 4 was not found when attempting to remove it at /tmp/loop_over_bdir-7909-BnEYB4/POE-Loop-Glib-0.038-0/blib/lib/POE/Loop/Glib.pm line 53.
GLib-CRITICAL **: Source ID 26 was not found when attempting to remove it at /tmp/loop_over_bdir-7909-BnEYB4/POE-Loop-Glib-0.038-0/blib/lib/POE/Loop/Glib.pm line 53.
GLib-CRITICAL **: Source ID 87 was not found when attempting to remove it at /tmp/loop_over_bdir-7909-BnEYB4/POE-Loop-Glib-0.038-0/blib/lib/POE/Loop/Glib.pm line 53.
GLib-CRITICAL **: Source ID 94 was not found when attempting to remove it at /tmp/loop_over_bdir-7909-BnEYB4/POE-Loop-Glib-0.038-0/blib/lib/POE/Loop/Glib.pm line 53.
GLib-CRITICAL **: Source ID 96 was not found when attempting to remove it at /tmp/loop_over_bdir-7909-BnEYB4/POE-Loop-Glib-0.038-0/blib/lib/POE/Loop/Glib.pm line 53.
GLib-CRITICAL **: Source ID 99 was not found when attempting to remove it at /tmp/loop_over_bdir-7909-BnEYB4/POE-Loop-Glib-0.038-0/blib/lib/POE/Loop/Glib.pm line 53.
GLib-CRITICAL **: Source ID 110 was not found when attempting to remove it at /tmp/loop_over_bdir-7909-BnEYB4/POE-Loop-Glib-0.038-0/blib/lib/POE/Loop/Glib.pm line 53.
GLib-CRITICAL **: Source ID 115 was not found when attempting to remove it at /tmp/loop_over_bdir-7909-BnEYB4/POE-Loop-Glib-0.038-0/blib/lib/POE/Loop/Glib.pm line 53.
GLib-CRITICAL **: Source ID 119 was not found when attempting to remove it at /tmp/loop_over_bdir-7909-BnEYB4/POE-Loop-Glib-0.038-0/blib/lib/POE/Loop/Glib.pm line 53.
GLib-CRITICAL **: Source ID 127 was not found when attempting to remove it at /tmp/loop_over_bdir-7909-BnEYB4/POE-Loop-Glib-0.038-0/blib/lib/POE/Loop/Glib.pm line 53.
GLib-CRITICAL **: Source ID 129 was not found when attempting to remove it at /tmp/loop_over_bdir-7909-BnEYB4/POE-Loop-Glib-0.038-0/blib/lib/POE/Loop/Glib.pm line 53.
GLib-CRITICAL **: Source ID 131 was not found when attempting to remove it at /tmp/loop_over_bdir-7909-BnEYB4/POE-Loop-Glib-0.038-0/blib/lib/POE/Loop/Glib.pm line 53.
GLib-CRITICAL **: Source ID 135 was not found when attempting to remove it at /tmp/loop_over_bdir-7909-BnEYB4/POE-Loop-Glib-0.038-0/blib/lib/POE/Loop/Glib.pm line 53.
GLib-CRITICAL **: Source ID 136 was not found when attempting to remove it at /tmp/loop_over_bdir-7909-BnEYB4/POE-Loop-Glib-0.038-0/blib/lib/POE/Loop/Glib.pm line 53.
GLib-CRITICAL **: Source ID 140 was not found when attempting to remove it at /tmp/loop_over_bdir-7909-BnEYB4/POE-Loop-Glib-0.038-0/blib/lib/POE/Loop/Glib.pm line 53.
GLib-CRITICAL **: Source ID 142 was not found when attempting to remove it at /tmp/loop_over_bdir-7909-BnEYB4/POE-Loop-Glib-0.038-0/blib/lib/POE/Loop/Glib.pm line 53.
GLib-CRITICAL **: Source ID 143 was not found when attempting to remove it at /tmp/loop_over_bdir-7909-BnEYB4/POE-Loop-Glib-0.038-0/blib/lib/POE/Loop/Glib.pm line 53.
GLib-CRITICAL **: Source ID 147 was not found when attempting to remove it at /tmp/loop_over_bdir-7909-BnEYB4/POE-Loop-Glib-0.038-0/blib/lib/POE/Loop/Glib.pm line 53.
GLib-CRITICAL **: Source ID 149 was not found when attempting to remove it at /tmp/loop_over_bdir-7909-BnEYB4/POE-Loop-Glib-0.038-0/blib/lib/POE/Loop/Glib.pm line 53.
GLib-CRITICAL **: Source ID 150 was not found when attempting to remove it at /tmp/loop_over_bdir-7909-BnEYB4/POE-Loop-Glib-0.038-0/blib/lib/POE/Loop/Glib.pm line 53.
GLib-CRITICAL **: Source ID 154 was not found when attempting to remove it at /tmp/loop_over_bdir-7909-BnEYB4/POE-Loop-Glib-0.038-0/blib/lib/POE/Loop/Glib.pm line 53.
GLib-CRITICAL **: Source ID 156 was not found when attempting to remove it at /tmp/loop_over_bdir-7909-BnEYB4/POE-Loop-Glib-0.038-0/blib/lib/POE/Loop/Glib.pm line 53.
GLib-CRITICAL **: Source ID 157 was not found when attempting to remove it at /tmp/loop_over_bdir-7909-BnEYB4/POE-Loop-Glib-0.038-0/blib/lib/POE/Loop/Glib.pm line 53.
GLib-CRITICAL **: Source ID 161 was not found when attempting to remove it at /tmp/loop_over_bdir-7909-BnEYB4/POE-Loop-Glib-0.038-0/blib/lib/POE/Loop/Glib.pm line 53.
GLib-CRITICAL **: Source ID 163 was not found when attempting to remove it at /tmp/loop_over_bdir-7909-BnEYB4/POE-Loop-Glib-0.038-0/blib/lib/POE/Loop/Glib.pm line 53.
GLib-CRITICAL **: Source ID 164 was not found when attempting to remove it at /tmp/loop_over_bdir-7909-BnEYB4/POE-Loop-Glib-0.038-0/blib/lib/POE/Loop/Glib.pm line 53.
GLib-CRITICAL **: Source ID 168 was not found when attempting to remove it at /tmp/loop_over_bdir-7909-BnEYB4/POE-Loop-Glib-0.038-0/blib/lib/POE/Loop/Glib.pm line 53.
GLib-CRITICAL **: Source ID 171 was not found when attempting to remove it at /tmp/loop_over_bdir-7909-BnEYB4/POE-Loop-Glib-0.038-0/blib/lib/POE/Loop/Glib.pm line 53.
t/glib/comp_tcp_concurrent.t ........... ok
t/glib/connect_errors.t ................ ok
t/glib/k_alarms.t ...................... ok
t/glib/k_aliases.t ..................... ok
t/glib/k_detach.t ...................... ok
t/glib/k_run_returns.t ................. ok
GLib-CRITICAL **: Source ID 6 was not found when attempting to remove it at /tmp/loop_over_bdir-7909-BnEYB4/POE-Loop-Glib-0.038-0/blib/lib/POE/Loop/Glib.pm line 53.
GLib-CRITICAL **: Source ID 360048 was not found when attempting to remove it at /tmp/loop_over_bdir-7909-BnEYB4/POE-Loop-Glib-0.038-0/blib/lib/POE/Loop/Glib.pm line 53.
t/glib/k_selects.t ..................... ok
t/glib/k_sig_child.t ................... ok
t/glib/k_signals.t ..................... ok
GLib-CRITICAL **: Source ID 3 was not found when attempting to remove it at /tmp/loop_over_bdir-7909-BnEYB4/POE-Loop-Glib-0.038-0/blib/lib/POE/Loop/Glib.pm line 53.
GLib-CRITICAL **: Source ID 14 was not found when attempting to remove it at /tmp/loop_over_bdir-7909-BnEYB4/POE-Loop-Glib-0.038-0/blib/lib/POE/Loop/Glib.pm line 53.
GLib-CRITICAL **: Source ID 25 was not found when attempting to remove it at /tmp/loop_over_bdir-7909-BnEYB4/POE-Loop-Glib-0.038-0/blib/lib/POE/Loop/Glib.pm line 53.
GLib-CRITICAL **: Source ID 36 was not found when attempting to remove it at /tmp/loop_over_bdir-7909-BnEYB4/POE-Loop-Glib-0.038-0/blib/lib/POE/Loop/Glib.pm line 53.
GLib-CRITICAL **: Source ID 47 was not found when attempting to remove it at /tmp/loop_over_bdir-7909-BnEYB4/POE-Loop-Glib-0.038-0/blib/lib/POE/Loop/Glib.pm line 53.
GLib-CRITICAL **: Source ID 58 was not found when attempting to remove it at /tmp/loop_over_bdir-7909-BnEYB4/POE-Loop-Glib-0.038-0/blib/lib/POE/Loop/Glib.pm line 53.
GLib-CRITICAL **: Source ID 69 was not found when attempting to remove it at /tmp/loop_over_bdir-7909-BnEYB4/POE-Loop-Glib-0.038-0/blib/lib/POE/Loop/Glib.pm line 53.
GLib-CRITICAL **: Source ID 80 was not found when attempting to remove it at /tmp/loop_over_bdir-7909-BnEYB4/POE-Loop-Glib-0.038-0/blib/lib/POE/Loop/Glib.pm line 53.
t/glib/k_signals_rerun.t ............... ok
t/glib/sbk_signal_init.t ............... ok
t/glib/ses_nfa.t ....................... ok
# This test generates some STDERR during trace testing.
=== 27631 === 23 -> _start (from /home/sand/src/perl/repoperls/installed-perls/host/k93bionic/v5.35.4/ebf1/lib/site_perl/5.35.4/POE/Kernel.pm at 1498)
=== 27631 === 23 -> woot (from /home/sand/src/perl/repoperls/installed-perls/host/k93bionic/v5.35.4/ebf1/lib/site_perl/5.35.4/POE/Test/Loops/ses_session.pm at 691)
=== 27631 === 23 -> narf (from /home/sand/src/perl/repoperls/installed-perls/host/k93bionic/v5.35.4/ebf1/lib/site_perl/5.35.4/POE/Test/Loops/ses_session.pm at 692)
=== 27631 === 23 -> _stop (from /home/sand/src/perl/repoperls/installed-perls/host/k93bionic/v5.35.4/ebf1/lib/site_perl/5.35.4/POE/Resource/Sessions.pm at 571)
t/glib/ses_session.t ................... ok
t/glib/wheel_accept.t .................. ok
t/glib/wheel_curses.t .................. skipped: Need help with Curses functions blocking under ptys
t/glib/wheel_readline.t ................ ok
GLib-CRITICAL **: Source ID 95405 was not found when attempting to remove it at /tmp/loop_over_bdir-7909-BnEYB4/POE-Loop-Glib-0.038-0/blib/lib/POE/Loop/Glib.pm line 53.
t/glib/wheel_readwrite.t ............... ok
setsid() failed, strange behavior may result: Operation not permitted
setsid() failed, strange behavior may result: Operation not permitted
setsid() failed, strange behavior may result: Operation not permitted
setsid() failed, strange behavior may result: Operation not permitted
t/glib/wheel_run.t ..................... ok
setsid() failed, strange behavior may result: Operation not permitted
GLib-CRITICAL **: Source ID 3 was not found when attempting to remove it at /tmp/loop_over_bdir-7909-BnEYB4/POE-Loop-Glib-0.038-0/blib/lib/POE/Loop/Glib.pm line 53.
t/glib/wheel_run_size.t ................ ok
t/glib/wheel_sf_ipv6.t ................. skipped: Socket::GetAddrInfo is needed for IPv6 tests
GLib-CRITICAL **: Source ID 4 was not found when attempting to remove it at /tmp/loop_over_bdir-7909-BnEYB4/POE-Loop-Glib-0.038-0/blib/lib/POE/Loop/Glib.pm line 53.
t/glib/wheel_sf_tcp.t .................. ok
t/glib/wheel_sf_udp.t .................. ok
GLib-CRITICAL **: Source ID 4 was not found when attempting to remove it at /tmp/loop_over_bdir-7909-BnEYB4/POE-Loop-Glib-0.038-0/blib/lib/POE/Loop/Glib.pm line 53.
t/glib/wheel_sf_unix.t ................. ok
t/glib/wheel_tail.t .................... ok
t/glib/z_kogman_sig_order.t ............ ok
setsid() failed, strange behavior may result: Operation not permitted
setsid() failed, strange behavior may result: Operation not permitted
t/glib/z_leolo_wheel_run.t ............. ok
# Using '/bin/true' as our thing to run under system()
t/glib/z_merijn_sigchld_system.t ....... ok
GLib-CRITICAL **: Source ID 6 was not found when attempting to remove it at /tmp/loop_over_bdir-7909-BnEYB4/POE-Loop-Glib-0.038-0/blib/lib/POE/Loop/Glib.pm line 53.
GLib-CRITICAL **: Source ID 46301 was not found when attempting to remove it at /tmp/loop_over_bdir-7909-BnEYB4/POE-Loop-Glib-0.038-0/blib/lib/POE/Loop/Glib.pm line 53.
t/glib/z_rt39872_sigchld.t ............. ok
# Parent 27671 waiting 3sec for slow systems to settle.
# sending sigusr1
# sent sigusr1
27672: GLib-CRITICAL **: Source ID 5 was not found when attempting to remove it at /tmp/loop_over_bdir-7909-BnEYB4/POE-Loop-Glib-0.038-0/blib/lib/POE/Loop/Glib.pm line 53.
27671: GLib-CRITICAL **: Source ID 584452 was not found when attempting to remove it at /tmp/loop_over_bdir-7909-BnEYB4/POE-Loop-Glib-0.038-0/blib/lib/POE/Loop/Glib.pm line 53.
27673: GLib-CRITICAL **: Source ID 5 was not found when attempting to remove it at /tmp/loop_over_bdir-7909-BnEYB4/POE-Loop-Glib-0.038-0/blib/lib/POE/Loop/Glib.pm line 53.
27671: GLib-CRITICAL **: Source ID 584458 was not found when attempting to remove it at /tmp/loop_over_bdir-7909-BnEYB4/POE-Loop-Glib-0.038-0/blib/lib/POE/Loop/Glib.pm line 53.
t/glib/z_rt39872_sigchld_stop.t ........ ok
GLib-CRITICAL **: Source ID 14 was not found when attempting to remove it at /tmp/loop_over_bdir-7909-BnEYB4/POE-Loop-Glib-0.038-0/blib/lib/POE/Loop/Glib.pm line 53.
GLib-CRITICAL **: Source ID 34 was not found when attempting to remove it at /tmp/loop_over_bdir-7909-BnEYB4/POE-Loop-Glib-0.038-0/blib/lib/POE/Loop/Glib.pm line 53.
t/glib/z_rt53302_fh_watchers.t ......... ok
t/glib/z_rt54319_bazerka_followtail.t .. ok
t/glib/z_steinert_signal_integrity.t ... ok
All tests successful.
Files=37, Tests=491, 29 wallclock secs ( 0.08 usr  0.26 sys + 19.83 cusr  6.26 csys = 26.43 CPU)
Result: PASS

------------------------------
PREREQUISITES
------------------------------

Prerequisite modules loaded:

requires:

    Module           Need  Have    
    ---------------- ----- --------
    Glib             1.222 1.3293  
    perl             5.006 5.035004
    POE              1.288 1.368   

configure_requires:

    Module           Need  Have    
    ---------------- ----- --------
    Module::Build    0.36  0.4231  
    POE::Test::Loops 1.034 1.360   

opt_requires:

    Module           Need  Have    
    ---------------- ----- --------
    IO::Pty          0     1.16    
    Socket6          0     0.29    
  ! Term::Readkey    0     n/a     
  ! Win32::Console   0     n/a     


------------------------------
ENVIRONMENT AND OTHER CONTEXT
------------------------------

Environment variables:

    AUTOMATED_TESTING = 1
    LANG = en_US.utf8
    PATH = /home/sand/bin:/usr/local/bin:/usr/local/sbin:/usr/sbin:/usr/bin:/sbin:/bin:/usr/games:/usr/local/games:/snap/bin:/usr/local/perl/bin:/usr/X11/bin
    PERL = /tmp/basesmoker-reloperl-9z0u/bin/perl
    PERL5LIB = /tmp/loop_over_bdir-7909-BnEYB4/Linux-InitFS-0.2-0/blib/arch:/tmp/loop_over_bdir-7909-BnEYB4/Linux-InitFS-0.2-0/blib/lib:/tmp/loop_over_bdir-7909-BnEYB4/App-nrun-v1.1.2-0/blib/arch:/tmp/loop_over_bdir-7909-BnEYB4/App-nrun-v1.1.2-0/blib/lib:/tmp/loop_over_bdir-7909-BnEYB4/Net-OpenVPN-DDNS-0.1-0/blib/arch:/tmp/loop_over_bdir-7909-BnEYB4/Net-OpenVPN-DDNS-0.1-0/blib/lib:/tmp/loop_over_bdir-7909-BnEYB4/DBIx-Migration-Directories-0.12-0/blib/arch:/tmp/loop_over_bdir-7909-BnEYB4/DBIx-Migration-Directories-0.12-0/blib/lib:/tmp/loop_over_bdir-7909-BnEYB4/Business-Shipping-DataFiles-1.02-0/blib/arch:/tmp/loop_over_bdir-7909-BnEYB4/Business-Shipping-DataFiles-1.02-0/blib/lib:/tmp/loop_over_bdir-7909-BnEYB4/Devel-Required-0.16-0/blib/arch:/tmp/loop_over_bdir-7909-BnEYB4/Devel-Required-0.16-0/blib/lib:/tmp/loop_over_bdir-7909-BnEYB4/Sysync-0.35-0/blib/arch:/tmp/loop_over_bdir-7909-BnEYB4/Sysync-0.35-0/blib/lib:/tmp/loop_over_bdir-7909-BnEYB4/Serge-1.4-0/blib/arch:/tmp/loop_over_bdir-7909-BnEYB4/Serge-1.4-0/blib/lib:/tmp/loop_over_bdir-7909-BnEYB4/Alien-SNMP-MIBDEV-2.020000-0/blib/arch:/tmp/loop_over_bdir-7909-BnEYB4/Alien-SNMP-MIBDEV-2.020000-0/blib/lib:/tmp/loop_over_bdir-7909-BnEYB4/RDF-NLP-SPARQLQuery-0.1-0/blib/arch:/tmp/loop_over_bdir-7909-BnEYB4/RDF-NLP-SPARQLQuery-0.1-0/blib/lib
    PERL5OPT = 
    PERL5_CPANPLUS_IS_RUNNING = 7917
    PERL5_CPAN_IS_RUNNING = 7917
    PERL_CANARY_STABILITY_NOPROMPT = 1
    PERL_MM_USE_DEFAULT = 1
    PERL_USE_UNSAFE_INC = 1
    SHELL = /usr/bin/zsh
    TERM = screen

Perl special variables (and OS-specific diagnostics, for MSWin32):

    $^X = /tmp/basesmoker-reloperl-9z0u/bin/perl
    $UID/$EUID = 1005 / 1005
    $GID = 1005 1005
    $EGID = 1005 1005

Perl module toolchain versions installed:

    Module              Have    
    ------------------- --------
    CPAN                2.28    
    CPAN::Meta          2.150010
    Cwd                 3.82    
    ExtUtils::CBuilder  0.280236
    ExtUtils::Command   7.62    
    ExtUtils::Install   2.20    
    ExtUtils::MakeMaker 7.62    
    ExtUtils::Manifest  1.73    
    ExtUtils::ParseXS   3.44    
    File::Spec          3.81    
    JSON                4.03    
    JSON::PP            4.06    
    Module::Build       0.4231  
    Module::Signature   0.87    
    Parse::CPAN::Meta   2.150010
    Test::Harness       3.43    
    Test::More          1.302188
    YAML                1.30    
    YAML::Syck          1.34    
    version             0.9929  


--

Summary of my perl5 (revision 5 version 35 subversion 4) configuration:
  Commit id: 7b983a9b1604cef82fc91266af0d6c35c1f43885
  Platform:
    osname=linux
    osvers=4.15.0-156-generic
    archname=x86_64-linux-thread-multi-ld
    uname='linux k93bionic 4.15.0-156-generic #163-ubuntu smp thu aug 19 23:31:58 utc 2021 x86_64 x86_64 x86_64 gnulinux '
    config_args='-Dprefix=/home/sand/src/perl/repoperls/installed-perls/host/k93bionic/v5.35.4/ebf1 -Dmyhostname=k93bionic -Dinstallusrbinperl=n -Uversiononly -Dusedevel -des -Ui_db -Dlibswanted=cl pthread socket inet nsl gdbm dbm malloc dl ld sun m crypt sec util c cposix posix ucb BSD gdbm_compat -Duseithreads -Duselongdouble -DEBUGGING=-g'
    hint=recommended
    useposix=true
    d_sigaction=define
    useithreads=define
    usemultiplicity=define
    use64bitint=define
    use64bitall=define
    uselongdouble=define
    usemymalloc=n
    default_inc_excludes_dot=define
  Compiler:
    cc='cc'
    ccflags ='-D_REENTRANT -D_GNU_SOURCE -fwrapv -fno-strict-aliasing -pipe -fstack-protector-strong -I/usr/local/include -D_LARGEFILE_SOURCE -D_FILE_OFFSET_BITS=64'
    optimize='-O2 -g'
    cppflags='-D_REENTRANT -D_GNU_SOURCE -fwrapv -fno-strict-aliasing -pipe -fstack-protector-strong -I/usr/local/include'
    ccversion=''
    gccversion='7.5.0'
    gccosandvers=''
    intsize=4
    longsize=8
    ptrsize=8
    doublesize=8
    byteorder=12345678
    doublekind=3
    d_longlong=define
    longlongsize=8
    d_longdbl=define
    longdblsize=16
    longdblkind=3
    ivtype='long'
    ivsize=8
    nvtype='long double'
    nvsize=16
    Off_t='off_t'
    lseeksize=8
    alignbytes=16
    prototype=define
  Linker and Libraries:
    ld='cc'
    ldflags =' -fstack-protector-strong -L/usr/local/lib'
    libpth=/usr/local/lib /usr/lib/x86_64-linux-gnu /usr/lib /lib/x86_64-linux-gnu /lib
    libs=-lpthread -lnsl -ldl -lm -lcrypt -lutil -lc
    perllibs=-lpthread -lnsl -ldl -lm -lcrypt -lutil -lc
    libc=libc-2.27.so
    so=so
    useshrplib=false
    libperl=libperl.a
    gnulibc_version='2.27'
  Dynamic Linking:
    dlsrc=dl_dlopen.xs
    dlext=so
    d_dlsymun=undef
    ccdlflags='-Wl,-E'
    cccdlflags='-fPIC'
    lddlflags='-shared -O2 -g -L/usr/local/lib -fstack-protector-strong'


Characteristics of this binary (from libperl): 
  Compile-time options:
    HAS_TIMES
    MULTIPLICITY
    PERLIO_LAYERS
    PERL_COPY_ON_WRITE
    PERL_DONT_CREATE_GVSV
    PERL_MALLOC_WRAP
    PERL_OP_PARENT
    PERL_PRESERVE_IVUV
    PERL_USE_DEVEL
    USE_64_BIT_ALL
    USE_64_BIT_INT
    USE_ITHREADS
    USE_LARGE_FILES
    USE_LOCALE
    USE_LOCALE_COLLATE
    USE_LOCALE_CTYPE
    USE_LOCALE_NUMERIC
    USE_LOCALE_TIME
    USE_LONG_DOUBLE
    USE_PERLIO
    USE_PERL_ATOF
    USE_REENTRANT_API
    USE_THREAD_SAFE_LOCALE
  Built under linux
  Compiled at Sep 30 2021 08:59:54
  %ENV:
    PERL="/tmp/basesmoker-reloperl-9z0u/bin/perl"
    PERL5LIB="/tmp/loop_over_bdir-7909-BnEYB4/Linux-InitFS-0.2-0/blib/arch:/tmp/loop_over_bdir-7909-BnEYB4/Linux-InitFS-0.2-0/blib/lib:/tmp/loop_over_bdir-7909-BnEYB4/App-nrun-v1.1.2-0/blib/arch:/tmp/loop_over_bdir-7909-BnEYB4/App-nrun-v1.1.2-0/blib/lib:/tmp/loop_over_bdir-7909-BnEYB4/Net-OpenVPN-DDNS-0.1-0/blib/arch:/tmp/loop_over_bdir-7909-BnEYB4/Net-OpenVPN-DDNS-0.1-0/blib/lib:/tmp/loop_over_bdir-7909-BnEYB4/DBIx-Migration-Directories-0.12-0/blib/arch:/tmp/loop_over_bdir-7909-BnEYB4/DBIx-Migration-Directories-0.12-0/blib/lib:/tmp/loop_over_bdir-7909-BnEYB4/Business-Shipping-DataFiles-1.02-0/blib/arch:/tmp/loop_over_bdir-7909-BnEYB4/Business-Shipping-DataFiles-1.02-0/blib/lib:/tmp/loop_over_bdir-7909-BnEYB4/Devel-Required-0.16-0/blib/arch:/tmp/loop_over_bdir-7909-BnEYB4/Devel-Required-0.16-0/blib/lib:/tmp/loop_over_bdir-7909-BnEYB4/Sysync-0.35-0/blib/arch:/tmp/loop_over_bdir-7909-BnEYB4/Sysync-0.35-0/blib/lib:/tmp/loop_over_bdir-7909-BnEYB4/Serge-1.4-0/blib/arch:/tmp/loop_over_bdir-7909-BnEYB4/Serge-1.4-0/blib/lib:/tmp/loop_over_bdir-7909-BnEYB4/Alien-SNMP-MIBDEV-2.020000-0/blib/arch:/tmp/loop_over_bdir-7909-BnEYB4/Alien-SNMP-MIBDEV-2.020000-0/blib/lib:/tmp/loop_over_bdir-7909-BnEYB4/RDF-NLP-SPARQLQuery-0.1-0/blib/arch:/tmp/loop_over_bdir-7909-BnEYB4/RDF-NLP-SPARQLQuery-0.1-0/blib/lib"
    PERL5OPT=""
    PERL5_CPANPLUS_IS_RUNNING="7917"
    PERL5_CPAN_IS_RUNNING="7917"
    PERL_CANARY_STABILITY_NOPROMPT="1"
    PERL_MM_USE_DEFAULT="1"
    PERL_USE_UNSAFE_INC="1"
  @INC:
    /tmp/loop_over_bdir-7909-BnEYB4/Linux-InitFS-0.2-0/blib/arch
    /tmp/loop_over_bdir-7909-BnEYB4/Linux-InitFS-0.2-0/blib/lib
    /tmp/loop_over_bdir-7909-BnEYB4/App-nrun-v1.1.2-0/blib/arch
    /tmp/loop_over_bdir-7909-BnEYB4/App-nrun-v1.1.2-0/blib/lib
    /tmp/loop_over_bdir-7909-BnEYB4/Net-OpenVPN-DDNS-0.1-0/blib/arch
    /tmp/loop_over_bdir-7909-BnEYB4/Net-OpenVPN-DDNS-0.1-0/blib/lib
    /tmp/loop_over_bdir-7909-BnEYB4/DBIx-Migration-Directories-0.12-0/blib/arch
    /tmp/loop_over_bdir-7909-BnEYB4/DBIx-Migration-Directories-0.12-0/blib/lib
    /tmp/loop_over_bdir-7909-BnEYB4/Business-Shipping-DataFiles-1.02-0/blib/arch
    /tmp/loop_over_bdir-7909-BnEYB4/Business-Shipping-DataFiles-1.02-0/blib/lib
    /tmp/loop_over_bdir-7909-BnEYB4/Devel-Required-0.16-0/blib/arch
    /tmp/loop_over_bdir-7909-BnEYB4/Devel-Required-0.16-0/blib/lib
    /tmp/loop_over_bdir-7909-BnEYB4/Sysync-0.35-0/blib/arch
    /tmp/loop_over_bdir-7909-BnEYB4/Sysync-0.35-0/blib/lib
    /tmp/loop_over_bdir-7909-BnEYB4/Serge-1.4-0/blib/arch
    /tmp/loop_over_bdir-7909-BnEYB4/Serge-1.4-0/blib/lib
    /tmp/loop_over_bdir-7909-BnEYB4/Alien-SNMP-MIBDEV-2.020000-0/blib/arch
    /tmp/loop_over_bdir-7909-BnEYB4/Alien-SNMP-MIBDEV-2.020000-0/blib/lib
    /tmp/loop_over_bdir-7909-BnEYB4/RDF-NLP-SPARQLQuery-0.1-0/blib/arch
    /tmp/loop_over_bdir-7909-BnEYB4/RDF-NLP-SPARQLQuery-0.1-0/blib/lib
    /home/sand/src/perl/repoperls/installed-perls/host/k93bionic/v5.35.4/ebf1/lib/site_perl/5.35.4/x86_64-linux-thread-multi-ld
    /home/sand/src/perl/repoperls/installed-perls/host/k93bionic/v5.35.4/ebf1/lib/site_perl/5.35.4
    /home/sand/src/perl/repoperls/installed-perls/host/k93bionic/v5.35.4/ebf1/lib/5.35.4/x86_64-linux-thread-multi-ld
    /home/sand/src/perl/repoperls/installed-perls/host/k93bionic/v5.35.4/ebf1/lib/5.35.4
    .