WebService-LogicMonitor v0.211560 Perl 5 v5.32.1 OpenBSD.amd64-openbsd-thread-multi
- Status
- Pass
- From
- David Cantrell (DCANTRELL)
- Dist
-
WebService-LogicMonitor v0.211560
- Platform
- Perl 5 v5.32.1 OpenBSD.amd64-openbsd-thread-multi
- Date
- 2021-06-06 19:25:07
- ID
- e71ef5ee-c6fc-11eb-9da8-577c824b8a9f
This distribution has been tested as part of the CPAN Testers
project, supporting the Perl programming language. See
http://wiki.cpantesters.org/ for more information or email
questions to cpan-testers-discuss@perl.org
--
Dear Ioan Rogers,
This is a computer-generated report for WebService-LogicMonitor-0.211560
on perl 5.32.1, created by CPAN-Reporter-1.2018.
Thank you for uploading your work to CPAN. Congratulations!
All tests were successful.
Sections of this report:
* Tester comments
* Program output
* Prerequisites
* Environment and other context
------------------------------
TESTER COMMENTS
------------------------------
Additional comments from tester:
this report is from an automated smoke testing program
and was not reviewed by a human for accuracy
------------------------------
PROGRAM OUTPUT
------------------------------
Output from './Build test':
t/00-compile.t ......... ok
t/accounts.t ........... skipped: LOGICMONITOR_USER, LOGICMONITOR_PASS and LOGICMONITOR_COMPANY environment variables must be set
t/alerts.t ............. skipped: LOGICMONITOR_USER, LOGICMONITOR_PASS and LOGICMONITOR_COMPANY environment variables must be set
t/data.t ............... skipped: LOGICMONITOR_USER, LOGICMONITOR_PASS and LOGICMONITOR_COMPANY environment variables must be set
t/escalation_chains.t .. skipped: LOGICMONITOR_USER, LOGICMONITOR_PASS and LOGICMONITOR_COMPANY environment variables must be set
t/groups.t ............. skipped: LOGICMONITOR_USER, LOGICMONITOR_PASS and LOGICMONITOR_COMPANY environment variables must be set
t/hosts.t .............. skipped: LOGICMONITOR_USER, LOGICMONITOR_PASS and LOGICMONITOR_COMPANY environment variables must be set
t/sdt.t ................ skipped: LOGICMONITOR_USER, LOGICMONITOR_PASS and LOGICMONITOR_COMPANY environment variables must be set
All tests successful.
Files=8, Tests=14, 39 wallclock secs ( 0.60 usr 0.20 sys + 33.40 cusr 4.13 csys = 38.33 CPU)
Result: PASS
------------------------------
PREREQUISITES
------------------------------
Prerequisite modules loaded:
requires:
Module Need Have
------------------------- ------- --------
autodie 0 2.32
Carp 0 1.50
DateTime 0 1.54
DateTime::Format::ISO8601 0 0.16
JSON 0 4.03
List::MoreUtils 0 0.430
List::Util 1.33 1.55
Log::Any 0 1.709
! LWP::Protocol::https 0 n/a
LWP::UserAgent 0 6.54
Moo 0 2.005004
Moo::Role 0 2.005004
perl v5.16.3 5.032001
Role::Singleton::New 0 0.2
URI 0 5.09
URI::QueryParam 0 5.09
build_requires:
Module Need Have
------------------------- ------- --------
File::Spec 0 3.78
IO::Handle 0 1.42
IPC::Open3 0 1.21
lib 0 0.65
Log::Any::Adapter 0 1.709
strict 0 1.11
String::Random 0 0.31
Test::Deep 0 1.130
Test::Fatal 0 0.016
Test::More 0 1.302185
Test::Roo 0 1.004
Test::Roo::Role 0 1.004
warnings 0 1.47
------------------------------
ENVIRONMENT AND OTHER CONTEXT
------------------------------
Environment variables:
AUTOMATED_TESTING = 1
NONINTERACTIVE_TESTING = 1
PATH = /home/david/perl5/perlbrew/bin:/home/david/perl5/perlbrew/perls/perl-5.32.0/bin:/home/david/bin:/bin:/sbin:/usr/bin:/usr/sbin:/usr/X11R6/bin:/usr/local/bin:/usr/local/sbin:/usr/games:/home/david/.fzf/bin
PERL = 5.32.1
PERL5LIB =
PERL5OPT =
PERL5_CPANPLUS_IS_RUNNING = 89756
PERL5_CPAN_IS_RUNNING = 89756
PERLBREW_HOME = /home/david/.perlbrew
PERLBREW_MANPATH = /home/david/perl5/perlbrew/perls/perl-5.32.0/man
PERLBREW_PATH = /home/david/perl5/perlbrew/bin:/home/david/perl5/perlbrew/perls/perl-5.32.0/bin
PERLBREW_PERL = perl-5.32.0
PERLBREW_ROOT = /home/david/perl5/perlbrew
PERLBREW_SHELLRC_VERSION = 0.92
PERLBREW_VERSION = 0.92
PERLVER = 5.32.1
PERL_INLINE_DIRECTORY = /home/david/.Inline-5.32.1
PERL_MM_USE_DEFAULT = 1
PERL_USE_UNSAFE_INC = 0
SHELL = /usr/local/bin/bash
TERM = screen
Perl special variables (and OS-specific diagnostics, for MSWin32):
$^X = /home/david/cpantesting/perl-5.32.1/bin/perl
$UID/$EUID = 1000 / 1000
$GID = 1000 1000 0
$EGID = 1000 1000 0
Perl module toolchain versions installed:
Module Have
------------------- --------
CPAN 2.27
CPAN::Meta 2.150010
Cwd 3.78
ExtUtils::CBuilder 0.280234
ExtUtils::Command 7.44
ExtUtils::Install 2.14
ExtUtils::MakeMaker 7.44
ExtUtils::Manifest 1.72
ExtUtils::ParseXS 3.40
File::Spec 3.78
JSON 4.03
JSON::PP 4.04
Module::Build 0.4231
Module::Signature n/a
Parse::CPAN::Meta 2.150010
Test::Harness 3.42
Test::More 1.302185
YAML 1.30
YAML::Syck n/a
version 0.9924
--
Summary of my perl5 (revision 5 version 32 subversion 1) configuration:
Platform:
osname=openbsd
osvers=6.9
archname=OpenBSD.amd64-openbsd-thread-multi
uname='openbsd cpantesting-openbsd.home 6.9 generic#464 amd64 '
config_args='-de -Dprefix=/home/david/cpantesting/perl-5.32.1 -Dusethreads'
hint=recommended
useposix=true
d_sigaction=define
useithreads=define
usemultiplicity=define
use64bitint=define
use64bitall=define
uselongdouble=undef
usemymalloc=n
default_inc_excludes_dot=define
bincompat5005=undef
Compiler:
cc='cc'
ccflags ='-pthread -fno-strict-aliasing -pipe -fstack-protector-strong -I/usr/local/include'
optimize='-O2'
cppflags='-pthread -fno-strict-aliasing -pipe -fstack-protector-strong -I/usr/local/include'
ccversion=''
gccversion='OpenBSD Clang 10.0.1 '
gccosandvers=''
intsize=4
longsize=8
ptrsize=8
doublesize=8
byteorder=12345678
doublekind=3
d_longlong=define
longlongsize=8
d_longdbl=define
longdblsize=16
longdblkind=3
ivtype='long'
ivsize=8
nvtype='double'
nvsize=8
Off_t='off_t'
lseeksize=8
alignbytes=8
prototype=define
Linker and Libraries:
ld='cc'
ldflags ='-pthread -Wl,-E -fstack-protector-strong -L/usr/local/lib'
libpth=/usr/lib /usr/local/lib
libs=-lpthread -lm -lutil -lc
perllibs=-lpthread -lm -lutil -lc
libc=/usr/lib/libc.so.96.0
so=so
useshrplib=false
libperl=libperl.a
gnulibc_version=''
Dynamic Linking:
dlsrc=dl_dlopen.xs
dlext=so
d_dlsymun=undef
ccdlflags=' '
cccdlflags='-DPIC -fPIC '
lddlflags='-shared -fPIC -L/usr/local/lib -fstack-protector-strong'
Characteristics of this binary (from libperl):
Compile-time options:
HAS_TIMES
MULTIPLICITY
PERLIO_LAYERS
PERL_COPY_ON_WRITE
PERL_DONT_CREATE_GVSV
PERL_IMPLICIT_CONTEXT
PERL_MALLOC_WRAP
PERL_OP_PARENT
PERL_PRESERVE_IVUV
USE_64_BIT_ALL
USE_64_BIT_INT
USE_ITHREADS
USE_LARGE_FILES
USE_LOCALE
USE_LOCALE_COLLATE
USE_LOCALE_CTYPE
USE_LOCALE_NUMERIC
USE_LOCALE_TIME
USE_PERLIO
USE_PERL_ATOF
USE_REENTRANT_API
Built under openbsd
Compiled at May 13 2021 20:20:47
%ENV:
PERL="5.32.1"
PERL5LIB=""
PERL5OPT=""
PERL5_CPANPLUS_IS_RUNNING="89756"
PERL5_CPAN_IS_RUNNING="89756"
PERLBREW_HOME="/home/david/.perlbrew"
PERLBREW_MANPATH="/home/david/perl5/perlbrew/perls/perl-5.32.0/man"
PERLBREW_PATH="/home/david/perl5/perlbrew/bin:/home/david/perl5/perlbrew/perls/perl-5.32.0/bin"
PERLBREW_PERL="perl-5.32.0"
PERLBREW_ROOT="/home/david/perl5/perlbrew"
PERLBREW_SHELLRC_VERSION="0.92"
PERLBREW_VERSION="0.92"
PERLVER="5.32.1"
PERL_INLINE_DIRECTORY="/home/david/.Inline-5.32.1"
PERL_MM_USE_DEFAULT="1"
PERL_USE_UNSAFE_INC="0"
@INC:
/home/david/cpantesting/perl-5.32.1/lib/site_perl/5.32.1/OpenBSD.amd64-openbsd-thread-multi
/home/david/cpantesting/perl-5.32.1/lib/site_perl/5.32.1
/home/david/cpantesting/perl-5.32.1/lib/5.32.1/OpenBSD.amd64-openbsd-thread-multi
/home/david/cpantesting/perl-5.32.1/lib/5.32.1