HTTP-Session2 v1.10 Perl 5 v5.26.0 x86_64-linux

Status
Pass
From
Slaven Rezić (SREZIC)
Dist
HTTP-Session2 v1.10
Platform
Perl 5 v5.26.0 x86_64-linux
Date
2018-01-26 06:34:04
ID
e72bccd6-0262-11e8-86cd-f76f6ee1ca60
This distribution has been tested as part of the CPAN Testers
project, supporting the Perl programming language.  See
http://wiki.cpantesters.org/ for more information or email
questions to cpan-testers-discuss@perl.org


--
Dear Author,

This is a computer-generated report for HTTP-Session2-1.10
on perl 5.26.0, created by CPAN-Reporter-1.2018.

Thank you for uploading your work to CPAN.  Congratulations!
All tests were successful.

Sections of this report:

    * Tester comments
    * Program output
    * Prerequisites
    * Environment and other context

------------------------------
TESTER COMMENTS
------------------------------

Additional comments from tester:

none provided

------------------------------
PROGRAM OUTPUT
------------------------------

Output from './Build test':

t/00_compile.t .............. ok
Secret string too short at /home/cpansand/.cpan/build/2018012603/HTTP-Session2-1.10-2/blib/lib/HTTP/Session2/Base.pm line 79.
	HTTP::Session2::Base::__ANON__(HTTP::Session2::ServerStore=HASH(0x17d46f8), "s3cret") called at t/01_server_side.t line 23
	main::__ANON__("client -> server: request without cookie", CODE(0x17d4458)) called at t/01_server_side.t line 25
	main::__ANON__() called at /opt/perl-5.26.0/lib/site_perl/5.26.0/Test/Builder.pm line 337
	eval {...} called at /opt/perl-5.26.0/lib/site_perl/5.26.0/Test/Builder.pm line 337
	Test::Builder::subtest(Test::Builder=HASH(0x17f1030), "First request", CODE(0x1e240c8)) called at /opt/perl-5.26.0/lib/site_perl/5.26.0/Test/More.pm line 807
	Test::More::subtest("First request", CODE(0x1e240c8)) called at t/01_server_side.t line 11
	main::scenario("First request", CODE(0x1e240c8)) called at t/01_server_side.t line 31
Secret string too short at /home/cpansand/.cpan/build/2018012603/HTTP-Session2-1.10-2/blib/lib/HTTP/Session2/Base.pm line 79.
	HTTP::Session2::Base::__ANON__(HTTP::Session2::ServerStore=HASH(0x20dfd20), "s3cret") called at t/01_server_side.t line 40
	main::__ANON__("client -> server: request without cookie", CODE(0x20df7c8)) called at t/01_server_side.t line 42
	main::__ANON__() called at /opt/perl-5.26.0/lib/site_perl/5.26.0/Test/Builder.pm line 337
	eval {...} called at /opt/perl-5.26.0/lib/site_perl/5.26.0/Test/Builder.pm line 337
	Test::Builder::subtest(Test::Builder=HASH(0x17f1030), "Store something without login", CODE(0x1ea3340)) called at /opt/perl-5.26.0/lib/site_perl/5.26.0/Test/More.pm line 807
	Test::More::subtest("Store something without login", CODE(0x1ea3340)) called at t/01_server_side.t line 11
	main::scenario("Store something without login", CODE(0x1ea3340)) called at t/01_server_side.t line 58
Secret string too short at /home/cpansand/.cpan/build/2018012603/HTTP-Session2-1.10-2/blib/lib/HTTP/Session2/Base.pm line 79.
	HTTP::Session2::Base::__ANON__(HTTP::Session2::ServerStore=HASH(0x20e99d0), "s3cret") called at t/01_server_side.t line 70
	main::__ANON__("client -> server: request without cookie", CODE(0x20e9508)) called at t/01_server_side.t line 72
	main::__ANON__() called at /opt/perl-5.26.0/lib/site_perl/5.26.0/Test/Builder.pm line 337
	eval {...} called at /opt/perl-5.26.0/lib/site_perl/5.26.0/Test/Builder.pm line 337
	Test::Builder::subtest(Test::Builder=HASH(0x17f1030), "Login", CODE(0x1e22110)) called at /opt/perl-5.26.0/lib/site_perl/5.26.0/Test/More.pm line 807
	Test::More::subtest("Login", CODE(0x1e22110)) called at t/01_server_side.t line 11
	main::scenario("Login", CODE(0x1e22110)) called at t/01_server_side.t line 96
Secret string too short at /home/cpansand/.cpan/build/2018012603/HTTP-Session2-1.10-2/blib/lib/HTTP/Session2/Base.pm line 79.
	HTTP::Session2::Base::__ANON__(HTTP::Session2::ServerStore=HASH(0x20f2448), "s3cret") called at t/01_server_side.t line 108
	main::__ANON__("client -> server: request without cookie", CODE(0x20f1b90)) called at t/01_server_side.t line 110
	main::__ANON__() called at /opt/perl-5.26.0/lib/site_perl/5.26.0/Test/Builder.pm line 337
	eval {...} called at /opt/perl-5.26.0/lib/site_perl/5.26.0/Test/Builder.pm line 337
	Test::Builder::subtest(Test::Builder=HASH(0x17f1030), "In a login session", CODE(0x1e22860)) called at /opt/perl-5.26.0/lib/site_perl/5.26.0/Test/More.pm line 807
	Test::More::subtest("In a login session", CODE(0x1e22860)) called at t/01_server_side.t line 11
	main::scenario("In a login session", CODE(0x1e22860)) called at t/01_server_side.t line 124
Secret string too short at /home/cpansand/.cpan/build/2018012603/HTTP-Session2-1.10-2/blib/lib/HTTP/Session2/Base.pm line 79.
	HTTP::Session2::Base::__ANON__(HTTP::Session2::ServerStore=HASH(0x20f6370), "s3cret") called at t/01_server_side.t line 136
	main::__ANON__("client -> server: request without cookie", CODE(0x20f4e08)) called at t/01_server_side.t line 138
	main::__ANON__() called at /opt/perl-5.26.0/lib/site_perl/5.26.0/Test/Builder.pm line 337
	eval {...} called at /opt/perl-5.26.0/lib/site_perl/5.26.0/Test/Builder.pm line 337
	Test::Builder::subtest(Test::Builder=HASH(0x17f1030), "Invalid session id", CODE(0x20c5ac0)) called at /opt/perl-5.26.0/lib/site_perl/5.26.0/Test/More.pm line 807
	Test::More::subtest("Invalid session id", CODE(0x20c5ac0)) called at t/01_server_side.t line 11
	main::scenario("Invalid session id", CODE(0x20c5ac0)) called at t/01_server_side.t line 153
Secret string too short at /home/cpansand/.cpan/build/2018012603/HTTP-Session2-1.10-2/blib/lib/HTTP/Session2/Base.pm line 79.
	HTTP::Session2::Base::__ANON__(HTTP::Session2::ServerStore=HASH(0x20f94f0), "s3cret") called at t/01_server_side.t line 160
	main::__ANON__("client -> server: request without cookie", CODE(0x20f9178)) called at t/01_server_side.t line 167
	main::__ANON__() called at /opt/perl-5.26.0/lib/site_perl/5.26.0/Test/Builder.pm line 337
	eval {...} called at /opt/perl-5.26.0/lib/site_perl/5.26.0/Test/Builder.pm line 337
	Test::Builder::subtest(Test::Builder=HASH(0x17f1030), "Logout", CODE(0x20c5f58)) called at /opt/perl-5.26.0/lib/site_perl/5.26.0/Test/More.pm line 807
	Test::More::subtest("Logout", CODE(0x20c5f58)) called at t/01_server_side.t line 11
	main::scenario("Logout", CODE(0x20c5f58)) called at t/01_server_side.t line 182
t/01_server_side.t .......... ok
Secret string too short at /home/cpansand/.cpan/build/2018012603/HTTP-Session2-1.10-2/blib/lib/HTTP/Session2/Base.pm line 79.
	HTTP::Session2::Base::__ANON__(HTTP::Session2::ClientStore=HASH(0x1cc0ed0), "s3cret") called at t/02_client_side.t line 17
	main::__ANON__("client -> server: request without cookie", CODE(0x1cc0c60)) called at t/02_client_side.t line 22
	main::__ANON__() called at /opt/perl-5.26.0/lib/site_perl/5.26.0/Test/Builder.pm line 337
	eval {...} called at /opt/perl-5.26.0/lib/site_perl/5.26.0/Test/Builder.pm line 337
	Test::Builder::subtest(Test::Builder=HASH(0x1ce0a80), "First request", CODE(0x2309710)) called at /opt/perl-5.26.0/lib/site_perl/5.26.0/Test/More.pm line 807
	Test::More::subtest("First request", CODE(0x2309710)) called at t/02_client_side.t line 9
	main::scenario("First request", CODE(0x2309710)) called at t/02_client_side.t line 28
Secret string too short at /home/cpansand/.cpan/build/2018012603/HTTP-Session2-1.10-2/blib/lib/HTTP/Session2/Base.pm line 79.
	HTTP::Session2::Base::__ANON__(HTTP::Session2::ClientStore=HASH(0x2661658), "s3cret") called at t/02_client_side.t line 33
	main::__ANON__("client -> server: request without cookie", CODE(0x2661298)) called at t/02_client_side.t line 38
	main::__ANON__() called at /opt/perl-5.26.0/lib/site_perl/5.26.0/Test/Builder.pm line 337
	eval {...} called at /opt/perl-5.26.0/lib/site_perl/5.26.0/Test/Builder.pm line 337
	Test::Builder::subtest(Test::Builder=HASH(0x1ce0a80), "Store something without login", CODE(0x2638a08)) called at /opt/perl-5.26.0/lib/site_perl/5.26.0/Test/More.pm line 807
	Test::More::subtest("Store something without login", CODE(0x2638a08)) called at t/02_client_side.t line 9
	main::scenario("Store something without login", CODE(0x2638a08)) called at t/02_client_side.t line 54
Do not use HTTP::Session2::ClientStore. Use HTTP::Session2::ServerStore or HTTP::Session2::ClientStore2 instead. at /home/cpansand/.cpan/build/2018012603/HTTP-Session2-1.10-2/blib/lib/HTTP/Session2/ClientStore.pm line 25.
Secret string too short at /home/cpansand/.cpan/build/2018012603/HTTP-Session2-1.10-2/blib/lib/HTTP/Session2/Base.pm line 79.
	HTTP::Session2::Base::__ANON__(HTTP::Session2::ClientStore=HASH(0x2670f58), "s3cret") called at t/02_client_side.t line 60
	main::__ANON__("client -> server: request without cookie", CODE(0x266b818)) called at t/02_client_side.t line 66
	main::__ANON__() called at /opt/perl-5.26.0/lib/site_perl/5.26.0/Test/Builder.pm line 337
	eval {...} called at /opt/perl-5.26.0/lib/site_perl/5.26.0/Test/Builder.pm line 337
	Test::Builder::subtest(Test::Builder=HASH(0x1ce0a80), "Login", CODE(0x2638c30)) called at /opt/perl-5.26.0/lib/site_perl/5.26.0/Test/More.pm line 807
	Test::More::subtest("Login", CODE(0x2638c30)) called at t/02_client_side.t line 9
	main::scenario("Login", CODE(0x2638c30)) called at t/02_client_side.t line 86
Do not use HTTP::Session2::ClientStore. Use HTTP::Session2::ServerStore or HTTP::Session2::ClientStore2 instead. at /home/cpansand/.cpan/build/2018012603/HTTP-Session2-1.10-2/blib/lib/HTTP/Session2/ClientStore.pm line 35.
Do not use HTTP::Session2::ClientStore. Use HTTP::Session2::ServerStore or HTTP::Session2::ClientStore2 instead. at /home/cpansand/.cpan/build/2018012603/HTTP-Session2-1.10-2/blib/lib/HTTP/Session2/ClientStore.pm line 25.
Secret string too short at /home/cpansand/.cpan/build/2018012603/HTTP-Session2-1.10-2/blib/lib/HTTP/Session2/Base.pm line 79.
	HTTP::Session2::Base::__ANON__(HTTP::Session2::ClientStore=HASH(0x2675150), "s3cret") called at t/02_client_side.t line 92
	main::__ANON__("client -> server: request without cookie", CODE(0x2671600)) called at t/02_client_side.t line 98
	main::__ANON__() called at /opt/perl-5.26.0/lib/site_perl/5.26.0/Test/Builder.pm line 337
	eval {...} called at /opt/perl-5.26.0/lib/site_perl/5.26.0/Test/Builder.pm line 337
	Test::Builder::subtest(Test::Builder=HASH(0x1ce0a80), "In a login session", CODE(0x2644c10)) called at /opt/perl-5.26.0/lib/site_perl/5.26.0/Test/More.pm line 807
	Test::More::subtest("In a login session", CODE(0x2644c10)) called at t/02_client_side.t line 9
	main::scenario("In a login session", CODE(0x2644c10)) called at t/02_client_side.t line 107
Do not use HTTP::Session2::ClientStore. Use HTTP::Session2::ServerStore or HTTP::Session2::ClientStore2 instead. at /home/cpansand/.cpan/build/2018012603/HTTP-Session2-1.10-2/blib/lib/HTTP/Session2/ClientStore.pm line 35.
Do not use HTTP::Session2::ClientStore. Use HTTP::Session2::ServerStore or HTTP::Session2::ClientStore2 instead. at /home/cpansand/.cpan/build/2018012603/HTTP-Session2-1.10-2/blib/lib/HTTP/Session2/ClientStore.pm line 25.
Secret string too short at /home/cpansand/.cpan/build/2018012603/HTTP-Session2-1.10-2/blib/lib/HTTP/Session2/Base.pm line 79.
	HTTP::Session2::Base::__ANON__(HTTP::Session2::ClientStore=HASH(0x267a648), "s3cret") called at t/02_client_side.t line 112
	main::__ANON__("client -> server: request without cookie", CODE(0x2678998)) called at t/02_client_side.t line 118
	main::__ANON__() called at /opt/perl-5.26.0/lib/site_perl/5.26.0/Test/Builder.pm line 337
	eval {...} called at /opt/perl-5.26.0/lib/site_perl/5.26.0/Test/Builder.pm line 337
	Test::Builder::subtest(Test::Builder=HASH(0x1ce0a80), "Logout", CODE(0x2644c88)) called at /opt/perl-5.26.0/lib/site_perl/5.26.0/Test/More.pm line 807
	Test::More::subtest("Logout", CODE(0x2644c88)) called at t/02_client_side.t line 9
	main::scenario("Logout", CODE(0x2644c88)) called at t/02_client_side.t line 131
t/02_client_side.t .......... ok
Secret string too short at /home/cpansand/.cpan/build/2018012603/HTTP-Session2-1.10-2/blib/lib/HTTP/Session2/Base.pm line 79.
	HTTP::Session2::Base::__ANON__(HTTP::Session2::ServerStore=HASH(0x1e75c98), "s3cret") called at t/03_mech.t line 121
	main::server_session(HASH(0x9151e8)) called at t/03_mech.t line 17
	main::__ANON__(HASH(0x9151e8)) called at /opt/perl-5.26.0/lib/site_perl/5.26.0/Test/WWW/Mechanize/PSGI.pm line 43
	Test::WWW::Mechanize::PSGI::try {...} () called at /opt/perl-5.26.0/lib/site_perl/5.26.0/Try/Tiny.pm line 102
	eval {...} called at /opt/perl-5.26.0/lib/site_perl/5.26.0/Try/Tiny.pm line 93
	Try::Tiny::try(CODE(0x1e758a8), Try::Tiny::Catch=REF(0x10a0340)) called at /opt/perl-5.26.0/lib/site_perl/5.26.0/Test/WWW/Mechanize/PSGI.pm line 50
	Test::WWW::Mechanize::PSGI::simple_request(Test::WWW::Mechanize::PSGI=HASH(0xc74758), HTTP::Request=HASH(0x1e056c8), undef, undef) called at /opt/perl-5.26.0/lib/site_perl/5.26.0/LWP/UserAgent.pm line 297
	LWP::UserAgent::request(Test::WWW::Mechanize::PSGI=HASH(0xc74758), HTTP::Request=HASH(0x1e056c8)) called at /opt/perl-5.26.0/lib/site_perl/5.26.0/WWW/Mechanize.pm line 1413
	WWW::Mechanize::_make_request(Test::WWW::Mechanize::PSGI=HASH(0xc74758), HTTP::Request=HASH(0x1e056c8)) called at /opt/perl-5.26.0/lib/site_perl/5.26.0/WWW/Mechanize.pm line 1253
	WWW::Mechanize::request(Test::WWW::Mechanize::PSGI=HASH(0xc74758), HTTP::Request=HASH(0x1e056c8)) called at /opt/perl-5.26.0/lib/site_perl/5.26.0/LWP/UserAgent.pm line 435
	LWP::UserAgent::get(Test::WWW::Mechanize::PSGI=HASH(0xc74758), "/") called at /opt/perl-5.26.0/lib/site_perl/5.26.0/WWW/Mechanize.pm line 117
	WWW::Mechanize::get(Test::WWW::Mechanize::PSGI=HASH(0xc74758), "/") called at /opt/perl-5.26.0/lib/site_perl/5.26.0/Test/WWW/Mechanize.pm line 160
	Test::WWW::Mechanize::get_ok(Test::WWW::Mechanize::PSGI=HASH(0xc74758), "/") called at t/03_mech.t line 74
Secret string too short at /home/cpansand/.cpan/build/2018012603/HTTP-Session2-1.10-2/blib/lib/HTTP/Session2/Base.pm line 79.
	HTTP::Session2::Base::__ANON__(HTTP::Session2::ServerStore=HASH(0x1e5f120), "s3cret") called at t/03_mech.t line 121
	main::server_session(HASH(0x1e5e610)) called at t/03_mech.t line 17
	main::__ANON__(HASH(0x1e5e610)) called at /opt/perl-5.26.0/lib/site_perl/5.26.0/Test/WWW/Mechanize/PSGI.pm line 43
	Test::WWW::Mechanize::PSGI::try {...} () called at /opt/perl-5.26.0/lib/site_perl/5.26.0/Try/Tiny.pm line 102
	eval {...} called at /opt/perl-5.26.0/lib/site_perl/5.26.0/Try/Tiny.pm line 93
	Try::Tiny::try(CODE(0x1e5ec88), Try::Tiny::Catch=REF(0x1e75b00)) called at /opt/perl-5.26.0/lib/site_perl/5.26.0/Test/WWW/Mechanize/PSGI.pm line 50
	Test::WWW::Mechanize::PSGI::simple_request(Test::WWW::Mechanize::PSGI=HASH(0xc74758), HTTP::Request=HASH(0x1d2c5a0), undef, undef) called at /opt/perl-5.26.0/lib/site_perl/5.26.0/LWP/UserAgent.pm line 297
	LWP::UserAgent::request(Test::WWW::Mechanize::PSGI=HASH(0xc74758), HTTP::Request=HASH(0x1d2c5a0)) called at /opt/perl-5.26.0/lib/site_perl/5.26.0/WWW/Mechanize.pm line 1413
	WWW::Mechanize::_make_request(Test::WWW::Mechanize::PSGI=HASH(0xc74758), HTTP::Request=HASH(0x1d2c5a0)) called at /opt/perl-5.26.0/lib/site_perl/5.26.0/WWW/Mechanize.pm line 1253
	WWW::Mechanize::request(Test::WWW::Mechanize::PSGI=HASH(0xc74758), HTTP::Request=HASH(0x1d2c5a0)) called at /opt/perl-5.26.0/lib/site_perl/5.26.0/LWP/UserAgent.pm line 478
	LWP::UserAgent::post(Test::WWW::Mechanize::PSGI=HASH(0xc74758), "/wishlist?foo", HASH(0x1a17510)) called at /opt/perl-5.26.0/lib/site_perl/5.26.0/Test/WWW/Mechanize.pm line 237
	Test::WWW::Mechanize::post_ok(Test::WWW::Mechanize::PSGI=HASH(0xc74758), "/wishlist?foo") called at t/03_mech.t line 75
Secret string too short at /home/cpansand/.cpan/build/2018012603/HTTP-Session2-1.10-2/blib/lib/HTTP/Session2/Base.pm line 79.
	HTTP::Session2::Base::__ANON__(HTTP::Session2::ServerStore=HASH(0x1e89e98), "s3cret") called at t/03_mech.t line 121
	main::server_session(HASH(0x1e5f120)) called at t/03_mech.t line 17
	main::__ANON__(HASH(0x1e5f120)) called at /opt/perl-5.26.0/lib/site_perl/5.26.0/Test/WWW/Mechanize/PSGI.pm line 43
	Test::WWW::Mechanize::PSGI::try {...} () called at /opt/perl-5.26.0/lib/site_perl/5.26.0/Try/Tiny.pm line 102
	eval {...} called at /opt/perl-5.26.0/lib/site_perl/5.26.0/Try/Tiny.pm line 93
	Try::Tiny::try(CODE(0x1e5f1c8), Try::Tiny::Catch=REF(0x1e5f000)) called at /opt/perl-5.26.0/lib/site_perl/5.26.0/Test/WWW/Mechanize/PSGI.pm line 50
	Test::WWW::Mechanize::PSGI::simple_request(Test::WWW::Mechanize::PSGI=HASH(0xc74758), HTTP::Request=HASH(0x1d59e70), undef, undef) called at /opt/perl-5.26.0/lib/site_perl/5.26.0/LWP/UserAgent.pm line 297
	LWP::UserAgent::request(Test::WWW::Mechanize::PSGI=HASH(0xc74758), HTTP::Request=HASH(0x1d59e70)) called at /opt/perl-5.26.0/lib/site_perl/5.26.0/WWW/Mechanize.pm line 1413
	WWW::Mechanize::_make_request(Test::WWW::Mechanize::PSGI=HASH(0xc74758), HTTP::Request=HASH(0x1d59e70)) called at /opt/perl-5.26.0/lib/site_perl/5.26.0/WWW/Mechanize.pm line 1253
	WWW::Mechanize::request(Test::WWW::Mechanize::PSGI=HASH(0xc74758), HTTP::Request=HASH(0x1d59e70)) called at /opt/perl-5.26.0/lib/site_perl/5.26.0/LWP/UserAgent.pm line 435
	LWP::UserAgent::get(Test::WWW::Mechanize::PSGI=HASH(0xc74758), "http://localhost/wishlist") called at /opt/perl-5.26.0/lib/site_perl/5.26.0/WWW/Mechanize.pm line 117
	WWW::Mechanize::get(Test::WWW::Mechanize::PSGI=HASH(0xc74758), "/wishlist") called at /opt/perl-5.26.0/lib/site_perl/5.26.0/Test/WWW/Mechanize.pm line 160
	Test::WWW::Mechanize::get_ok(Test::WWW::Mechanize::PSGI=HASH(0xc74758), "/wishlist") called at t/03_mech.t line 76
Secret string too short at /home/cpansand/.cpan/build/2018012603/HTTP-Session2-1.10-2/blib/lib/HTTP/Session2/Base.pm line 79.
	HTTP::Session2::Base::__ANON__(HTTP::Session2::ServerStore=HASH(0x1e8a408), "s3cret") called at t/03_mech.t line 121
	main::server_session(HASH(0x1e5e760)) called at t/03_mech.t line 17
	main::__ANON__(HASH(0x1e5e760)) called at /opt/perl-5.26.0/lib/site_perl/5.26.0/Test/WWW/Mechanize/PSGI.pm line 43
	Test::WWW::Mechanize::PSGI::try {...} () called at /opt/perl-5.26.0/lib/site_perl/5.26.0/Try/Tiny.pm line 102
	eval {...} called at /opt/perl-5.26.0/lib/site_perl/5.26.0/Try/Tiny.pm line 93
	Try::Tiny::try(CODE(0x1e89fb8), Try::Tiny::Catch=REF(0x1e89d48)) called at /opt/perl-5.26.0/lib/site_perl/5.26.0/Test/WWW/Mechanize/PSGI.pm line 50
	Test::WWW::Mechanize::PSGI::simple_request(Test::WWW::Mechanize::PSGI=HASH(0xc74758), HTTP::Request=HASH(0x1e89dc0), undef, undef) called at /opt/perl-5.26.0/lib/site_perl/5.26.0/LWP/UserAgent.pm line 297
	LWP::UserAgent::request(Test::WWW::Mechanize::PSGI=HASH(0xc74758), HTTP::Request=HASH(0x1e89dc0)) called at /opt/perl-5.26.0/lib/site_perl/5.26.0/WWW/Mechanize.pm line 1413
	WWW::Mechanize::_make_request(Test::WWW::Mechanize::PSGI=HASH(0xc74758), HTTP::Request=HASH(0x1e89dc0)) called at /opt/perl-5.26.0/lib/site_perl/5.26.0/WWW/Mechanize.pm line 1253
	WWW::Mechanize::request(Test::WWW::Mechanize::PSGI=HASH(0xc74758), HTTP::Request=HASH(0x1e89dc0)) called at /opt/perl-5.26.0/lib/site_perl/5.26.0/LWP/UserAgent.pm line 478
	LWP::UserAgent::post(Test::WWW::Mechanize::PSGI=HASH(0xc74758), "/wishlist?bar") called at t/03_mech.t line 78
Secret string too short at /home/cpansand/.cpan/build/2018012603/HTTP-Session2-1.10-2/blib/lib/HTTP/Session2/Base.pm line 79.
	HTTP::Session2::Base::__ANON__(HTTP::Session2::ServerStore=HASH(0x1e900c0), "s3cret") called at t/03_mech.t line 121
	main::server_session(HASH(0x1e89bb0)) called at t/03_mech.t line 17
	main::__ANON__(HASH(0x1e89bb0)) called at /opt/perl-5.26.0/lib/site_perl/5.26.0/Test/WWW/Mechanize/PSGI.pm line 43
	Test::WWW::Mechanize::PSGI::try {...} () called at /opt/perl-5.26.0/lib/site_perl/5.26.0/Try/Tiny.pm line 102
	eval {...} called at /opt/perl-5.26.0/lib/site_perl/5.26.0/Try/Tiny.pm line 93
	Try::Tiny::try(CODE(0x1e8a648), Try::Tiny::Catch=REF(0x1e8a1b0)) called at /opt/perl-5.26.0/lib/site_perl/5.26.0/Test/WWW/Mechanize/PSGI.pm line 50
	Test::WWW::Mechanize::PSGI::simple_request(Test::WWW::Mechanize::PSGI=HASH(0xc74758), HTTP::Request=HASH(0x1e8a090), undef, undef) called at /opt/perl-5.26.0/lib/site_perl/5.26.0/LWP/UserAgent.pm line 297
	LWP::UserAgent::request(Test::WWW::Mechanize::PSGI=HASH(0xc74758), HTTP::Request=HASH(0x1e8a090)) called at /opt/perl-5.26.0/lib/site_perl/5.26.0/WWW/Mechanize.pm line 1413
	WWW::Mechanize::_make_request(Test::WWW::Mechanize::PSGI=HASH(0xc74758), HTTP::Request=HASH(0x1e8a090)) called at /opt/perl-5.26.0/lib/site_perl/5.26.0/WWW/Mechanize.pm line 1253
	WWW::Mechanize::request(Test::WWW::Mechanize::PSGI=HASH(0xc74758), HTTP::Request=HASH(0x1e8a090)) called at /opt/perl-5.26.0/lib/site_perl/5.26.0/LWP/UserAgent.pm line 478
	LWP::UserAgent::post(Test::WWW::Mechanize::PSGI=HASH(0xc74758), "/wishlist?bar", HASH(0x1a17510)) called at /opt/perl-5.26.0/lib/site_perl/5.26.0/Test/WWW/Mechanize.pm line 237
	Test::WWW::Mechanize::post_ok(Test::WWW::Mechanize::PSGI=HASH(0xc74758), "/wishlist?bar") called at t/03_mech.t line 81
Secret string too short at /home/cpansand/.cpan/build/2018012603/HTTP-Session2-1.10-2/blib/lib/HTTP/Session2/Base.pm line 79.
	HTTP::Session2::Base::__ANON__(HTTP::Session2::ServerStore=HASH(0x1e90018), "s3cret") called at t/03_mech.t line 121
	main::server_session(HASH(0x1e90270)) called at t/03_mech.t line 17
	main::__ANON__(HASH(0x1e90270)) called at /opt/perl-5.26.0/lib/site_perl/5.26.0/Test/WWW/Mechanize/PSGI.pm line 43
	Test::WWW::Mechanize::PSGI::try {...} () called at /opt/perl-5.26.0/lib/site_perl/5.26.0/Try/Tiny.pm line 102
	eval {...} called at /opt/perl-5.26.0/lib/site_perl/5.26.0/Try/Tiny.pm line 93
	Try::Tiny::try(CODE(0x1e8a990), Try::Tiny::Catch=REF(0x1e89eb0)) called at /opt/perl-5.26.0/lib/site_perl/5.26.0/Test/WWW/Mechanize/PSGI.pm line 50
	Test::WWW::Mechanize::PSGI::simple_request(Test::WWW::Mechanize::PSGI=HASH(0xc74758), HTTP::Request=HASH(0x1e8a8b8), undef, undef) called at /opt/perl-5.26.0/lib/site_perl/5.26.0/LWP/UserAgent.pm line 297
	LWP::UserAgent::request(Test::WWW::Mechanize::PSGI=HASH(0xc74758), HTTP::Request=HASH(0x1e8a8b8)) called at /opt/perl-5.26.0/lib/site_perl/5.26.0/WWW/Mechanize.pm line 1413
	WWW::Mechanize::_make_request(Test::WWW::Mechanize::PSGI=HASH(0xc74758), HTTP::Request=HASH(0x1e8a8b8)) called at /opt/perl-5.26.0/lib/site_perl/5.26.0/WWW/Mechanize.pm line 1253
	WWW::Mechanize::request(Test::WWW::Mechanize::PSGI=HASH(0xc74758), HTTP::Request=HASH(0x1e8a8b8)) called at /opt/perl-5.26.0/lib/site_perl/5.26.0/LWP/UserAgent.pm line 435
	LWP::UserAgent::get(Test::WWW::Mechanize::PSGI=HASH(0xc74758), "http://localhost/wishlist") called at /opt/perl-5.26.0/lib/site_perl/5.26.0/WWW/Mechanize.pm line 117
	WWW::Mechanize::get(Test::WWW::Mechanize::PSGI=HASH(0xc74758), "/wishlist") called at /opt/perl-5.26.0/lib/site_perl/5.26.0/Test/WWW/Mechanize.pm line 160
	Test::WWW::Mechanize::get_ok(Test::WWW::Mechanize::PSGI=HASH(0xc74758), "/wishlist") called at t/03_mech.t line 82
Secret string too short at /home/cpansand/.cpan/build/2018012603/HTTP-Session2-1.10-2/blib/lib/HTTP/Session2/Base.pm line 79.
	HTTP::Session2::Base::__ANON__(HTTP::Session2::ServerStore=HASH(0x1e90870), "s3cret") called at t/03_mech.t line 121
	main::server_session(HASH(0x1e90018)) called at t/03_mech.t line 17
	main::__ANON__(HASH(0x1e90018)) called at /opt/perl-5.26.0/lib/site_perl/5.26.0/Test/WWW/Mechanize/PSGI.pm line 43
	Test::WWW::Mechanize::PSGI::try {...} () called at /opt/perl-5.26.0/lib/site_perl/5.26.0/Try/Tiny.pm line 102
	eval {...} called at /opt/perl-5.26.0/lib/site_perl/5.26.0/Try/Tiny.pm line 93
	Try::Tiny::try(CODE(0x1e8a6a8), Try::Tiny::Catch=REF(0x1e89fe8)) called at /opt/perl-5.26.0/lib/site_perl/5.26.0/Test/WWW/Mechanize/PSGI.pm line 50
	Test::WWW::Mechanize::PSGI::simple_request(Test::WWW::Mechanize::PSGI=HASH(0xc74758), HTTP::Request=HASH(0x1e8ffe8), undef, undef) called at /opt/perl-5.26.0/lib/site_perl/5.26.0/LWP/UserAgent.pm line 297
	LWP::UserAgent::request(Test::WWW::Mechanize::PSGI=HASH(0xc74758), HTTP::Request=HASH(0x1e8ffe8)) called at /opt/perl-5.26.0/lib/site_perl/5.26.0/WWW/Mechanize.pm line 1413
	WWW::Mechanize::_make_request(Test::WWW::Mechanize::PSGI=HASH(0xc74758), HTTP::Request=HASH(0x1e8ffe8)) called at /opt/perl-5.26.0/lib/site_perl/5.26.0/WWW/Mechanize.pm line 1253
	WWW::Mechanize::request(Test::WWW::Mechanize::PSGI=HASH(0xc74758), HTTP::Request=HASH(0x1e8ffe8)) called at /opt/perl-5.26.0/lib/site_perl/5.26.0/LWP/UserAgent.pm line 478
	LWP::UserAgent::post(Test::WWW::Mechanize::PSGI=HASH(0xc74758), "/account/login?john", HASH(0x1a17510)) called at /opt/perl-5.26.0/lib/site_perl/5.26.0/Test/WWW/Mechanize.pm line 237
	Test::WWW::Mechanize::post_ok(Test::WWW::Mechanize::PSGI=HASH(0xc74758), "/account/login?john") called at t/03_mech.t line 84
Secret string too short at /home/cpansand/.cpan/build/2018012603/HTTP-Session2-1.10-2/blib/lib/HTTP/Session2/Base.pm line 79.
	HTTP::Session2::Base::__ANON__(HTTP::Session2::ServerStore=HASH(0x1e90c90), "s3cret") called at t/03_mech.t line 121
	main::server_session(HASH(0x1e90120)) called at t/03_mech.t line 17
	main::__ANON__(HASH(0x1e90120)) called at /opt/perl-5.26.0/lib/site_perl/5.26.0/Test/WWW/Mechanize/PSGI.pm line 43
	Test::WWW::Mechanize::PSGI::try {...} () called at /opt/perl-5.26.0/lib/site_perl/5.26.0/Try/Tiny.pm line 102
	eval {...} called at /opt/perl-5.26.0/lib/site_perl/5.26.0/Try/Tiny.pm line 93
	Try::Tiny::try(CODE(0x1e90000), Try::Tiny::Catch=REF(0x1e8ffb8)) called at /opt/perl-5.26.0/lib/site_perl/5.26.0/Test/WWW/Mechanize/PSGI.pm line 50
	Test::WWW::Mechanize::PSGI::simple_request(Test::WWW::Mechanize::PSGI=HASH(0xc74758), HTTP::Request=HASH(0x1e90330), undef, undef) called at /opt/perl-5.26.0/lib/site_perl/5.26.0/LWP/UserAgent.pm line 297
	LWP::UserAgent::request(Test::WWW::Mechanize::PSGI=HASH(0xc74758), HTTP::Request=HASH(0x1e90330)) called at /opt/perl-5.26.0/lib/site_perl/5.26.0/WWW/Mechanize.pm line 1413
	WWW::Mechanize::_make_request(Test::WWW::Mechanize::PSGI=HASH(0xc74758), HTTP::Request=HASH(0x1e90330)) called at /opt/perl-5.26.0/lib/site_perl/5.26.0/WWW/Mechanize.pm line 1253
	WWW::Mechanize::request(Test::WWW::Mechanize::PSGI=HASH(0xc74758), HTTP::Request=HASH(0x1e90330)) called at /opt/perl-5.26.0/lib/site_perl/5.26.0/LWP/UserAgent.pm line 435
	LWP::UserAgent::get(Test::WWW::Mechanize::PSGI=HASH(0xc74758), "http://localhost/wishlist") called at /opt/perl-5.26.0/lib/site_perl/5.26.0/WWW/Mechanize.pm line 117
	WWW::Mechanize::get(Test::WWW::Mechanize::PSGI=HASH(0xc74758), "/wishlist") called at /opt/perl-5.26.0/lib/site_perl/5.26.0/Test/WWW/Mechanize.pm line 160
	Test::WWW::Mechanize::get_ok(Test::WWW::Mechanize::PSGI=HASH(0xc74758), "/wishlist", "Wishlist is still available") called at t/03_mech.t line 85
Secret string too short at /home/cpansand/.cpan/build/2018012603/HTTP-Session2-1.10-2/blib/lib/HTTP/Session2/Base.pm line 79.
	HTTP::Session2::Base::__ANON__(HTTP::Session2::ServerStore=HASH(0x1e934b0), "s3cret") called at t/03_mech.t line 121
	main::server_session(HASH(0x1e90c90)) called at t/03_mech.t line 17
	main::__ANON__(HASH(0x1e90c90)) called at /opt/perl-5.26.0/lib/site_perl/5.26.0/Test/WWW/Mechanize/PSGI.pm line 43
	Test::WWW::Mechanize::PSGI::try {...} () called at /opt/perl-5.26.0/lib/site_perl/5.26.0/Try/Tiny.pm line 102
	eval {...} called at /opt/perl-5.26.0/lib/site_perl/5.26.0/Try/Tiny.pm line 93
	Try::Tiny::try(CODE(0x1e90cd8), Try::Tiny::Catch=REF(0x1e90990)) called at /opt/perl-5.26.0/lib/site_perl/5.26.0/Test/WWW/Mechanize/PSGI.pm line 50
	Test::WWW::Mechanize::PSGI::simple_request(Test::WWW::Mechanize::PSGI=HASH(0xc74758), HTTP::Request=HASH(0x1e90c78), undef, undef) called at /opt/perl-5.26.0/lib/site_perl/5.26.0/LWP/UserAgent.pm line 297
	LWP::UserAgent::request(Test::WWW::Mechanize::PSGI=HASH(0xc74758), HTTP::Request=HASH(0x1e90c78)) called at /opt/perl-5.26.0/lib/site_perl/5.26.0/WWW/Mechanize.pm line 1413
	WWW::Mechanize::_make_request(Test::WWW::Mechanize::PSGI=HASH(0xc74758), HTTP::Request=HASH(0x1e90c78)) called at /opt/perl-5.26.0/lib/site_perl/5.26.0/WWW/Mechanize.pm line 1253
	WWW::Mechanize::request(Test::WWW::Mechanize::PSGI=HASH(0xc74758), HTTP::Request=HASH(0x1e90c78)) called at /opt/perl-5.26.0/lib/site_perl/5.26.0/LWP/UserAgent.pm line 478
	LWP::UserAgent::post(Test::WWW::Mechanize::PSGI=HASH(0xc74758), "/wishlist?baz") called at t/03_mech.t line 87
Secret string too short at /home/cpansand/.cpan/build/2018012603/HTTP-Session2-1.10-2/blib/lib/HTTP/Session2/Base.pm line 79.
	HTTP::Session2::Base::__ANON__(HTTP::Session2::ServerStore=HASH(0x1e90ae0), "s3cret") called at t/03_mech.t line 121
	main::server_session(HASH(0x1e934b0)) called at t/03_mech.t line 17
	main::__ANON__(HASH(0x1e934b0)) called at /opt/perl-5.26.0/lib/site_perl/5.26.0/Test/WWW/Mechanize/PSGI.pm line 43
	Test::WWW::Mechanize::PSGI::try {...} () called at /opt/perl-5.26.0/lib/site_perl/5.26.0/Try/Tiny.pm line 102
	eval {...} called at /opt/perl-5.26.0/lib/site_perl/5.26.0/Try/Tiny.pm line 93
	Try::Tiny::try(CODE(0x1e93978), Try::Tiny::Catch=REF(0x1e90d38)) called at /opt/perl-5.26.0/lib/site_perl/5.26.0/Test/WWW/Mechanize/PSGI.pm line 50
	Test::WWW::Mechanize::PSGI::simple_request(Test::WWW::Mechanize::PSGI=HASH(0xc74758), HTTP::Request=HASH(0x1e90870), undef, undef) called at /opt/perl-5.26.0/lib/site_perl/5.26.0/LWP/UserAgent.pm line 297
	LWP::UserAgent::request(Test::WWW::Mechanize::PSGI=HASH(0xc74758), HTTP::Request=HASH(0x1e90870)) called at /opt/perl-5.26.0/lib/site_perl/5.26.0/WWW/Mechanize.pm line 1413
	WWW::Mechanize::_make_request(Test::WWW::Mechanize::PSGI=HASH(0xc74758), HTTP::Request=HASH(0x1e90870)) called at /opt/perl-5.26.0/lib/site_perl/5.26.0/WWW/Mechanize.pm line 1253
	WWW::Mechanize::request(Test::WWW::Mechanize::PSGI=HASH(0xc74758), HTTP::Request=HASH(0x1e90870)) called at /opt/perl-5.26.0/lib/site_perl/5.26.0/LWP/UserAgent.pm line 478
	LWP::UserAgent::post(Test::WWW::Mechanize::PSGI=HASH(0xc74758), "/wishlist?baz", HASH(0x1a17510)) called at /opt/perl-5.26.0/lib/site_perl/5.26.0/Test/WWW/Mechanize.pm line 237
	Test::WWW::Mechanize::post_ok(Test::WWW::Mechanize::PSGI=HASH(0xc74758), "/wishlist?baz") called at t/03_mech.t line 90
Secret string too short at /home/cpansand/.cpan/build/2018012603/HTTP-Session2-1.10-2/blib/lib/HTTP/Session2/Base.pm line 79.
	HTTP::Session2::Base::__ANON__(HTTP::Session2::ServerStore=HASH(0x1e93330), "s3cret") called at t/03_mech.t line 121
	main::server_session(HASH(0x1e93b10)) called at t/03_mech.t line 17
	main::__ANON__(HASH(0x1e93b10)) called at /opt/perl-5.26.0/lib/site_perl/5.26.0/Test/WWW/Mechanize/PSGI.pm line 43
	Test::WWW::Mechanize::PSGI::try {...} () called at /opt/perl-5.26.0/lib/site_perl/5.26.0/Try/Tiny.pm line 102
	eval {...} called at /opt/perl-5.26.0/lib/site_perl/5.26.0/Try/Tiny.pm line 93
	Try::Tiny::try(CODE(0x1e93990), Try::Tiny::Catch=REF(0x1e93c00)) called at /opt/perl-5.26.0/lib/site_perl/5.26.0/Test/WWW/Mechanize/PSGI.pm line 50
	Test::WWW::Mechanize::PSGI::simple_request(Test::WWW::Mechanize::PSGI=HASH(0xc74758), HTTP::Request=HASH(0x1e93618), undef, undef) called at /opt/perl-5.26.0/lib/site_perl/5.26.0/LWP/UserAgent.pm line 297
	LWP::UserAgent::request(Test::WWW::Mechanize::PSGI=HASH(0xc74758), HTTP::Request=HASH(0x1e93618)) called at /opt/perl-5.26.0/lib/site_perl/5.26.0/WWW/Mechanize.pm line 1413
	WWW::Mechanize::_make_request(Test::WWW::Mechanize::PSGI=HASH(0xc74758), HTTP::Request=HASH(0x1e93618)) called at /opt/perl-5.26.0/lib/site_perl/5.26.0/WWW/Mechanize.pm line 1253
	WWW::Mechanize::request(Test::WWW::Mechanize::PSGI=HASH(0xc74758), HTTP::Request=HASH(0x1e93618)) called at /opt/perl-5.26.0/lib/site_perl/5.26.0/LWP/UserAgent.pm line 435
	LWP::UserAgent::get(Test::WWW::Mechanize::PSGI=HASH(0xc74758), "http://localhost/wishlist") called at /opt/perl-5.26.0/lib/site_perl/5.26.0/WWW/Mechanize.pm line 117
	WWW::Mechanize::get(Test::WWW::Mechanize::PSGI=HASH(0xc74758), "/wishlist") called at /opt/perl-5.26.0/lib/site_perl/5.26.0/Test/WWW/Mechanize.pm line 160
	Test::WWW::Mechanize::get_ok(Test::WWW::Mechanize::PSGI=HASH(0xc74758), "/wishlist", "Wishlist is still available") called at t/03_mech.t line 91
Secret string too short at /home/cpansand/.cpan/build/2018012603/HTTP-Session2-1.10-2/blib/lib/HTTP/Session2/Base.pm line 79.
	HTTP::Session2::Base::__ANON__(HTTP::Session2::ServerStore=HASH(0x1e989f0), "s3cret") called at t/03_mech.t line 121
	main::server_session(HASH(0x1e98858)) called at t/03_mech.t line 17
	main::__ANON__(HASH(0x1e98858)) called at /opt/perl-5.26.0/lib/site_perl/5.26.0/Test/WWW/Mechanize/PSGI.pm line 43
	Test::WWW::Mechanize::PSGI::try {...} () called at /opt/perl-5.26.0/lib/site_perl/5.26.0/Try/Tiny.pm line 102
	eval {...} called at /opt/perl-5.26.0/lib/site_perl/5.26.0/Try/Tiny.pm line 93
	Try::Tiny::try(CODE(0x1e93a08), Try::Tiny::Catch=REF(0x1e90ea0)) called at /opt/perl-5.26.0/lib/site_perl/5.26.0/Test/WWW/Mechanize/PSGI.pm line 50
	Test::WWW::Mechanize::PSGI::simple_request(Test::WWW::Mechanize::PSGI=HASH(0xc74758), HTTP::Request=HASH(0x1e93cc0), undef, undef) called at /opt/perl-5.26.0/lib/site_perl/5.26.0/LWP/UserAgent.pm line 297
	LWP::UserAgent::request(Test::WWW::Mechanize::PSGI=HASH(0xc74758), HTTP::Request=HASH(0x1e93cc0)) called at /opt/perl-5.26.0/lib/site_perl/5.26.0/WWW/Mechanize.pm line 1413
	WWW::Mechanize::_make_request(Test::WWW::Mechanize::PSGI=HASH(0xc74758), HTTP::Request=HASH(0x1e93cc0)) called at /opt/perl-5.26.0/lib/site_perl/5.26.0/WWW/Mechanize.pm line 1253
	WWW::Mechanize::request(Test::WWW::Mechanize::PSGI=HASH(0xc74758), HTTP::Request=HASH(0x1e93cc0)) called at /opt/perl-5.26.0/lib/site_perl/5.26.0/LWP/UserAgent.pm line 435
	LWP::UserAgent::get(Test::WWW::Mechanize::PSGI=HASH(0xc74758), "http://localhost/my/name") called at /opt/perl-5.26.0/lib/site_perl/5.26.0/WWW/Mechanize.pm line 117
	WWW::Mechanize::get(Test::WWW::Mechanize::PSGI=HASH(0xc74758), "/my/name") called at /opt/perl-5.26.0/lib/site_perl/5.26.0/Test/WWW/Mechanize.pm line 160
	Test::WWW::Mechanize::get_ok(Test::WWW::Mechanize::PSGI=HASH(0xc74758), "/my/name") called at t/03_mech.t line 93
Secret string too short at /home/cpansand/.cpan/build/2018012603/HTTP-Session2-1.10-2/blib/lib/HTTP/Session2/Base.pm line 79.
	HTTP::Session2::Base::__ANON__(HTTP::Session2::ServerStore=HASH(0x1e93e88), "s3cret") called at t/03_mech.t line 121
	main::server_session(HASH(0x1e989f0)) called at t/03_mech.t line 17
	main::__ANON__(HASH(0x1e989f0)) called at /opt/perl-5.26.0/lib/site_perl/5.26.0/Test/WWW/Mechanize/PSGI.pm line 43
	Test::WWW::Mechanize::PSGI::try {...} () called at /opt/perl-5.26.0/lib/site_perl/5.26.0/Try/Tiny.pm line 102
	eval {...} called at /opt/perl-5.26.0/lib/site_perl/5.26.0/Try/Tiny.pm line 93
	Try::Tiny::try(CODE(0x1e98960), Try::Tiny::Catch=REF(0x1e90b70)) called at /opt/perl-5.26.0/lib/site_perl/5.26.0/Test/WWW/Mechanize/PSGI.pm line 50
	Test::WWW::Mechanize::PSGI::simple_request(Test::WWW::Mechanize::PSGI=HASH(0xc74758), HTTP::Request=HASH(0x1e98930), undef, undef) called at /opt/perl-5.26.0/lib/site_perl/5.26.0/LWP/UserAgent.pm line 297
	LWP::UserAgent::request(Test::WWW::Mechanize::PSGI=HASH(0xc74758), HTTP::Request=HASH(0x1e98930)) called at /opt/perl-5.26.0/lib/site_perl/5.26.0/WWW/Mechanize.pm line 1413
	WWW::Mechanize::_make_request(Test::WWW::Mechanize::PSGI=HASH(0xc74758), HTTP::Request=HASH(0x1e98930)) called at /opt/perl-5.26.0/lib/site_perl/5.26.0/WWW/Mechanize.pm line 1253
	WWW::Mechanize::request(Test::WWW::Mechanize::PSGI=HASH(0xc74758), HTTP::Request=HASH(0x1e98930)) called at /opt/perl-5.26.0/lib/site_perl/5.26.0/LWP/UserAgent.pm line 478
	LWP::UserAgent::post(Test::WWW::Mechanize::PSGI=HASH(0xc74758), "/account/logout?john") called at t/03_mech.t line 97
Secret string too short at /home/cpansand/.cpan/build/2018012603/HTTP-Session2-1.10-2/blib/lib/HTTP/Session2/Base.pm line 79.
	HTTP::Session2::Base::__ANON__(HTTP::Session2::ClientStore=HASH(0x1e8a150), "s3cret") called at t/03_mech.t line 127
	main::client_session(HASH(0x1e98d38)) called at t/03_mech.t line 17
	main::__ANON__(HASH(0x1e98d38)) called at /opt/perl-5.26.0/lib/site_perl/5.26.0/Test/WWW/Mechanize/PSGI.pm line 43
	Test::WWW::Mechanize::PSGI::try {...} () called at /opt/perl-5.26.0/lib/site_perl/5.26.0/Try/Tiny.pm line 102
	eval {...} called at /opt/perl-5.26.0/lib/site_perl/5.26.0/Try/Tiny.pm line 93
	Try::Tiny::try(CODE(0x1e8a360), Try::Tiny::Catch=REF(0x1e98ed0)) called at /opt/perl-5.26.0/lib/site_perl/5.26.0/Test/WWW/Mechanize/PSGI.pm line 50
	Test::WWW::Mechanize::PSGI::simple_request(Test::WWW::Mechanize::PSGI=HASH(0x1e5e9a0), HTTP::Request=HASH(0x8e8408), undef, undef) called at /opt/perl-5.26.0/lib/site_perl/5.26.0/LWP/UserAgent.pm line 297
	LWP::UserAgent::request(Test::WWW::Mechanize::PSGI=HASH(0x1e5e9a0), HTTP::Request=HASH(0x8e8408)) called at /opt/perl-5.26.0/lib/site_perl/5.26.0/WWW/Mechanize.pm line 1413
	WWW::Mechanize::_make_request(Test::WWW::Mechanize::PSGI=HASH(0x1e5e9a0), HTTP::Request=HASH(0x8e8408)) called at /opt/perl-5.26.0/lib/site_perl/5.26.0/WWW/Mechanize.pm line 1253
	WWW::Mechanize::request(Test::WWW::Mechanize::PSGI=HASH(0x1e5e9a0), HTTP::Request=HASH(0x8e8408)) called at /opt/perl-5.26.0/lib/site_perl/5.26.0/LWP/UserAgent.pm line 435
	LWP::UserAgent::get(Test::WWW::Mechanize::PSGI=HASH(0x1e5e9a0), "/") called at /opt/perl-5.26.0/lib/site_perl/5.26.0/WWW/Mechanize.pm line 117
	WWW::Mechanize::get(Test::WWW::Mechanize::PSGI=HASH(0x1e5e9a0), "/") called at /opt/perl-5.26.0/lib/site_perl/5.26.0/Test/WWW/Mechanize.pm line 160
	Test::WWW::Mechanize::get_ok(Test::WWW::Mechanize::PSGI=HASH(0x1e5e9a0), "/") called at t/03_mech.t line 74
Secret string too short at /home/cpansand/.cpan/build/2018012603/HTTP-Session2-1.10-2/blib/lib/HTTP/Session2/Base.pm line 79.
	HTTP::Session2::Base::__ANON__(HTTP::Session2::ClientStore=HASH(0x1e5f1f8), "s3cret") called at t/03_mech.t line 127
	main::client_session(HASH(0x1e75998)) called at t/03_mech.t line 17
	main::__ANON__(HASH(0x1e75998)) called at /opt/perl-5.26.0/lib/site_perl/5.26.0/Test/WWW/Mechanize/PSGI.pm line 43
	Test::WWW::Mechanize::PSGI::try {...} () called at /opt/perl-5.26.0/lib/site_perl/5.26.0/Try/Tiny.pm line 102
	eval {...} called at /opt/perl-5.26.0/lib/site_perl/5.26.0/Try/Tiny.pm line 93
	Try::Tiny::try(CODE(0x1e5f120), Try::Tiny::Catch=REF(0x1e5f1c8)) called at /opt/perl-5.26.0/lib/site_perl/5.26.0/Test/WWW/Mechanize/PSGI.pm line 50
	Test::WWW::Mechanize::PSGI::simple_request(Test::WWW::Mechanize::PSGI=HASH(0x1e5e9a0), HTTP::Request=HASH(0x1e89d60), undef, undef) called at /opt/perl-5.26.0/lib/site_perl/5.26.0/LWP/UserAgent.pm line 297
	LWP::UserAgent::request(Test::WWW::Mechanize::PSGI=HASH(0x1e5e9a0), HTTP::Request=HASH(0x1e89d60)) called at /opt/perl-5.26.0/lib/site_perl/5.26.0/WWW/Mechanize.pm line 1413
	WWW::Mechanize::_make_request(Test::WWW::Mechanize::PSGI=HASH(0x1e5e9a0), HTTP::Request=HASH(0x1e89d60)) called at /opt/perl-5.26.0/lib/site_perl/5.26.0/WWW/Mechanize.pm line 1253
	WWW::Mechanize::request(Test::WWW::Mechanize::PSGI=HASH(0x1e5e9a0), HTTP::Request=HASH(0x1e89d60)) called at /opt/perl-5.26.0/lib/site_perl/5.26.0/LWP/UserAgent.pm line 478
	LWP::UserAgent::post(Test::WWW::Mechanize::PSGI=HASH(0x1e5e9a0), "/wishlist?foo", HASH(0x1a17510)) called at /opt/perl-5.26.0/lib/site_perl/5.26.0/Test/WWW/Mechanize.pm line 237
	Test::WWW::Mechanize::post_ok(Test::WWW::Mechanize::PSGI=HASH(0x1e5e9a0), "/wishlist?foo") called at t/03_mech.t line 75
Do not use HTTP::Session2::ClientStore. Use HTTP::Session2::ServerStore or HTTP::Session2::ClientStore2 instead. at /home/cpansand/.cpan/build/2018012603/HTTP-Session2-1.10-2/blib/lib/HTTP/Session2/ClientStore.pm line 25.
Secret string too short at /home/cpansand/.cpan/build/2018012603/HTTP-Session2-1.10-2/blib/lib/HTTP/Session2/Base.pm line 79.
	HTTP::Session2::Base::__ANON__(HTTP::Session2::ClientStore=HASH(0x1e90a38), "s3cret") called at t/03_mech.t line 127
	main::client_session(HASH(0x1e8a3f0)) called at t/03_mech.t line 17
	main::__ANON__(HASH(0x1e8a3f0)) called at /opt/perl-5.26.0/lib/site_perl/5.26.0/Test/WWW/Mechanize/PSGI.pm line 43
	Test::WWW::Mechanize::PSGI::try {...} () called at /opt/perl-5.26.0/lib/site_perl/5.26.0/Try/Tiny.pm line 102
	eval {...} called at /opt/perl-5.26.0/lib/site_perl/5.26.0/Try/Tiny.pm line 93
	Try::Tiny::try(CODE(0x1e90168), Try::Tiny::Catch=REF(0x1e8a1c8)) called at /opt/perl-5.26.0/lib/site_perl/5.26.0/Test/WWW/Mechanize/PSGI.pm line 50
	Test::WWW::Mechanize::PSGI::simple_request(Test::WWW::Mechanize::PSGI=HASH(0x1e5e9a0), HTTP::Request=HASH(0x1e98ff0), undef, undef) called at /opt/perl-5.26.0/lib/site_perl/5.26.0/LWP/UserAgent.pm line 297
	LWP::UserAgent::request(Test::WWW::Mechanize::PSGI=HASH(0x1e5e9a0), HTTP::Request=HASH(0x1e98ff0)) called at /opt/perl-5.26.0/lib/site_perl/5.26.0/WWW/Mechanize.pm line 1413
	WWW::Mechanize::_make_request(Test::WWW::Mechanize::PSGI=HASH(0x1e5e9a0), HTTP::Request=HASH(0x1e98ff0)) called at /opt/perl-5.26.0/lib/site_perl/5.26.0/WWW/Mechanize.pm line 1253
	WWW::Mechanize::request(Test::WWW::Mechanize::PSGI=HASH(0x1e5e9a0), HTTP::Request=HASH(0x1e98ff0)) called at /opt/perl-5.26.0/lib/site_perl/5.26.0/LWP/UserAgent.pm line 435
	LWP::UserAgent::get(Test::WWW::Mechanize::PSGI=HASH(0x1e5e9a0), "http://localhost/wishlist") called at /opt/perl-5.26.0/lib/site_perl/5.26.0/WWW/Mechanize.pm line 117
	WWW::Mechanize::get(Test::WWW::Mechanize::PSGI=HASH(0x1e5e9a0), "/wishlist") called at /opt/perl-5.26.0/lib/site_perl/5.26.0/Test/WWW/Mechanize.pm line 160
	Test::WWW::Mechanize::get_ok(Test::WWW::Mechanize::PSGI=HASH(0x1e5e9a0), "/wishlist") called at t/03_mech.t line 76
Do not use HTTP::Session2::ClientStore. Use HTTP::Session2::ServerStore or HTTP::Session2::ClientStore2 instead. at /home/cpansand/.cpan/build/2018012603/HTTP-Session2-1.10-2/blib/lib/HTTP/Session2/ClientStore.pm line 35.
Secret string too short at /home/cpansand/.cpan/build/2018012603/HTTP-Session2-1.10-2/blib/lib/HTTP/Session2/Base.pm line 79.
	HTTP::Session2::Base::__ANON__(HTTP::Session2::ClientStore=HASH(0x1e933a8), "s3cret") called at t/03_mech.t line 127
	main::client_session(HASH(0x1e90a38)) called at t/03_mech.t line 17
	main::__ANON__(HASH(0x1e90a38)) called at /opt/perl-5.26.0/lib/site_perl/5.26.0/Test/WWW/Mechanize/PSGI.pm line 43
	Test::WWW::Mechanize::PSGI::try {...} () called at /opt/perl-5.26.0/lib/site_perl/5.26.0/Try/Tiny.pm line 102
	eval {...} called at /opt/perl-5.26.0/lib/site_perl/5.26.0/Try/Tiny.pm line 93
	Try::Tiny::try(CODE(0x1e93438), Try::Tiny::Catch=REF(0x1e8a000)) called at /opt/perl-5.26.0/lib/site_perl/5.26.0/Test/WWW/Mechanize/PSGI.pm line 50
	Test::WWW::Mechanize::PSGI::simple_request(Test::WWW::Mechanize::PSGI=HASH(0x1e5e9a0), HTTP::Request=HASH(0x1e903a8), undef, undef) called at /opt/perl-5.26.0/lib/site_perl/5.26.0/LWP/UserAgent.pm line 297
	LWP::UserAgent::request(Test::WWW::Mechanize::PSGI=HASH(0x1e5e9a0), HTTP::Request=HASH(0x1e903a8)) called at /opt/perl-5.26.0/lib/site_perl/5.26.0/WWW/Mechanize.pm line 1413
	WWW::Mechanize::_make_request(Test::WWW::Mechanize::PSGI=HASH(0x1e5e9a0), HTTP::Request=HASH(0x1e903a8)) called at /opt/perl-5.26.0/lib/site_perl/5.26.0/WWW/Mechanize.pm line 1253
	WWW::Mechanize::request(Test::WWW::Mechanize::PSGI=HASH(0x1e5e9a0), HTTP::Request=HASH(0x1e903a8)) called at /opt/perl-5.26.0/lib/site_perl/5.26.0/LWP/UserAgent.pm line 478
	LWP::UserAgent::post(Test::WWW::Mechanize::PSGI=HASH(0x1e5e9a0), "/wishlist?bar") called at t/03_mech.t line 78
Do not use HTTP::Session2::ClientStore. Use HTTP::Session2::ServerStore or HTTP::Session2::ClientStore2 instead. at /home/cpansand/.cpan/build/2018012603/HTTP-Session2-1.10-2/blib/lib/HTTP/Session2/ClientStore.pm line 35.
Secret string too short at /home/cpansand/.cpan/build/2018012603/HTTP-Session2-1.10-2/blib/lib/HTTP/Session2/Base.pm line 79.
	HTTP::Session2::Base::__ANON__(HTTP::Session2::ClientStore=HASH(0x1e90b10), "s3cret") called at t/03_mech.t line 127
	main::client_session(HASH(0x1e933a8)) called at t/03_mech.t line 17
	main::__ANON__(HASH(0x1e933a8)) called at /opt/perl-5.26.0/lib/site_perl/5.26.0/Test/WWW/Mechanize/PSGI.pm line 43
	Test::WWW::Mechanize::PSGI::try {...} () called at /opt/perl-5.26.0/lib/site_perl/5.26.0/Try/Tiny.pm line 102
	eval {...} called at /opt/perl-5.26.0/lib/site_perl/5.26.0/Try/Tiny.pm line 93
	Try::Tiny::try(CODE(0x1e908e8), Try::Tiny::Catch=REF(0x1e90108)) called at /opt/perl-5.26.0/lib/site_perl/5.26.0/Test/WWW/Mechanize/PSGI.pm line 50
	Test::WWW::Mechanize::PSGI::simple_request(Test::WWW::Mechanize::PSGI=HASH(0x1e5e9a0), HTTP::Request=HASH(0x1e908a0), undef, undef) called at /opt/perl-5.26.0/lib/site_perl/5.26.0/LWP/UserAgent.pm line 297
	LWP::UserAgent::request(Test::WWW::Mechanize::PSGI=HASH(0x1e5e9a0), HTTP::Request=HASH(0x1e908a0)) called at /opt/perl-5.26.0/lib/site_perl/5.26.0/WWW/Mechanize.pm line 1413
	WWW::Mechanize::_make_request(Test::WWW::Mechanize::PSGI=HASH(0x1e5e9a0), HTTP::Request=HASH(0x1e908a0)) called at /opt/perl-5.26.0/lib/site_perl/5.26.0/WWW/Mechanize.pm line 1253
	WWW::Mechanize::request(Test::WWW::Mechanize::PSGI=HASH(0x1e5e9a0), HTTP::Request=HASH(0x1e908a0)) called at /opt/perl-5.26.0/lib/site_perl/5.26.0/LWP/UserAgent.pm line 478
	LWP::UserAgent::post(Test::WWW::Mechanize::PSGI=HASH(0x1e5e9a0), "/wishlist?bar", HASH(0x1a17510)) called at /opt/perl-5.26.0/lib/site_perl/5.26.0/Test/WWW/Mechanize.pm line 237
	Test::WWW::Mechanize::post_ok(Test::WWW::Mechanize::PSGI=HASH(0x1e5e9a0), "/wishlist?bar") called at t/03_mech.t line 81
Do not use HTTP::Session2::ClientStore. Use HTTP::Session2::ServerStore or HTTP::Session2::ClientStore2 instead. at /home/cpansand/.cpan/build/2018012603/HTTP-Session2-1.10-2/blib/lib/HTTP/Session2/ClientStore.pm line 35.
Do not use HTTP::Session2::ClientStore. Use HTTP::Session2::ServerStore or HTTP::Session2::ClientStore2 instead. at /home/cpansand/.cpan/build/2018012603/HTTP-Session2-1.10-2/blib/lib/HTTP/Session2/ClientStore.pm line 25.
Secret string too short at /home/cpansand/.cpan/build/2018012603/HTTP-Session2-1.10-2/blib/lib/HTTP/Session2/Base.pm line 79.
	HTTP::Session2::Base::__ANON__(HTTP::Session2::ClientStore=HASH(0x1e90b58), "s3cret") called at t/03_mech.t line 127
	main::client_session(HASH(0x1e8a228)) called at t/03_mech.t line 17
	main::__ANON__(HASH(0x1e8a228)) called at /opt/perl-5.26.0/lib/site_perl/5.26.0/Test/WWW/Mechanize/PSGI.pm line 43
	Test::WWW::Mechanize::PSGI::try {...} () called at /opt/perl-5.26.0/lib/site_perl/5.26.0/Try/Tiny.pm line 102
	eval {...} called at /opt/perl-5.26.0/lib/site_perl/5.26.0/Try/Tiny.pm line 93
	Try::Tiny::try(CODE(0x1e90600), Try::Tiny::Catch=REF(0x1e93bd0)) called at /opt/perl-5.26.0/lib/site_perl/5.26.0/Test/WWW/Mechanize/PSGI.pm line 50
	Test::WWW::Mechanize::PSGI::simple_request(Test::WWW::Mechanize::PSGI=HASH(0x1e5e9a0), HTTP::Request=HASH(0x1e90120), undef, undef) called at /opt/perl-5.26.0/lib/site_perl/5.26.0/LWP/UserAgent.pm line 297
	LWP::UserAgent::request(Test::WWW::Mechanize::PSGI=HASH(0x1e5e9a0), HTTP::Request=HASH(0x1e90120)) called at /opt/perl-5.26.0/lib/site_perl/5.26.0/WWW/Mechanize.pm line 1413
	WWW::Mechanize::_make_request(Test::WWW::Mechanize::PSGI=HASH(0x1e5e9a0), HTTP::Request=HASH(0x1e90120)) called at /opt/perl-5.26.0/lib/site_perl/5.26.0/WWW/Mechanize.pm line 1253
	WWW::Mechanize::request(Test::WWW::Mechanize::PSGI=HASH(0x1e5e9a0), HTTP::Request=HASH(0x1e90120)) called at /opt/perl-5.26.0/lib/site_perl/5.26.0/LWP/UserAgent.pm line 435
	LWP::UserAgent::get(Test::WWW::Mechanize::PSGI=HASH(0x1e5e9a0), "http://localhost/wishlist") called at /opt/perl-5.26.0/lib/site_perl/5.26.0/WWW/Mechanize.pm line 117
	WWW::Mechanize::get(Test::WWW::Mechanize::PSGI=HASH(0x1e5e9a0), "/wishlist") called at /opt/perl-5.26.0/lib/site_perl/5.26.0/Test/WWW/Mechanize.pm line 160
	Test::WWW::Mechanize::get_ok(Test::WWW::Mechanize::PSGI=HASH(0x1e5e9a0), "/wishlist") called at t/03_mech.t line 82
Do not use HTTP::Session2::ClientStore. Use HTTP::Session2::ServerStore or HTTP::Session2::ClientStore2 instead. at /home/cpansand/.cpan/build/2018012603/HTTP-Session2-1.10-2/blib/lib/HTTP/Session2/ClientStore.pm line 35.
Secret string too short at /home/cpansand/.cpan/build/2018012603/HTTP-Session2-1.10-2/blib/lib/HTTP/Session2/Base.pm line 79.
	HTTP::Session2::Base::__ANON__(HTTP::Session2::ClientStore=HASH(0x1e93c78), "s3cret") called at t/03_mech.t line 127
	main::client_session(HASH(0x1e90b58)) called at t/03_mech.t line 17
	main::__ANON__(HASH(0x1e90b58)) called at /opt/perl-5.26.0/lib/site_perl/5.26.0/Test/WWW/Mechanize/PSGI.pm line 43
	Test::WWW::Mechanize::PSGI::try {...} () called at /opt/perl-5.26.0/lib/site_perl/5.26.0/Try/Tiny.pm line 102
	eval {...} called at /opt/perl-5.26.0/lib/site_perl/5.26.0/Try/Tiny.pm line 93
	Try::Tiny::try(CODE(0x1e90ca8), Try::Tiny::Catch=REF(0x1e93540)) called at /opt/perl-5.26.0/lib/site_perl/5.26.0/Test/WWW/Mechanize/PSGI.pm line 50
	Test::WWW::Mechanize::PSGI::simple_request(Test::WWW::Mechanize::PSGI=HASH(0x1e5e9a0), HTTP::Request=HASH(0x1e90108), undef, undef) called at /opt/perl-5.26.0/lib/site_perl/5.26.0/LWP/UserAgent.pm line 297
	LWP::UserAgent::request(Test::WWW::Mechanize::PSGI=HASH(0x1e5e9a0), HTTP::Request=HASH(0x1e90108)) called at /opt/perl-5.26.0/lib/site_perl/5.26.0/WWW/Mechanize.pm line 1413
	WWW::Mechanize::_make_request(Test::WWW::Mechanize::PSGI=HASH(0x1e5e9a0), HTTP::Request=HASH(0x1e90108)) called at /opt/perl-5.26.0/lib/site_perl/5.26.0/WWW/Mechanize.pm line 1253
	WWW::Mechanize::request(Test::WWW::Mechanize::PSGI=HASH(0x1e5e9a0), HTTP::Request=HASH(0x1e90108)) called at /opt/perl-5.26.0/lib/site_perl/5.26.0/LWP/UserAgent.pm line 478
	LWP::UserAgent::post(Test::WWW::Mechanize::PSGI=HASH(0x1e5e9a0), "/account/login?john", HASH(0x1a17510)) called at /opt/perl-5.26.0/lib/site_perl/5.26.0/Test/WWW/Mechanize.pm line 237
	Test::WWW::Mechanize::post_ok(Test::WWW::Mechanize::PSGI=HASH(0x1e5e9a0), "/account/login?john") called at t/03_mech.t line 84
Do not use HTTP::Session2::ClientStore. Use HTTP::Session2::ServerStore or HTTP::Session2::ClientStore2 instead. at /home/cpansand/.cpan/build/2018012603/HTTP-Session2-1.10-2/blib/lib/HTTP/Session2/ClientStore.pm line 35.
Do not use HTTP::Session2::ClientStore. Use HTTP::Session2::ServerStore or HTTP::Session2::ClientStore2 instead. at /home/cpansand/.cpan/build/2018012603/HTTP-Session2-1.10-2/blib/lib/HTTP/Session2/ClientStore.pm line 35.
Do not use HTTP::Session2::ClientStore. Use HTTP::Session2::ServerStore or HTTP::Session2::ClientStore2 instead. at /home/cpansand/.cpan/build/2018012603/HTTP-Session2-1.10-2/blib/lib/HTTP/Session2/ClientStore.pm line 25.
Secret string too short at /home/cpansand/.cpan/build/2018012603/HTTP-Session2-1.10-2/blib/lib/HTTP/Session2/Base.pm line 79.
	HTTP::Session2::Base::__ANON__(HTTP::Session2::ClientStore=HASH(0x1e940c8), "s3cret") called at t/03_mech.t line 127
	main::client_session(HASH(0x1e90390)) called at t/03_mech.t line 17
	main::__ANON__(HASH(0x1e90390)) called at /opt/perl-5.26.0/lib/site_perl/5.26.0/Test/WWW/Mechanize/PSGI.pm line 43
	Test::WWW::Mechanize::PSGI::try {...} () called at /opt/perl-5.26.0/lib/site_perl/5.26.0/Try/Tiny.pm line 102
	eval {...} called at /opt/perl-5.26.0/lib/site_perl/5.26.0/Try/Tiny.pm line 93
	Try::Tiny::try(CODE(0x1e94020), Try::Tiny::Catch=REF(0x1df8008)) called at /opt/perl-5.26.0/lib/site_perl/5.26.0/Test/WWW/Mechanize/PSGI.pm line 50
	Test::WWW::Mechanize::PSGI::simple_request(Test::WWW::Mechanize::PSGI=HASH(0x1e5e9a0), HTTP::Request=HASH(0x1e93bd0), undef, undef) called at /opt/perl-5.26.0/lib/site_perl/5.26.0/LWP/UserAgent.pm line 297
	LWP::UserAgent::request(Test::WWW::Mechanize::PSGI=HASH(0x1e5e9a0), HTTP::Request=HASH(0x1e93bd0)) called at /opt/perl-5.26.0/lib/site_perl/5.26.0/WWW/Mechanize.pm line 1413
	WWW::Mechanize::_make_request(Test::WWW::Mechanize::PSGI=HASH(0x1e5e9a0), HTTP::Request=HASH(0x1e93bd0)) called at /opt/perl-5.26.0/lib/site_perl/5.26.0/WWW/Mechanize.pm line 1253
	WWW::Mechanize::request(Test::WWW::Mechanize::PSGI=HASH(0x1e5e9a0), HTTP::Request=HASH(0x1e93bd0)) called at /opt/perl-5.26.0/lib/site_perl/5.26.0/LWP/UserAgent.pm line 435
	LWP::UserAgent::get(Test::WWW::Mechanize::PSGI=HASH(0x1e5e9a0), "http://localhost/wishlist") called at /opt/perl-5.26.0/lib/site_perl/5.26.0/WWW/Mechanize.pm line 117
	WWW::Mechanize::get(Test::WWW::Mechanize::PSGI=HASH(0x1e5e9a0), "/wishlist") called at /opt/perl-5.26.0/lib/site_perl/5.26.0/Test/WWW/Mechanize.pm line 160
	Test::WWW::Mechanize::get_ok(Test::WWW::Mechanize::PSGI=HASH(0x1e5e9a0), "/wishlist", "Wishlist is still available") called at t/03_mech.t line 85
Do not use HTTP::Session2::ClientStore. Use HTTP::Session2::ServerStore or HTTP::Session2::ClientStore2 instead. at /home/cpansand/.cpan/build/2018012603/HTTP-Session2-1.10-2/blib/lib/HTTP/Session2/ClientStore.pm line 35.
Secret string too short at /home/cpansand/.cpan/build/2018012603/HTTP-Session2-1.10-2/blib/lib/HTTP/Session2/Base.pm line 79.
	HTTP::Session2::Base::__ANON__(HTTP::Session2::ClientStore=HASH(0x1e98858), "s3cret") called at t/03_mech.t line 127
	main::client_session(HASH(0x1e940c8)) called at t/03_mech.t line 17
	main::__ANON__(HASH(0x1e940c8)) called at /opt/perl-5.26.0/lib/site_perl/5.26.0/Test/WWW/Mechanize/PSGI.pm line 43
	Test::WWW::Mechanize::PSGI::try {...} () called at /opt/perl-5.26.0/lib/site_perl/5.26.0/Try/Tiny.pm line 102
	eval {...} called at /opt/perl-5.26.0/lib/site_perl/5.26.0/Try/Tiny.pm line 93
	Try::Tiny::try(CODE(0x1d2c558), Try::Tiny::Catch=REF(0x1e935b8)) called at /opt/perl-5.26.0/lib/site_perl/5.26.0/Test/WWW/Mechanize/PSGI.pm line 50
	Test::WWW::Mechanize::PSGI::simple_request(Test::WWW::Mechanize::PSGI=HASH(0x1e5e9a0), HTTP::Request=HASH(0x1e993f8), undef, undef) called at /opt/perl-5.26.0/lib/site_perl/5.26.0/LWP/UserAgent.pm line 297
	LWP::UserAgent::request(Test::WWW::Mechanize::PSGI=HASH(0x1e5e9a0), HTTP::Request=HASH(0x1e993f8)) called at /opt/perl-5.26.0/lib/site_perl/5.26.0/WWW/Mechanize.pm line 1413
	WWW::Mechanize::_make_request(Test::WWW::Mechanize::PSGI=HASH(0x1e5e9a0), HTTP::Request=HASH(0x1e993f8)) called at /opt/perl-5.26.0/lib/site_perl/5.26.0/WWW/Mechanize.pm line 1253
	WWW::Mechanize::request(Test::WWW::Mechanize::PSGI=HASH(0x1e5e9a0), HTTP::Request=HASH(0x1e993f8)) called at /opt/perl-5.26.0/lib/site_perl/5.26.0/LWP/UserAgent.pm line 478
	LWP::UserAgent::post(Test::WWW::Mechanize::PSGI=HASH(0x1e5e9a0), "/wishlist?baz") called at t/03_mech.t line 87
Do not use HTTP::Session2::ClientStore. Use HTTP::Session2::ServerStore or HTTP::Session2::ClientStore2 instead. at /home/cpansand/.cpan/build/2018012603/HTTP-Session2-1.10-2/blib/lib/HTTP/Session2/ClientStore.pm line 35.
Secret string too short at /home/cpansand/.cpan/build/2018012603/HTTP-Session2-1.10-2/blib/lib/HTTP/Session2/Base.pm line 79.
	HTTP::Session2::Base::__ANON__(HTTP::Session2::ClientStore=HASH(0x1e99008), "s3cret") called at t/03_mech.t line 127
	main::client_session(HASH(0x1e98858)) called at t/03_mech.t line 17
	main::__ANON__(HASH(0x1e98858)) called at /opt/perl-5.26.0/lib/site_perl/5.26.0/Test/WWW/Mechanize/PSGI.pm line 43
	Test::WWW::Mechanize::PSGI::try {...} () called at /opt/perl-5.26.0/lib/site_perl/5.26.0/Try/Tiny.pm line 102
	eval {...} called at /opt/perl-5.26.0/lib/site_perl/5.26.0/Try/Tiny.pm line 93
	Try::Tiny::try(CODE(0x1e98b28), Try::Tiny::Catch=REF(0x1dcc508)) called at /opt/perl-5.26.0/lib/site_perl/5.26.0/Test/WWW/Mechanize/PSGI.pm line 50
	Test::WWW::Mechanize::PSGI::simple_request(Test::WWW::Mechanize::PSGI=HASH(0x1e5e9a0), HTTP::Request=HASH(0x1e99170), undef, undef) called at /opt/perl-5.26.0/lib/site_perl/5.26.0/LWP/UserAgent.pm line 297
	LWP::UserAgent::request(Test::WWW::Mechanize::PSGI=HASH(0x1e5e9a0), HTTP::Request=HASH(0x1e99170)) called at /opt/perl-5.26.0/lib/site_perl/5.26.0/WWW/Mechanize.pm line 1413
	WWW::Mechanize::_make_request(Test::WWW::Mechanize::PSGI=HASH(0x1e5e9a0), HTTP::Request=HASH(0x1e99170)) called at /opt/perl-5.26.0/lib/site_perl/5.26.0/WWW/Mechanize.pm line 1253
	WWW::Mechanize::request(Test::WWW::Mechanize::PSGI=HASH(0x1e5e9a0), HTTP::Request=HASH(0x1e99170)) called at /opt/perl-5.26.0/lib/site_perl/5.26.0/LWP/UserAgent.pm line 478
	LWP::UserAgent::post(Test::WWW::Mechanize::PSGI=HASH(0x1e5e9a0), "/wishlist?baz", HASH(0x1a17510)) called at /opt/perl-5.26.0/lib/site_perl/5.26.0/Test/WWW/Mechanize.pm line 237
	Test::WWW::Mechanize::post_ok(Test::WWW::Mechanize::PSGI=HASH(0x1e5e9a0), "/wishlist?baz") called at t/03_mech.t line 90
Do not use HTTP::Session2::ClientStore. Use HTTP::Session2::ServerStore or HTTP::Session2::ClientStore2 instead. at /home/cpansand/.cpan/build/2018012603/HTTP-Session2-1.10-2/blib/lib/HTTP/Session2/ClientStore.pm line 35.
Do not use HTTP::Session2::ClientStore. Use HTTP::Session2::ServerStore or HTTP::Session2::ClientStore2 instead. at /home/cpansand/.cpan/build/2018012603/HTTP-Session2-1.10-2/blib/lib/HTTP/Session2/ClientStore.pm line 25.
Secret string too short at /home/cpansand/.cpan/build/2018012603/HTTP-Session2-1.10-2/blib/lib/HTTP/Session2/Base.pm line 79.
	HTTP::Session2::Base::__ANON__(HTTP::Session2::ClientStore=HASH(0x1e996b0), "s3cret") called at t/03_mech.t line 127
	main::client_session(HASH(0x1e94098)) called at t/03_mech.t line 17
	main::__ANON__(HASH(0x1e94098)) called at /opt/perl-5.26.0/lib/site_perl/5.26.0/Test/WWW/Mechanize/PSGI.pm line 43
	Test::WWW::Mechanize::PSGI::try {...} () called at /opt/perl-5.26.0/lib/site_perl/5.26.0/Try/Tiny.pm line 102
	eval {...} called at /opt/perl-5.26.0/lib/site_perl/5.26.0/Try/Tiny.pm line 93
	Try::Tiny::try(CODE(0x13f0d90), Try::Tiny::Catch=REF(0x1e98bb8)) called at /opt/perl-5.26.0/lib/site_perl/5.26.0/Test/WWW/Mechanize/PSGI.pm line 50
	Test::WWW::Mechanize::PSGI::simple_request(Test::WWW::Mechanize::PSGI=HASH(0x1e5e9a0), HTTP::Request=HASH(0x1e8a288), undef, undef) called at /opt/perl-5.26.0/lib/site_perl/5.26.0/LWP/UserAgent.pm line 297
	LWP::UserAgent::request(Test::WWW::Mechanize::PSGI=HASH(0x1e5e9a0), HTTP::Request=HASH(0x1e8a288)) called at /opt/perl-5.26.0/lib/site_perl/5.26.0/WWW/Mechanize.pm line 1413
	WWW::Mechanize::_make_request(Test::WWW::Mechanize::PSGI=HASH(0x1e5e9a0), HTTP::Request=HASH(0x1e8a288)) called at /opt/perl-5.26.0/lib/site_perl/5.26.0/WWW/Mechanize.pm line 1253
	WWW::Mechanize::request(Test::WWW::Mechanize::PSGI=HASH(0x1e5e9a0), HTTP::Request=HASH(0x1e8a288)) called at /opt/perl-5.26.0/lib/site_perl/5.26.0/LWP/UserAgent.pm line 435
	LWP::UserAgent::get(Test::WWW::Mechanize::PSGI=HASH(0x1e5e9a0), "http://localhost/wishlist") called at /opt/perl-5.26.0/lib/site_perl/5.26.0/WWW/Mechanize.pm line 117
	WWW::Mechanize::get(Test::WWW::Mechanize::PSGI=HASH(0x1e5e9a0), "/wishlist") called at /opt/perl-5.26.0/lib/site_perl/5.26.0/Test/WWW/Mechanize.pm line 160
	Test::WWW::Mechanize::get_ok(Test::WWW::Mechanize::PSGI=HASH(0x1e5e9a0), "/wishlist", "Wishlist is still available") called at t/03_mech.t line 91
Do not use HTTP::Session2::ClientStore. Use HTTP::Session2::ServerStore or HTTP::Session2::ClientStore2 instead. at /home/cpansand/.cpan/build/2018012603/HTTP-Session2-1.10-2/blib/lib/HTTP/Session2/ClientStore.pm line 35.
Secret string too short at /home/cpansand/.cpan/build/2018012603/HTTP-Session2-1.10-2/blib/lib/HTTP/Session2/Base.pm line 79.
	HTTP::Session2::Base::__ANON__(HTTP::Session2::ClientStore=HASH(0x1e99758), "s3cret") called at t/03_mech.t line 127
	main::client_session(HASH(0x1e996e0)) called at t/03_mech.t line 17
	main::__ANON__(HASH(0x1e996e0)) called at /opt/perl-5.26.0/lib/site_perl/5.26.0/Test/WWW/Mechanize/PSGI.pm line 43
	Test::WWW::Mechanize::PSGI::try {...} () called at /opt/perl-5.26.0/lib/site_perl/5.26.0/Try/Tiny.pm line 102
	eval {...} called at /opt/perl-5.26.0/lib/site_perl/5.26.0/Try/Tiny.pm line 93
	Try::Tiny::try(CODE(0x1e935b8), Try::Tiny::Catch=REF(0x1e90420)) called at /opt/perl-5.26.0/lib/site_perl/5.26.0/Test/WWW/Mechanize/PSGI.pm line 50
	Test::WWW::Mechanize::PSGI::simple_request(Test::WWW::Mechanize::PSGI=HASH(0x1e5e9a0), HTTP::Request=HASH(0x1e9fcd8), undef, undef) called at /opt/perl-5.26.0/lib/site_perl/5.26.0/LWP/UserAgent.pm line 297
	LWP::UserAgent::request(Test::WWW::Mechanize::PSGI=HASH(0x1e5e9a0), HTTP::Request=HASH(0x1e9fcd8)) called at /opt/perl-5.26.0/lib/site_perl/5.26.0/WWW/Mechanize.pm line 1413
	WWW::Mechanize::_make_request(Test::WWW::Mechanize::PSGI=HASH(0x1e5e9a0), HTTP::Request=HASH(0x1e9fcd8)) called at /opt/perl-5.26.0/lib/site_perl/5.26.0/WWW/Mechanize.pm line 1253
	WWW::Mechanize::request(Test::WWW::Mechanize::PSGI=HASH(0x1e5e9a0), HTTP::Request=HASH(0x1e9fcd8)) called at /opt/perl-5.26.0/lib/site_perl/5.26.0/LWP/UserAgent.pm line 435
	LWP::UserAgent::get(Test::WWW::Mechanize::PSGI=HASH(0x1e5e9a0), "http://localhost/my/name") called at /opt/perl-5.26.0/lib/site_perl/5.26.0/WWW/Mechanize.pm line 117
	WWW::Mechanize::get(Test::WWW::Mechanize::PSGI=HASH(0x1e5e9a0), "/my/name") called at /opt/perl-5.26.0/lib/site_perl/5.26.0/Test/WWW/Mechanize.pm line 160
	Test::WWW::Mechanize::get_ok(Test::WWW::Mechanize::PSGI=HASH(0x1e5e9a0), "/my/name") called at t/03_mech.t line 93
Do not use HTTP::Session2::ClientStore. Use HTTP::Session2::ServerStore or HTTP::Session2::ClientStore2 instead. at /home/cpansand/.cpan/build/2018012603/HTTP-Session2-1.10-2/blib/lib/HTTP/Session2/ClientStore.pm line 35.
Secret string too short at /home/cpansand/.cpan/build/2018012603/HTTP-Session2-1.10-2/blib/lib/HTTP/Session2/Base.pm line 79.
	HTTP::Session2::Base::__ANON__(HTTP::Session2::ClientStore=HASH(0x1e99638), "s3cret") called at t/03_mech.t line 127
	main::client_session(HASH(0x1e99758)) called at t/03_mech.t line 17
	main::__ANON__(HASH(0x1e99758)) called at /opt/perl-5.26.0/lib/site_perl/5.26.0/Test/WWW/Mechanize/PSGI.pm line 43
	Test::WWW::Mechanize::PSGI::try {...} () called at /opt/perl-5.26.0/lib/site_perl/5.26.0/Try/Tiny.pm line 102
	eval {...} called at /opt/perl-5.26.0/lib/site_perl/5.26.0/Try/Tiny.pm line 93
	Try::Tiny::try(CODE(0x1ea0170), Try::Tiny::Catch=REF(0x1e9fe28)) called at /opt/perl-5.26.0/lib/site_perl/5.26.0/Test/WWW/Mechanize/PSGI.pm line 50
	Test::WWW::Mechanize::PSGI::simple_request(Test::WWW::Mechanize::PSGI=HASH(0x1e5e9a0), HTTP::Request=HASH(0x1e9fea0), undef, undef) called at /opt/perl-5.26.0/lib/site_perl/5.26.0/LWP/UserAgent.pm line 297
	LWP::UserAgent::request(Test::WWW::Mechanize::PSGI=HASH(0x1e5e9a0), HTTP::Request=HASH(0x1e9fea0)) called at /opt/perl-5.26.0/lib/site_perl/5.26.0/WWW/Mechanize.pm line 1413
	WWW::Mechanize::_make_request(Test::WWW::Mechanize::PSGI=HASH(0x1e5e9a0), HTTP::Request=HASH(0x1e9fea0)) called at /opt/perl-5.26.0/lib/site_perl/5.26.0/WWW/Mechanize.pm line 1253
	WWW::Mechanize::request(Test::WWW::Mechanize::PSGI=HASH(0x1e5e9a0), HTTP::Request=HASH(0x1e9fea0)) called at /opt/perl-5.26.0/lib/site_perl/5.26.0/LWP/UserAgent.pm line 478
	LWP::UserAgent::post(Test::WWW::Mechanize::PSGI=HASH(0x1e5e9a0), "/account/logout?john") called at t/03_mech.t line 97
Do not use HTTP::Session2::ClientStore. Use HTTP::Session2::ServerStore or HTTP::Session2::ClientStore2 instead. at /home/cpansand/.cpan/build/2018012603/HTTP-Session2-1.10-2/blib/lib/HTTP/Session2/ClientStore.pm line 35.
Do not use HTTP::Session2::ClientStore. Use HTTP::Session2::ServerStore or HTTP::Session2::ClientStore2 instead. at /home/cpansand/.cpan/build/2018012603/HTTP-Session2-1.10-2/blib/lib/HTTP/Session2/ClientStore.pm line 35.
t/03_mech.t ................. ok
Do not use HTTP::Session2::ClientStore. Use HTTP::Session2::ServerStore or HTTP::Session2::ClientStore2 instead. at /home/cpansand/.cpan/build/2018012603/HTTP-Session2-1.10-2/blib/lib/HTTP/Session2/ClientStore.pm line 25.
t/04_plack_response.t ....... ok
Secret string too short at /home/cpansand/.cpan/build/2018012603/HTTP-Session2-1.10-2/blib/lib/HTTP/Session2/Base.pm line 79.
	HTTP::Session2::Base::__ANON__(HTTP::Session2::ClientStore=HASH(0x12ea970), "s3cret") called at t/05_keep_me_signed_in.t line 20
Do not use HTTP::Session2::ClientStore. Use HTTP::Session2::ServerStore or HTTP::Session2::ClientStore2 instead. at /home/cpansand/.cpan/build/2018012603/HTTP-Session2-1.10-2/blib/lib/HTTP/Session2/ClientStore.pm line 25.
t/05_keep_me_signed_in.t .... ok
Secret string too short at /home/cpansand/.cpan/build/2018012603/HTTP-Session2-1.10-2/blib/lib/HTTP/Session2/Base.pm line 79.
	HTTP::Session2::Base::__ANON__(HTTP::Session2::Base=HASH(0x2c44d90), "i am secret") called at t/06_base_abstract.t line 7
t/06_base_abstract.t ........ ok
Secret string too short at /home/cpansand/.cpan/build/2018012603/HTTP-Session2-1.10-2/blib/lib/HTTP/Session2/Base.pm line 79.
	HTTP::Session2::Base::__ANON__(HTTP::Session2::ClientStore=HASH(0x1bbbc38), "secret") called at t/07_client_store.t line 23
	main::__ANON__() called at /opt/perl-5.26.0/lib/site_perl/5.26.0/Test/Builder.pm line 337
	eval {...} called at /opt/perl-5.26.0/lib/site_perl/5.26.0/Test/Builder.pm line 337
	Test::Builder::subtest(Test::Builder=HASH(0xe054f0), "get/set/remove", CODE(0x174dbc0)) called at /opt/perl-5.26.0/lib/site_perl/5.26.0/Test/More.pm line 807
	Test::More::subtest("get/set/remove", CODE(0x174dbc0)) called at t/07_client_store.t line 31
Secret string too short at /home/cpansand/.cpan/build/2018012603/HTTP-Session2-1.10-2/blib/lib/HTTP/Session2/Base.pm line 79.
	HTTP::Session2::Base::__ANON__(HTTP::Session2::ClientStore=HASH(0x1bbc058), "secret") called at t/07_client_store.t line 35
	main::__ANON__() called at /opt/perl-5.26.0/lib/site_perl/5.26.0/Test/Builder.pm line 337
	eval {...} called at /opt/perl-5.26.0/lib/site_perl/5.26.0/Test/Builder.pm line 337
	Test::Builder::subtest(Test::Builder=HASH(0xe054f0), "validate_token", CODE(0x1ba8c20)) called at /opt/perl-5.26.0/lib/site_perl/5.26.0/Test/More.pm line 807
	Test::More::subtest("validate_token", CODE(0x1ba8c20)) called at t/07_client_store.t line 71
Do not use HTTP::Session2::ClientStore. Use HTTP::Session2::ServerStore or HTTP::Session2::ClientStore2 instead. at /home/cpansand/.cpan/build/2018012603/HTTP-Session2-1.10-2/blib/lib/HTTP/Session2/ClientStore.pm line 25.
Secret string too short at /home/cpansand/.cpan/build/2018012603/HTTP-Session2-1.10-2/blib/lib/HTTP/Session2/Base.pm line 79.
	HTTP::Session2::Base::__ANON__(HTTP::Session2::ClientStore=HASH(0x1bc7ea0), "secret") called at t/07_client_store.t line 51
	main::__ANON__() called at /opt/perl-5.26.0/lib/site_perl/5.26.0/Test/Builder.pm line 337
	eval {...} called at /opt/perl-5.26.0/lib/site_perl/5.26.0/Test/Builder.pm line 337
	Test::Builder::subtest(Test::Builder=HASH(0xe054f0), "bad", CODE(0x1bc74c8)) called at /opt/perl-5.26.0/lib/site_perl/5.26.0/Test/More.pm line 807
	Test::More::subtest("bad", CODE(0x1bc74c8)) called at t/07_client_store.t line 57
	main::__ANON__() called at /opt/perl-5.26.0/lib/site_perl/5.26.0/Test/Builder.pm line 337
	eval {...} called at /opt/perl-5.26.0/lib/site_perl/5.26.0/Test/Builder.pm line 337
	Test::Builder::subtest(Test::Builder=HASH(0xe054f0), "validate_token", CODE(0x1ba8c20)) called at /opt/perl-5.26.0/lib/site_perl/5.26.0/Test/More.pm line 807
	Test::More::subtest("validate_token", CODE(0x1ba8c20)) called at t/07_client_store.t line 71
Do not use HTTP::Session2::ClientStore. Use HTTP::Session2::ServerStore or HTTP::Session2::ClientStore2 instead. at /home/cpansand/.cpan/build/2018012603/HTTP-Session2-1.10-2/blib/lib/HTTP/Session2/ClientStore.pm line 35.
Secret string too short at /home/cpansand/.cpan/build/2018012603/HTTP-Session2-1.10-2/blib/lib/HTTP/Session2/Base.pm line 79.
	HTTP::Session2::Base::__ANON__(HTTP::Session2::ClientStore=HASH(0x1bd0810), "secret") called at t/07_client_store.t line 65
	main::__ANON__() called at /opt/perl-5.26.0/lib/site_perl/5.26.0/Test/Builder.pm line 337
	eval {...} called at /opt/perl-5.26.0/lib/site_perl/5.26.0/Test/Builder.pm line 337
	Test::Builder::subtest(Test::Builder=HASH(0xe054f0), "good", CODE(0x1bc74c8)) called at /opt/perl-5.26.0/lib/site_perl/5.26.0/Test/More.pm line 807
	Test::More::subtest("good", CODE(0x1bc74c8)) called at t/07_client_store.t line 70
	main::__ANON__() called at /opt/perl-5.26.0/lib/site_perl/5.26.0/Test/Builder.pm line 337
	eval {...} called at /opt/perl-5.26.0/lib/site_perl/5.26.0/Test/Builder.pm line 337
	Test::Builder::subtest(Test::Builder=HASH(0xe054f0), "validate_token", CODE(0x1ba8c20)) called at /opt/perl-5.26.0/lib/site_perl/5.26.0/Test/More.pm line 807
	Test::More::subtest("validate_token", CODE(0x1ba8c20)) called at t/07_client_store.t line 71
Do not use HTTP::Session2::ClientStore. Use HTTP::Session2::ServerStore or HTTP::Session2::ClientStore2 instead. at /home/cpansand/.cpan/build/2018012603/HTTP-Session2-1.10-2/blib/lib/HTTP/Session2/ClientStore.pm line 35.
Secret string too short at /home/cpansand/.cpan/build/2018012603/HTTP-Session2-1.10-2/blib/lib/HTTP/Session2/Base.pm line 79.
	HTTP::Session2::Base::__ANON__(HTTP::Session2::ClientStore=HASH(0x1bc3888), "secret") called at t/07_client_store.t line 76
	main::__ANON__() called at /opt/perl-5.26.0/lib/site_perl/5.26.0/Test/Builder.pm line 337
	eval {...} called at /opt/perl-5.26.0/lib/site_perl/5.26.0/Test/Builder.pm line 337
	Test::Builder::subtest(Test::Builder=HASH(0xe054f0), "ignore_old", CODE(0x1ba8f50)) called at /opt/perl-5.26.0/lib/site_perl/5.26.0/Test/More.pm line 807
	Test::More::subtest("ignore_old", CODE(0x1ba8f50)) called at t/07_client_store.t line 106
Do not use HTTP::Session2::ClientStore. Use HTTP::Session2::ServerStore or HTTP::Session2::ClientStore2 instead. at /home/cpansand/.cpan/build/2018012603/HTTP-Session2-1.10-2/blib/lib/HTTP/Session2/ClientStore.pm line 25.
Secret string too short at /home/cpansand/.cpan/build/2018012603/HTTP-Session2-1.10-2/blib/lib/HTTP/Session2/Base.pm line 79.
	HTTP::Session2::Base::__ANON__(HTTP::Session2::ClientStore=HASH(0x1bd8048), "secret") called at t/07_client_store.t line 87
	main::__ANON__() called at /opt/perl-5.26.0/lib/site_perl/5.26.0/Test/Builder.pm line 337
	eval {...} called at /opt/perl-5.26.0/lib/site_perl/5.26.0/Test/Builder.pm line 337
	Test::Builder::subtest(Test::Builder=HASH(0xe054f0), "ignore_old disabled", CODE(0x1bd1380)) called at /opt/perl-5.26.0/lib/site_perl/5.26.0/Test/More.pm line 807
	Test::More::subtest("ignore_old disabled", CODE(0x1bd1380)) called at t/07_client_store.t line 95
	main::__ANON__() called at /opt/perl-5.26.0/lib/site_perl/5.26.0/Test/Builder.pm line 337
	eval {...} called at /opt/perl-5.26.0/lib/site_perl/5.26.0/Test/Builder.pm line 337
	Test::Builder::subtest(Test::Builder=HASH(0xe054f0), "ignore_old", CODE(0x1ba8f50)) called at /opt/perl-5.26.0/lib/site_perl/5.26.0/Test/More.pm line 807
	Test::More::subtest("ignore_old", CODE(0x1ba8f50)) called at t/07_client_store.t line 106
Do not use HTTP::Session2::ClientStore. Use HTTP::Session2::ServerStore or HTTP::Session2::ClientStore2 instead. at /home/cpansand/.cpan/build/2018012603/HTTP-Session2-1.10-2/blib/lib/HTTP/Session2/ClientStore.pm line 35.
Secret string too short at /home/cpansand/.cpan/build/2018012603/HTTP-Session2-1.10-2/blib/lib/HTTP/Session2/Base.pm line 79.
	HTTP::Session2::Base::__ANON__(HTTP::Session2::ClientStore=HASH(0x1bd8648), "secret") called at t/07_client_store.t line 97
	main::__ANON__() called at /opt/perl-5.26.0/lib/site_perl/5.26.0/Test/Builder.pm line 337
	eval {...} called at /opt/perl-5.26.0/lib/site_perl/5.26.0/Test/Builder.pm line 337
	Test::Builder::subtest(Test::Builder=HASH(0xe054f0), "ignore_old enabled", CODE(0x1bd1380)) called at /opt/perl-5.26.0/lib/site_perl/5.26.0/Test/More.pm line 807
	Test::More::subtest("ignore_old enabled", CODE(0x1bd1380)) called at t/07_client_store.t line 105
	main::__ANON__() called at /opt/perl-5.26.0/lib/site_perl/5.26.0/Test/Builder.pm line 337
	eval {...} called at /opt/perl-5.26.0/lib/site_perl/5.26.0/Test/Builder.pm line 337
	Test::Builder::subtest(Test::Builder=HASH(0xe054f0), "ignore_old", CODE(0x1ba8f50)) called at /opt/perl-5.26.0/lib/site_perl/5.26.0/Test/More.pm line 807
	Test::More::subtest("ignore_old", CODE(0x1ba8f50)) called at t/07_client_store.t line 106
t/07_client_store.t ......... ok
Secret string too short at /home/cpansand/.cpan/build/2018012603/HTTP-Session2-1.10-2/blib/lib/HTTP/Session2/Base.pm line 79.
	HTTP::Session2::Base::__ANON__(HTTP::Session2::Expired=HASH(0x27373c8), 33333) called at t/08_expired.t line 7
t/08_expired.t .............. ok
# /dev/urandom available
# /dev/urandom(1): -2CYtary23CD_-riu9PJPyc4nlDbiQz
# /dev/urandom(2): JsO1lKN-BKly2Mn-GcSbZdPrBA0flkb
# perl:            a2c789d863bff5a529cb748d4169a89
t/09_random.t ............... ok
t/11_secret_string.t ........ ok
Secret string too short at /home/cpansand/.cpan/build/2018012603/HTTP-Session2-1.10-2/blib/lib/HTTP/Session2/Base.pm line 79.
	HTTP::Session2::Base::__ANON__(HTTP::Session2::ClientStore2=HASH(0x20a1ce0), "s3cret") called at t/client_store2/01_basic.t line 24
	main::__ANON__("client -> server: request without cookie", CODE(0x20a1ad0)) called at t/client_store2/01_basic.t line 30
	main::__ANON__() called at /opt/perl-5.26.0/lib/site_perl/5.26.0/Test/Builder.pm line 337
	eval {...} called at /opt/perl-5.26.0/lib/site_perl/5.26.0/Test/Builder.pm line 337
	Test::Builder::subtest(Test::Builder=HASH(0x1695c00), "First request", CODE(0x1657190)) called at /opt/perl-5.26.0/lib/site_perl/5.26.0/Test/More.pm line 807
	Test::More::subtest("First request", CODE(0x1657190)) called at t/client_store2/01_basic.t line 9
	main::scenario("First request", CODE(0x1657190)) called at t/client_store2/01_basic.t line 36
Secret string too short at /home/cpansand/.cpan/build/2018012603/HTTP-Session2-1.10-2/blib/lib/HTTP/Session2/Base.pm line 79.
	HTTP::Session2::Base::__ANON__(HTTP::Session2::ClientStore2=HASH(0x20a5650), "s3cret") called at t/client_store2/01_basic.t line 41
	main::__ANON__("client -> server: request without cookie", CODE(0x20a51d0)) called at t/client_store2/01_basic.t line 47
	main::__ANON__() called at /opt/perl-5.26.0/lib/site_perl/5.26.0/Test/Builder.pm line 337
	eval {...} called at /opt/perl-5.26.0/lib/site_perl/5.26.0/Test/Builder.pm line 337
	Test::Builder::subtest(Test::Builder=HASH(0x1695c00), "Store something without login", CODE(0x1657190)) called at /opt/perl-5.26.0/lib/site_perl/5.26.0/Test/More.pm line 807
	Test::More::subtest("Store something without login", CODE(0x1657190)) called at t/client_store2/01_basic.t line 9
	main::scenario("Store something without login", CODE(0x1657190)) called at t/client_store2/01_basic.t line 63
Secret string too short at /home/cpansand/.cpan/build/2018012603/HTTP-Session2-1.10-2/blib/lib/HTTP/Session2/Base.pm line 79.
	HTTP::Session2::Base::__ANON__(HTTP::Session2::ClientStore2=HASH(0x20b4d90), "s3cret") called at t/client_store2/01_basic.t line 69
	main::__ANON__("client -> server: request without cookie", CODE(0x20b46d0)) called at t/client_store2/01_basic.t line 76
	main::__ANON__() called at /opt/perl-5.26.0/lib/site_perl/5.26.0/Test/Builder.pm line 337
	eval {...} called at /opt/perl-5.26.0/lib/site_perl/5.26.0/Test/Builder.pm line 337
	Test::Builder::subtest(Test::Builder=HASH(0x1695c00), "Login", CODE(0x1657190)) called at /opt/perl-5.26.0/lib/site_perl/5.26.0/Test/More.pm line 807
	Test::More::subtest("Login", CODE(0x1657190)) called at t/client_store2/01_basic.t line 9
	main::scenario("Login", CODE(0x1657190)) called at t/client_store2/01_basic.t line 96
Ciphertext does not begin with a valid header for 'salt' header mode at /home/cpansand/.cpan/build/2018012603/HTTP-Session2-1.10-2/blib/lib/HTTP/Session2/ClientStore2.pm line 81.
Ciphertext does not begin with a valid header for 'salt' header mode at /home/cpansand/.cpan/build/2018012603/HTTP-Session2-1.10-2/blib/lib/HTTP/Session2/ClientStore2.pm line 81.
Secret string too short at /home/cpansand/.cpan/build/2018012603/HTTP-Session2-1.10-2/blib/lib/HTTP/Session2/Base.pm line 79.
	HTTP::Session2::Base::__ANON__(HTTP::Session2::ClientStore2=HASH(0x20bbc30), "s3cret") called at t/client_store2/01_basic.t line 102
	main::__ANON__("client -> server: request without cookie", CODE(0x20bb630)) called at t/client_store2/01_basic.t line 109
	main::__ANON__() called at /opt/perl-5.26.0/lib/site_perl/5.26.0/Test/Builder.pm line 337
	eval {...} called at /opt/perl-5.26.0/lib/site_perl/5.26.0/Test/Builder.pm line 337
	Test::Builder::subtest(Test::Builder=HASH(0x1695c00), "In a login session", CODE(0x1657190)) called at /opt/perl-5.26.0/lib/site_perl/5.26.0/Test/More.pm line 807
	Test::More::subtest("In a login session", CODE(0x1657190)) called at t/client_store2/01_basic.t line 9
	main::scenario("In a login session", CODE(0x1657190)) called at t/client_store2/01_basic.t line 118
Ciphertext does not begin with a valid header for 'salt' header mode at /home/cpansand/.cpan/build/2018012603/HTTP-Session2-1.10-2/blib/lib/HTTP/Session2/ClientStore2.pm line 81.
Secret string too short at /home/cpansand/.cpan/build/2018012603/HTTP-Session2-1.10-2/blib/lib/HTTP/Session2/Base.pm line 79.
	HTTP::Session2::Base::__ANON__(HTTP::Session2::ClientStore2=HASH(0x20c0fa8), "s3cret") called at t/client_store2/01_basic.t line 123
	main::__ANON__("client -> server: request without cookie", CODE(0x20bbd08)) called at t/client_store2/01_basic.t line 130
	main::__ANON__() called at /opt/perl-5.26.0/lib/site_perl/5.26.0/Test/Builder.pm line 337
	eval {...} called at /opt/perl-5.26.0/lib/site_perl/5.26.0/Test/Builder.pm line 337
	Test::Builder::subtest(Test::Builder=HASH(0x1695c00), "Logout", CODE(0x1657190)) called at /opt/perl-5.26.0/lib/site_perl/5.26.0/Test/More.pm line 807
	Test::More::subtest("Logout", CODE(0x1657190)) called at t/client_store2/01_basic.t line 9
	main::scenario("Logout", CODE(0x1657190)) called at t/client_store2/01_basic.t line 143
Ciphertext does not begin with a valid header for 'salt' header mode at /home/cpansand/.cpan/build/2018012603/HTTP-Session2-1.10-2/blib/lib/HTTP/Session2/ClientStore2.pm line 81.
t/client_store2/01_basic.t .. ok
t/client_store2/02_mech.t ... ok
t/client_store2/03_colon.t .. ok
All tests successful.
Files=14, Tests=84,  1 wallclock secs ( 0.02 usr  0.08 sys +  0.92 cusr  0.12 csys =  1.14 CPU)
Result: PASS

------------------------------
PREREQUISITES
------------------------------

Prerequisite modules loaded:

requires:

    Module                     Need     Have    
    -------------------------- -------- --------
    Cookie::Baker              0        0.08    
    Crypt::CBC                 0        2.33    
    Data::MessagePack          0        1.00    
    Digest::HMAC               0        1.03    
    Digest::SHA                0        5.98    
    Digest::SHA1               0        2.13    
    MIME::Base64               3.11     3.15    
    Mouse                      0        v2.5.1  
    parent                     0        0.236   
    perl                       5.008005 5.026000
    Time::HiRes                0        1.9751  

build_requires:

    Module                     Need     Have    
    -------------------------- -------- --------
    Crypt::Rijndael            0        1.13    
    Plack::Request             0        1.0045  
    Plack::Response            0        1.0045  
    Test::More                 0.98     1.302120
    Test::WWW::Mechanize::PSGI 0        0.38    

configure_requires:

    Module                     Need     Have    
    -------------------------- -------- --------
    Module::Build::Tiny        0.035    0.039   


------------------------------
ENVIRONMENT AND OTHER CONTEXT
------------------------------

Environment variables:

    LANG = en_US.UTF-8
    PATH = /usr/local/bin:/usr/bin:/bin:/usr/local/sbin:/usr/sbin:/sbin:/home/cpansand/bin/linux-gnu:/home/cpansand/bin/sh:/home/cpansand/bin:/usr/games:/home/cpansand/devel:/home/eserte/src/srezic-misc/scripts
    PERL5LIB = 
    PERL5OPT = 
    PERL5_CPANPLUS_IS_RUNNING = 20531
    PERL5_CPAN_IS_RUNNING = 20531
    PERL5_CPAN_IS_RUNNING_IN_RECURSION = 20251,20531
    PERLDOC = -MPod::Perldoc::ToTextOverstrike
    PERL_BATCH = yes
    PERL_CANARY_STABILITY_NOPROMPT = 1
    PERL_CPAN_REPORTER_CONFIG = /var/tmp/cpansmoker-1023/2018012603/cpanreporter_000_config.ini
    PERL_EXTUTILS_AUTOINSTALL = --defaultdeps
    PERL_USE_UNSAFE_INC = 1
    SHELL = /usr/bin/zsh
    TERM = screen
    TMPDIR = /var/tmp/cpansmoker-1023/2018012603

Perl special variables (and OS-specific diagnostics, for MSWin32):

    $^X = /opt/perl-5.26.0/bin/perl
    $UID/$EUID = 1023 / 1023
    $GID = 1023 1023
    $EGID = 1023 1023

Perl module toolchain versions installed:

    Module              Have    
    ------------------- --------
    CPAN                2.18    
    CPAN::Meta          2.150010
    Cwd                 3.67    
    ExtUtils::CBuilder  0.280230
    ExtUtils::Command   7.30    
    ExtUtils::Install   2.06    
    ExtUtils::MakeMaker 7.30    
    ExtUtils::Manifest  1.70    
    ExtUtils::ParseXS   3.34    
    File::Spec          3.67    
    JSON                2.97001 
    JSON::PP            2.95    
    Module::Build       0.4224  
    Module::Signature   0.81    
    Parse::CPAN::Meta   2.150010
    Test::Harness       3.39    
    Test::More          1.302120
    YAML                1.24    
    YAML::Syck          1.30    
    version             0.9917  


--

Summary of my perl5 (revision 5 version 26 subversion 0) configuration:
   
  Platform:
    osname=linux
    osvers=4.4.0-79-generic
    archname=x86_64-linux
    uname='linux ubuntu16 4.4.0-79-generic #100-ubuntu smp wed may 17 19:58:14 utc 2017 x86_64 x86_64 x86_64 gnulinux '
    config_args='-ds -e -Dprefix=/opt/perl-5.26.0 -Dcf_email=srezic@cpan.org'
    hint=recommended
    useposix=true
    d_sigaction=define
    useithreads=undef
    usemultiplicity=undef
    use64bitint=define
    use64bitall=define
    uselongdouble=undef
    usemymalloc=n
    default_inc_excludes_dot=define
    bincompat5005=undef
  Compiler:
    cc='cc'
    ccflags ='-fwrapv -fno-strict-aliasing -pipe -fstack-protector-strong -I/usr/local/include -D_LARGEFILE_SOURCE -D_FILE_OFFSET_BITS=64'
    optimize='-O2'
    cppflags='-fwrapv -fno-strict-aliasing -pipe -fstack-protector-strong -I/usr/local/include'
    ccversion=''
    gccversion='5.4.0 20160609'
    gccosandvers=''
    intsize=4
    longsize=8
    ptrsize=8
    doublesize=8
    byteorder=12345678
    doublekind=3
    d_longlong=define
    longlongsize=8
    d_longdbl=define
    longdblsize=16
    longdblkind=3
    ivtype='long'
    ivsize=8
    nvtype='double'
    nvsize=8
    Off_t='off_t'
    lseeksize=8
    alignbytes=8
    prototype=define
  Linker and Libraries:
    ld='cc'
    ldflags =' -fstack-protector-strong -L/usr/local/lib'
    libpth=/usr/local/lib /usr/lib/gcc/x86_64-linux-gnu/5/include-fixed /usr/include/x86_64-linux-gnu /usr/lib /lib/x86_64-linux-gnu /lib/../lib /usr/lib/x86_64-linux-gnu /usr/lib/../lib /lib
    libs=-lpthread -lnsl -lgdbm -ldb -ldl -lm -lcrypt -lutil -lc -lgdbm_compat
    perllibs=-lpthread -lnsl -ldl -lm -lcrypt -lutil -lc
    libc=libc-2.23.so
    so=so
    useshrplib=false
    libperl=libperl.a
    gnulibc_version='2.23'
  Dynamic Linking:
    dlsrc=dl_dlopen.xs
    dlext=so
    d_dlsymun=undef
    ccdlflags='-Wl,-E'
    cccdlflags='-fPIC'
    lddlflags='-shared -O2 -L/usr/local/lib -fstack-protector-strong'


Characteristics of this binary (from libperl): 
  Compile-time options:
    HAS_TIMES
    PERLIO_LAYERS
    PERL_COPY_ON_WRITE
    PERL_DONT_CREATE_GVSV
    PERL_MALLOC_WRAP
    PERL_OP_PARENT
    PERL_PRESERVE_IVUV
    USE_64_BIT_ALL
    USE_64_BIT_INT
    USE_LARGE_FILES
    USE_LOCALE
    USE_LOCALE_COLLATE
    USE_LOCALE_CTYPE
    USE_LOCALE_NUMERIC
    USE_LOCALE_TIME
    USE_PERLIO
    USE_PERL_ATOF
  Built under linux
  Compiled at Jun 19 2017 20:33:19
  %ENV:
    PERL5LIB=""
    PERL5OPT=""
    PERL5_CPANPLUS_IS_RUNNING="20531"
    PERL5_CPAN_IS_RUNNING="20531"
    PERL5_CPAN_IS_RUNNING_IN_RECURSION="20251,20531"
    PERLDOC="-MPod::Perldoc::ToTextOverstrike"
    PERL_BATCH="yes"
    PERL_CANARY_STABILITY_NOPROMPT="1"
    PERL_CPAN_REPORTER_CONFIG="/var/tmp/cpansmoker-1023/2018012603/cpanreporter_000_config.ini"
    PERL_EXTUTILS_AUTOINSTALL="--defaultdeps"
    PERL_USE_UNSAFE_INC="1"
  @INC:
    /opt/perl-5.26.0/lib/site_perl/5.26.0/x86_64-linux
    /opt/perl-5.26.0/lib/site_perl/5.26.0
    /opt/perl-5.26.0/lib/5.26.0/x86_64-linux
    /opt/perl-5.26.0/lib/5.26.0
    .