App-dupfind v0.172690 Perl 5 v5.22.2 x86_64-linux-thread-multi

Status
Pass
From
Andreas J. König (ANDK)
Dist
App-dupfind v0.172690
Platform
Perl 5 v5.22.2 x86_64-linux-thread-multi
Date
2017-09-26 05:59:48
ID
e72ce2e4-a27f-11e7-a4fa-77ff6a005959
This distribution has been tested as part of the CPAN Testers
project, supporting the Perl programming language.  See
http://wiki.cpantesters.org/ for more information or email
questions to cpan-testers-discuss@perl.org


--
Dear Tommy Butler,

This is a computer-generated report for App-dupfind-0.172690
on perl 5.22.2, created by CPAN-Reporter-1.2018.

Thank you for uploading your work to CPAN.  Congratulations!
All tests were successful.

Sections of this report:

    * Tester comments
    * Program output
    * Prerequisites
    * Environment and other context

------------------------------
TESTER COMMENTS
------------------------------

Additional comments from tester:

this report is from an automated smoke testing program
and was not reviewed by a human for accuracy

------------------------------
PROGRAM OUTPUT
------------------------------

Output from './Build test':

t/00-compile.t ................ ok
# 
# threads: Can't locate object method "tid" via package "threads" at /home/sand/src/perl/repoperls/installed-perls/host/k93msid/v5.22.2/f11c/lib/site_perl/5.22.2/Test2/Util.pm line 137.
# Compilation failed in require at (eval 74) line 1.
# 
# Generated by Dist::Zilla::Plugin::ReportVersions::Tiny v1.10
# perl: 5.022002 (wanted 5.010) on linux from /home/sand/src/perl/repoperls/installed-perls/host/k93msid/v5.22.2/f11c/bin/perl
# 
# Benchmark                                     => 1.2        (want any version)
# Digest::xxHash                                => 2.03       (want 2.03)   
# ExtUtils::MakeMaker                           => 7.3        (want 6.30)   
# File::Spec                                    => 3.62       (want any version)
# File::Temp                                    => 0.2304     (want any version)
# File::Util                                    => 4.161950   (want any version)
# Getopt::Long                                  => 2.45       (want any version)
# IO::Handle                                    => 1.35       (want any version)
# IPC::Open3                                    => 1.18       (want any version)
# Module::Build                                 => 0.4224     (want 0.3601) 
# Moo                                           => 2.003002   (want any version)
# Moo::Role                                     => 2.003002   (want any version)
# Pod::Usage                                    => 1.64       (want any version)
# Storable                                      => 2.53_01    (want any version)
# Term::ProgressBar                             => 2.21       (want any version)
# Term::Prompt                                  => 1.04       (want any version)
# Test                                          => 1.26       (want any version)
# Test::More                                    => 1.302096   (want 0.88)   
# Test::NoWarnings                              => 1.04       (want any version)
# Thread::Queue                                 => 3.05       (want any version)
# Time::HiRes                                   => 1.9726     (want any version)
# Try::Tiny                                     => 0.28       (want any version)
# lib                                           => 0.63       (want any version)
# strict                                        => 1.09       (want any version)
# threads                                       => died during require. (want any version)
# threads::shared                               => 1.48       (want any version)
# warnings                                      => 1.34       (want any version)
# 
# Thanks for using my code.  I hope it works for you.
# If not, please try and include this output in the bug report.
# That will help me reproduce the issue and solve your problem.
# 
t/000-report-versions-tiny.t .. ok
t/001_canuseit.t .............. ok
t/002_isa.t ................... ok
t/003_can.t ................... ok
t/004_scanfs.t ................ ok
t/005_prune.t ................. ok
t/006_weed.t .................. ok
t/007_digest.t ................ ok
t/008_output_robot.t .......... ok
t/009_output_human.t .......... ok
All tests successful.
Files=11, Tests=79,  9 wallclock secs ( 0.04 usr  0.11 sys +  2.71 cusr  0.58 csys =  3.44 CPU)
Result: PASS

------------------------------
PREREQUISITES
------------------------------

Prerequisite modules loaded:

requires:

    Module              Need   Have    
    ------------------- ------ --------
    Benchmark           0      1.2     
    Digest::xxHash      2.03   2.03    
    File::Util          0      4.161950
    Getopt::Long        0      2.45    
    lib                 0      0.63    
    Moo                 0      2.003002
    Moo::Role           0      2.003002
    perl                5.010  5.022002
    Pod::Usage          0      1.64    
    strict              0      1.09    
    Term::ProgressBar   0      2.21    
    Term::Prompt        0      1.04    
    Thread::Queue       0      3.05    
    threads             0      2.01    
    threads::shared     0      1.48    
    Time::HiRes         0      1.9726  
    warnings            0      1.34    

build_requires:

    Module              Need   Have    
    ------------------- ------ --------
    Benchmark           0      1.2     
    Digest::xxHash      2.03   2.03    
    ExtUtils::MakeMaker 0      7.30    
    File::Spec          0      3.62    
    File::Temp          0      0.2304  
    File::Util          0      4.161950
    Getopt::Long        0      2.45    
    IO::Handle          0      1.35    
    IPC::Open3          0      1.18    
    Module::Build       0.3601 0.4224  
    Moo                 0      2.003002
    Moo::Role           0      2.003002
    perl                5.010  5.022002
    Pod::Usage          0      1.64    
    Storable            0      2.53_01 
    Test                0      1.26    
    Test::More          0.88   1.302096
    Test::NoWarnings    0      1.04    
    Thread::Queue       0      3.05    
  ! threads             0      broken  
    threads::shared     0      1.48    
    Time::HiRes         0      1.9726  
    Try::Tiny           0      0.28    

configure_requires:

    Module              Need   Have    
    ------------------- ------ --------
    ExtUtils::MakeMaker 6.30   7.30    
    Module::Build       0.3601 0.4224  


------------------------------
ENVIRONMENT AND OTHER CONTEXT
------------------------------

Environment variables:

    AUTOMATED_TESTING = 1
    LANG = en_US.UTF-8
    PATH = /home/sand/bin:/usr/local/bin:/usr/bin:/bin:/usr/games:/usr/local/perl/bin:/usr/X11/bin:/sbin:/usr/sbin
    PERL5LIB = 
    PERL5OPT = 
    PERL5_CPANPLUS_IS_RUNNING = 4736
    PERL5_CPAN_IS_RUNNING = 4736
    PERL5_CPAN_IS_RUNNING_IN_RECURSION = 5668,4736
    PERL_CANARY_STABILITY_NOPROMPT = 1
    PERL_MM_USE_DEFAULT = 1
    PERL_USE_UNSAFE_INC = 1
    SHELL = /usr/bin/zsh
    TERM = screen

Perl special variables (and OS-specific diagnostics, for MSWin32):

    $^X = /home/sand/src/perl/repoperls/installed-perls/host/k93msid/v5.22.2/f11c/bin/perl
    $UID/$EUID = 1005 / 1005
    $GID = 1005 1005
    $EGID = 1005 1005

Perl module toolchain versions installed:

    Module              Have    
    ------------------- --------
    CPAN                2.18    
    CPAN::Meta          2.150010
    Cwd                 3.62    
    ExtUtils::CBuilder  0.280226
    ExtUtils::Command   7.30    
    ExtUtils::Install   2.06    
    ExtUtils::MakeMaker 7.30    
    ExtUtils::Manifest  1.70    
    ExtUtils::ParseXS   3.35    
    File::Spec          3.62    
    JSON                2.94    
    JSON::PP            2.27300 
    Module::Build       0.4224  
    Module::Signature   0.81    
    Parse::CPAN::Meta   2.150010
    Test::Harness       3.39    
    Test::More          1.302096
    YAML                1.23    
    YAML::Syck          1.30    
    version             0.9909  


--

Summary of my perl5 (revision 5 version 22 subversion 2) configuration:
  Derived from: 9cbffb38735712e3a34e6f537892b6ef06fb815f
  Platform:
    osname=linux, osvers=4.9.0-2-amd64, archname=x86_64-linux-thread-multi
    uname='linux k93msid 4.9.0-2-amd64 #1 smp debian 4.9.18-1 (2017-03-30) x86_64 gnulinux '
    config_args='-Dprefix=/home/sand/src/perl/repoperls/installed-perls/host/k93msid/v5.22.2/f11c -Dmyhostname=k93msid -Dinstallusrbinperl=n -Uversiononly -Dusedevel -des -Ui_db -Dlibswanted=cl pthread socket inet nsl gdbm dbm malloc dl ld sun m crypt sec util c cposix posix ucb BSD gdbm_compat -Duseithreads -Uuselongdouble -DDEBUGGING=-g'
    hint=recommended, useposix=true, d_sigaction=define
    useithreads=define, usemultiplicity=define
    use64bitint=define, use64bitall=define, uselongdouble=undef
    usemymalloc=n, bincompat5005=undef
  Compiler:
    cc='cc', ccflags ='-D_REENTRANT -D_GNU_SOURCE -fwrapv -fno-strict-aliasing -pipe -fstack-protector-strong -I/usr/local/include -D_LARGEFILE_SOURCE -D_FILE_OFFSET_BITS=64',
    optimize='-O2 -g',
    cppflags='-D_REENTRANT -D_GNU_SOURCE -fwrapv -fno-strict-aliasing -pipe -fstack-protector-strong -I/usr/local/include'
    ccversion='', gccversion='6.3.0 20170406', gccosandvers=''
    intsize=4, longsize=8, ptrsize=8, doublesize=8, byteorder=12345678, doublekind=3
    d_longlong=define, longlongsize=8, d_longdbl=define, longdblsize=16, longdblkind=3
    ivtype='long', ivsize=8, nvtype='double', nvsize=8, Off_t='off_t', lseeksize=8
    alignbytes=8, prototype=define
  Linker and Libraries:
    ld='cc', ldflags =' -fstack-protector-strong -L/usr/local/lib'
    libpth=/usr/local/lib /usr/lib/gcc/x86_64-linux-gnu/6/include-fixed /usr/include/x86_64-linux-gnu /usr/lib /lib/x86_64-linux-gnu /lib/../lib /usr/lib/x86_64-linux-gnu /usr/lib/../lib /lib
    libs=-lpthread -lnsl -ldl -lm -lcrypt -lutil -lc
    perllibs=-lpthread -lnsl -ldl -lm -lcrypt -lutil -lc
    libc=libc-2.24.so, so=so, useshrplib=false, libperl=libperl.a
    gnulibc_version='2.24'
  Dynamic Linking:
    dlsrc=dl_dlopen.xs, dlext=so, d_dlsymun=undef, ccdlflags='-Wl,-E'
    cccdlflags='-fPIC', lddlflags='-shared -O2 -g -L/usr/local/lib -fstack-protector-strong'


Characteristics of this binary (from libperl): 
  Compile-time options: HAS_TIMES MULTIPLICITY PERLIO_LAYERS
                        PERL_DONT_CREATE_GVSV
                        PERL_HASH_FUNC_ONE_AT_A_TIME_HARD
                        PERL_IMPLICIT_CONTEXT PERL_MALLOC_WRAP
                        PERL_NEW_COPY_ON_WRITE PERL_PRESERVE_IVUV
                        PERL_USE_DEVEL USE_64_BIT_ALL USE_64_BIT_INT
                        USE_ITHREADS USE_LARGE_FILES USE_LOCALE
                        USE_LOCALE_COLLATE USE_LOCALE_CTYPE
                        USE_LOCALE_NUMERIC USE_LOCALE_TIME USE_PERLIO
                        USE_PERL_ATOF USE_REENTRANT_API
  Locally applied patches:
	uncommitted-changes
  Built under linux
  Compiled at Sep  1 2017 07:24:26
  %ENV:
    PERL5LIB=""
    PERL5OPT=""
    PERL5_CPANPLUS_IS_RUNNING="4736"
    PERL5_CPAN_IS_RUNNING="4736"
    PERL5_CPAN_IS_RUNNING_IN_RECURSION="5668,4736"
    PERL_CANARY_STABILITY_NOPROMPT="1"
    PERL_MM_USE_DEFAULT="1"
    PERL_USE_UNSAFE_INC="1"
  @INC:
    /home/sand/src/perl/repoperls/installed-perls/host/k93msid/v5.22.2/f11c/lib/site_perl/5.22.2/x86_64-linux-thread-multi
    /home/sand/src/perl/repoperls/installed-perls/host/k93msid/v5.22.2/f11c/lib/site_perl/5.22.2
    /home/sand/src/perl/repoperls/installed-perls/host/k93msid/v5.22.2/f11c/lib/5.22.2/x86_64-linux-thread-multi
    /home/sand/src/perl/repoperls/installed-perls/host/k93msid/v5.22.2/f11c/lib/5.22.2
    .