Git-Helpers v0.000017 Perl 5 v5.26.1 x86_64-linux

Status
Pass
From
Slaven Rezić (SREZIC)
Dist
Git-Helpers v0.000017
Platform
Perl 5 v5.26.1 x86_64-linux
Date
2018-12-19 00:42:03
ID
e72ded0c-0326-11e9-8a20-a8d22ffd4b9f
This distribution has been tested as part of the CPAN Testers
project, supporting the Perl programming language.  See
http://wiki.cpantesters.org/ for more information or email
questions to cpan-testers-discuss@perl.org


--
Dear Olaf Alders,

This is a computer-generated report for Git-Helpers-0.000017
on perl 5.26.1, created by CPAN-Reporter-1.2018.

Thank you for uploading your work to CPAN.  Congratulations!
All tests were successful.

Sections of this report:

    * Tester comments
    * Program output
    * Prerequisites
    * Environment and other context

------------------------------
TESTER COMMENTS
------------------------------

Additional comments from tester:

none provided

------------------------------
PROGRAM OUTPUT
------------------------------

Output from '/usr/bin/make test':

PERL_DL_NONLAZY=1 "/opt/perl-5.26.1/bin/perl" "-MExtUtils::Command::MM" "-MTest::Harness" "-e" "undef *Test::Harness::Switches; test_harness(0, 'blib/lib', 'blib/arch')" t/*.t
# 
# Versions for all modules listed in MYMETA.json (including optional ones):
# 
# === Configure Requires ===
# 
#     Module              Want Have
#     ------------------- ---- ----
#     ExtUtils::MakeMaker  any 7.34
# 
# === Build Requires ===
# 
#     Module              Want Have
#     ------------------- ---- ----
#     ExtUtils::MakeMaker  any 7.34
# 
# === Test Requires ===
# 
#     Module                  Want     Have
#     ---------------------- ----- --------
#     ExtUtils::MakeMaker      any     7.34
#     File::Spec               any     3.75
#     File::Temp               any   0.2308
#     File::Touch              any     0.11
#     Git::Version             any    1.000
#     Test::Fatal              any    0.014
#     Test::Git              1.313    1.323
#     Test::More               any 1.302140
#     Test::Requires::Git    1.005    1.008
#     Test::RequiresInternet   any     0.05
# 
# === Test Recommends ===
# 
#     Module         Want     Have
#     ---------- -------- --------
#     CPAN::Meta 2.120900 2.150010
# 
# === Runtime Requires ===
# 
#     Module           Want     Have
#     ---------------- ---- --------
#     Browser::Open     any     0.04
#     Capture::Tiny     any     0.48
#     Carp              any     1.50
#     File::pushd       any    1.016
#     Getopt::Long      any      2.5
#     Git::Sub          any 0.163320
#     MetaCPAN::Client  any 2.025000
#     Moo               any 2.003004
#     MooX::Options     any    4.103
#     String::Trim      any    0.005
#     Sub::Exporter     any    0.987
#     Term::Choose      any    1.638
#     Try::Tiny         any     0.30
#     Types::Standard   any 1.004002
#     URI               any     1.74
#     URI::FromHash     any     0.05
#     URI::Heuristic    any     4.20
#     URI::git          any     0.02
#     strict            any     1.11
#     warnings          any     1.37
# 
t/00-report-prereqs.t .. ok
t/01-diag.t ............ ok
t/cpan-repo.t .......... ok
# git version 2.17.1
# Switched to a new branch 'README'
t/helpers.t ............ ok
All tests successful.
Files=4, Tests=17,  2 wallclock secs ( 0.02 usr  0.02 sys +  0.44 cusr  0.34 csys =  0.82 CPU)
Result: PASS

------------------------------
PREREQUISITES
------------------------------

Prerequisite modules loaded:

requires:

    Module                 Need  Have    
    ---------------------- ----- --------
    Browser::Open          0     0.04    
    Capture::Tiny          0     0.48    
    Carp                   0     1.50    
    File::pushd            0     1.016   
    Getopt::Long           0     2.5     
    Git::Sub               0     0.163320
    MetaCPAN::Client       0     2.025000
    Moo                    0     2.003004
    MooX::Options          0     4.103   
    perl                   5.006 5.026001
    strict                 0     1.11    
    String::Trim           0     0.005   
    Sub::Exporter          0     0.987   
    Term::Choose           0     1.638   
    Try::Tiny              0     0.30    
    Types::Standard        0     1.004002
    URI                    0     1.74    
    URI::FromHash          0     0.05    
    URI::git               0     0.02    
    URI::Heuristic         0     4.20    
    warnings               0     1.37    

build_requires:

    Module                 Need  Have    
    ---------------------- ----- --------
    ExtUtils::MakeMaker    0     7.34    
    File::Spec             0     3.75    
    File::Temp             0     0.2308  
    File::Touch            0     0.11    
    Git::Version           0     1.000   
    Test::Fatal            0     0.014   
    Test::Git              1.313 1.323   
    Test::More             0     1.302140
    Test::Requires::Git    1.005 1.008   
    Test::RequiresInternet 0     0.05    

configure_requires:

    Module                 Need  Have    
    ---------------------- ----- --------
    ExtUtils::MakeMaker    0     7.34    
    perl                   5.006 5.026001


------------------------------
ENVIRONMENT AND OTHER CONTEXT
------------------------------

Environment variables:

    LANG = en_US.UTF-8
    PATH = /usr/local/bin:/usr/bin:/bin:/usr/local/sbin:/usr/sbin:/sbin:/home/cpansand/bin/linux-gnu:/home/cpansand/bin/sh:/home/cpansand/bin:/usr/games:/home/cpansand/devel:/home/eserte/src/srezic-misc/scripts
    PERL5LIB = 
    PERL5OPT = 
    PERL5_CPANPLUS_IS_RUNNING = 24828
    PERL5_CPAN_IS_RUNNING = 24828
    PERL5_CPAN_IS_RUNNING_IN_RECURSION = 12959,24828
    PERLDOC = -MPod::Perldoc::ToTextOverstrike
    PERL_BATCH = yes
    PERL_CANARY_STABILITY_NOPROMPT = 1
    PERL_CPAN_REPORTER_CONFIG = /var/tmp/cpansmoker-1023/2018121822/cpanreporter_001_config.ini
    PERL_EXTUTILS_AUTOINSTALL = --defaultdeps
    PERL_USE_UNSAFE_INC = 1
    SHELL = /usr/bin/zsh
    TERM = screen
    TMPDIR = /var/tmp/cpansmoker-1023/2018121822

Perl special variables (and OS-specific diagnostics, for MSWin32):

    $^X = /opt/perl-5.26.1/bin/perl
    $UID/$EUID = 1023 / 1023
    $GID = 1023 1023
    $EGID = 1023 1023

Perl module toolchain versions installed:

    Module              Have    
    ------------------- --------
    CPAN                2.18    
    CPAN::Meta          2.150010
    Cwd                 3.75    
    ExtUtils::CBuilder  0.280230
    ExtUtils::Command   7.34    
    ExtUtils::Install   2.14    
    ExtUtils::MakeMaker 7.34    
    ExtUtils::Manifest  1.70    
    ExtUtils::ParseXS   3.34    
    File::Spec          3.75    
    JSON                4.00    
    JSON::PP            2.97001 
    Module::Build       0.4224  
    Module::Signature   n/a     
    Parse::CPAN::Meta   2.150010
    Test::Harness       3.42    
    Test::More          1.302140
    YAML                1.26    
    YAML::Syck          1.31    
    version             0.9917  


--

Summary of my perl5 (revision 5 version 26 subversion 1) configuration:
   
  Platform:
    osname=linux
    osvers=4.15.0-29-generic
    archname=x86_64-linux
    uname='linux ubuntu18 4.15.0-29-generic #31-ubuntu smp tue jul 17 15:39:52 utc 2018 x86_64 x86_64 x86_64 gnulinux '
    config_args='-ds -e -Dprefix=/opt/perl-5.26.1 -Dcf_email=srezic@cpan.org'
    hint=recommended
    useposix=true
    d_sigaction=define
    useithreads=undef
    usemultiplicity=undef
    use64bitint=define
    use64bitall=define
    uselongdouble=undef
    usemymalloc=n
    default_inc_excludes_dot=define
    bincompat5005=undef
  Compiler:
    cc='cc'
    ccflags ='-fwrapv -fno-strict-aliasing -pipe -fstack-protector-strong -I/usr/local/include -D_LARGEFILE_SOURCE -D_FILE_OFFSET_BITS=64'
    optimize='-O2'
    cppflags='-fwrapv -fno-strict-aliasing -pipe -fstack-protector-strong -I/usr/local/include'
    ccversion=''
    gccversion='7.3.0'
    gccosandvers=''
    intsize=4
    longsize=8
    ptrsize=8
    doublesize=8
    byteorder=12345678
    doublekind=3
    d_longlong=define
    longlongsize=8
    d_longdbl=define
    longdblsize=16
    longdblkind=3
    ivtype='long'
    ivsize=8
    nvtype='double'
    nvsize=8
    Off_t='off_t'
    lseeksize=8
    alignbytes=8
    prototype=define
  Linker and Libraries:
    ld='cc'
    ldflags =' -fstack-protector-strong -L/usr/local/lib'
    libpth=/usr/local/lib /usr/lib/gcc/x86_64-linux-gnu/7/include-fixed /usr/include/x86_64-linux-gnu /usr/lib /lib/x86_64-linux-gnu /lib/../lib /usr/lib/x86_64-linux-gnu /usr/lib/../lib /lib
    libs=-lpthread -lnsl -lgdbm -ldb -ldl -lm -lcrypt -lutil -lc
    perllibs=-lpthread -lnsl -ldl -lm -lcrypt -lutil -lc
    libc=libc-2.27.so
    so=so
    useshrplib=false
    libperl=libperl.a
    gnulibc_version='2.27'
  Dynamic Linking:
    dlsrc=dl_dlopen.xs
    dlext=so
    d_dlsymun=undef
    ccdlflags='-Wl,-E'
    cccdlflags='-fPIC'
    lddlflags='-shared -O2 -L/usr/local/lib -fstack-protector-strong'


Characteristics of this binary (from libperl): 
  Compile-time options:
    HAS_TIMES
    PERLIO_LAYERS
    PERL_COPY_ON_WRITE
    PERL_DONT_CREATE_GVSV
    PERL_MALLOC_WRAP
    PERL_OP_PARENT
    PERL_PRESERVE_IVUV
    USE_64_BIT_ALL
    USE_64_BIT_INT
    USE_LARGE_FILES
    USE_LOCALE
    USE_LOCALE_COLLATE
    USE_LOCALE_CTYPE
    USE_LOCALE_NUMERIC
    USE_LOCALE_TIME
    USE_PERLIO
    USE_PERL_ATOF
  Built under linux
  Compiled at Aug  6 2018 18:19:16
  %ENV:
    PERL5LIB=""
    PERL5OPT=""
    PERL5_CPANPLUS_IS_RUNNING="24828"
    PERL5_CPAN_IS_RUNNING="24828"
    PERL5_CPAN_IS_RUNNING_IN_RECURSION="12959,24828"
    PERLDOC="-MPod::Perldoc::ToTextOverstrike"
    PERL_BATCH="yes"
    PERL_CANARY_STABILITY_NOPROMPT="1"
    PERL_CPAN_REPORTER_CONFIG="/var/tmp/cpansmoker-1023/2018121822/cpanreporter_001_config.ini"
    PERL_EXTUTILS_AUTOINSTALL="--defaultdeps"
    PERL_USE_UNSAFE_INC="1"
  @INC:
    /opt/perl-5.26.1/lib/site_perl/5.26.1/x86_64-linux
    /opt/perl-5.26.1/lib/site_perl/5.26.1
    /opt/perl-5.26.1/lib/5.26.1/x86_64-linux
    /opt/perl-5.26.1/lib/5.26.1
    .