Test-HTML-Spelling vv0.5.0 Perl 5 v5.35.7 x86_64-linux-thread-multi-ld

Status
Pass
From
Andreas J. König (ANDK)
Dist
Test-HTML-Spelling vv0.5.0
Platform
Perl 5 v5.35.7 x86_64-linux-thread-multi-ld
Date
2022-01-02 05:36:15
ID
e73aff24-6b8d-11ec-a89c-db4453aea44f
This distribution has been tested as part of the CPAN Testers
project, supporting the Perl programming language.  See
http://wiki.cpantesters.org/ for more information or email
questions to cpan-testers-discuss@perl.org


--
Dear Robert Rothenberg,

This is a computer-generated report for Test-HTML-Spelling-v0.5.0
on perl 5.35.7, created by CPAN-Reporter-1.2018.

Thank you for uploading your work to CPAN.  Congratulations!
All tests were successful.

Sections of this report:

    * Tester comments
    * Program output
    * Prerequisites
    * Environment and other context

------------------------------
TESTER COMMENTS
------------------------------

Additional comments from tester:

this report is from an automated smoke testing program
and was not reviewed by a human for accuracy

------------------------------
PROGRAM OUTPUT
------------------------------

Output from '/usr/bin/make test':

PERL_DL_NONLAZY=1 "/tmp/basesmoker-reloperl-0CCR/bin/perl" "-MExtUtils::Command::MM" "-MTest::Harness" "-e" "undef *Test::Harness::Switches; test_harness(0, 'blib/lib', 'blib/arch')" t/*.t
# Testing Test::HTML::Spelling v0.5.0, Perl 5.035007, /tmp/basesmoker-reloperl-0CCR/bin/perl
t/00-load.t .................. ok
# 
# Versions for all modules listed in MYMETA.json (including optional ones):
# 
# === Configure Requires ===
# 
#     Module              Want Have
#     ------------------- ---- ----
#     ExtUtils::MakeMaker  any 7.64
# 
# === Build Requires ===
# 
#     Module              Want Have
#     ------------------- ---- ----
#     ExtUtils::MakeMaker  any 7.64
# 
# === Test Requires ===
# 
#     Module                Want     Have
#     --------------------- ---- --------
#     English                any     1.11
#     File::Spec             any     3.83
#     Module::Metadata       any 1.000037
#     Test::Builder::Tester  any 1.302188
#     Test::More             any 1.302188
# 
# === Test Recommends ===
# 
#     Module         Want     Have
#     ---------- -------- --------
#     CPAN::Meta 2.120900 2.150010
# 
# === Runtime Requires ===
# 
#     Module                Want     Have
#     --------------------- ---- --------
#     Const::Fast            any    0.014
#     Encode                 any     3.16
#     Getopt::Long          2.36     2.52
#     HTML::Parser           any     3.76
#     List::Util             any     1.60
#     Moo                    any 2.005004
#     Scalar::Util           any     1.60
#     Search::Tokenizer      any     1.03
#     Test::Builder::Module  any 1.302188
#     Text::Aspell           any     0.09
#     Types::Standard        any 1.012004
#     curry                  any 2.000001
#     namespace::autoclean   any     0.29
# 
t/00-report-prereqs.t ........ ok
t/10-spelling.t .............. ok
t/author-clean-namespaces.t .. skipped: these tests are for testing by the author
t/author-critic.t ............ skipped: these tests are for testing by the author
t/author-eof.t ............... skipped: these tests are for testing by the author
t/author-eol.t ............... skipped: these tests are for testing by the author
t/author-minimum-version.t ... skipped: these tests are for testing by the author
t/author-no-tabs.t ........... skipped: these tests are for testing by the author
t/author-pod-coverage.t ...... skipped: these tests are for testing by the author
t/author-pod-linkcheck.t ..... skipped: these tests are for testing by the author
t/author-pod-syntax.t ........ skipped: these tests are for testing by the author
t/author-portability.t ....... skipped: these tests are for testing by the author
t/release-check-manifest.t ... skipped: these tests are for release candidate testing
t/release-fixme.t ............ skipped: these tests are for release candidate testing
t/release-kwalitee.t ......... skipped: these tests are for release candidate testing
t/release-trailing-space.t ... skipped: these tests are for release candidate testing
All tests successful.
Files=17, Tests=3,  1 wallclock secs ( 0.04 usr  0.06 sys +  0.35 cusr  0.12 csys =  0.57 CPU)
Result: PASS

------------------------------
PREREQUISITES
------------------------------

Prerequisite modules loaded:

requires:

    Module                Need     Have    
    --------------------- -------- --------
    Const::Fast           0        0.014   
    curry                 0        2.000001
    Encode                0        3.16    
    Getopt::Long          2.36     2.52    
    HTML::Parser          0        3.76    
    List::Util            0        1.60    
    Moo                   0        2.005004
    namespace::autoclean  0        0.29    
    perl                  5.010000 5.035007
    Scalar::Util          0        1.60    
    Search::Tokenizer     0        1.03    
    Test::Builder::Module 0        1.302188
    Text::Aspell          0        0.09    
    Types::Standard       0        1.012004

build_requires:

    Module                Need     Have    
    --------------------- -------- --------
    English               0        1.11    
    ExtUtils::MakeMaker   0        7.64    
    File::Spec            0        3.83    
    Module::Metadata      0        1.000037
    Test::Builder::Tester 0        1.302188
    Test::More            0        1.302188

configure_requires:

    Module                Need     Have    
    --------------------- -------- --------
    ExtUtils::MakeMaker   0        7.64    


------------------------------
ENVIRONMENT AND OTHER CONTEXT
------------------------------

Environment variables:

    AUTOMATED_TESTING = 1
    LANG = en_US.utf8
    PATH = /home/sand/bin:/usr/local/bin:/usr/local/sbin:/usr/sbin:/usr/bin:/sbin:/bin:/usr/games:/usr/local/games:/snap/bin:/usr/local/perl/bin:/usr/X11/bin
    PERL = /tmp/basesmoker-reloperl-0CCR/bin/perl
    PERL5LIB = /tmp/loop_over_bdir-23218-kOmE4G/Serge-1.4-0/blib/arch:/tmp/loop_over_bdir-23218-kOmE4G/Serge-1.4-0/blib/lib:/tmp/loop_over_bdir-23218-kOmE4G/HTML-Menu-TreeView-1.22-0/blib/arch:/tmp/loop_over_bdir-23218-kOmE4G/HTML-Menu-TreeView-1.22-0/blib/lib:/tmp/loop_over_bdir-23218-kOmE4G/mmds-1.902-0/blib/arch:/tmp/loop_over_bdir-23218-kOmE4G/mmds-1.902-0/blib/lib:/tmp/loop_over_bdir-23218-kOmE4G/Net-OpenVPN-DDNS-0.1-0/blib/arch:/tmp/loop_over_bdir-23218-kOmE4G/Net-OpenVPN-DDNS-0.1-0/blib/lib:/tmp/loop_over_bdir-23218-kOmE4G/DBIx-Migration-Directories-0.12-0/blib/arch:/tmp/loop_over_bdir-23218-kOmE4G/DBIx-Migration-Directories-0.12-0/blib/lib:/tmp/loop_over_bdir-23218-kOmE4G/LiquidWeb-Storm-CLI-1.03-0/blib/arch:/tmp/loop_over_bdir-23218-kOmE4G/LiquidWeb-Storm-CLI-1.03-0/blib/lib:/tmp/loop_over_bdir-23218-kOmE4G/App-nrun-v1.1.2-0/blib/arch:/tmp/loop_over_bdir-23218-kOmE4G/App-nrun-v1.1.2-0/blib/lib
    PERL5OPT = 
    PERL5_CPANPLUS_IS_RUNNING = 23226
    PERL5_CPAN_IS_RUNNING = 23226
    PERL_CANARY_STABILITY_NOPROMPT = 1
    PERL_MM_USE_DEFAULT = 1
    PERL_USE_UNSAFE_INC = 1
    SHELL = /usr/bin/zsh
    TERM = screen

Perl special variables (and OS-specific diagnostics, for MSWin32):

    $^X = /tmp/basesmoker-reloperl-0CCR/bin/perl
    $UID/$EUID = 1005 / 1005
    $GID = 1005 1005
    $EGID = 1005 1005

Perl module toolchain versions installed:

    Module              Have    
    ------------------- --------
    CPAN                2.32    
    CPAN::Meta          2.150010
    Cwd                 3.83    
    ExtUtils::CBuilder  0.280236
    ExtUtils::Command   7.64    
    ExtUtils::Install   2.20    
    ExtUtils::MakeMaker 7.64    
    ExtUtils::Manifest  1.73    
    ExtUtils::ParseXS   3.44    
    File::Spec          3.83    
    JSON                4.04    
    JSON::PP            4.07    
    Module::Build       0.4231  
    Module::Signature   0.88    
    Parse::CPAN::Meta   2.150010
    Test::Harness       3.43    
    Test::More          1.302188
    YAML                1.30    
    YAML::Syck          1.34    
    version             0.9929  


--

Summary of my perl5 (revision 5 version 35 subversion 7) configuration:
  Commit id: 4aa99f1862819928b27c3cd9d8ab4d472a18ef84
  Platform:
    osname=linux
    osvers=4.15.0-163-generic
    archname=x86_64-linux-thread-multi-ld
    uname='linux k93bionic 4.15.0-163-generic #171-ubuntu smp fri nov 5 11:55:11 utc 2021 x86_64 x86_64 x86_64 gnulinux '
    config_args='-Dprefix=/home/sand/src/perl/repoperls/installed-perls/host/k93bionic/v5.35.7/ebf1 -Dmyhostname=k93bionic -Dinstallusrbinperl=n -Uversiononly -Dusedevel -des -Ui_db -Dlibswanted=cl pthread socket inet nsl gdbm dbm malloc dl ld sun m crypt sec util c cposix posix ucb BSD gdbm_compat -Duseithreads -Duselongdouble -DEBUGGING=-g'
    hint=recommended
    useposix=true
    d_sigaction=define
    useithreads=define
    usemultiplicity=define
    use64bitint=define
    use64bitall=define
    uselongdouble=define
    usemymalloc=n
    default_inc_excludes_dot=define
  Compiler:
    cc='cc'
    ccflags ='-D_REENTRANT -D_GNU_SOURCE -fwrapv -fno-strict-aliasing -pipe -fstack-protector-strong -I/usr/local/include -D_LARGEFILE_SOURCE -D_FILE_OFFSET_BITS=64'
    optimize='-O2 -g'
    cppflags='-D_REENTRANT -D_GNU_SOURCE -fwrapv -fno-strict-aliasing -pipe -fstack-protector-strong -I/usr/local/include'
    ccversion=''
    gccversion='7.5.0'
    gccosandvers=''
    intsize=4
    longsize=8
    ptrsize=8
    doublesize=8
    byteorder=12345678
    doublekind=3
    d_longlong=define
    longlongsize=8
    d_longdbl=define
    longdblsize=16
    longdblkind=3
    ivtype='long'
    ivsize=8
    nvtype='long double'
    nvsize=16
    Off_t='off_t'
    lseeksize=8
    alignbytes=16
    prototype=define
  Linker and Libraries:
    ld='cc'
    ldflags =' -fstack-protector-strong -L/usr/local/lib'
    libpth=/usr/local/lib /usr/lib/x86_64-linux-gnu /usr/lib /lib/x86_64-linux-gnu /lib
    libs=-lpthread -lnsl -ldl -lm -lcrypt -lutil -lc
    perllibs=-lpthread -lnsl -ldl -lm -lcrypt -lutil -lc
    libc=libc-2.27.so
    so=so
    useshrplib=false
    libperl=libperl.a
    gnulibc_version='2.27'
  Dynamic Linking:
    dlsrc=dl_dlopen.xs
    dlext=so
    d_dlsymun=undef
    ccdlflags='-Wl,-E'
    cccdlflags='-fPIC'
    lddlflags='-shared -O2 -g -L/usr/local/lib -fstack-protector-strong'


Characteristics of this binary (from libperl): 
  Compile-time options:
    HAS_TIMES
    MULTIPLICITY
    PERLIO_LAYERS
    PERL_COPY_ON_WRITE
    PERL_DONT_CREATE_GVSV
    PERL_MALLOC_WRAP
    PERL_OP_PARENT
    PERL_PRESERVE_IVUV
    PERL_USE_DEVEL
    USE_64_BIT_ALL
    USE_64_BIT_INT
    USE_ITHREADS
    USE_LARGE_FILES
    USE_LOCALE
    USE_LOCALE_COLLATE
    USE_LOCALE_CTYPE
    USE_LOCALE_NUMERIC
    USE_LOCALE_TIME
    USE_LONG_DOUBLE
    USE_PERLIO
    USE_PERL_ATOF
    USE_REENTRANT_API
    USE_THREAD_SAFE_LOCALE
  Built under linux
  Compiled at Dec 31 2021 13:30:32
  %ENV:
    PERL="/tmp/basesmoker-reloperl-0CCR/bin/perl"
    PERL5LIB="/tmp/loop_over_bdir-23218-kOmE4G/Serge-1.4-0/blib/arch:/tmp/loop_over_bdir-23218-kOmE4G/Serge-1.4-0/blib/lib:/tmp/loop_over_bdir-23218-kOmE4G/HTML-Menu-TreeView-1.22-0/blib/arch:/tmp/loop_over_bdir-23218-kOmE4G/HTML-Menu-TreeView-1.22-0/blib/lib:/tmp/loop_over_bdir-23218-kOmE4G/mmds-1.902-0/blib/arch:/tmp/loop_over_bdir-23218-kOmE4G/mmds-1.902-0/blib/lib:/tmp/loop_over_bdir-23218-kOmE4G/Net-OpenVPN-DDNS-0.1-0/blib/arch:/tmp/loop_over_bdir-23218-kOmE4G/Net-OpenVPN-DDNS-0.1-0/blib/lib:/tmp/loop_over_bdir-23218-kOmE4G/DBIx-Migration-Directories-0.12-0/blib/arch:/tmp/loop_over_bdir-23218-kOmE4G/DBIx-Migration-Directories-0.12-0/blib/lib:/tmp/loop_over_bdir-23218-kOmE4G/LiquidWeb-Storm-CLI-1.03-0/blib/arch:/tmp/loop_over_bdir-23218-kOmE4G/LiquidWeb-Storm-CLI-1.03-0/blib/lib:/tmp/loop_over_bdir-23218-kOmE4G/App-nrun-v1.1.2-0/blib/arch:/tmp/loop_over_bdir-23218-kOmE4G/App-nrun-v1.1.2-0/blib/lib"
    PERL5OPT=""
    PERL5_CPANPLUS_IS_RUNNING="23226"
    PERL5_CPAN_IS_RUNNING="23226"
    PERL_CANARY_STABILITY_NOPROMPT="1"
    PERL_MM_USE_DEFAULT="1"
    PERL_USE_UNSAFE_INC="1"
  @INC:
    /tmp/loop_over_bdir-23218-kOmE4G/Serge-1.4-0/blib/arch
    /tmp/loop_over_bdir-23218-kOmE4G/Serge-1.4-0/blib/lib
    /tmp/loop_over_bdir-23218-kOmE4G/HTML-Menu-TreeView-1.22-0/blib/arch
    /tmp/loop_over_bdir-23218-kOmE4G/HTML-Menu-TreeView-1.22-0/blib/lib
    /tmp/loop_over_bdir-23218-kOmE4G/mmds-1.902-0/blib/arch
    /tmp/loop_over_bdir-23218-kOmE4G/mmds-1.902-0/blib/lib
    /tmp/loop_over_bdir-23218-kOmE4G/Net-OpenVPN-DDNS-0.1-0/blib/arch
    /tmp/loop_over_bdir-23218-kOmE4G/Net-OpenVPN-DDNS-0.1-0/blib/lib
    /tmp/loop_over_bdir-23218-kOmE4G/DBIx-Migration-Directories-0.12-0/blib/arch
    /tmp/loop_over_bdir-23218-kOmE4G/DBIx-Migration-Directories-0.12-0/blib/lib
    /tmp/loop_over_bdir-23218-kOmE4G/LiquidWeb-Storm-CLI-1.03-0/blib/arch
    /tmp/loop_over_bdir-23218-kOmE4G/LiquidWeb-Storm-CLI-1.03-0/blib/lib
    /tmp/loop_over_bdir-23218-kOmE4G/App-nrun-v1.1.2-0/blib/arch
    /tmp/loop_over_bdir-23218-kOmE4G/App-nrun-v1.1.2-0/blib/lib
    /home/sand/src/perl/repoperls/installed-perls/host/k93bionic/v5.35.7/ebf1/lib/site_perl/5.35.7/x86_64-linux-thread-multi-ld
    /home/sand/src/perl/repoperls/installed-perls/host/k93bionic/v5.35.7/ebf1/lib/site_perl/5.35.7
    /home/sand/src/perl/repoperls/installed-perls/host/k93bionic/v5.35.7/ebf1/lib/5.35.7/x86_64-linux-thread-multi-ld
    /home/sand/src/perl/repoperls/installed-perls/host/k93bionic/v5.35.7/ebf1/lib/5.35.7
    .