Text-Banner v2.01 Perl 5 v5.18.2 evbarm-netbsd
- Status
- Pass
- From
- Nigel Horne
- Dist
-
Text-Banner v2.01
- Platform
- Perl 5 v5.18.2 evbarm-netbsd
- Date
- 2019-07-06 07:23:08
- ID
- e7456e48-9fbe-11e9-8fa9-99a29f1e7dde
This distribution has been tested as part of the CPAN Testers
project, supporting the Perl programming language. See
http://wiki.cpantesters.org/ for more information or email
questions to cpan-testers-discuss@perl.org
--
Dear Gene Sullivan,
This is a computer-generated report for Text-Banner-2.01
on perl 5.18.2, created by CPAN-Reporter-1.2018.
Thank you for uploading your work to CPAN. Congratulations!
All tests were successful.
Sections of this report:
* Tester comments
* Program output
* Prerequisites
* Environment and other context
------------------------------
TESTER COMMENTS
------------------------------
Additional comments from tester:
this report is from an automated smoke testing program
and was not reviewed by a human for accuracy
------------------------------
PROGRAM OUTPUT
------------------------------
Output from '/usr/bin/make test':
PERL_DL_NONLAZY=1 /mnt/nas/home/pi2c/njh/perl5/perlbrew/perls/perl-5.18.2/bin/perl "-MExtUtils::Command::MM" "-e" "test_harness(0, 'blib/lib', 'blib/arch')" t/*.t
t/basic.t .......... ok
t/combos.t ......... ok
t/default-fill.t ... ok
t/default-reads.t .. ok
t/multi-new.t ...... ok
t/pod.t ............ skipped: Test::Pod 1.22 required for testing POD
t/reset.t .......... ok
t/version.t ........ ok
t/zero-order.t ..... ok
t/zero-single.t .... ok
All tests successful.
Files=10, Tests=30, 10 wallclock secs ( 0.25 usr 0.32 sys + 5.01 cusr 3.43 csys = 9.01 CPU)
Result: PASS
------------------------------
PREREQUISITES
------------------------------
Prerequisite modules loaded:
build_requires:
Module Need Have
------------------- ---- ----
ExtUtils::MakeMaker 0 6.66
configure_requires:
Module Need Have
------------------- ---- ----
ExtUtils::MakeMaker 0 6.66
------------------------------
ENVIRONMENT AND OTHER CONTEXT
------------------------------
Environment variables:
AUTOMATED_TESTING = 1
PATH = /home/njh/perl5/perlbrew/bin:/home/njh/perl5/perlbrew/perls/perl-5.18.2/bin:/usr/bin:/bin:/usr/pkg/bin:/usr/local/bin:/home/njh/src/njh/smoker/bin
PERL5LIB = /var/tmp/build/TermReadKey-2.38-8/blib/arch:/var/tmp/build/TermReadKey-2.38-8/blib/lib:/var/tmp/build/Getopt-Long-2.50-1/blib/arch:/var/tmp/build/Getopt-Long-2.50-1/blib/lib
PERL5OPT =
PERL5_CPANPLUS_IS_RUNNING = 19574
PERL5_CPAN_IS_RUNNING = 19574
PERL5_CPAN_IS_RUNNING_IN_RECURSION = 15422,19574
PERLBREW_HOME = /home/njh/.perlbrew
PERLBREW_MANPATH = /home/njh/perl5/perlbrew/perls/perl-5.18.2/man
PERLBREW_PATH = /home/njh/perl5/perlbrew/bin:/home/njh/perl5/perlbrew/perls/perl-5.18.2/bin
PERLBREW_PERL = perl-5.18.2
PERLBREW_ROOT = /home/njh/perl5/perlbrew
PERLBREW_SHELLRC_VERSION = 0.86
PERLBREW_VERSION = 0.86
PERL_USE_UNSAFE_INC = 1
SHELL = /bin/sh
TMPDIR = /tmp/testwrapper.9978
Perl special variables (and OS-specific diagnostics, for MSWin32):
$^X = /mnt/nas/home/pi2c/njh/perl5/perlbrew/perls/perl-5.18.2/bin/perl
$UID/$EUID = 1000 / 1000
$GID = 1000 1000 0
$EGID = 1000 1000 0
Perl module toolchain versions installed:
Module Have
------------------- --------
CPAN 2.26
CPAN::Meta 2.150010
Cwd 3.40
ExtUtils::CBuilder 0.280210
ExtUtils::Command 1.17
ExtUtils::Install 1.59
ExtUtils::MakeMaker 6.66
ExtUtils::Manifest 1.63
ExtUtils::ParseXS 3.18
File::Spec 3.40
JSON 2.97001
JSON::PP 2.97001
Module::Build 0.4003
Module::Signature n/a
Parse::CPAN::Meta 2.150010
Test::Harness 3.41
Test::More 1.302136
YAML 1.29
YAML::Syck 1.31
version 0.9902
--
Summary of my perl5 (revision 5 version 18 subversion 2) configuration:
Platform:
osname=netbsd, osvers=8.0_beta, archname=evbarm-netbsd
uname='netbsd pi2c.bandsman.co.uk 8.0_beta netbsd 8.0_beta (rpi2.201710161240z) evbarm '
config_args='-de -Dprefix=/home/njh/perl5/perlbrew/perls/perl-5.18.2 -Aeval:scriptdir=/home/njh/perl5/perlbrew/perls/perl-5.18.2/bin'
hint=recommended, useposix=true, d_sigaction=define
useithreads=undef, usemultiplicity=undef
useperlio=define, d_sfio=undef, uselargefiles=define, usesocks=undef
use64bitint=undef, use64bitall=undef, uselongdouble=undef
usemymalloc=n, bincompat5005=undef
Compiler:
cc='cc', ccflags ='-fno-strict-aliasing -pipe -fstack-protector -I/usr/pkg/include',
optimize='-O',
cppflags='-fno-strict-aliasing -pipe -fstack-protector -I/usr/pkg/include'
ccversion='', gccversion='5.4.0', gccosandvers=''
intsize=4, longsize=4, ptrsize=4, doublesize=8, byteorder=1234
d_longlong=define, longlongsize=8, d_longdbl=define, longdblsize=8
ivtype='long', ivsize=4, nvtype='double', nvsize=8, Off_t='off_t', lseeksize=8
alignbytes=8, prototype=define
Linker and Libraries:
ld='cc', ldflags =' -Wl,-rpath,/usr/pkg/lib -Wl,-rpath,/usr/local/lib -fstack-protector -L/usr/pkg/lib'
libpth=/usr/pkg/lib /lib /usr/lib
libs=-lm -lcrypt -lutil -lc -lposix
perllibs=-lm -lcrypt -lutil -lc -lposix
libc=/lib/libc.so, so=so, useshrplib=false, libperl=libperl.a
gnulibc_version=''
Dynamic Linking:
dlsrc=dl_dlopen.xs, dlext=so, d_dlsymun=undef, ccdlflags='-Wl,-E '
cccdlflags='-DPIC -fPIC ', lddlflags='-shared -L/usr/pkg/lib -fstack-protector'
Characteristics of this binary (from libperl):
Compile-time options: HAS_TIMES PERLIO_LAYERS PERL_DONT_CREATE_GVSV
PERL_HASH_FUNC_ONE_AT_A_TIME_HARD PERL_MALLOC_WRAP
PERL_PRESERVE_IVUV PERL_SAWAMPERSAND USE_LARGE_FILES
USE_LOCALE USE_LOCALE_COLLATE USE_LOCALE_CTYPE
USE_LOCALE_NUMERIC USE_PERLIO USE_PERL_ATOF
Locally applied patches:
Devel::PatchPerl 1.38
Built under netbsd
Compiled at Mar 4 2018 18:48:12
%ENV:
PERL5LIB="/var/tmp/build/TermReadKey-2.38-8/blib/arch:/var/tmp/build/TermReadKey-2.38-8/blib/lib:/var/tmp/build/Getopt-Long-2.50-1/blib/arch:/var/tmp/build/Getopt-Long-2.50-1/blib/lib"
PERL5OPT=""
PERL5_CPANPLUS_IS_RUNNING="19574"
PERL5_CPAN_IS_RUNNING="19574"
PERL5_CPAN_IS_RUNNING_IN_RECURSION="15422,19574"
PERLBREW_HOME="/home/njh/.perlbrew"
PERLBREW_MANPATH="/home/njh/perl5/perlbrew/perls/perl-5.18.2/man"
PERLBREW_PATH="/home/njh/perl5/perlbrew/bin:/home/njh/perl5/perlbrew/perls/perl-5.18.2/bin"
PERLBREW_PERL="perl-5.18.2"
PERLBREW_ROOT="/home/njh/perl5/perlbrew"
PERLBREW_SHELLRC_VERSION="0.86"
PERLBREW_VERSION="0.86"
PERL_USE_UNSAFE_INC="1"
@INC:
/var/tmp/build/TermReadKey-2.38-8/blib/arch
/var/tmp/build/TermReadKey-2.38-8/blib/lib
/var/tmp/build/Getopt-Long-2.50-1/blib/arch
/var/tmp/build/Getopt-Long-2.50-1/blib/lib
/home/njh/perl5/perlbrew/perls/perl-5.18.2/lib/site_perl/5.18.2/evbarm-netbsd
/home/njh/perl5/perlbrew/perls/perl-5.18.2/lib/site_perl/5.18.2
/home/njh/perl5/perlbrew/perls/perl-5.18.2/lib/5.18.2/evbarm-netbsd
/home/njh/perl5/perlbrew/perls/perl-5.18.2/lib/5.18.2
.