Report for Apache-ASP-2.62

Back
From: metabase:user:775a6ef0-a30d-11e0-b928-abcd0a1a245f
Subject: PASS Apache-ASP-2.62 v5.12.1 GNU/Linux
Date: 2011-10-02T23:04:38Z

This distribution has been tested as part of the CPAN Testers
project, supporting the Perl programming language.  See
http://wiki.cpantesters.org/ for more information or email
questions to cpan-testers-discuss@perl.org


--
Dear Gregory S. Youngblood,

This is a computer-generated report for Apache-ASP-2.62
on perl 5.12.1, created by CPAN-Reporter-1.1902.

Thank you for uploading your work to CPAN.  Congratulations!
All tests were successful.

Sections of this report:

    * Tester comments
    * Program output
    * Prerequisites
    * Environment and other context

------------------------------
TESTER COMMENTS
------------------------------

Additional comments from tester:

this report is from an automated smoke testing program
and was not reviewed by a human for accuracy

------------------------------
PROGRAM OUTPUT
------------------------------

Output from '/usr/bin/make test':

PERL_DL_NONLAZY=1 /smoker/5.12.1/perl/bin/perl "-MExtUtils::Command::MM" "-e" "test_harness(0, 'blib/lib', 'blib/arch')" t/*.t
Use of uninitialized value $rv in lc at /smoker/5.12.1/cpan/build/Apache-ASP-2.62-EvzZx0/blib/lib/Apache/ASP.pm line 2018.
Use of uninitialized value $rv in lc at /smoker/5.12.1/cpan/build/Apache-ASP-2.62-EvzZx0/blib/lib/Apache/ASP.pm line 2018.
Use of uninitialized value $rv in lc at /smoker/5.12.1/cpan/build/Apache-ASP-2.62-EvzZx0/blib/lib/Apache/ASP.pm line 2018.
Use of uninitialized value $rv in lc at /smoker/5.12.1/cpan/build/Apache-ASP-2.62-EvzZx0/blib/lib/Apache/ASP.pm line 2018.
Use of uninitialized value $rv in lc at /smoker/5.12.1/cpan/build/Apache-ASP-2.62-EvzZx0/blib/lib/Apache/ASP.pm line 2018.
Use of uninitialized value $rv in lc at /smoker/5.12.1/cpan/build/Apache-ASP-2.62-EvzZx0/blib/lib/Apache/ASP.pm line 2018.
Use of uninitialized value $rv in lc at /smoker/5.12.1/cpan/build/Apache-ASP-2.62-EvzZx0/blib/lib/Apache/ASP.pm line 2018.
Use of uninitialized value $rv in lc at /smoker/5.12.1/cpan/build/Apache-ASP-2.62-EvzZx0/blib/lib/Apache/ASP.pm line 2018.
Use of uninitialized value $rv in lc at /smoker/5.12.1/cpan/build/Apache-ASP-2.62-EvzZx0/blib/lib/Apache/ASP.pm line 2018.
Use of uninitialized value $rv in lc at /smoker/5.12.1/cpan/build/Apache-ASP-2.62-EvzZx0/blib/lib/Apache/ASP.pm line 2018.
Use of uninitialized value $rv in lc at /smoker/5.12.1/cpan/build/Apache-ASP-2.62-EvzZx0/blib/lib/Apache/ASP.pm line 2018.
t/application.t .......... ok
Use of uninitialized value $rv in lc at ../blib/lib/Apache/ASP.pm line 2018.
Use of uninitialized value $rv in lc at ../blib/lib/Apache/ASP.pm line 2018.
Use of uninitialized value $rv in lc at ../blib/lib/Apache/ASP.pm line 2018.
Use of uninitialized value $rv in lc at ../blib/lib/Apache/ASP.pm line 2018.
Use of uninitialized value $rv in lc at ../blib/lib/Apache/ASP.pm line 2018.
Use of uninitialized value $rv in lc at ../blib/lib/Apache/ASP.pm line 2018.
Use of uninitialized value $rv in lc at ../blib/lib/Apache/ASP.pm line 2018.
Use of uninitialized value $rv in lc at ../blib/lib/Apache/ASP.pm line 2018.
Use of uninitialized value $rv in lc at ../blib/lib/Apache/ASP.pm line 2018.
Use of uninitialized value $rv in lc at ../blib/lib/Apache/ASP.pm line 2018.
t/asp-perl1.t ............ ok
Use of uninitialized value $rv in lc at ../../blib/lib/Apache/ASP.pm line 2018.
Use of uninitialized value $rv in lc at ../../blib/lib/Apache/ASP.pm line 2018.
Use of uninitialized value $rv in lc at ../../blib/lib/Apache/ASP.pm line 2018.
Use of uninitialized value $rv in lc at ../../blib/lib/Apache/ASP.pm line 2018.
Use of uninitialized value $rv in lc at ../../blib/lib/Apache/ASP.pm line 2018.
Use of uninitialized value $rv in lc at ../../blib/lib/Apache/ASP.pm line 2018.
Use of uninitialized value $rv in lc at ../../blib/lib/Apache/ASP.pm line 2018.
Use of uninitialized value $rv in lc at ../../blib/lib/Apache/ASP.pm line 2018.
Use of uninitialized value $rv in lc at ../../blib/lib/Apache/ASP.pm line 2018.
Use of uninitialized value $rv in lc at ../../blib/lib/Apache/ASP.pm line 2018.
t/asp-perl2.t ............ ok
Use of uninitialized value $rv in lc at /smoker/5.12.1/cpan/build/Apache-ASP-2.62-EvzZx0/blib/lib/Apache/ASP.pm line 2018.
Use of uninitialized value $rv in lc at /smoker/5.12.1/cpan/build/Apache-ASP-2.62-EvzZx0/blib/lib/Apache/ASP.pm line 2018.
Use of uninitialized value $rv in lc at /smoker/5.12.1/cpan/build/Apache-ASP-2.62-EvzZx0/blib/lib/Apache/ASP.pm line 2018.
Use of uninitialized value $rv in lc at /smoker/5.12.1/cpan/build/Apache-ASP-2.62-EvzZx0/blib/lib/Apache/ASP.pm line 2018.
Use of uninitialized value $rv in lc at /smoker/5.12.1/cpan/build/Apache-ASP-2.62-EvzZx0/blib/lib/Apache/ASP.pm line 2018.
Use of uninitialized value $rv in lc at /smoker/5.12.1/cpan/build/Apache-ASP-2.62-EvzZx0/blib/lib/Apache/ASP.pm line 2018.
Use of uninitialized value $rv in lc at /smoker/5.12.1/cpan/build/Apache-ASP-2.62-EvzZx0/blib/lib/Apache/ASP.pm line 2018.
Use of uninitialized value $rv in lc at /smoker/5.12.1/cpan/build/Apache-ASP-2.62-EvzZx0/blib/lib/Apache/ASP.pm line 2018.
Use of uninitialized value $rv in lc at /smoker/5.12.1/cpan/build/Apache-ASP-2.62-EvzZx0/blib/lib/Apache/ASP.pm line 2018.
Use of uninitialized value $rv in lc at /smoker/5.12.1/cpan/build/Apache-ASP-2.62-EvzZx0/blib/lib/Apache/ASP.pm line 2018.
Use of uninitialized value $rv in lc at /smoker/5.12.1/cpan/build/Apache-ASP-2.62-EvzZx0/blib/lib/Apache/ASP.pm line 2018.
Use of uninitialized value $rv in lc at /smoker/5.12.1/cpan/build/Apache-ASP-2.62-EvzZx0/blib/lib/Apache/ASP.pm line 2018.
Use of uninitialized value $rv in lc at /smoker/5.12.1/cpan/build/Apache-ASP-2.62-EvzZx0/blib/lib/Apache/ASP.pm line 2018.
Use of uninitialized value $rv in lc at /smoker/5.12.1/cpan/build/Apache-ASP-2.62-EvzZx0/blib/lib/Apache/ASP.pm line 2018.
Use of uninitialized value $rv in lc at /smoker/5.12.1/cpan/build/Apache-ASP-2.62-EvzZx0/blib/lib/Apache/ASP.pm line 2018.
Use of uninitialized value $rv in lc at /smoker/5.12.1/cpan/build/Apache-ASP-2.62-EvzZx0/blib/lib/Apache/ASP.pm line 2018.
Use of uninitialized value $rv in lc at /smoker/5.12.1/cpan/build/Apache-ASP-2.62-EvzZx0/blib/lib/Apache/ASP.pm line 2018.
Use of uninitialized value $rv in lc at /smoker/5.12.1/cpan/build/Apache-ASP-2.62-EvzZx0/blib/lib/Apache/ASP.pm line 2018.
Use of uninitialized value $rv in lc at /smoker/5.12.1/cpan/build/Apache-ASP-2.62-EvzZx0/blib/lib/Apache/ASP.pm line 2018.
Use of uninitialized value $rv in lc at /smoker/5.12.1/cpan/build/Apache-ASP-2.62-EvzZx0/blib/lib/Apache/ASP.pm line 2018.
Use of uninitialized value $rv in lc at /smoker/5.12.1/cpan/build/Apache-ASP-2.62-EvzZx0/blib/lib/Apache/ASP.pm line 2018.
Use of uninitialized value $rv in lc at /smoker/5.12.1/cpan/build/Apache-ASP-2.62-EvzZx0/blib/lib/Apache/ASP.pm line 2018.
t/asp_object.t ........... ok
Use of uninitialized value $rv in lc at /smoker/5.12.1/cpan/build/Apache-ASP-2.62-EvzZx0/blib/lib/Apache/ASP.pm line 2018.
Use of uninitialized value $rv in lc at /smoker/5.12.1/cpan/build/Apache-ASP-2.62-EvzZx0/blib/lib/Apache/ASP.pm line 2018.
Use of uninitialized value $rv in lc at /smoker/5.12.1/cpan/build/Apache-ASP-2.62-EvzZx0/blib/lib/Apache/ASP.pm line 2018.
Use of uninitialized value $rv in lc at /smoker/5.12.1/cpan/build/Apache-ASP-2.62-EvzZx0/blib/lib/Apache/ASP.pm line 2018.
Use of uninitialized value $rv in lc at /smoker/5.12.1/cpan/build/Apache-ASP-2.62-EvzZx0/blib/lib/Apache/ASP.pm line 2018.
Use of uninitialized value $rv in lc at /smoker/5.12.1/cpan/build/Apache-ASP-2.62-EvzZx0/blib/lib/Apache/ASP.pm line 2018.
Use of uninitialized value $rv in lc at /smoker/5.12.1/cpan/build/Apache-ASP-2.62-EvzZx0/blib/lib/Apache/ASP.pm line 2018.
Use of uninitialized value $rv in lc at /smoker/5.12.1/cpan/build/Apache-ASP-2.62-EvzZx0/blib/lib/Apache/ASP.pm line 2018.
Use of uninitialized value $rv in lc at /smoker/5.12.1/cpan/build/Apache-ASP-2.62-EvzZx0/blib/lib/Apache/ASP.pm line 2018.
Use of uninitialized value $rv in lc at /smoker/5.12.1/cpan/build/Apache-ASP-2.62-EvzZx0/blib/lib/Apache/ASP.pm line 2018.
t/cache.t ................ ok
Use of uninitialized value $rv in lc at /smoker/5.12.1/cpan/build/Apache-ASP-2.62-EvzZx0/blib/lib/Apache/ASP.pm line 2018.
Use of uninitialized value $rv in lc at /smoker/5.12.1/cpan/build/Apache-ASP-2.62-EvzZx0/blib/lib/Apache/ASP.pm line 2018.
Use of uninitialized value $rv in lc at /smoker/5.12.1/cpan/build/Apache-ASP-2.62-EvzZx0/blib/lib/Apache/ASP.pm line 2018.
Use of uninitialized value $rv in lc at /smoker/5.12.1/cpan/build/Apache-ASP-2.62-EvzZx0/blib/lib/Apache/ASP.pm line 2018.
Use of uninitialized value $rv in lc at /smoker/5.12.1/cpan/build/Apache-ASP-2.62-EvzZx0/blib/lib/Apache/ASP.pm line 2018.
Use of uninitialized value $rv in lc at /smoker/5.12.1/cpan/build/Apache-ASP-2.62-EvzZx0/blib/lib/Apache/ASP.pm line 2018.
Use of uninitialized value $rv in lc at /smoker/5.12.1/cpan/build/Apache-ASP-2.62-EvzZx0/blib/lib/Apache/ASP.pm line 2018.
Use of uninitialized value $rv in lc at /smoker/5.12.1/cpan/build/Apache-ASP-2.62-EvzZx0/blib/lib/Apache/ASP.pm line 2018.
Use of uninitialized value $rv in lc at /smoker/5.12.1/cpan/build/Apache-ASP-2.62-EvzZx0/blib/lib/Apache/ASP.pm line 2018.
Use of uninitialized value $rv in lc at /smoker/5.12.1/cpan/build/Apache-ASP-2.62-EvzZx0/blib/lib/Apache/ASP.pm line 2018.
t/cgi_headers.t .......... ok
Use of uninitialized value $rv in lc at /smoker/5.12.1/cpan/build/Apache-ASP-2.62-EvzZx0/blib/lib/Apache/ASP.pm line 2018.
Use of uninitialized value $rv in lc at /smoker/5.12.1/cpan/build/Apache-ASP-2.62-EvzZx0/blib/lib/Apache/ASP.pm line 2018.
Use of uninitialized value $rv in lc at /smoker/5.12.1/cpan/build/Apache-ASP-2.62-EvzZx0/blib/lib/Apache/ASP.pm line 2018.
Use of uninitialized value $rv in lc at /smoker/5.12.1/cpan/build/Apache-ASP-2.62-EvzZx0/blib/lib/Apache/ASP.pm line 2018.
Use of uninitialized value $rv in lc at /smoker/5.12.1/cpan/build/Apache-ASP-2.62-EvzZx0/blib/lib/Apache/ASP.pm line 2018.
Use of uninitialized value $rv in lc at /smoker/5.12.1/cpan/build/Apache-ASP-2.62-EvzZx0/blib/lib/Apache/ASP.pm line 2018.
Use of uninitialized value $rv in lc at /smoker/5.12.1/cpan/build/Apache-ASP-2.62-EvzZx0/blib/lib/Apache/ASP.pm line 2018.
Use of uninitialized value $rv in lc at /smoker/5.12.1/cpan/build/Apache-ASP-2.62-EvzZx0/blib/lib/Apache/ASP.pm line 2018.
Use of uninitialized value $rv in lc at /smoker/5.12.1/cpan/build/Apache-ASP-2.62-EvzZx0/blib/lib/Apache/ASP.pm line 2018.
t/closure.t .............. ok
Use of uninitialized value $rv in lc at /smoker/5.12.1/cpan/build/Apache-ASP-2.62-EvzZx0/blib/lib/Apache/ASP.pm line 2018.
Use of uninitialized value $rv in lc at /smoker/5.12.1/cpan/build/Apache-ASP-2.62-EvzZx0/blib/lib/Apache/ASP.pm line 2018.
Use of uninitialized value $rv in lc at /smoker/5.12.1/cpan/build/Apache-ASP-2.62-EvzZx0/blib/lib/Apache/ASP.pm line 2018.
Use of uninitialized value $rv in lc at /smoker/5.12.1/cpan/build/Apache-ASP-2.62-EvzZx0/blib/lib/Apache/ASP.pm line 2018.
Use of uninitialized value $rv in lc at /smoker/5.12.1/cpan/build/Apache-ASP-2.62-EvzZx0/blib/lib/Apache/ASP.pm line 2018.
Use of uninitialized value $rv in lc at /smoker/5.12.1/cpan/build/Apache-ASP-2.62-EvzZx0/blib/lib/Apache/ASP.pm line 2018.
Use of uninitialized value $rv in lc at /smoker/5.12.1/cpan/build/Apache-ASP-2.62-EvzZx0/blib/lib/Apache/ASP.pm line 2018.
Use of uninitialized value $rv in lc at /smoker/5.12.1/cpan/build/Apache-ASP-2.62-EvzZx0/blib/lib/Apache/ASP.pm line 2018.
Use of uninitialized value $rv in lc at /smoker/5.12.1/cpan/build/Apache-ASP-2.62-EvzZx0/blib/lib/Apache/ASP.pm line 2018.
Use of uninitialized value $rv in lc at /smoker/5.12.1/cpan/build/Apache-ASP-2.62-EvzZx0/blib/lib/Apache/ASP.pm line 2018.
Use of uninitialized value $rv in lc at /smoker/5.12.1/cpan/build/Apache-ASP-2.62-EvzZx0/blib/lib/Apache/ASP.pm line 2018.
t/collection.t ........... ok
Use of uninitialized value $rv in lc at /smoker/5.12.1/cpan/build/Apache-ASP-2.62-EvzZx0/blib/lib/Apache/ASP.pm line 2018.
Use of uninitialized value $rv in lc at /smoker/5.12.1/cpan/build/Apache-ASP-2.62-EvzZx0/blib/lib/Apache/ASP.pm line 2018.
Use of uninitialized value $rv in lc at /smoker/5.12.1/cpan/build/Apache-ASP-2.62-EvzZx0/blib/lib/Apache/ASP.pm line 2018.
Use of uninitialized value $rv in lc at /smoker/5.12.1/cpan/build/Apache-ASP-2.62-EvzZx0/blib/lib/Apache/ASP.pm line 2018.
Use of uninitialized value $rv in lc at /smoker/5.12.1/cpan/build/Apache-ASP-2.62-EvzZx0/blib/lib/Apache/ASP.pm line 2018.
Use of uninitialized value $rv in lc at /smoker/5.12.1/cpan/build/Apache-ASP-2.62-EvzZx0/blib/lib/Apache/ASP.pm line 2018.
Use of uninitialized value $rv in lc at /smoker/5.12.1/cpan/build/Apache-ASP-2.62-EvzZx0/blib/lib/Apache/ASP.pm line 2018.
Use of uninitialized value $rv in lc at /smoker/5.12.1/cpan/build/Apache-ASP-2.62-EvzZx0/blib/lib/Apache/ASP.pm line 2018.
Use of uninitialized value $rv in lc at /smoker/5.12.1/cpan/build/Apache-ASP-2.62-EvzZx0/blib/lib/Apache/ASP.pm line 2018.
Use of uninitialized value $rv in lc at /smoker/5.12.1/cpan/build/Apache-ASP-2.62-EvzZx0/blib/lib/Apache/ASP.pm line 2018.
Use of uninitialized value $rv in lc at /smoker/5.12.1/cpan/build/Apache-ASP-2.62-EvzZx0/blib/lib/Apache/ASP.pm line 2018.
t/collectionitem.t ....... ok
Use of uninitialized value $rv in lc at /smoker/5.12.1/cpan/build/Apache-ASP-2.62-EvzZx0/blib/lib/Apache/ASP.pm line 2018.
Use of uninitialized value $rv in lc at /smoker/5.12.1/cpan/build/Apache-ASP-2.62-EvzZx0/blib/lib/Apache/ASP.pm line 2018.
Use of uninitialized value $rv in lc at /smoker/5.12.1/cpan/build/Apache-ASP-2.62-EvzZx0/blib/lib/Apache/ASP.pm line 2018.
Use of uninitialized value $rv in lc at /smoker/5.12.1/cpan/build/Apache-ASP-2.62-EvzZx0/blib/lib/Apache/ASP.pm line 2018.
Use of uninitialized value $rv in lc at /smoker/5.12.1/cpan/build/Apache-ASP-2.62-EvzZx0/blib/lib/Apache/ASP.pm line 2018.
Use of uninitialized value $rv in lc at /smoker/5.12.1/cpan/build/Apache-ASP-2.62-EvzZx0/blib/lib/Apache/ASP.pm line 2018.
Use of uninitialized value $rv in lc at /smoker/5.12.1/cpan/build/Apache-ASP-2.62-EvzZx0/blib/lib/Apache/ASP.pm line 2018.
Use of uninitialized value $rv in lc at /smoker/5.12.1/cpan/build/Apache-ASP-2.62-EvzZx0/blib/lib/Apache/ASP.pm line 2018.
Use of uninitialized value $rv in lc at /smoker/5.12.1/cpan/build/Apache-ASP-2.62-EvzZx0/blib/lib/Apache/ASP.pm line 2018.
Use of uninitialized value $rv in lc at /smoker/5.12.1/cpan/build/Apache-ASP-2.62-EvzZx0/blib/lib/Apache/ASP.pm line 2018.
t/cookies.t .............. ok
Use of uninitialized value $rv in lc at /smoker/5.12.1/cpan/build/Apache-ASP-2.62-EvzZx0/blib/lib/Apache/ASP.pm line 2018.
Use of uninitialized value $rv in lc at /smoker/5.12.1/cpan/build/Apache-ASP-2.62-EvzZx0/blib/lib/Apache/ASP.pm line 2018.
Use of uninitialized value $rv in lc at /smoker/5.12.1/cpan/build/Apache-ASP-2.62-EvzZx0/blib/lib/Apache/ASP.pm line 2018.
Use of uninitialized value $rv in lc at /smoker/5.12.1/cpan/build/Apache-ASP-2.62-EvzZx0/blib/lib/Apache/ASP.pm line 2018.
Use of uninitialized value $rv in lc at /smoker/5.12.1/cpan/build/Apache-ASP-2.62-EvzZx0/blib/lib/Apache/ASP.pm line 2018.
Use of uninitialized value $rv in lc at /smoker/5.12.1/cpan/build/Apache-ASP-2.62-EvzZx0/blib/lib/Apache/ASP.pm line 2018.
Use of uninitialized value $rv in lc at /smoker/5.12.1/cpan/build/Apache-ASP-2.62-EvzZx0/blib/lib/Apache/ASP.pm line 2018.
Use of uninitialized value $rv in lc at /smoker/5.12.1/cpan/build/Apache-ASP-2.62-EvzZx0/blib/lib/Apache/ASP.pm line 2018.
Use of uninitialized value $rv in lc at /smoker/5.12.1/cpan/build/Apache-ASP-2.62-EvzZx0/blib/lib/Apache/ASP.pm line 2018.
Use of uninitialized value $rv in lc at /smoker/5.12.1/cpan/build/Apache-ASP-2.62-EvzZx0/blib/lib/Apache/ASP.pm line 2018.
Use of uninitialized value $rv in lc at /smoker/5.12.1/cpan/build/Apache-ASP-2.62-EvzZx0/blib/lib/Apache/ASP.pm line 2018.
Use of uninitialized value $rv in lc at /smoker/5.12.1/cpan/build/Apache-ASP-2.62-EvzZx0/blib/lib/Apache/ASP.pm line 2018.
Use of uninitialized value $rv in lc at /smoker/5.12.1/cpan/build/Apache-ASP-2.62-EvzZx0/blib/lib/Apache/ASP.pm line 2018.
Use of uninitialized value $rv in lc at /smoker/5.12.1/cpan/build/Apache-ASP-2.62-EvzZx0/blib/lib/Apache/ASP.pm line 2018.
Use of uninitialized value $rv in lc at /smoker/5.12.1/cpan/build/Apache-ASP-2.62-EvzZx0/blib/lib/Apache/ASP.pm line 2018.
Use of uninitialized value $rv in lc at /smoker/5.12.1/cpan/build/Apache-ASP-2.62-EvzZx0/blib/lib/Apache/ASP.pm line 2018.
Use of uninitialized value $rv in lc at /smoker/5.12.1/cpan/build/Apache-ASP-2.62-EvzZx0/blib/lib/Apache/ASP.pm line 2018.
Use of uninitialized value $rv in lc at /smoker/5.12.1/cpan/build/Apache-ASP-2.62-EvzZx0/blib/lib/Apache/ASP.pm line 2018.
Use of uninitialized value $rv in lc at /smoker/5.12.1/cpan/build/Apache-ASP-2.62-EvzZx0/blib/lib/Apache/ASP.pm line 2018.
Use of uninitialized value $rv in lc at /smoker/5.12.1/cpan/build/Apache-ASP-2.62-EvzZx0/blib/lib/Apache/ASP.pm line 2018.
Use of uninitialized value $rv in lc at /smoker/5.12.1/cpan/build/Apache-ASP-2.62-EvzZx0/blib/lib/Apache/ASP.pm line 2018.
Use of uninitialized value $rv in lc at /smoker/5.12.1/cpan/build/Apache-ASP-2.62-EvzZx0/blib/lib/Apache/ASP.pm line 2018.
Use of uninitialized value $rv in lc at /smoker/5.12.1/cpan/build/Apache-ASP-2.62-EvzZx0/blib/lib/Apache/ASP.pm line 2018.
Use of uninitialized value $rv in lc at /smoker/5.12.1/cpan/build/Apache-ASP-2.62-EvzZx0/blib/lib/Apache/ASP.pm line 2018.
Use of uninitialized value $rv in lc at /smoker/5.12.1/cpan/build/Apache-ASP-2.62-EvzZx0/blib/lib/Apache/ASP.pm line 2018.
Use of uninitialized value $rv in lc at /smoker/5.12.1/cpan/build/Apache-ASP-2.62-EvzZx0/blib/lib/Apache/ASP.pm line 2018.
Use of uninitialized value $rv in lc at /smoker/5.12.1/cpan/build/Apache-ASP-2.62-EvzZx0/blib/lib/Apache/ASP.pm line 2018.
Use of uninitialized value $rv in lc at /smoker/5.12.1/cpan/build/Apache-ASP-2.62-EvzZx0/blib/lib/Apache/ASP.pm line 2018.
Use of uninitialized value $rv in lc at /smoker/5.12.1/cpan/build/Apache-ASP-2.62-EvzZx0/blib/lib/Apache/ASP.pm line 2018.
Use of uninitialized value $rv in lc at /smoker/5.12.1/cpan/build/Apache-ASP-2.62-EvzZx0/blib/lib/Apache/ASP.pm line 2018.
Use of uninitialized value $rv in lc at /smoker/5.12.1/cpan/build/Apache-ASP-2.62-EvzZx0/blib/lib/Apache/ASP.pm line 2018.
Use of uninitialized value $rv in lc at /smoker/5.12.1/cpan/build/Apache-ASP-2.62-EvzZx0/blib/lib/Apache/ASP.pm line 2018.
Use of uninitialized value $rv in lc at /smoker/5.12.1/cpan/build/Apache-ASP-2.62-EvzZx0/blib/lib/Apache/ASP.pm line 2018.
Use of uninitialized value $rv in lc at /smoker/5.12.1/cpan/build/Apache-ASP-2.62-EvzZx0/blib/lib/Apache/ASP.pm line 2018.
Use of uninitialized value $rv in lc at /smoker/5.12.1/cpan/build/Apache-ASP-2.62-EvzZx0/blib/lib/Apache/ASP.pm line 2018.
Use of uninitialized value $rv in lc at /smoker/5.12.1/cpan/build/Apache-ASP-2.62-EvzZx0/blib/lib/Apache/ASP.pm line 2018.
Use of uninitialized value $rv in lc at /smoker/5.12.1/cpan/build/Apache-ASP-2.62-EvzZx0/blib/lib/Apache/ASP.pm line 2018.
Use of uninitialized value $rv in lc at /smoker/5.12.1/cpan/build/Apache-ASP-2.62-EvzZx0/blib/lib/Apache/ASP.pm line 2018.
Use of uninitialized value $rv in lc at /smoker/5.12.1/cpan/build/Apache-ASP-2.62-EvzZx0/blib/lib/Apache/ASP.pm line 2018.
Use of uninitialized value $rv in lc at /smoker/5.12.1/cpan/build/Apache-ASP-2.62-EvzZx0/blib/lib/Apache/ASP.pm line 2018.
Use of uninitialized value $rv in lc at /smoker/5.12.1/cpan/build/Apache-ASP-2.62-EvzZx0/blib/lib/Apache/ASP.pm line 2018.
Use of uninitialized value $rv in lc at /smoker/5.12.1/cpan/build/Apache-ASP-2.62-EvzZx0/blib/lib/Apache/ASP.pm line 2018.
Use of uninitialized value $rv in lc at /smoker/5.12.1/cpan/build/Apache-ASP-2.62-EvzZx0/blib/lib/Apache/ASP.pm line 2018.
Use of uninitialized value $rv in lc at /smoker/5.12.1/cpan/build/Apache-ASP-2.62-EvzZx0/blib/lib/Apache/ASP.pm line 2018.
Use of uninitialized value $rv in lc at /smoker/5.12.1/cpan/build/Apache-ASP-2.62-EvzZx0/blib/lib/Apache/ASP.pm line 2018.
Use of uninitialized value $rv in lc at /smoker/5.12.1/cpan/build/Apache-ASP-2.62-EvzZx0/blib/lib/Apache/ASP.pm line 2018.
Use of uninitialized value $rv in lc at /smoker/5.12.1/cpan/build/Apache-ASP-2.62-EvzZx0/blib/lib/Apache/ASP.pm line 2018.
Use of uninitialized value $rv in lc at /smoker/5.12.1/cpan/build/Apache-ASP-2.62-EvzZx0/blib/lib/Apache/ASP.pm line 2018.
Use of uninitialized value $rv in lc at /smoker/5.12.1/cpan/build/Apache-ASP-2.62-EvzZx0/blib/lib/Apache/ASP.pm line 2018.
Use of uninitialized value $rv in lc at /smoker/5.12.1/cpan/build/Apache-ASP-2.62-EvzZx0/blib/lib/Apache/ASP.pm line 2018.
Use of uninitialized value $rv in lc at /smoker/5.12.1/cpan/build/Apache-ASP-2.62-EvzZx0/blib/lib/Apache/ASP.pm line 2018.
Use of uninitialized value $rv in lc at /smoker/5.12.1/cpan/build/Apache-ASP-2.62-EvzZx0/blib/lib/Apache/ASP.pm line 2018.
Use of uninitialized value $rv in lc at /smoker/5.12.1/cpan/build/Apache-ASP-2.62-EvzZx0/blib/lib/Apache/ASP.pm line 2018.
Use of uninitialized value $rv in lc at /smoker/5.12.1/cpan/build/Apache-ASP-2.62-EvzZx0/blib/lib/Apache/ASP.pm line 2018.
t/end.t .................. ok
Use of uninitialized value $rv in lc at /smoker/5.12.1/cpan/build/Apache-ASP-2.62-EvzZx0/blib/lib/Apache/ASP.pm line 2018.
Use of uninitialized value $rv in lc at /smoker/5.12.1/cpan/build/Apache-ASP-2.62-EvzZx0/blib/lib/Apache/ASP.pm line 2018.
Use of uninitialized value $rv in lc at /smoker/5.12.1/cpan/build/Apache-ASP-2.62-EvzZx0/blib/lib/Apache/ASP.pm line 2018.
Use of uninitialized value $rv in lc at /smoker/5.12.1/cpan/build/Apache-ASP-2.62-EvzZx0/blib/lib/Apache/ASP.pm line 2018.
Use of uninitialized value $rv in lc at /smoker/5.12.1/cpan/build/Apache-ASP-2.62-EvzZx0/blib/lib/Apache/ASP.pm line 2018.
Use of uninitialized value $rv in lc at /smoker/5.12.1/cpan/build/Apache-ASP-2.62-EvzZx0/blib/lib/Apache/ASP.pm line 2018.
Use of uninitialized value $rv in lc at /smoker/5.12.1/cpan/build/Apache-ASP-2.62-EvzZx0/blib/lib/Apache/ASP.pm line 2018.
Use of uninitialized value $rv in lc at /smoker/5.12.1/cpan/build/Apache-ASP-2.62-EvzZx0/blib/lib/Apache/ASP.pm line 2018.
Use of uninitialized value $rv in lc at /smoker/5.12.1/cpan/build/Apache-ASP-2.62-EvzZx0/blib/lib/Apache/ASP.pm line 2018.
Use of uninitialized value $rv in lc at /smoker/5.12.1/cpan/build/Apache-ASP-2.62-EvzZx0/blib/lib/Apache/ASP.pm line 2018.
Use of uninitialized value $rv in lc at /smoker/5.12.1/cpan/build/Apache-ASP-2.62-EvzZx0/blib/lib/Apache/ASP.pm line 2018.
t/general.t .............. ok
Use of uninitialized value $rv in lc at /smoker/5.12.1/cpan/build/Apache-ASP-2.62-EvzZx0/blib/lib/Apache/ASP.pm line 2018.
Use of uninitialized value $rv in lc at /smoker/5.12.1/cpan/build/Apache-ASP-2.62-EvzZx0/blib/lib/Apache/ASP.pm line 2018.
Use of uninitialized value $rv in lc at /smoker/5.12.1/cpan/build/Apache-ASP-2.62-EvzZx0/blib/lib/Apache/ASP.pm line 2018.
Use of uninitialized value $rv in lc at /smoker/5.12.1/cpan/build/Apache-ASP-2.62-EvzZx0/blib/lib/Apache/ASP.pm line 2018.
Use of uninitialized value $rv in lc at /smoker/5.12.1/cpan/build/Apache-ASP-2.62-EvzZx0/blib/lib/Apache/ASP.pm line 2018.
Use of uninitialized value $rv in lc at /smoker/5.12.1/cpan/build/Apache-ASP-2.62-EvzZx0/blib/lib/Apache/ASP.pm line 2018.
Use of uninitialized value $rv in lc at /smoker/5.12.1/cpan/build/Apache-ASP-2.62-EvzZx0/blib/lib/Apache/ASP.pm line 2018.
Use of uninitialized value $rv in lc at /smoker/5.12.1/cpan/build/Apache-ASP-2.62-EvzZx0/blib/lib/Apache/ASP.pm line 2018.
Use of uninitialized value $rv in lc at /smoker/5.12.1/cpan/build/Apache-ASP-2.62-EvzZx0/blib/lib/Apache/ASP.pm line 2018.
Use of uninitialized value $rv in lc at /smoker/5.12.1/cpan/build/Apache-ASP-2.62-EvzZx0/blib/lib/Apache/ASP.pm line 2018.
t/global_event_end.t ..... ok
Use of uninitialized value $rv in lc at /smoker/5.12.1/cpan/build/Apache-ASP-2.62-EvzZx0/blib/lib/Apache/ASP.pm line 2018.
Use of uninitialized value $rv in lc at /smoker/5.12.1/cpan/build/Apache-ASP-2.62-EvzZx0/blib/lib/Apache/ASP.pm line 2018.
Use of uninitialized value $rv in lc at /smoker/5.12.1/cpan/build/Apache-ASP-2.62-EvzZx0/blib/lib/Apache/ASP.pm line 2018.
Use of uninitialized value $rv in lc at /smoker/5.12.1/cpan/build/Apache-ASP-2.62-EvzZx0/blib/lib/Apache/ASP.pm line 2018.
Use of uninitialized value $rv in lc at /smoker/5.12.1/cpan/build/Apache-ASP-2.62-EvzZx0/blib/lib/Apache/ASP.pm line 2018.
Use of uninitialized value $rv in lc at /smoker/5.12.1/cpan/build/Apache-ASP-2.62-EvzZx0/blib/lib/Apache/ASP.pm line 2018.
Use of uninitialized value $rv in lc at /smoker/5.12.1/cpan/build/Apache-ASP-2.62-EvzZx0/blib/lib/Apache/ASP.pm line 2018.
Use of uninitialized value $rv in lc at /smoker/5.12.1/cpan/build/Apache-ASP-2.62-EvzZx0/blib/lib/Apache/ASP.pm line 2018.
Use of uninitialized value $rv in lc at /smoker/5.12.1/cpan/build/Apache-ASP-2.62-EvzZx0/blib/lib/Apache/ASP.pm line 2018.
Use of uninitialized value $rv in lc at /smoker/5.12.1/cpan/build/Apache-ASP-2.62-EvzZx0/blib/lib/Apache/ASP.pm line 2018.
t/include.t .............. ok
Use of uninitialized value $rv in lc at /smoker/5.12.1/cpan/build/Apache-ASP-2.62-EvzZx0/blib/lib/Apache/ASP.pm line 2018.
 at /smoker/5.12.1/cpan/build/Apache-ASP-2.62-EvzZx0/blib/lib/Apache/ASP.pm line 2018
	Apache::ASP::get_dir_config('Apache::ASP::CGI::Table=HASH(0x9bd74f0)', 'Global') called at /smoker/5.12.1/cpan/build/Apache-ASP-2.62-EvzZx0/blib/lib/Apache/ASP.pm line 276
	Apache::ASP::new('Apache::ASP', 'Apache::ASP::CGI=HASH(0x9bd68e0)', 't/include_change.t') called at /smoker/5.12.1/cpan/build/Apache-ASP-2.62-EvzZx0/blib/lib/Apache/ASP.pm line 184
	Apache::ASP::handler('Apache::ASP::CGI=HASH(0x9bd68e0)') called at /smoker/5.12.1/cpan/build/Apache-ASP-2.62-EvzZx0/blib/lib/Apache/ASP/CGI.pm line 40
	Apache::ASP::CGI::do_self('NoState', 1, 'Debug', 0, 'UseStrict', 0) called at t/include_change.t line 5
Use of uninitialized value $rv in lc at /smoker/5.12.1/cpan/build/Apache-ASP-2.62-EvzZx0/blib/lib/Apache/ASP.pm line 2018.
 at /smoker/5.12.1/cpan/build/Apache-ASP-2.62-EvzZx0/blib/lib/Apache/ASP.pm line 2018
	Apache::ASP::get_dir_config('Apache::ASP::CGI::Table=HASH(0x9bd74f0)', 'GlobalPackage') called at /smoker/5.12.1/cpan/build/Apache-ASP-2.62-EvzZx0/blib/lib/Apache/ASP.pm line 280
	Apache::ASP::new('Apache::ASP', 'Apache::ASP::CGI=HASH(0x9bd68e0)', 't/include_change.t') called at /smoker/5.12.1/cpan/build/Apache-ASP-2.62-EvzZx0/blib/lib/Apache/ASP.pm line 184
	Apache::ASP::handler('Apache::ASP::CGI=HASH(0x9bd68e0)') called at /smoker/5.12.1/cpan/build/Apache-ASP-2.62-EvzZx0/blib/lib/Apache/ASP/CGI.pm line 40
	Apache::ASP::CGI::do_self('NoState', 1, 'Debug', 0, 'UseStrict', 0) called at t/include_change.t line 5
Use of uninitialized value $rv in lc at /smoker/5.12.1/cpan/build/Apache-ASP-2.62-EvzZx0/blib/lib/Apache/ASP.pm line 2018.
 at /smoker/5.12.1/cpan/build/Apache-ASP-2.62-EvzZx0/blib/lib/Apache/ASP.pm line 2018
	Apache::ASP::get_dir_config('Apache::ASP::CGI::Table=HASH(0x9bd74f0)', 'InodeNames') called at /smoker/5.12.1/cpan/build/Apache-ASP-2.62-EvzZx0/blib/lib/Apache/ASP.pm line 280
	Apache::ASP::new('Apache::ASP', 'Apache::ASP::CGI=HASH(0x9bd68e0)', 't/include_change.t') called at /smoker/5.12.1/cpan/build/Apache-ASP-2.62-EvzZx0/blib/lib/Apache/ASP.pm line 184
	Apache::ASP::handler('Apache::ASP::CGI=HASH(0x9bd68e0)') called at /smoker/5.12.1/cpan/build/Apache-ASP-2.62-EvzZx0/blib/lib/Apache/ASP/CGI.pm line 40
	Apache::ASP::CGI::do_self('NoState', 1, 'Debug', 0, 'UseStrict', 0) called at t/include_change.t line 5
Use of uninitialized value $rv in lc at /smoker/5.12.1/cpan/build/Apache-ASP-2.62-EvzZx0/blib/lib/Apache/ASP.pm line 2018.
 at /smoker/5.12.1/cpan/build/Apache-ASP-2.62-EvzZx0/blib/lib/Apache/ASP.pm line 2018
	Apache::ASP::get_dir_config('Apache::ASP::CGI::Table=HASH(0x9bd74f0)', 'NoCache') called at /smoker/5.12.1/cpan/build/Apache-ASP-2.62-EvzZx0/blib/lib/Apache/ASP.pm line 280
	Apache::ASP::new('Apache::ASP', 'Apache::ASP::CGI=HASH(0x9bd68e0)', 't/include_change.t') called at /smoker/5.12.1/cpan/build/Apache-ASP-2.62-EvzZx0/blib/lib/Apache/ASP.pm line 184
	Apache::ASP::handler('Apache::ASP::CGI=HASH(0x9bd68e0)') called at /smoker/5.12.1/cpan/build/Apache-ASP-2.62-EvzZx0/blib/lib/Apache/ASP/CGI.pm line 40
	Apache::ASP::CGI::do_self('NoState', 1, 'Debug', 0, 'UseStrict', 0) called at t/include_change.t line 5
Use of uninitialized value $rv in lc at /smoker/5.12.1/cpan/build/Apache-ASP-2.62-EvzZx0/blib/lib/Apache/ASP.pm line 2018.
 at /smoker/5.12.1/cpan/build/Apache-ASP-2.62-EvzZx0/blib/lib/Apache/ASP.pm line 2018
	Apache::ASP::get_dir_config('Apache::ASP::CGI::Table=HASH(0x9bd74f0)', 'StatINC') called at /smoker/5.12.1/cpan/build/Apache-ASP-2.62-EvzZx0/blib/lib/Apache/ASP.pm line 280
	Apache::ASP::new('Apache::ASP', 'Apache::ASP::CGI=HASH(0x9bd68e0)', 't/include_change.t') called at /smoker/5.12.1/cpan/build/Apache-ASP-2.62-EvzZx0/blib/lib/Apache/ASP.pm line 184
	Apache::ASP::handler('Apache::ASP::CGI=HASH(0x9bd68e0)') called at /smoker/5.12.1/cpan/build/Apache-ASP-2.62-EvzZx0/blib/lib/Apache/ASP/CGI.pm line 40
	Apache::ASP::CGI::do_self('NoState', 1, 'Debug', 0, 'UseStrict', 0) called at t/include_change.t line 5
Use of uninitialized value $rv in lc at /smoker/5.12.1/cpan/build/Apache-ASP-2.62-EvzZx0/blib/lib/Apache/ASP.pm line 2018.
 at /smoker/5.12.1/cpan/build/Apache-ASP-2.62-EvzZx0/blib/lib/Apache/ASP.pm line 2018
	Apache::ASP::get_dir_config('Apache::ASP::CGI::Table=HASH(0x9bd74f0)', 'StatINCMatch') called at /smoker/5.12.1/cpan/build/Apache-ASP-2.62-EvzZx0/blib/lib/Apache/ASP.pm line 280
	Apache::ASP::new('Apache::ASP', 'Apache::ASP::CGI=HASH(0x9bd68e0)', 't/include_change.t') called at /smoker/5.12.1/cpan/build/Apache-ASP-2.62-EvzZx0/blib/lib/Apache/ASP.pm line 184
	Apache::ASP::handler('Apache::ASP::CGI=HASH(0x9bd68e0)') called at /smoker/5.12.1/cpan/build/Apache-ASP-2.62-EvzZx0/blib/lib/Apache/ASP/CGI.pm line 40
	Apache::ASP::CGI::do_self('NoState', 1, 'Debug', 0, 'UseStrict', 0) called at t/include_change.t line 5
Use of uninitialized value $rv in lc at /smoker/5.12.1/cpan/build/Apache-ASP-2.62-EvzZx0/blib/lib/Apache/ASP.pm line 2018.
 at /smoker/5.12.1/cpan/build/Apache-ASP-2.62-EvzZx0/blib/lib/Apache/ASP.pm line 2018
	Apache::ASP::get_dir_config('Apache::ASP::CGI::Table=HASH(0x9bd74f0)', 'XSLT') called at /smoker/5.12.1/cpan/build/Apache-ASP-2.62-EvzZx0/blib/lib/Apache/ASP.pm line 280
	Apache::ASP::new('Apache::ASP', 'Apache::ASP::CGI=HASH(0x9bd68e0)', 't/include_change.t') called at /smoker/5.12.1/cpan/build/Apache-ASP-2.62-EvzZx0/blib/lib/Apache/ASP.pm line 184
	Apache::ASP::handler('Apache::ASP::CGI=HASH(0x9bd68e0)') called at /smoker/5.12.1/cpan/build/Apache-ASP-2.62-EvzZx0/blib/lib/Apache/ASP/CGI.pm line 40
	Apache::ASP::CGI::do_self('NoState', 1, 'Debug', 0, 'UseStrict', 0) called at t/include_change.t line 5
Use of uninitialized value $rv in lc at /smoker/5.12.1/cpan/build/Apache-ASP-2.62-EvzZx0/blib/lib/Apache/ASP.pm line 2018.
 at /smoker/5.12.1/cpan/build/Apache-ASP-2.62-EvzZx0/blib/lib/Apache/ASP.pm line 2018
	Apache::ASP::get_dir_config('Apache::ASP::CGI::Table=HASH(0x9bd74f0)', 'Filter') called at /smoker/5.12.1/cpan/build/Apache-ASP-2.62-EvzZx0/blib/lib/Apache/ASP.pm line 326
	Apache::ASP::new('Apache::ASP', 'Apache::ASP::CGI=HASH(0x9bd68e0)', 't/include_change.t') called at /smoker/5.12.1/cpan/build/Apache-ASP-2.62-EvzZx0/blib/lib/Apache/ASP.pm line 184
	Apache::ASP::handler('Apache::ASP::CGI=HASH(0x9bd68e0)') called at /smoker/5.12.1/cpan/build/Apache-ASP-2.62-EvzZx0/blib/lib/Apache/ASP/CGI.pm line 40
	Apache::ASP::CGI::do_self('NoState', 1, 'Debug', 0, 'UseStrict', 0) called at t/include_change.t line 5
Use of uninitialized value $rv in lc at /smoker/5.12.1/cpan/build/Apache-ASP-2.62-EvzZx0/blib/lib/Apache/ASP.pm line 2018.
 at /smoker/5.12.1/cpan/build/Apache-ASP-2.62-EvzZx0/blib/lib/Apache/ASP.pm line 2018
	Apache::ASP::get_dir_config('Apache::ASP::CGI::Table=HASH(0x9bd74f0)', 'CompressGzip') called at /smoker/5.12.1/cpan/build/Apache-ASP-2.62-EvzZx0/blib/lib/Apache/ASP.pm line 353
	Apache::ASP::new('Apache::ASP', 'Apache::ASP::CGI=HASH(0x9bd68e0)', 't/include_change.t') called at /smoker/5.12.1/cpan/build/Apache-ASP-2.62-EvzZx0/blib/lib/Apache/ASP.pm line 184
	Apache::ASP::handler('Apache::ASP::CGI=HASH(0x9bd68e0)') called at /smoker/5.12.1/cpan/build/Apache-ASP-2.62-EvzZx0/blib/lib/Apache/ASP/CGI.pm line 40
	Apache::ASP::CGI::do_self('NoState', 1, 'Debug', 0, 'UseStrict', 0) called at t/include_change.t line 5
t/include_change.t ....... ok
Use of uninitialized value $rv in lc at /smoker/5.12.1/cpan/build/Apache-ASP-2.62-EvzZx0/blib/lib/Apache/ASP.pm line 2018.
Use of uninitialized value $rv in lc at /smoker/5.12.1/cpan/build/Apache-ASP-2.62-EvzZx0/blib/lib/Apache/ASP.pm line 2018.
Use of uninitialized value $rv in lc at /smoker/5.12.1/cpan/build/Apache-ASP-2.62-EvzZx0/blib/lib/Apache/ASP.pm line 2018.
Use of uninitialized value $rv in lc at /smoker/5.12.1/cpan/build/Apache-ASP-2.62-EvzZx0/blib/lib/Apache/ASP.pm line 2018.
Use of uninitialized value $rv in lc at /smoker/5.12.1/cpan/build/Apache-ASP-2.62-EvzZx0/blib/lib/Apache/ASP.pm line 2018.
Use of uninitialized value $rv in lc at /smoker/5.12.1/cpan/build/Apache-ASP-2.62-EvzZx0/blib/lib/Apache/ASP.pm line 2018.
Use of uninitialized value $rv in lc at /smoker/5.12.1/cpan/build/Apache-ASP-2.62-EvzZx0/blib/lib/Apache/ASP.pm line 2018.
Use of uninitialized value $rv in lc at /smoker/5.12.1/cpan/build/Apache-ASP-2.62-EvzZx0/blib/lib/Apache/ASP.pm line 2018.
Use of uninitialized value $rv in lc at /smoker/5.12.1/cpan/build/Apache-ASP-2.62-EvzZx0/blib/lib/Apache/ASP.pm line 2018.
Use of uninitialized value $rv in lc at /smoker/5.12.1/cpan/build/Apache-ASP-2.62-EvzZx0/blib/lib/Apache/ASP.pm line 2018.
Use of uninitialized value $rv in lc at /smoker/5.12.1/cpan/build/Apache-ASP-2.62-EvzZx0/blib/lib/Apache/ASP.pm line 2018.
t/include_dir_error.t .... ok
Use of uninitialized value $rv in lc at /smoker/5.12.1/cpan/build/Apache-ASP-2.62-EvzZx0/blib/lib/Apache/ASP.pm line 2018.
Use of uninitialized value $rv in lc at /smoker/5.12.1/cpan/build/Apache-ASP-2.62-EvzZx0/blib/lib/Apache/ASP.pm line 2018.
Use of uninitialized value $rv in lc at /smoker/5.12.1/cpan/build/Apache-ASP-2.62-EvzZx0/blib/lib/Apache/ASP.pm line 2018.
Use of uninitialized value $rv in lc at /smoker/5.12.1/cpan/build/Apache-ASP-2.62-EvzZx0/blib/lib/Apache/ASP.pm line 2018.
Use of uninitialized value $rv in lc at /smoker/5.12.1/cpan/build/Apache-ASP-2.62-EvzZx0/blib/lib/Apache/ASP.pm line 2018.
Use of uninitialized value $rv in lc at /smoker/5.12.1/cpan/build/Apache-ASP-2.62-EvzZx0/blib/lib/Apache/ASP.pm line 2018.
Use of uninitialized value $rv in lc at /smoker/5.12.1/cpan/build/Apache-ASP-2.62-EvzZx0/blib/lib/Apache/ASP.pm line 2018.
Use of uninitialized value $rv in lc at /smoker/5.12.1/cpan/build/Apache-ASP-2.62-EvzZx0/blib/lib/Apache/ASP.pm line 2018.
Use of uninitialized value $rv in lc at /smoker/5.12.1/cpan/build/Apache-ASP-2.62-EvzZx0/blib/lib/Apache/ASP.pm line 2018.
Use of uninitialized value $rv in lc at /smoker/5.12.1/cpan/build/Apache-ASP-2.62-EvzZx0/blib/lib/Apache/ASP.pm line 2018.
Use of uninitialized value $rv in lc at /smoker/5.12.1/cpan/build/Apache-ASP-2.62-EvzZx0/blib/lib/Apache/ASP.pm line 2018.
t/include_runtime.t ...... ok
Use of uninitialized value $rv in lc at /smoker/5.12.1/cpan/build/Apache-ASP-2.62-EvzZx0/blib/lib/Apache/ASP.pm line 2018.
Use of uninitialized value $rv in lc at /smoker/5.12.1/cpan/build/Apache-ASP-2.62-EvzZx0/blib/lib/Apache/ASP.pm line 2018.
Use of uninitialized value $rv in lc at /smoker/5.12.1/cpan/build/Apache-ASP-2.62-EvzZx0/blib/lib/Apache/ASP.pm line 2018.
Use of uninitialized value $rv in lc at /smoker/5.12.1/cpan/build/Apache-ASP-2.62-EvzZx0/blib/lib/Apache/ASP.pm line 2018.
Use of uninitialized value $rv in lc at /smoker/5.12.1/cpan/build/Apache-ASP-2.62-EvzZx0/blib/lib/Apache/ASP.pm line 2018.
Use of uninitialized value $rv in lc at /smoker/5.12.1/cpan/build/Apache-ASP-2.62-EvzZx0/blib/lib/Apache/ASP.pm line 2018.
Use of uninitialized value $rv in lc at /smoker/5.12.1/cpan/build/Apache-ASP-2.62-EvzZx0/blib/lib/Apache/ASP.pm line 2018.
Use of uninitialized value $rv in lc at /smoker/5.12.1/cpan/build/Apache-ASP-2.62-EvzZx0/blib/lib/Apache/ASP.pm line 2018.
Use of uninitialized value $rv in lc at /smoker/5.12.1/cpan/build/Apache-ASP-2.62-EvzZx0/blib/lib/Apache/ASP.pm line 2018.
t/inode_names.t .......... ok
[ASP WARN] Use of uninitialized value $rv in lc at /smoker/5.12.1/cpan/build/Apache-ASP-2.62-EvzZx0/blib/lib/Apache/ASP.pm line 2018.
[ASP WARN] Use of uninitialized value $rv in lc at /smoker/5.12.1/cpan/build/Apache-ASP-2.62-EvzZx0/blib/lib/Apache/ASP.pm line 2018.
[ASP WARN] Use of uninitialized value $rv in lc at /smoker/5.12.1/cpan/build/Apache-ASP-2.62-EvzZx0/blib/lib/Apache/ASP.pm line 2018.
[ASP WARN] Use of uninitialized value $rv in lc at /smoker/5.12.1/cpan/build/Apache-ASP-2.62-EvzZx0/blib/lib/Apache/ASP.pm line 2018.
[ASP WARN] Use of uninitialized value $rv in lc at /smoker/5.12.1/cpan/build/Apache-ASP-2.62-EvzZx0/blib/lib/Apache/ASP.pm line 2018.
[ASP WARN] Use of uninitialized value $rv in lc at /smoker/5.12.1/cpan/build/Apache-ASP-2.62-EvzZx0/blib/lib/Apache/ASP.pm line 2018.
[ASP WARN] Use of uninitialized value $rv in lc at /smoker/5.12.1/cpan/build/Apache-ASP-2.62-EvzZx0/blib/lib/Apache/ASP.pm line 2018.
[ASP WARN] Use of uninitialized value $rv in lc at /smoker/5.12.1/cpan/build/Apache-ASP-2.62-EvzZx0/blib/lib/Apache/ASP.pm line 2018.
[ASP WARN] Use of uninitialized value $rv in lc at /smoker/5.12.1/cpan/build/Apache-ASP-2.62-EvzZx0/blib/lib/Apache/ASP.pm line 2018.
[ASP WARN] Use of uninitialized value $rv in lc at /smoker/5.12.1/cpan/build/Apache-ASP-2.62-EvzZx0/blib/lib/Apache/ASP.pm line 2018.
Use of uninitialized value $rv in lc at /smoker/5.12.1/cpan/build/Apache-ASP-2.62-EvzZx0/blib/lib/Apache/ASP.pm line 2018.
Use of uninitialized value $rv in lc at /smoker/5.12.1/cpan/build/Apache-ASP-2.62-EvzZx0/blib/lib/Apache/ASP.pm line 2018.
Use of uninitialized value $rv in lc at /smoker/5.12.1/cpan/build/Apache-ASP-2.62-EvzZx0/blib/lib/Apache/ASP.pm line 2018.
Use of uninitialized value $rv in lc at /smoker/5.12.1/cpan/build/Apache-ASP-2.62-EvzZx0/blib/lib/Apache/ASP.pm line 2018.
Use of uninitialized value $rv in lc at /smoker/5.12.1/cpan/build/Apache-ASP-2.62-EvzZx0/blib/lib/Apache/ASP.pm line 2018.
Use of uninitialized value $rv in lc at /smoker/5.12.1/cpan/build/Apache-ASP-2.62-EvzZx0/blib/lib/Apache/ASP.pm line 2018.
Use of uninitialized value $rv in lc at /smoker/5.12.1/cpan/build/Apache-ASP-2.62-EvzZx0/blib/lib/Apache/ASP.pm line 2018.
Use of uninitialized value $rv in lc at /smoker/5.12.1/cpan/build/Apache-ASP-2.62-EvzZx0/blib/lib/Apache/ASP.pm line 2018.
Use of uninitialized value $rv in lc at /smoker/5.12.1/cpan/build/Apache-ASP-2.62-EvzZx0/blib/lib/Apache/ASP.pm line 2018.
t/load.t ................. ok
Use of uninitialized value $rv in lc at /smoker/5.12.1/cpan/build/Apache-ASP-2.62-EvzZx0/blib/lib/Apache/ASP.pm line 2018.
Use of uninitialized value $rv in lc at /smoker/5.12.1/cpan/build/Apache-ASP-2.62-EvzZx0/blib/lib/Apache/ASP.pm line 2018.
Use of uninitialized value $rv in lc at /smoker/5.12.1/cpan/build/Apache-ASP-2.62-EvzZx0/blib/lib/Apache/ASP.pm line 2018.
Use of uninitialized value $rv in lc at /smoker/5.12.1/cpan/build/Apache-ASP-2.62-EvzZx0/blib/lib/Apache/ASP.pm line 2018.
Use of uninitialized value $rv in lc at /smoker/5.12.1/cpan/build/Apache-ASP-2.62-EvzZx0/blib/lib/Apache/ASP.pm line 2018.
Use of uninitialized value $rv in lc at /smoker/5.12.1/cpan/build/Apache-ASP-2.62-EvzZx0/blib/lib/Apache/ASP.pm line 2018.
Use of uninitialized value $rv in lc at /smoker/5.12.1/cpan/build/Apache-ASP-2.62-EvzZx0/blib/lib/Apache/ASP.pm line 2018.
Use of uninitialized value $rv in lc at /smoker/5.12.1/cpan/build/Apache-ASP-2.62-EvzZx0/blib/lib/Apache/ASP.pm line 2018.
Use of uninitialized value $rv in lc at /smoker/5.12.1/cpan/build/Apache-ASP-2.62-EvzZx0/blib/lib/Apache/ASP.pm line 2018.
t/long_names.t ........... ok
Use of uninitialized value $rv in lc at /smoker/5.12.1/cpan/build/Apache-ASP-2.62-EvzZx0/blib/lib/Apache/ASP.pm line 2018.
Use of uninitialized value $rv in lc at /smoker/5.12.1/cpan/build/Apache-ASP-2.62-EvzZx0/blib/lib/Apache/ASP.pm line 2018.
Use of uninitialized value $rv in lc at /smoker/5.12.1/cpan/build/Apache-ASP-2.62-EvzZx0/blib/lib/Apache/ASP.pm line 2018.
Use of uninitialized value $rv in lc at /smoker/5.12.1/cpan/build/Apache-ASP-2.62-EvzZx0/blib/lib/Apache/ASP.pm line 2018.
Use of uninitialized value $rv in lc at /smoker/5.12.1/cpan/build/Apache-ASP-2.62-EvzZx0/blib/lib/Apache/ASP.pm line 2018.
Use of uninitialized value $rv in lc at /smoker/5.12.1/cpan/build/Apache-ASP-2.62-EvzZx0/blib/lib/Apache/ASP.pm line 2018.
Use of uninitialized value $rv in lc at /smoker/5.12.1/cpan/build/Apache-ASP-2.62-EvzZx0/blib/lib/Apache/ASP.pm line 2018.
Use of uninitialized value $rv in lc at /smoker/5.12.1/cpan/build/Apache-ASP-2.62-EvzZx0/blib/lib/Apache/ASP.pm line 2018.
Use of uninitialized value $rv in lc at /smoker/5.12.1/cpan/build/Apache-ASP-2.62-EvzZx0/blib/lib/Apache/ASP.pm line 2018.
Use of uninitialized value $rv in lc at /smoker/5.12.1/cpan/build/Apache-ASP-2.62-EvzZx0/blib/lib/Apache/ASP.pm line 2018.
Use of uninitialized value $rv in lc at /smoker/5.12.1/cpan/build/Apache-ASP-2.62-EvzZx0/blib/lib/Apache/ASP.pm line 2018.
t/loops.t ................ ok
Use of uninitialized value $rv in lc at /smoker/5.12.1/cpan/build/Apache-ASP-2.62-EvzZx0/blib/lib/Apache/ASP.pm line 2018.
Use of uninitialized value $rv in lc at /smoker/5.12.1/cpan/build/Apache-ASP-2.62-EvzZx0/blib/lib/Apache/ASP.pm line 2018.
Use of uninitialized value $rv in lc at /smoker/5.12.1/cpan/build/Apache-ASP-2.62-EvzZx0/blib/lib/Apache/ASP.pm line 2018.
Use of uninitialized value $rv in lc at /smoker/5.12.1/cpan/build/Apache-ASP-2.62-EvzZx0/blib/lib/Apache/ASP.pm line 2018.
Use of uninitialized value $rv in lc at /smoker/5.12.1/cpan/build/Apache-ASP-2.62-EvzZx0/blib/lib/Apache/ASP.pm line 2018.
Use of uninitialized value $rv in lc at /smoker/5.12.1/cpan/build/Apache-ASP-2.62-EvzZx0/blib/lib/Apache/ASP.pm line 2018.
Use of uninitialized value $rv in lc at /smoker/5.12.1/cpan/build/Apache-ASP-2.62-EvzZx0/blib/lib/Apache/ASP.pm line 2018.
Use of uninitialized value $rv in lc at /smoker/5.12.1/cpan/build/Apache-ASP-2.62-EvzZx0/blib/lib/Apache/ASP.pm line 2018.
Use of uninitialized value $rv in lc at /smoker/5.12.1/cpan/build/Apache-ASP-2.62-EvzZx0/blib/lib/Apache/ASP.pm line 2018.
Use of uninitialized value $rv in lc at /smoker/5.12.1/cpan/build/Apache-ASP-2.62-EvzZx0/blib/lib/Apache/ASP.pm line 2018.
t/mail_error.t ........... ok
Use of uninitialized value $rv in lc at /smoker/5.12.1/cpan/build/Apache-ASP-2.62-EvzZx0/blib/lib/Apache/ASP.pm line 2018.
Use of uninitialized value $rv in lc at /smoker/5.12.1/cpan/build/Apache-ASP-2.62-EvzZx0/blib/lib/Apache/ASP.pm line 2018.
Use of uninitialized value $rv in lc at /smoker/5.12.1/cpan/build/Apache-ASP-2.62-EvzZx0/blib/lib/Apache/ASP.pm line 2018.
Use of uninitialized value $rv in lc at /smoker/5.12.1/cpan/build/Apache-ASP-2.62-EvzZx0/blib/lib/Apache/ASP.pm line 2018.
Use of uninitialized value $rv in lc at /smoker/5.12.1/cpan/build/Apache-ASP-2.62-EvzZx0/blib/lib/Apache/ASP.pm line 2018.
Use of uninitialized value $rv in lc at /smoker/5.12.1/cpan/build/Apache-ASP-2.62-EvzZx0/blib/lib/Apache/ASP.pm line 2018.
Use of uninitialized value $rv in lc at /smoker/5.12.1/cpan/build/Apache-ASP-2.62-EvzZx0/blib/lib/Apache/ASP.pm line 2018.
t/no_cache.t ............. ok
Use of uninitialized value $rv in lc at /smoker/5.12.1/cpan/build/Apache-ASP-2.62-EvzZx0/blib/lib/Apache/ASP.pm line 2018.
Use of uninitialized value $rv in lc at /smoker/5.12.1/cpan/build/Apache-ASP-2.62-EvzZx0/blib/lib/Apache/ASP.pm line 2018.
Use of uninitialized value $rv in lc at /smoker/5.12.1/cpan/build/Apache-ASP-2.62-EvzZx0/blib/lib/Apache/ASP.pm line 2018.
Use of uninitialized value $rv in lc at /smoker/5.12.1/cpan/build/Apache-ASP-2.62-EvzZx0/blib/lib/Apache/ASP.pm line 2018.
Use of uninitialized value $rv in lc at /smoker/5.12.1/cpan/build/Apache-ASP-2.62-EvzZx0/blib/lib/Apache/ASP.pm line 2018.
Use of uninitialized value $rv in lc at /smoker/5.12.1/cpan/build/Apache-ASP-2.62-EvzZx0/blib/lib/Apache/ASP.pm line 2018.
Use of uninitialized value $rv in lc at /smoker/5.12.1/cpan/build/Apache-ASP-2.62-EvzZx0/blib/lib/Apache/ASP.pm line 2018.
Use of uninitialized value $rv in lc at /smoker/5.12.1/cpan/build/Apache-ASP-2.62-EvzZx0/blib/lib/Apache/ASP.pm line 2018.
Use of uninitialized value $rv in lc at /smoker/5.12.1/cpan/build/Apache-ASP-2.62-EvzZx0/blib/lib/Apache/ASP.pm line 2018.
t/raw.t .................. ok
Use of uninitialized value $rv in lc at /smoker/5.12.1/cpan/build/Apache-ASP-2.62-EvzZx0/blib/lib/Apache/ASP.pm line 2018.
Use of uninitialized value $rv in lc at /smoker/5.12.1/cpan/build/Apache-ASP-2.62-EvzZx0/blib/lib/Apache/ASP.pm line 2018.
Use of uninitialized value $rv in lc at /smoker/5.12.1/cpan/build/Apache-ASP-2.62-EvzZx0/blib/lib/Apache/ASP.pm line 2018.
Use of uninitialized value $rv in lc at /smoker/5.12.1/cpan/build/Apache-ASP-2.62-EvzZx0/blib/lib/Apache/ASP.pm line 2018.
Use of uninitialized value $rv in lc at /smoker/5.12.1/cpan/build/Apache-ASP-2.62-EvzZx0/blib/lib/Apache/ASP.pm line 2018.
Use of uninitialized value $rv in lc at /smoker/5.12.1/cpan/build/Apache-ASP-2.62-EvzZx0/blib/lib/Apache/ASP.pm line 2018.
Use of uninitialized value $rv in lc at /smoker/5.12.1/cpan/build/Apache-ASP-2.62-EvzZx0/blib/lib/Apache/ASP.pm line 2018.
Use of uninitialized value $rv in lc at /smoker/5.12.1/cpan/build/Apache-ASP-2.62-EvzZx0/blib/lib/Apache/ASP.pm line 2018.
Use of uninitialized value $rv in lc at /smoker/5.12.1/cpan/build/Apache-ASP-2.62-EvzZx0/blib/lib/Apache/ASP.pm line 2018.
t/raw_include.t .......... ok
Use of uninitialized value $rv in lc at /smoker/5.12.1/cpan/build/Apache-ASP-2.62-EvzZx0/blib/lib/Apache/ASP.pm line 2018.
Use of uninitialized value $rv in lc at /smoker/5.12.1/cpan/build/Apache-ASP-2.62-EvzZx0/blib/lib/Apache/ASP.pm line 2018.
Use of uninitialized value $rv in lc at /smoker/5.12.1/cpan/build/Apache-ASP-2.62-EvzZx0/blib/lib/Apache/ASP.pm line 2018.
Use of uninitialized value $rv in lc at /smoker/5.12.1/cpan/build/Apache-ASP-2.62-EvzZx0/blib/lib/Apache/ASP.pm line 2018.
Use of uninitialized value $rv in lc at /smoker/5.12.1/cpan/build/Apache-ASP-2.62-EvzZx0/blib/lib/Apache/ASP.pm line 2018.
Use of uninitialized value $rv in lc at /smoker/5.12.1/cpan/build/Apache-ASP-2.62-EvzZx0/blib/lib/Apache/ASP.pm line 2018.
Use of uninitialized value $rv in lc at /smoker/5.12.1/cpan/build/Apache-ASP-2.62-EvzZx0/blib/lib/Apache/ASP.pm line 2018.
Use of uninitialized value $rv in lc at /smoker/5.12.1/cpan/build/Apache-ASP-2.62-EvzZx0/blib/lib/Apache/ASP.pm line 2018.
Use of uninitialized value $rv in lc at /smoker/5.12.1/cpan/build/Apache-ASP-2.62-EvzZx0/blib/lib/Apache/ASP.pm line 2018.
Use of uninitialized value $rv in lc at /smoker/5.12.1/cpan/build/Apache-ASP-2.62-EvzZx0/blib/lib/Apache/ASP.pm line 2018.
Use of uninitialized value $rv in lc at /smoker/5.12.1/cpan/build/Apache-ASP-2.62-EvzZx0/blib/lib/Apache/ASP.pm line 2018.
Use of uninitialized value $rv in lc at /smoker/5.12.1/cpan/build/Apache-ASP-2.62-EvzZx0/blib/lib/Apache/ASP.pm line 2018.
Use of uninitialized value $rv in lc at /smoker/5.12.1/cpan/build/Apache-ASP-2.62-EvzZx0/blib/lib/Apache/ASP.pm line 2018.
Use of uninitialized value $rv in lc at /smoker/5.12.1/cpan/build/Apache-ASP-2.62-EvzZx0/blib/lib/Apache/ASP.pm line 2018.
Use of uninitialized value $rv in lc at /smoker/5.12.1/cpan/build/Apache-ASP-2.62-EvzZx0/blib/lib/Apache/ASP.pm line 2018.
Use of uninitialized value $rv in lc at /smoker/5.12.1/cpan/build/Apache-ASP-2.62-EvzZx0/blib/lib/Apache/ASP.pm line 2018.
Use of uninitialized value $rv in lc at /smoker/5.12.1/cpan/build/Apache-ASP-2.62-EvzZx0/blib/lib/Apache/ASP.pm line 2018.
Use of uninitialized value $rv in lc at /smoker/5.12.1/cpan/build/Apache-ASP-2.62-EvzZx0/blib/lib/Apache/ASP.pm line 2018.
Use of uninitialized value $rv in lc at /smoker/5.12.1/cpan/build/Apache-ASP-2.62-EvzZx0/blib/lib/Apache/ASP.pm line 2018.
Use of uninitialized value $rv in lc at /smoker/5.12.1/cpan/build/Apache-ASP-2.62-EvzZx0/blib/lib/Apache/ASP.pm line 2018.
t/reload_global_asa.t .... ok
Use of uninitialized value $rv in lc at /smoker/5.12.1/cpan/build/Apache-ASP-2.62-EvzZx0/blib/lib/Apache/ASP.pm line 2018.
Use of uninitialized value $rv in lc at /smoker/5.12.1/cpan/build/Apache-ASP-2.62-EvzZx0/blib/lib/Apache/ASP.pm line 2018.
Use of uninitialized value $rv in lc at /smoker/5.12.1/cpan/build/Apache-ASP-2.62-EvzZx0/blib/lib/Apache/ASP.pm line 2018.
Use of uninitialized value $rv in lc at /smoker/5.12.1/cpan/build/Apache-ASP-2.62-EvzZx0/blib/lib/Apache/ASP.pm line 2018.
Use of uninitialized value $rv in lc at /smoker/5.12.1/cpan/build/Apache-ASP-2.62-EvzZx0/blib/lib/Apache/ASP.pm line 2018.
Use of uninitialized value $rv in lc at /smoker/5.12.1/cpan/build/Apache-ASP-2.62-EvzZx0/blib/lib/Apache/ASP.pm line 2018.
Use of uninitialized value $rv in lc at /smoker/5.12.1/cpan/build/Apache-ASP-2.62-EvzZx0/blib/lib/Apache/ASP.pm line 2018.
Use of uninitialized value $rv in lc at /smoker/5.12.1/cpan/build/Apache-ASP-2.62-EvzZx0/blib/lib/Apache/ASP.pm line 2018.
Use of uninitialized value $rv in lc at /smoker/5.12.1/cpan/build/Apache-ASP-2.62-EvzZx0/blib/lib/Apache/ASP.pm line 2018.
Use of uninitialized value $rv in lc at /smoker/5.12.1/cpan/build/Apache-ASP-2.62-EvzZx0/blib/lib/Apache/ASP.pm line 2018.
Use of uninitialized value $rv in lc at /smoker/5.12.1/cpan/build/Apache-ASP-2.62-EvzZx0/blib/lib/Apache/ASP.pm line 2018.
t/req_params_none.t ...... ok
Use of uninitialized value $rv in lc at /smoker/5.12.1/cpan/build/Apache-ASP-2.62-EvzZx0/blib/lib/Apache/ASP.pm line 2018.
Use of uninitialized value $rv in lc at /smoker/5.12.1/cpan/build/Apache-ASP-2.62-EvzZx0/blib/lib/Apache/ASP.pm line 2018.
Use of uninitialized value $rv in lc at /smoker/5.12.1/cpan/build/Apache-ASP-2.62-EvzZx0/blib/lib/Apache/ASP.pm line 2018.
Use of uninitialized value $rv in lc at /smoker/5.12.1/cpan/build/Apache-ASP-2.62-EvzZx0/blib/lib/Apache/ASP.pm line 2018.
Use of uninitialized value $rv in lc at /smoker/5.12.1/cpan/build/Apache-ASP-2.62-EvzZx0/blib/lib/Apache/ASP.pm line 2018.
Use of uninitialized value $rv in lc at /smoker/5.12.1/cpan/build/Apache-ASP-2.62-EvzZx0/blib/lib/Apache/ASP.pm line 2018.
Use of uninitialized value $rv in lc at /smoker/5.12.1/cpan/build/Apache-ASP-2.62-EvzZx0/blib/lib/Apache/ASP.pm line 2018.
Use of uninitialized value $rv in lc at /smoker/5.12.1/cpan/build/Apache-ASP-2.62-EvzZx0/blib/lib/Apache/ASP.pm line 2018.
Use of uninitialized value $rv in lc at /smoker/5.12.1/cpan/build/Apache-ASP-2.62-EvzZx0/blib/lib/Apache/ASP.pm line 2018.
Use of uninitialized value $rv in lc at /smoker/5.12.1/cpan/build/Apache-ASP-2.62-EvzZx0/blib/lib/Apache/ASP.pm line 2018.
Use of uninitialized value $rv in lc at /smoker/5.12.1/cpan/build/Apache-ASP-2.62-EvzZx0/blib/lib/Apache/ASP.pm line 2018.
t/request.t .............. ok
Use of uninitialized value $rv in lc at /smoker/5.12.1/cpan/build/Apache-ASP-2.62-EvzZx0/blib/lib/Apache/ASP.pm line 2018.
Use of uninitialized value $rv in lc at /smoker/5.12.1/cpan/build/Apache-ASP-2.62-EvzZx0/blib/lib/Apache/ASP.pm line 2018.
Use of uninitialized value $rv in lc at /smoker/5.12.1/cpan/build/Apache-ASP-2.62-EvzZx0/blib/lib/Apache/ASP.pm line 2018.
Use of uninitialized value $rv in lc at /smoker/5.12.1/cpan/build/Apache-ASP-2.62-EvzZx0/blib/lib/Apache/ASP.pm line 2018.
Use of uninitialized value $rv in lc at /smoker/5.12.1/cpan/build/Apache-ASP-2.62-EvzZx0/blib/lib/Apache/ASP.pm line 2018.
Use of uninitialized value $rv in lc at /smoker/5.12.1/cpan/build/Apache-ASP-2.62-EvzZx0/blib/lib/Apache/ASP.pm line 2018.
Use of uninitialized value $rv in lc at /smoker/5.12.1/cpan/build/Apache-ASP-2.62-EvzZx0/blib/lib/Apache/ASP.pm line 2018.
Use of uninitialized value $rv in lc at /smoker/5.12.1/cpan/build/Apache-ASP-2.62-EvzZx0/blib/lib/Apache/ASP.pm line 2018.
Use of uninitialized value $rv in lc at /smoker/5.12.1/cpan/build/Apache-ASP-2.62-EvzZx0/blib/lib/Apache/ASP.pm line 2018.
Use of uninitialized value $rv in lc at /smoker/5.12.1/cpan/build/Apache-ASP-2.62-EvzZx0/blib/lib/Apache/ASP.pm line 2018.
Use of uninitialized value $rv in lc at /smoker/5.12.1/cpan/build/Apache-ASP-2.62-EvzZx0/blib/lib/Apache/ASP.pm line 2018.
t/response.t ............. ok
Use of uninitialized value $rv in lc at /smoker/5.12.1/cpan/build/Apache-ASP-2.62-EvzZx0/blib/lib/Apache/ASP.pm line 2018.
Use of uninitialized value $rv in lc at /smoker/5.12.1/cpan/build/Apache-ASP-2.62-EvzZx0/blib/lib/Apache/ASP.pm line 2018.
Use of uninitialized value $rv in lc at /smoker/5.12.1/cpan/build/Apache-ASP-2.62-EvzZx0/blib/lib/Apache/ASP.pm line 2018.
Use of uninitialized value $rv in lc at /smoker/5.12.1/cpan/build/Apache-ASP-2.62-EvzZx0/blib/lib/Apache/ASP.pm line 2018.
Use of uninitialized value $rv in lc at /smoker/5.12.1/cpan/build/Apache-ASP-2.62-EvzZx0/blib/lib/Apache/ASP.pm line 2018.
Use of uninitialized value $rv in lc at /smoker/5.12.1/cpan/build/Apache-ASP-2.62-EvzZx0/blib/lib/Apache/ASP.pm line 2018.
Use of uninitialized value $rv in lc at /smoker/5.12.1/cpan/build/Apache-ASP-2.62-EvzZx0/blib/lib/Apache/ASP.pm line 2018.
Use of uninitialized value $rv in lc at /smoker/5.12.1/cpan/build/Apache-ASP-2.62-EvzZx0/blib/lib/Apache/ASP.pm line 2018.
Use of uninitialized value $rv in lc at /smoker/5.12.1/cpan/build/Apache-ASP-2.62-EvzZx0/blib/lib/Apache/ASP.pm line 2018.
Use of uninitialized value $rv in lc at /smoker/5.12.1/cpan/build/Apache-ASP-2.62-EvzZx0/blib/lib/Apache/ASP.pm line 2018.
Use of uninitialized value $rv in lc at /smoker/5.12.1/cpan/build/Apache-ASP-2.62-EvzZx0/blib/lib/Apache/ASP.pm line 2018.
t/response_end.t ......... ok
Use of uninitialized value $rv in lc at /smoker/5.12.1/cpan/build/Apache-ASP-2.62-EvzZx0/blib/lib/Apache/ASP.pm line 2018.
Use of uninitialized value $rv in lc at /smoker/5.12.1/cpan/build/Apache-ASP-2.62-EvzZx0/blib/lib/Apache/ASP.pm line 2018.
Use of uninitialized value $rv in lc at /smoker/5.12.1/cpan/build/Apache-ASP-2.62-EvzZx0/blib/lib/Apache/ASP.pm line 2018.
Use of uninitialized value $rv in lc at /smoker/5.12.1/cpan/build/Apache-ASP-2.62-EvzZx0/blib/lib/Apache/ASP.pm line 2018.
Use of uninitialized value $rv in lc at /smoker/5.12.1/cpan/build/Apache-ASP-2.62-EvzZx0/blib/lib/Apache/ASP.pm line 2018.
Use of uninitialized value $rv in lc at /smoker/5.12.1/cpan/build/Apache-ASP-2.62-EvzZx0/blib/lib/Apache/ASP.pm line 2018.
Use of uninitialized value $rv in lc at /smoker/5.12.1/cpan/build/Apache-ASP-2.62-EvzZx0/blib/lib/Apache/ASP.pm line 2018.
Use of uninitialized value $rv in lc at /smoker/5.12.1/cpan/build/Apache-ASP-2.62-EvzZx0/blib/lib/Apache/ASP.pm line 2018.
Use of uninitialized value $rv in lc at /smoker/5.12.1/cpan/build/Apache-ASP-2.62-EvzZx0/blib/lib/Apache/ASP.pm line 2018.
Use of uninitialized value $rv in lc at /smoker/5.12.1/cpan/build/Apache-ASP-2.62-EvzZx0/blib/lib/Apache/ASP.pm line 2018.
Use of uninitialized value $rv in lc at /smoker/5.12.1/cpan/build/Apache-ASP-2.62-EvzZx0/blib/lib/Apache/ASP.pm line 2018.
Use of uninitialized value $rv in lc at /smoker/5.12.1/cpan/build/Apache-ASP-2.62-EvzZx0/blib/lib/Apache/ASP.pm line 2018.
Use of uninitialized value $rv in lc at /smoker/5.12.1/cpan/build/Apache-ASP-2.62-EvzZx0/blib/lib/Apache/ASP.pm line 2018.
Use of uninitialized value $rv in lc at /smoker/5.12.1/cpan/build/Apache-ASP-2.62-EvzZx0/blib/lib/Apache/ASP.pm line 2018.
Use of uninitialized value $rv in lc at /smoker/5.12.1/cpan/build/Apache-ASP-2.62-EvzZx0/blib/lib/Apache/ASP.pm line 2018.
Use of uninitialized value $rv in lc at /smoker/5.12.1/cpan/build/Apache-ASP-2.62-EvzZx0/blib/lib/Apache/ASP.pm line 2018.
Use of uninitialized value $rv in lc at /smoker/5.12.1/cpan/build/Apache-ASP-2.62-EvzZx0/blib/lib/Apache/ASP.pm line 2018.
Use of uninitialized value $rv in lc at /smoker/5.12.1/cpan/build/Apache-ASP-2.62-EvzZx0/blib/lib/Apache/ASP.pm line 2018.
Use of uninitialized value $rv in lc at /smoker/5.12.1/cpan/build/Apache-ASP-2.62-EvzZx0/blib/lib/Apache/ASP.pm line 2018.
Use of uninitialized value $rv in lc at /smoker/5.12.1/cpan/build/Apache-ASP-2.62-EvzZx0/blib/lib/Apache/ASP.pm line 2018.
t/same_name.t ............ ok
Use of uninitialized value $rv in lc at /smoker/5.12.1/cpan/build/Apache-ASP-2.62-EvzZx0/blib/lib/Apache/ASP.pm line 2018.
Use of uninitialized value $rv in lc at /smoker/5.12.1/cpan/build/Apache-ASP-2.62-EvzZx0/blib/lib/Apache/ASP.pm line 2018.
Use of uninitialized value $rv in lc at /smoker/5.12.1/cpan/build/Apache-ASP-2.62-EvzZx0/blib/lib/Apache/ASP.pm line 2018.
Use of uninitialized value $rv in lc at /smoker/5.12.1/cpan/build/Apache-ASP-2.62-EvzZx0/blib/lib/Apache/ASP.pm line 2018.
Use of uninitialized value $rv in lc at /smoker/5.12.1/cpan/build/Apache-ASP-2.62-EvzZx0/blib/lib/Apache/ASP.pm line 2018.
Use of uninitialized value $rv in lc at /smoker/5.12.1/cpan/build/Apache-ASP-2.62-EvzZx0/blib/lib/Apache/ASP.pm line 2018.
Use of uninitialized value $rv in lc at /smoker/5.12.1/cpan/build/Apache-ASP-2.62-EvzZx0/blib/lib/Apache/ASP.pm line 2018.
Use of uninitialized value $rv in lc at /smoker/5.12.1/cpan/build/Apache-ASP-2.62-EvzZx0/blib/lib/Apache/ASP.pm line 2018.
Use of uninitialized value $rv in lc at /smoker/5.12.1/cpan/build/Apache-ASP-2.62-EvzZx0/blib/lib/Apache/ASP.pm line 2018.
Use of uninitialized value $rv in lc at /smoker/5.12.1/cpan/build/Apache-ASP-2.62-EvzZx0/blib/lib/Apache/ASP.pm line 2018.
t/server.t ............... ok
Use of uninitialized value $rv in lc at /smoker/5.12.1/cpan/build/Apache-ASP-2.62-EvzZx0/blib/lib/Apache/ASP.pm line 2018.
Use of uninitialized value $rv in lc at /smoker/5.12.1/cpan/build/Apache-ASP-2.62-EvzZx0/blib/lib/Apache/ASP.pm line 2018.
Use of uninitialized value $rv in lc at /smoker/5.12.1/cpan/build/Apache-ASP-2.62-EvzZx0/blib/lib/Apache/ASP.pm line 2018.
Use of uninitialized value $rv in lc at /smoker/5.12.1/cpan/build/Apache-ASP-2.62-EvzZx0/blib/lib/Apache/ASP.pm line 2018.
Use of uninitialized value $rv in lc at /smoker/5.12.1/cpan/build/Apache-ASP-2.62-EvzZx0/blib/lib/Apache/ASP.pm line 2018.
Use of uninitialized value $rv in lc at /smoker/5.12.1/cpan/build/Apache-ASP-2.62-EvzZx0/blib/lib/Apache/ASP.pm line 2018.
Use of uninitialized value $rv in lc at /smoker/5.12.1/cpan/build/Apache-ASP-2.62-EvzZx0/blib/lib/Apache/ASP.pm line 2018.
Use of uninitialized value $rv in lc at /smoker/5.12.1/cpan/build/Apache-ASP-2.62-EvzZx0/blib/lib/Apache/ASP.pm line 2018.
Use of uninitialized value $rv in lc at /smoker/5.12.1/cpan/build/Apache-ASP-2.62-EvzZx0/blib/lib/Apache/ASP.pm line 2018.
Use of uninitialized value $rv in lc at /smoker/5.12.1/cpan/build/Apache-ASP-2.62-EvzZx0/blib/lib/Apache/ASP.pm line 2018.
t/server_mail.t .......... ok
Use of uninitialized value $rv in lc at /smoker/5.12.1/cpan/build/Apache-ASP-2.62-EvzZx0/blib/lib/Apache/ASP.pm line 2018.
Use of uninitialized value $rv in lc at /smoker/5.12.1/cpan/build/Apache-ASP-2.62-EvzZx0/blib/lib/Apache/ASP.pm line 2018.
Use of uninitialized value $rv in lc at /smoker/5.12.1/cpan/build/Apache-ASP-2.62-EvzZx0/blib/lib/Apache/ASP.pm line 2018.
Use of uninitialized value $rv in lc at /smoker/5.12.1/cpan/build/Apache-ASP-2.62-EvzZx0/blib/lib/Apache/ASP.pm line 2018.
Use of uninitialized value $rv in lc at /smoker/5.12.1/cpan/build/Apache-ASP-2.62-EvzZx0/blib/lib/Apache/ASP.pm line 2018.
Use of uninitialized value $rv in lc at /smoker/5.12.1/cpan/build/Apache-ASP-2.62-EvzZx0/blib/lib/Apache/ASP.pm line 2018.
Use of uninitialized value $rv in lc at /smoker/5.12.1/cpan/build/Apache-ASP-2.62-EvzZx0/blib/lib/Apache/ASP.pm line 2018.
Use of uninitialized value $rv in lc at /smoker/5.12.1/cpan/build/Apache-ASP-2.62-EvzZx0/blib/lib/Apache/ASP.pm line 2018.
Use of uninitialized value $rv in lc at /smoker/5.12.1/cpan/build/Apache-ASP-2.62-EvzZx0/blib/lib/Apache/ASP.pm line 2018.
t/server_transfer.t ...... ok
Use of uninitialized value $rv in lc at /smoker/5.12.1/cpan/build/Apache-ASP-2.62-EvzZx0/blib/lib/Apache/ASP.pm line 2018.
Use of uninitialized value $rv in lc at /smoker/5.12.1/cpan/build/Apache-ASP-2.62-EvzZx0/blib/lib/Apache/ASP.pm line 2018.
Use of uninitialized value $rv in lc at /smoker/5.12.1/cpan/build/Apache-ASP-2.62-EvzZx0/blib/lib/Apache/ASP.pm line 2018.
Use of uninitialized value $rv in lc at /smoker/5.12.1/cpan/build/Apache-ASP-2.62-EvzZx0/blib/lib/Apache/ASP.pm line 2018.
Use of uninitialized value $rv in lc at /smoker/5.12.1/cpan/build/Apache-ASP-2.62-EvzZx0/blib/lib/Apache/ASP.pm line 2018.
Use of uninitialized value $rv in lc at /smoker/5.12.1/cpan/build/Apache-ASP-2.62-EvzZx0/blib/lib/Apache/ASP.pm line 2018.
Use of uninitialized value $rv in lc at /smoker/5.12.1/cpan/build/Apache-ASP-2.62-EvzZx0/blib/lib/Apache/ASP.pm line 2018.
Use of uninitialized value $rv in lc at /smoker/5.12.1/cpan/build/Apache-ASP-2.62-EvzZx0/blib/lib/Apache/ASP.pm line 2018.
Use of uninitialized value $rv in lc at /smoker/5.12.1/cpan/build/Apache-ASP-2.62-EvzZx0/blib/lib/Apache/ASP.pm line 2018.
Use of uninitialized value $rv in lc at /smoker/5.12.1/cpan/build/Apache-ASP-2.62-EvzZx0/blib/lib/Apache/ASP.pm line 2018.
Use of uninitialized value $rv in lc at /smoker/5.12.1/cpan/build/Apache-ASP-2.62-EvzZx0/blib/lib/Apache/ASP.pm line 2018.
t/session.t .............. ok
t/session_events.t ....... ok
Use of uninitialized value $rv in lc at /smoker/5.12.1/cpan/build/Apache-ASP-2.62-EvzZx0/blib/lib/Apache/ASP.pm line 2018.
Use of uninitialized value $rv in lc at /smoker/5.12.1/cpan/build/Apache-ASP-2.62-EvzZx0/blib/lib/Apache/ASP.pm line 2018.
Use of uninitialized value $rv in lc at /smoker/5.12.1/cpan/build/Apache-ASP-2.62-EvzZx0/blib/lib/Apache/ASP.pm line 2018.
Use of uninitialized value $rv in lc at /smoker/5.12.1/cpan/build/Apache-ASP-2.62-EvzZx0/blib/lib/Apache/ASP.pm line 2018.
Use of uninitialized value $rv in lc at /smoker/5.12.1/cpan/build/Apache-ASP-2.62-EvzZx0/blib/lib/Apache/ASP.pm line 2018.
Use of uninitialized value $rv in lc at /smoker/5.12.1/cpan/build/Apache-ASP-2.62-EvzZx0/blib/lib/Apache/ASP.pm line 2018.
Use of uninitialized value $rv in lc at /smoker/5.12.1/cpan/build/Apache-ASP-2.62-EvzZx0/blib/lib/Apache/ASP.pm line 2018.
Use of uninitialized value $rv in lc at /smoker/5.12.1/cpan/build/Apache-ASP-2.62-EvzZx0/blib/lib/Apache/ASP.pm line 2018.
Use of uninitialized value $rv in lc at /smoker/5.12.1/cpan/build/Apache-ASP-2.62-EvzZx0/blib/lib/Apache/ASP.pm line 2018.
t/session_query_parse.t .. ok
Use of uninitialized value $rv in lc at /smoker/5.12.1/cpan/build/Apache-ASP-2.62-EvzZx0/blib/lib/Apache/ASP.pm line 2018.
Use of uninitialized value $rv in lc at /smoker/5.12.1/cpan/build/Apache-ASP-2.62-EvzZx0/blib/lib/Apache/ASP.pm line 2018.
Use of uninitialized value $rv in lc at /smoker/5.12.1/cpan/build/Apache-ASP-2.62-EvzZx0/blib/lib/Apache/ASP.pm line 2018.
Use of uninitialized value $rv in lc at /smoker/5.12.1/cpan/build/Apache-ASP-2.62-EvzZx0/blib/lib/Apache/ASP.pm line 2018.
Use of uninitialized value $rv in lc at /smoker/5.12.1/cpan/build/Apache-ASP-2.62-EvzZx0/blib/lib/Apache/ASP.pm line 2018.
Use of uninitialized value $rv in lc at /smoker/5.12.1/cpan/build/Apache-ASP-2.62-EvzZx0/blib/lib/Apache/ASP.pm line 2018.
Use of uninitialized value $rv in lc at /smoker/5.12.1/cpan/build/Apache-ASP-2.62-EvzZx0/blib/lib/Apache/ASP.pm line 2018.
Use of uninitialized value $rv in lc at /smoker/5.12.1/cpan/build/Apache-ASP-2.62-EvzZx0/blib/lib/Apache/ASP.pm line 2018.
Use of uninitialized value $rv in lc at /smoker/5.12.1/cpan/build/Apache-ASP-2.62-EvzZx0/blib/lib/Apache/ASP.pm line 2018.
Use of uninitialized value $rv in lc at /smoker/5.12.1/cpan/build/Apache-ASP-2.62-EvzZx0/blib/lib/Apache/ASP.pm line 2018.
Use of uninitialized value $rv in lc at /smoker/5.12.1/cpan/build/Apache-ASP-2.62-EvzZx0/blib/lib/Apache/ASP.pm line 2018.
t/session_serialize.t .... ok
Use of uninitialized value $rv in lc at /smoker/5.12.1/cpan/build/Apache-ASP-2.62-EvzZx0/blib/lib/Apache/ASP.pm line 2018.
Use of uninitialized value $rv in lc at /smoker/5.12.1/cpan/build/Apache-ASP-2.62-EvzZx0/blib/lib/Apache/ASP.pm line 2018.
Use of uninitialized value $rv in lc at /smoker/5.12.1/cpan/build/Apache-ASP-2.62-EvzZx0/blib/lib/Apache/ASP.pm line 2018.
Use of uninitialized value $rv in lc at /smoker/5.12.1/cpan/build/Apache-ASP-2.62-EvzZx0/blib/lib/Apache/ASP.pm line 2018.
Use of uninitialized value $rv in lc at /smoker/5.12.1/cpan/build/Apache-ASP-2.62-EvzZx0/blib/lib/Apache/ASP.pm line 2018.
Use of uninitialized value $rv in lc at /smoker/5.12.1/cpan/build/Apache-ASP-2.62-EvzZx0/blib/lib/Apache/ASP.pm line 2018.
Use of uninitialized value $rv in lc at /smoker/5.12.1/cpan/build/Apache-ASP-2.62-EvzZx0/blib/lib/Apache/ASP.pm line 2018.
Use of uninitialized value $rv in lc at /smoker/5.12.1/cpan/build/Apache-ASP-2.62-EvzZx0/blib/lib/Apache/ASP.pm line 2018.
Use of uninitialized value $rv in lc at /smoker/5.12.1/cpan/build/Apache-ASP-2.62-EvzZx0/blib/lib/Apache/ASP.pm line 2018.
Use of uninitialized value $rv in lc at /smoker/5.12.1/cpan/build/Apache-ASP-2.62-EvzZx0/blib/lib/Apache/ASP.pm line 2018.
Use of uninitialized value $rv in lc at /smoker/5.12.1/cpan/build/Apache-ASP-2.62-EvzZx0/blib/lib/Apache/ASP.pm line 2018.
t/share.t ................ ok
Use of uninitialized value $rv in lc at /smoker/5.12.1/cpan/build/Apache-ASP-2.62-EvzZx0/blib/lib/Apache/ASP.pm line 2018.
Use of uninitialized value $rv in lc at /smoker/5.12.1/cpan/build/Apache-ASP-2.62-EvzZx0/blib/lib/Apache/ASP.pm line 2018.
Use of uninitialized value $rv in lc at /smoker/5.12.1/cpan/build/Apache-ASP-2.62-EvzZx0/blib/lib/Apache/ASP.pm line 2018.
Use of uninitialized value $rv in lc at /smoker/5.12.1/cpan/build/Apache-ASP-2.62-EvzZx0/blib/lib/Apache/ASP.pm line 2018.
Use of uninitialized value $rv in lc at /smoker/5.12.1/cpan/build/Apache-ASP-2.62-EvzZx0/blib/lib/Apache/ASP.pm line 2018.
Use of uninitialized value $rv in lc at /smoker/5.12.1/cpan/build/Apache-ASP-2.62-EvzZx0/blib/lib/Apache/ASP.pm line 2018.
Use of uninitialized value $rv in lc at /smoker/5.12.1/cpan/build/Apache-ASP-2.62-EvzZx0/blib/lib/Apache/ASP.pm line 2018.
Use of uninitialized value $rv in lc at /smoker/5.12.1/cpan/build/Apache-ASP-2.62-EvzZx0/blib/lib/Apache/ASP.pm line 2018.
Use of uninitialized value $rv in lc at /smoker/5.12.1/cpan/build/Apache-ASP-2.62-EvzZx0/blib/lib/Apache/ASP.pm line 2018.
Use of uninitialized value $rv in lc at /smoker/5.12.1/cpan/build/Apache-ASP-2.62-EvzZx0/blib/lib/Apache/ASP.pm line 2018.
t/stat_inc.t ............. skipped: (no reason given)
Use of uninitialized value $rv in lc at /smoker/5.12.1/cpan/build/Apache-ASP-2.62-EvzZx0/blib/lib/Apache/ASP.pm line 2018.
Use of uninitialized value $rv in lc at /smoker/5.12.1/cpan/build/Apache-ASP-2.62-EvzZx0/blib/lib/Apache/ASP.pm line 2018.
Use of uninitialized value $rv in lc at /smoker/5.12.1/cpan/build/Apache-ASP-2.62-EvzZx0/blib/lib/Apache/ASP.pm line 2018.
Use of uninitialized value $rv in lc at /smoker/5.12.1/cpan/build/Apache-ASP-2.62-EvzZx0/blib/lib/Apache/ASP.pm line 2018.
Use of uninitialized value $rv in lc at /smoker/5.12.1/cpan/build/Apache-ASP-2.62-EvzZx0/blib/lib/Apache/ASP.pm line 2018.
Use of uninitialized value $rv in lc at /smoker/5.12.1/cpan/build/Apache-ASP-2.62-EvzZx0/blib/lib/Apache/ASP.pm line 2018.
Use of uninitialized value $rv in lc at /smoker/5.12.1/cpan/build/Apache-ASP-2.62-EvzZx0/blib/lib/Apache/ASP.pm line 2018.
Use of uninitialized value $rv in lc at /smoker/5.12.1/cpan/build/Apache-ASP-2.62-EvzZx0/blib/lib/Apache/ASP.pm line 2018.
Use of uninitialized value $rv in lc at /smoker/5.12.1/cpan/build/Apache-ASP-2.62-EvzZx0/blib/lib/Apache/ASP.pm line 2018.
t/strict_error.t ......... ok
Use of uninitialized value $rv in lc at blib/lib/Apache/ASP.pm line 2018.
Use of uninitialized value $rv in lc at blib/lib/Apache/ASP.pm line 2018.
Use of uninitialized value $rv in lc at blib/lib/Apache/ASP.pm line 2018.
Use of uninitialized value $rv in lc at blib/lib/Apache/ASP.pm line 2018.
Use of uninitialized value $rv in lc at blib/lib/Apache/ASP.pm line 2018.
Use of uninitialized value $rv in lc at blib/lib/Apache/ASP.pm line 2018.
Use of uninitialized value $rv in lc at blib/lib/Apache/ASP.pm line 2018.
Use of uninitialized value $rv in lc at blib/lib/Apache/ASP.pm line 2018.
Use of uninitialized value $rv in lc at blib/lib/Apache/ASP.pm line 2018.
Use of uninitialized value $rv in lc at blib/lib/Apache/ASP.pm line 2018.
Use of uninitialized value $rv in lc at blib/lib/Apache/ASP.pm line 2018.
t/taint_check.t .......... ok
Use of uninitialized value $rv in lc at /smoker/5.12.1/cpan/build/Apache-ASP-2.62-EvzZx0/blib/lib/Apache/ASP.pm line 2018.
Use of uninitialized value $rv in lc at /smoker/5.12.1/cpan/build/Apache-ASP-2.62-EvzZx0/blib/lib/Apache/ASP.pm line 2018.
Use of uninitialized value $rv in lc at /smoker/5.12.1/cpan/build/Apache-ASP-2.62-EvzZx0/blib/lib/Apache/ASP.pm line 2018.
Use of uninitialized value $rv in lc at /smoker/5.12.1/cpan/build/Apache-ASP-2.62-EvzZx0/blib/lib/Apache/ASP.pm line 2018.
Use of uninitialized value $rv in lc at /smoker/5.12.1/cpan/build/Apache-ASP-2.62-EvzZx0/blib/lib/Apache/ASP.pm line 2018.
Use of uninitialized value $rv in lc at /smoker/5.12.1/cpan/build/Apache-ASP-2.62-EvzZx0/blib/lib/Apache/ASP.pm line 2018.
Use of uninitialized value $rv in lc at /smoker/5.12.1/cpan/build/Apache-ASP-2.62-EvzZx0/blib/lib/Apache/ASP.pm line 2018.
Use of uninitialized value $rv in lc at /smoker/5.12.1/cpan/build/Apache-ASP-2.62-EvzZx0/blib/lib/Apache/ASP.pm line 2018.
t/unique_packages.t ...... ok
Use of uninitialized value $rv in lc at /smoker/5.12.1/cpan/build/Apache-ASP-2.62-EvzZx0/blib/lib/Apache/ASP.pm line 2018.
Use of uninitialized value $rv in lc at /smoker/5.12.1/cpan/build/Apache-ASP-2.62-EvzZx0/blib/lib/Apache/ASP.pm line 2018.
Use of uninitialized value $rv in lc at /smoker/5.12.1/cpan/build/Apache-ASP-2.62-EvzZx0/blib/lib/Apache/ASP.pm line 2018.
Use of uninitialized value $rv in lc at /smoker/5.12.1/cpan/build/Apache-ASP-2.62-EvzZx0/blib/lib/Apache/ASP.pm line 2018.
Use of uninitialized value $rv in lc at /smoker/5.12.1/cpan/build/Apache-ASP-2.62-EvzZx0/blib/lib/Apache/ASP.pm line 2018.
Use of uninitialized value $rv in lc at /smoker/5.12.1/cpan/build/Apache-ASP-2.62-EvzZx0/blib/lib/Apache/ASP.pm line 2018.
Use of uninitialized value $rv in lc at /smoker/5.12.1/cpan/build/Apache-ASP-2.62-EvzZx0/blib/lib/Apache/ASP.pm line 2018.
Use of uninitialized value $rv in lc at /smoker/5.12.1/cpan/build/Apache-ASP-2.62-EvzZx0/blib/lib/Apache/ASP.pm line 2018.
Use of uninitialized value $rv in lc at /smoker/5.12.1/cpan/build/Apache-ASP-2.62-EvzZx0/blib/lib/Apache/ASP.pm line 2018.
t/xmlsubs.t .............. ok
Use of uninitialized value $rv in lc at /smoker/5.12.1/cpan/build/Apache-ASP-2.62-EvzZx0/blib/lib/Apache/ASP.pm line 2018.
Use of uninitialized value $rv in lc at /smoker/5.12.1/cpan/build/Apache-ASP-2.62-EvzZx0/blib/lib/Apache/ASP.pm line 2018.
Use of uninitialized value $rv in lc at /smoker/5.12.1/cpan/build/Apache-ASP-2.62-EvzZx0/blib/lib/Apache/ASP.pm line 2018.
Use of uninitialized value $rv in lc at /smoker/5.12.1/cpan/build/Apache-ASP-2.62-EvzZx0/blib/lib/Apache/ASP.pm line 2018.
Use of uninitialized value $rv in lc at /smoker/5.12.1/cpan/build/Apache-ASP-2.62-EvzZx0/blib/lib/Apache/ASP.pm line 2018.
Use of uninitialized value $rv in lc at /smoker/5.12.1/cpan/build/Apache-ASP-2.62-EvzZx0/blib/lib/Apache/ASP.pm line 2018.
Use of uninitialized value $rv in lc at /smoker/5.12.1/cpan/build/Apache-ASP-2.62-EvzZx0/blib/lib/Apache/ASP.pm line 2018.
Use of uninitialized value $rv in lc at /smoker/5.12.1/cpan/build/Apache-ASP-2.62-EvzZx0/blib/lib/Apache/ASP.pm line 2018.
Use of uninitialized value $rv in lc at /smoker/5.12.1/cpan/build/Apache-ASP-2.62-EvzZx0/blib/lib/Apache/ASP.pm line 2018.
t/xmlsubs_aspargs.t ...... ok
Use of uninitialized value $rv in lc at /smoker/5.12.1/cpan/build/Apache-ASP-2.62-EvzZx0/blib/lib/Apache/ASP.pm line 2018.
Use of uninitialized value $rv in lc at /smoker/5.12.1/cpan/build/Apache-ASP-2.62-EvzZx0/blib/lib/Apache/ASP.pm line 2018.
Use of uninitialized value $rv in lc at /smoker/5.12.1/cpan/build/Apache-ASP-2.62-EvzZx0/blib/lib/Apache/ASP.pm line 2018.
Use of uninitialized value $rv in lc at /smoker/5.12.1/cpan/build/Apache-ASP-2.62-EvzZx0/blib/lib/Apache/ASP.pm line 2018.
Use of uninitialized value $rv in lc at /smoker/5.12.1/cpan/build/Apache-ASP-2.62-EvzZx0/blib/lib/Apache/ASP.pm line 2018.
Use of uninitialized value $rv in lc at /smoker/5.12.1/cpan/build/Apache-ASP-2.62-EvzZx0/blib/lib/Apache/ASP.pm line 2018.
Use of uninitialized value $rv in lc at /smoker/5.12.1/cpan/build/Apache-ASP-2.62-EvzZx0/blib/lib/Apache/ASP.pm line 2018.
Use of uninitialized value $rv in lc at /smoker/5.12.1/cpan/build/Apache-ASP-2.62-EvzZx0/blib/lib/Apache/ASP.pm line 2018.
Use of uninitialized value $rv in lc at /smoker/5.12.1/cpan/build/Apache-ASP-2.62-EvzZx0/blib/lib/Apache/ASP.pm line 2018.
t/xmlsubs_perlargs.t ..... ok
Use of uninitialized value $rv in lc at /smoker/5.12.1/cpan/build/Apache-ASP-2.62-EvzZx0/blib/lib/Apache/ASP.pm line 2018.
Use of uninitialized value $rv in lc at /smoker/5.12.1/cpan/build/Apache-ASP-2.62-EvzZx0/blib/lib/Apache/ASP.pm line 2018.
Use of uninitialized value $rv in lc at /smoker/5.12.1/cpan/build/Apache-ASP-2.62-EvzZx0/blib/lib/Apache/ASP.pm line 2018.
Use of uninitialized value $rv in lc at /smoker/5.12.1/cpan/build/Apache-ASP-2.62-EvzZx0/blib/lib/Apache/ASP.pm line 2018.
Use of uninitialized value $rv in lc at /smoker/5.12.1/cpan/build/Apache-ASP-2.62-EvzZx0/blib/lib/Apache/ASP.pm line 2018.
Use of uninitialized value $rv in lc at /smoker/5.12.1/cpan/build/Apache-ASP-2.62-EvzZx0/blib/lib/Apache/ASP.pm line 2018.
Use of uninitialized value $rv in lc at /smoker/5.12.1/cpan/build/Apache-ASP-2.62-EvzZx0/blib/lib/Apache/ASP.pm line 2018.
Use of uninitialized value $rv in lc at /smoker/5.12.1/cpan/build/Apache-ASP-2.62-EvzZx0/blib/lib/Apache/ASP.pm line 2018.
Use of uninitialized value $rv in lc at /smoker/5.12.1/cpan/build/Apache-ASP-2.62-EvzZx0/blib/lib/Apache/ASP.pm line 2018.
Use of uninitialized value $rv in lc at /smoker/5.12.1/cpan/build/Apache-ASP-2.62-EvzZx0/blib/lib/Apache/ASP.pm line 2018.
t/xmlsubsmatch.t ......... ok
All tests successful.
Files=47, Tests=340, 28 wallclock secs ( 0.16 usr  0.08 sys +  3.50 cusr  0.26 csys =  4.00 CPU)
Result: PASS

------------------------------
PREREQUISITES
------------------------------

Prerequisite modules loaded:

requires:

    Module         Need Have 
    -------------- ---- -----
    Carp           0    1.16 
    Class::Struct  0    0.63 
    Data::Dumper   0    2.131
    Digest::MD5    0    2.39 
    Fcntl          0    1.06 
    File::Basename 0    2.78 
    MLDBM          0    2.04 
    MLDBM::Sync    0    0.30 
    SDBM_File      0    1.06 


------------------------------
ENVIRONMENT AND OTHER CONTEXT
------------------------------

Environment variables:

    AUTOMATED_TESTING = 1
    LANG = en_US.UTF-8
    LC_ALL = C
    PATH = /usr/local/bin:/usr/bin:/bin:/usr/local/games:/usr/games
    PERL5LIB = /smoker/5.12.1/cpan/build/MLDBM-Sync-0.30-Ofzx7m/blib/arch:/smoker/5.12.1/cpan/build/MLDBM-Sync-0.30-Ofzx7m/blib/lib:/smoker/5.12.1/cpan/build/MLDBM-2.04-cXU1HT/blib/arch:/smoker/5.12.1/cpan/build/MLDBM-2.04-cXU1HT/blib/lib
    PERL5OPT = 
    PERL5_CPANPLUS_IS_RUNNING = 30953
    PERL5_CPAN_IS_RUNNING = 30953
    PERL5_CPAN_IS_RUNNING_IN_RECURSION = 10203,30953
    PERL_AUTOINSTALL = --skip
    PERL_CPAN_REPORTER_CONFIG = /smoker/cpanreporter-config.ini
    PERL_CPAN_REPORTER_DIR = /smoker/5.12.1/cpanreporter
    PERL_CR_SMOKER_CURRENT = Apache-ASP-2.62
    PERL_CR_SMOKER_RUNONCE = 1
    PERL_EXTUTILS_AUTOINSTALL = --defaultdeps
    PERL_MM_USE_DEFAULT = 1
    SHELL = /bin/sh
    TERM = screen

Perl special variables (and OS-specific diagnostics, for MSWin32):

    $^X = /smoker/5.12.1/perl/bin/perl
    $UID/$EUID = 60000 / 60000
    $GID = 60000 60000
    $EGID = 60000 60000

Perl module toolchain versions installed:

    Module              Have    
    ------------------- --------
    CPAN                1.9600  
    Cwd                 3.33    
    ExtUtils::CBuilder  0.280202
    ExtUtils::Command   1.16    
    ExtUtils::Install   1.55    
    ExtUtils::MakeMaker 6.56    
    ExtUtils::Manifest  1.57    
    ExtUtils::ParseXS   2.21    
    File::Spec          3.33    
    Module::Build       0.3800  
    Module::Signature   n/a     
    Test::Harness       3.23    
    Test::More          0.98    
    YAML                0.73    
    YAML::Syck          1.17    
    version             0.91    


--

Summary of my perl5 (revision 5 version 12 subversion 1) configuration:
   
  Platform:
    osname=linux, osvers=2.6.26-2-amd64, archname=i686-linux
    uname='linux rijk 2.6.26-2-amd64 #1 smp thu nov 5 02:23:12 utc 2009 i686 gnulinux '
    config_args='-Duselargefiles -Uuse64bitint -Dusemymalloc=n -Uusedl -Uusethreads -Uuseithreads -Uusemultiplicity -Uusesfio -Uuseshrplib -Uinstallusrbinperl -A ccflags= -g -DPERL_DISABLE_PMC -DPERL_ARENA_SIZE=16376 -DNO_PERL_MALLOC_ENV -D_GNU_SOURCE -DNDEBUG -Dcc=cc -Doptimize=-O2 -mpush-args -fomit-frame-pointer -march=core2 -mtune=core2 -Dldflags= -lc -lm -ldl -lpthread -Dlibs=-lm -lcrypt -Dprefix=/smoker/5.12.1/perl -Dbin=/smoker/5.12.1/perl/bin -Dprivlib=/smoker/5.12.1/perl/lib -Darchlib=/smoker/5.12.1/perl/lib -Uusevendorprefix -Dsitelib=/smoker/5.12.1/perl/lib -Dsitearch=/smoker/5.12.1/perl/lib -Uman1dir -Uman3dir -Usiteman1dir -Usiteman3dir -Dpager=/usr/bin/less -Demail=Marc Lehmann <staticperl-smoker-5.12.1@plan9.de> -Dcf_email=Marc Lehmann <staticperl-smoker-5.12.1@plan9.de> -Dcf_by=Marc Lehmann <staticperl-smoker-5.12.1@plan9.de> -Dusedl -Uusemymalloc -Duseperlio -dE'
    hint=recommended, useposix=true, d_sigaction=define
    useithreads=undef, usemultiplicity=undef
    useperlio=define, d_sfio=undef, uselargefiles=define, usesocks=undef
    use64bitint=undef, use64bitall=undef, uselongdouble=undef
    usemymalloc=n, bincompat5005=undef
  Compiler:
    cc='cc', ccflags ='-g -DPERL_DISABLE_PMC -DPERL_ARENA_SIZE=16376 -DNO_PERL_MALLOC_ENV -D_GNU_SOURCE -DNDEBUG -fno-strict-aliasing -pipe -I/usr/local/include -D_LARGEFILE_SOURCE -D_FILE_OFFSET_BITS=64',
    optimize='-O2 -mpush-args -fomit-frame-pointer -march=core2 -mtune=core2',
    cppflags='-g -DPERL_DISABLE_PMC -DPERL_ARENA_SIZE=16376 -DNO_PERL_MALLOC_ENV -D_GNU_SOURCE -DNDEBUG -fno-strict-aliasing -pipe -I/usr/local/include'
    ccversion='', gccversion='4.4.5', gccosandvers=''
    intsize=4, longsize=4, ptrsize=4, doublesize=8, byteorder=1234
    d_longlong=define, longlongsize=8, d_longdbl=define, longdblsize=12
    ivtype='long', ivsize=4, nvtype='double', nvsize=8, Off_t='off_t', lseeksize=8
    alignbytes=4, prototype=define
  Linker and Libraries:
    ld='cc', ldflags =' -lc -lm -ldl -lpthread -L/usr/local/lib'
    libpth=/usr/local/lib /lib /usr/lib /usr/lib64
    libs=-lm -lcrypt
    perllibs=-lm -lcrypt
    libc=/lib/libc-2.11.2.so, so=so, useshrplib=false, libperl=libperl.a
    gnulibc_version='2.11.2'
  Dynamic Linking:
    dlsrc=dl_dlopen.xs, dlext=so, d_dlsymun=undef, ccdlflags='-Wl,-E'
    cccdlflags='-fPIC', lddlflags='-shared -O2 -mpush-args -fomit-frame-pointer -march=core2 -mtune=core2 -L/usr/local/lib '


Characteristics of this binary (from libperl): 
  Compile-time options: PERL_DISABLE_PMC PERL_DONT_CREATE_GVSV
                        PERL_MALLOC_WRAP USE_LARGE_FILES USE_PERLIO
                        USE_PERL_ATOF
  Built under linux
  Compiled at Jul  1 2011 16:28:30
  %ENV:
    PERL5LIB="/smoker/5.12.1/cpan/build/MLDBM-Sync-0.30-Ofzx7m/blib/arch:/smoker/5.12.1/cpan/build/MLDBM-Sync-0.30-Ofzx7m/blib/lib:/smoker/5.12.1/cpan/build/MLDBM-2.04-cXU1HT/blib/arch:/smoker/5.12.1/cpan/build/MLDBM-2.04-cXU1HT/blib/lib"
    PERL5OPT=""
    PERL5_CPANPLUS_IS_RUNNING="30953"
    PERL5_CPAN_IS_RUNNING="30953"
    PERL5_CPAN_IS_RUNNING_IN_RECURSION="10203,30953"
    PERL_AUTOINSTALL="--skip"
    PERL_CPAN_REPORTER_CONFIG="/smoker/cpanreporter-config.ini"
    PERL_CPAN_REPORTER_DIR="/smoker/5.12.1/cpanreporter"
    PERL_CR_SMOKER_CURRENT="Apache-ASP-2.62"
    PERL_CR_SMOKER_RUNONCE="1"
    PERL_EXTUTILS_AUTOINSTALL="--defaultdeps"
    PERL_MM_USE_DEFAULT="1"
  @INC:
    /smoker/5.12.1/cpan/build/MLDBM-Sync-0.30-Ofzx7m/blib/arch
    /smoker/5.12.1/cpan/build/MLDBM-Sync-0.30-Ofzx7m/blib/lib
    /smoker/5.12.1/cpan/build/MLDBM-2.04-cXU1HT/blib/arch
    /smoker/5.12.1/cpan/build/MLDBM-2.04-cXU1HT/blib/lib
    /smoker/5.12.1/perl/lib
    .