Alien-libpid v0.033 Perl 5 v5.18.0 x86_64-linux-ld

Status
Pass
From
Nigel Horne
Dist
Alien-libpid v0.033
Platform
Perl 5 v5.18.0 x86_64-linux-ld
Date
2019-01-20 01:22:51
ID
e75ecde8-1c51-11e9-ae70-d3061a3aa5ed
This distribution has been tested as part of the CPAN Testers
project, supporting the Perl programming language.  See
http://wiki.cpantesters.org/ for more information or email
questions to cpan-testers-discuss@perl.org


--
Dear Ahmad Fatoum,

This is a computer-generated report for Alien-libpid-0.033
on perl 5.18.0, created by CPAN-Reporter-1.2018.

Thank you for uploading your work to CPAN.  Congratulations!
All tests were successful.

Sections of this report:

    * Tester comments
    * Program output
    * Prerequisites
    * Environment and other context

------------------------------
TESTER COMMENTS
------------------------------

Additional comments from tester:

this report is from an automated smoke testing program
and was not reviewed by a human for accuracy

------------------------------
PROGRAM OUTPUT
------------------------------

Output from '/usr/bin/make test':

"/home/njh/perl5/perlbrew/perls/perl-5.18.0-ld/bin/perl" -MAlien::Build::MM=cmd -e test
Useless use of string ne in void context at /home/njh/.cpan/build/Alien-libpid-0.033-13/alienfile line 29.
Alien::Build::Plugin::PkgConfig::Negotiate> Using PkgConfig plugin: PkgConfig::CommandLine
PERL_DL_NONLAZY=1 "/home/njh/perl5/perlbrew/perls/perl-5.18.0-ld/bin/perl" "-MExtUtils::Command::MM" "-MTest::Harness" "-e" "undef *Test::Harness::Switches; test_harness(0, 'blib/lib', 'blib/arch')" t/*.t
t/00-compile.t ......... ok
# 
# Versions for all modules listed in MYMETA.json (including optional ones):
# 
# === Configure Requires ===
# 
#     Module                             Want Have
#     ---------------------------------- ---- ----
#     Alien::Build                       0.32 1.50
#     Alien::Build::MM                   0.32 1.50
#     Alien::Build::Plugin::Build::CMake 0.99 1.50
#     ExtUtils::MakeMaker                6.52 7.34
# 
# === Build Requires ===
# 
#     Module                                        Want     Have
#     -------------------------------------------- ----- --------
#     Alien::Build                                  0.32     1.50
#     Alien::Build::MM                              0.32     1.50
#     Alien::Build::Plugin::Gather::IsolateDynamic  0.48     1.50
#     Alien::cmake3                                 0.02     0.04
#     Archive::Tar                                   any     1.90
#     Config                                         any 5.018000
#     ExtUtils::MakeMaker                           6.52     7.34
#     HTTP::Tiny                                   0.044    0.076
#     IO::Socket::SSL                               1.56    2.060
#     IO::Zlib                                       any     1.10
#     Net::SSLeay                                   1.49     1.85
#     URI                                            any     1.74
# 
# === Test Requires ===
# 
#     Module              Want     Have
#     ------------------- ---- --------
#     ExtUtils::MakeMaker 6.52     7.34
#     File::Spec           any     3.40
#     IO::Handle           any     1.34
#     IPC::Open3           any     1.13
#     Test2::Bundle::More  any 0.000118
#     Test::Alien         0.05     1.50
#     Test::More           any 1.302160
# 
# === Test Recommends ===
# 
#     Module         Want     Have
#     ---------- -------- --------
#     CPAN::Meta 2.120900 2.143240
# 
# === Runtime Requires ===
# 
#     Module        Want  Have
#     ------------ ----- -----
#     Alien::Base  0.038  1.50
#     Alien::Build  0.25  1.50
#     parent         any 0.225
#     strict         any  1.07
#     warnings       any  1.18
# 
t/00-report-prereqs.t .. ok
compilet-Tnwq6.c:1:5: warning: function declaration isn't a prototype [-Wstrict-prototypes]
 int boot_compilet() { return 1; }
     ^~~~~~~~~~~~~
t/init.t ............... ok
All tests successful.
Files=3, Tests=5,  3 wallclock secs ( 0.08 usr  0.02 sys +  1.43 cusr  0.42 csys =  1.95 CPU)
Result: PASS

------------------------------
PREREQUISITES
------------------------------

Prerequisite modules loaded:

requires:

    Module                                       Need  Have    
    -------------------------------------------- ----- --------
    Alien::Base                                  0.038 1.50    
    Alien::Build                                 0.25  1.50    
    parent                                       0     0.225   
    perl                                         5.008 5.018000
    strict                                       0     1.07    
    warnings                                     0     1.18    

build_requires:

    Module                                       Need  Have    
    -------------------------------------------- ----- --------
    Alien::Build                                 0.32  1.50    
    Alien::Build::MM                             0.32  1.50    
    Alien::Build::Plugin::Gather::IsolateDynamic 0.48  1.50    
    Alien::cmake3                                0.02  0.04    
    Archive::Tar                                 0     1.90    
    Config                                       0     5.018000
    ExtUtils::MakeMaker                          6.52  7.34    
    File::Spec                                   0     3.40    
    HTTP::Tiny                                   0.044 0.076   
    IO::Handle                                   0     1.34    
    IO::Socket::SSL                              1.56  2.060   
    IO::Zlib                                     0     1.10    
    IPC::Open3                                   0     1.13    
    Net::SSLeay                                  1.49  1.85    
    Test2::Bundle::More                          0     0.000118
    Test::Alien                                  0.05  1.50    
    Test::More                                   0     1.302160
    URI                                          0     1.74    

configure_requires:

    Module                                       Need  Have    
    -------------------------------------------- ----- --------
    Alien::Build                                 0.32  1.50    
    Alien::Build::MM                             0.32  1.50    
    Alien::Build::Plugin::Build::CMake           0.99  1.50    
    ExtUtils::MakeMaker                          6.52  7.34    


------------------------------
ENVIRONMENT AND OTHER CONTEXT
------------------------------

Environment variables:

    AUTOMATED_TESTING = 1
    HARNESS_OPTIONS = j2
    NONINTERACTIVE_TESTING = 1
    PATH = /home/njh/perl5/perlbrew/bin:/home/njh/perl5/perlbrew/perls/perl-5.18.0-ld/bin:/home/njh/src/njh/smoker/bin:/usr/bin:/bin
    PERL5LIB = /home/njh/.cpan/build/Alien-cmake3-0.04-13/blib/arch:/home/njh/.cpan/build/Alien-cmake3-0.04-13/blib/lib:/home/njh/.cpan/build/Sort-Versions-1.62-13/blib/arch:/home/njh/.cpan/build/Sort-Versions-1.62-13/blib/lib:/home/njh/.cpan/build/IO-Socket-SSL-2.060-6/blib/arch:/home/njh/.cpan/build/IO-Socket-SSL-2.060-6/blib/lib:/home/njh/.cpan/build/Net-SSLeay-1.85-6/blib/arch:/home/njh/.cpan/build/Net-SSLeay-1.85-6/blib/lib:/home/njh/.cpan/build/Mozilla-CA-20180117-4/blib/arch:/home/njh/.cpan/build/Mozilla-CA-20180117-4/blib/lib:/home/njh/.cpan/build/Alien-Build-1.50-13/blib/arch:/home/njh/.cpan/build/Alien-Build-1.50-13/blib/lib:/home/njh/.cpan/build/FFI-CheckLib-0.23-13/blib/arch:/home/njh/.cpan/build/FFI-CheckLib-0.23-13/blib/lib:/home/njh/.cpan/build/Test2-Suite-0.000118-14/blib/arch:/home/njh/.cpan/build/Test2-Suite-0.000118-14/blib/lib:/home/njh/.cpan/build/Test-Simple-1.302160-21/blib/arch:/home/njh/.cpan/build/Test-Simple-1.302160-21/blib/lib:/home/njh/.cpan/build/Term-Table-0.013-14/blib/arch:/home/njh/.cpan/build/Term-Table-0.013-14/blib/lib:/home/njh/.cpan/build/Sub-Info-0.002-14/blib/arch:/home/njh/.cpan/build/Sub-Info-0.002-14/blib/lib:/home/njh/.cpan/build/Scope-Guard-0.21-14/blib/arch:/home/njh/.cpan/build/Scope-Guard-0.21-14/blib/lib:/home/njh/.cpan/build/Module-Pluggable-5.2-14/blib/arch:/home/njh/.cpan/build/Module-Pluggable-5.2-14/blib/lib:/home/njh/.cpan/build/Importer-0.025-14/blib/arch:/home/njh/.cpan/build/Importer-0.025-14/blib/lib:/home/njh/.cpan/build/ExtUtils-ParseXS-3.35-8/blib/arch:/home/njh/.cpan/build/ExtUtils-ParseXS-3.35-8/blib/lib
    PERL5OPT = 
    PERL5_CPANPLUS_IS_RUNNING = 2315
    PERL5_CPAN_IS_RUNNING = 2315
    PERLBREW_HOME = /home/njh/.perlbrew
    PERLBREW_MANPATH = /home/njh/perl5/perlbrew/perls/perl-5.18.0-ld/man
    PERLBREW_PATH = /home/njh/perl5/perlbrew/bin:/home/njh/perl5/perlbrew/perls/perl-5.18.0-ld/bin
    PERLBREW_PERL = perl-5.18.0-ld
    PERLBREW_ROOT = /home/njh/perl5/perlbrew
    PERLBREW_SHELLRC_VERSION = 0.85
    PERLBREW_VERSION = 0.85
    PERL_MM_USE_DEFAULT = 1
    PERL_USE_UNSAFE_INC = 1
    SHELL = /bin/sh
    TMPDIR = /tmp/testwrapper.2304

Perl special variables (and OS-specific diagnostics, for MSWin32):

    $^X = /home/njh/perl5/perlbrew/perls/perl-5.18.0-ld/bin/perl
    $UID/$EUID = 1000 / 1000
    $GID = 1000 1000
    $EGID = 1000 1000

Perl module toolchain versions installed:

    Module              Have    
    ------------------- --------
    CPAN                2.22    
    CPAN::Meta          2.143240
    Cwd                 3.40    
    ExtUtils::CBuilder  0.280210
    ExtUtils::Command   7.34    
    ExtUtils::Install   2.06    
    ExtUtils::MakeMaker 7.34    
    ExtUtils::Manifest  1.70    
    ExtUtils::ParseXS   3.35    
    File::Spec          3.40    
    JSON                4.00    
    JSON::PP            4.00    
    Module::Build       0.4003  
    Module::Signature   n/a     
    Parse::CPAN::Meta   1.4414  
    Test::Harness       3.42    
    Test::More          1.302160
    YAML                1.27    
    YAML::Syck          1.31    
    version             0.9902  


--

Summary of my perl5 (revision 5 version 18 subversion 0) configuration:
   
  Platform:
    osname=linux, osvers=2.6.32-042stab127.2, archname=x86_64-linux-ld
    uname='linux builder 2.6.32-042stab127.2 #1 smp thu jan 4 16:41:44 msk 2018 x86_64 gnulinux '
    config_args='-de -Dprefix=/home/njh/perl5/perlbrew/perls/perl-5.18.0-ld -Dusedevel -Duselongdouble -Accflags=-O2 -W -Wformat=2 -Wswitch -Wshadow -Wwrite-strings -Wuninitialized -Wall -pipe -fomit-frame-pointer -pedantic -D_FORTIFY_SOURCE=2 -Wpointer-arith -Wstrict-prototypes -fstack-protector -Wstack-protector -Wextra -Wbad-function-cast -Wcast-align -Wcast-qual -Wdisabled-optimization -Wendif-labels -Wfloat-equal -Wformat-nonliteral -Winline -Wmissing-declarations -Wmissing-prototypes -Wnested-externs -Wpointer-arith -Wundef -Wformat-security -ftree-vectorize -msse -mfpmath=sse -msse2 -mssse3 -msse4.1 -msse4.2 -maes -fdiagnostics-color=auto -mtune=native -march=native -Aeval:scriptdir=/home/njh/perl5/perlbrew/perls/perl-5.18.0-ld/bin'
    hint=recommended, useposix=true, d_sigaction=define
    useithreads=undef, usemultiplicity=undef
    useperlio=define, d_sfio=undef, uselargefiles=define, usesocks=undef
    use64bitint=define, use64bitall=define, uselongdouble=define
    usemymalloc=n, bincompat5005=undef
  Compiler:
    cc='cc', ccflags ='-O2 -W -Wformat=2 -Wswitch -Wshadow -Wwrite-strings -Wuninitialized -Wall -pipe -fomit-frame-pointer -pedantic -D_FORTIFY_SOURCE=2 -Wpointer-arith -Wstrict-prototypes -fstack-protector -Wstack-protector -Wextra -Wbad-function-cast -Wcast-align -Wcast-qual -Wdisabled-optimization -Wendif-labels -Wfloat-equal -Wformat-nonliteral -Winline -Wmissing-declarations -Wmissing-prototypes -Wnested-externs -Wpointer-arith -Wundef -Wformat-security -ftree-vectorize -msse -mfpmath=sse -msse2 -mssse3 -msse4.1 -msse4.2 -maes -fdiagnostics-color=auto -mtune=native -march=native -fno-strict-aliasing -I/usr/local/include -D_LARGEFILE_SOURCE -D_FILE_OFFSET_BITS=64',
    optimize='-O2',
    cppflags='-O2 -W -Wformat=2 -Wswitch -Wshadow -Wwrite-strings -Wuninitialized -Wall -pipe -fomit-frame-pointer -pedantic -D_FORTIFY_SOURCE=2 -Wpointer-arith -Wstrict-prototypes -fstack-protector -Wstack-protector -Wextra -Wbad-function-cast -Wcast-align -Wcast-qual -Wdisabled-optimization -Wendif-labels -Wfloat-equal -Wformat-nonliteral -Winline -Wmissing-declarations -Wmissing-prototypes -Wnested-externs -Wpointer-arith -Wundef -Wformat-security -ftree-vectorize -msse -mfpmath=sse -msse2 -mssse3 -msse4.1 -msse4.2 -maes -fdiagnostics-color=auto -mtune=native -march=native -fno-strict-aliasing -I/usr/local/include'
    ccversion='', gccversion='6.3.0 20170516', gccosandvers=''
    intsize=4, longsize=8, ptrsize=8, doublesize=8, byteorder=12345678
    d_longlong=define, longlongsize=8, d_longdbl=define, longdblsize=16
    ivtype='long', ivsize=8, nvtype='long double', nvsize=16, Off_t='off_t', lseeksize=8
    alignbytes=16, prototype=define
  Linker and Libraries:
    ld='cc', ldflags =' -fstack-protector -L/usr/local/lib'
    libpth=/usr/local/lib /lib/x86_64-linux-gnu /lib/../lib /usr/lib/x86_64-linux-gnu /usr/lib/../lib /lib /usr/lib
    libs=-lnsl -lgdbm -ldb -ldl -lm -lcrypt -lutil -lc -lgdbm_compat
    perllibs=-lnsl -ldl -lm -lcrypt -lutil -lc
    libc=libc-2.24.so, so=so, useshrplib=false, libperl=libperl.a
    gnulibc_version='2.24'
  Dynamic Linking:
    dlsrc=dl_dlopen.xs, dlext=so, d_dlsymun=undef, ccdlflags='-Wl,-E'
    cccdlflags='-fPIC', lddlflags='-shared -O2 -L/usr/local/lib -fstack-protector'


Characteristics of this binary (from libperl): 
  Compile-time options: HAS_TIMES PERLIO_LAYERS PERL_DONT_CREATE_GVSV
                        PERL_HASH_FUNC_ONE_AT_A_TIME_HARD PERL_MALLOC_WRAP
                        PERL_PRESERVE_IVUV PERL_SAWAMPERSAND PERL_USE_DEVEL
                        USE_64_BIT_ALL USE_64_BIT_INT USE_LARGE_FILES
                        USE_LOCALE USE_LOCALE_COLLATE USE_LOCALE_CTYPE
                        USE_LOCALE_NUMERIC USE_LONG_DOUBLE USE_PERLIO
                        USE_PERL_ATOF
  Locally applied patches:
	Devel::PatchPerl 1.52
  Built under linux
  Compiled at Jan  2 2019 23:01:40
  %ENV:
    PERL5LIB="/home/njh/.cpan/build/Alien-cmake3-0.04-13/blib/arch:/home/njh/.cpan/build/Alien-cmake3-0.04-13/blib/lib:/home/njh/.cpan/build/Sort-Versions-1.62-13/blib/arch:/home/njh/.cpan/build/Sort-Versions-1.62-13/blib/lib:/home/njh/.cpan/build/IO-Socket-SSL-2.060-6/blib/arch:/home/njh/.cpan/build/IO-Socket-SSL-2.060-6/blib/lib:/home/njh/.cpan/build/Net-SSLeay-1.85-6/blib/arch:/home/njh/.cpan/build/Net-SSLeay-1.85-6/blib/lib:/home/njh/.cpan/build/Mozilla-CA-20180117-4/blib/arch:/home/njh/.cpan/build/Mozilla-CA-20180117-4/blib/lib:/home/njh/.cpan/build/Alien-Build-1.50-13/blib/arch:/home/njh/.cpan/build/Alien-Build-1.50-13/blib/lib:/home/njh/.cpan/build/FFI-CheckLib-0.23-13/blib/arch:/home/njh/.cpan/build/FFI-CheckLib-0.23-13/blib/lib:/home/njh/.cpan/build/Test2-Suite-0.000118-14/blib/arch:/home/njh/.cpan/build/Test2-Suite-0.000118-14/blib/lib:/home/njh/.cpan/build/Test-Simple-1.302160-21/blib/arch:/home/njh/.cpan/build/Test-Simple-1.302160-21/blib/lib:/home/njh/.cpan/build/Term-Table-0.013-14/blib/arch:/home/njh/.cpan/build/Term-Table-0.013-14/blib/lib:/home/njh/.cpan/build/Sub-Info-0.002-14/blib/arch:/home/njh/.cpan/build/Sub-Info-0.002-14/blib/lib:/home/njh/.cpan/build/Scope-Guard-0.21-14/blib/arch:/home/njh/.cpan/build/Scope-Guard-0.21-14/blib/lib:/home/njh/.cpan/build/Module-Pluggable-5.2-14/blib/arch:/home/njh/.cpan/build/Module-Pluggable-5.2-14/blib/lib:/home/njh/.cpan/build/Importer-0.025-14/blib/arch:/home/njh/.cpan/build/Importer-0.025-14/blib/lib:/home/njh/.cpan/build/ExtUtils-ParseXS-3.35-8/blib/arch:/home/njh/.cpan/build/ExtUtils-ParseXS-3.35-8/blib/lib"
    PERL5OPT=""
    PERL5_CPANPLUS_IS_RUNNING="2315"
    PERL5_CPAN_IS_RUNNING="2315"
    PERLBREW_HOME="/home/njh/.perlbrew"
    PERLBREW_MANPATH="/home/njh/perl5/perlbrew/perls/perl-5.18.0-ld/man"
    PERLBREW_PATH="/home/njh/perl5/perlbrew/bin:/home/njh/perl5/perlbrew/perls/perl-5.18.0-ld/bin"
    PERLBREW_PERL="perl-5.18.0-ld"
    PERLBREW_ROOT="/home/njh/perl5/perlbrew"
    PERLBREW_SHELLRC_VERSION="0.85"
    PERLBREW_VERSION="0.85"
    PERL_MM_USE_DEFAULT="1"
    PERL_USE_UNSAFE_INC="1"
  @INC:
    /home/njh/.cpan/build/Alien-cmake3-0.04-13/blib/arch
    /home/njh/.cpan/build/Alien-cmake3-0.04-13/blib/lib
    /home/njh/.cpan/build/Sort-Versions-1.62-13/blib/arch
    /home/njh/.cpan/build/Sort-Versions-1.62-13/blib/lib
    /home/njh/.cpan/build/IO-Socket-SSL-2.060-6/blib/arch
    /home/njh/.cpan/build/IO-Socket-SSL-2.060-6/blib/lib
    /home/njh/.cpan/build/Net-SSLeay-1.85-6/blib/arch
    /home/njh/.cpan/build/Net-SSLeay-1.85-6/blib/lib
    /home/njh/.cpan/build/Mozilla-CA-20180117-4/blib/arch
    /home/njh/.cpan/build/Mozilla-CA-20180117-4/blib/lib
    /home/njh/.cpan/build/Alien-Build-1.50-13/blib/arch
    /home/njh/.cpan/build/Alien-Build-1.50-13/blib/lib
    /home/njh/.cpan/build/FFI-CheckLib-0.23-13/blib/arch
    /home/njh/.cpan/build/FFI-CheckLib-0.23-13/blib/lib
    /home/njh/.cpan/build/Test2-Suite-0.000118-14/blib/arch
    /home/njh/.cpan/build/Test2-Suite-0.000118-14/blib/lib
    /home/njh/.cpan/build/Test-Simple-1.302160-21/blib/arch
    /home/njh/.cpan/build/Test-Simple-1.302160-21/blib/lib
    /home/njh/.cpan/build/Term-Table-0.013-14/blib/arch
    /home/njh/.cpan/build/Term-Table-0.013-14/blib/lib
    /home/njh/.cpan/build/Sub-Info-0.002-14/blib/arch
    /home/njh/.cpan/build/Sub-Info-0.002-14/blib/lib
    /home/njh/.cpan/build/Scope-Guard-0.21-14/blib/arch
    /home/njh/.cpan/build/Scope-Guard-0.21-14/blib/lib
    /home/njh/.cpan/build/Module-Pluggable-5.2-14/blib/arch
    /home/njh/.cpan/build/Module-Pluggable-5.2-14/blib/lib
    /home/njh/.cpan/build/Importer-0.025-14/blib/arch
    /home/njh/.cpan/build/Importer-0.025-14/blib/lib
    /home/njh/.cpan/build/ExtUtils-ParseXS-3.35-8/blib/arch
    /home/njh/.cpan/build/ExtUtils-ParseXS-3.35-8/blib/lib
    /home/njh/perl5/perlbrew/perls/perl-5.18.0-ld/lib/site_perl/5.18.0/x86_64-linux-ld
    /home/njh/perl5/perlbrew/perls/perl-5.18.0-ld/lib/site_perl/5.18.0
    /home/njh/perl5/perlbrew/perls/perl-5.18.0-ld/lib/5.18.0/x86_64-linux-ld
    /home/njh/perl5/perlbrew/perls/perl-5.18.0-ld/lib/5.18.0
    .