Spreadsheet-Simple v1.0.0 Perl 5 v5.22.4 x86_64-linux-ld
- Status
- Pass
- From
- Andreas J. König (ANDK)
- Dist
-
Spreadsheet-Simple v1.0.0
- Platform
- Perl 5 v5.22.4 x86_64-linux-ld
- Date
- 2017-09-27 20:03:17
- ID
- e76b8ab8-a3be-11e7-b039-d3f996dd1f1a
This distribution has been tested as part of the CPAN Testers
project, supporting the Perl programming language. See
http://wiki.cpantesters.org/ for more information or email
questions to cpan-testers-discuss@perl.org
--
Dear Dylan William Hardison,
This is a computer-generated report for Spreadsheet-Simple-1.0.0
on perl 5.22.4, created by CPAN-Reporter-1.2018.
Thank you for uploading your work to CPAN. Congratulations!
All tests were successful.
Sections of this report:
* Tester comments
* Program output
* Prerequisites
* Environment and other context
------------------------------
TESTER COMMENTS
------------------------------
Additional comments from tester:
this report is from an automated smoke testing program
and was not reviewed by a human for accuracy
------------------------------
PROGRAM OUTPUT
------------------------------
Output from '/usr/bin/make test':
PERL_DL_NONLAZY=1 "/home/sand/src/perl/repoperls/installed-perls/host/k93msid/v5.22.4/2d7c/bin/perl" "-MExtUtils::Command::MM" "-MTest::Harness" "-e" "undef *Test::Harness::Switches; test_harness(0, 'blib/lib', 'blib/arch')" t/*.t
# Testing Spreadsheet::Simple 1.0.0, Perl 5.022004, /home/sand/src/perl/repoperls/installed-perls/host/k93msid/v5.22.4/2d7c/bin/perl
t/000-load.t .............. ok
Class::MOP::load_class is deprecated at /home/sand/src/perl/repoperls/installed-perls/host/k93msid/v5.22.4/2d7c/lib/site_perl/5.22.4/x86_64-linux-ld/Class/MOP.pm line 69.
Class::MOP::load_class("Spreadsheet::Simple::Document") called at /tmp/loop_over_bdir-27895-qAASgw/Spreadsheet-Simple-1.0.0-0/blib/lib/Spreadsheet/Simple.pm line 62
Spreadsheet::Simple::new_document(Spreadsheet::Simple=HASH(0x557471336fe0)) called at t/001-basic.t line 11
Class::MOP::load_class is deprecated at /home/sand/src/perl/repoperls/installed-perls/host/k93msid/v5.22.4/2d7c/lib/site_perl/5.22.4/x86_64-linux-ld/Class/MOP.pm line 69.
Class::MOP::load_class("Spreadsheet::Simple::Row") called at /tmp/loop_over_bdir-27895-qAASgw/Spreadsheet-Simple-1.0.0-0/blib/lib/Spreadsheet/Simple/Types.pm line 37
Spreadsheet::Simple::Types::__ANON__(ARRAY(0x5574713a3630)) called at /home/sand/src/perl/repoperls/installed-perls/host/k93msid/v5.22.4/2d7c/lib/site_perl/5.22.4/x86_64-linux-ld/Moose/Meta/TypeCoercion.pm line 65
Moose::Meta::TypeCoercion::__ANON__(ARRAY(0x5574713a3630)) called at /home/sand/src/perl/repoperls/installed-perls/host/k93msid/v5.22.4/2d7c/lib/site_perl/5.22.4/x86_64-linux-ld/Moose/Meta/TypeCoercion.pm line 100
Moose::Meta::TypeCoercion::coerce(Moose::Meta::TypeCoercion=HASH(0x557471358fe0), ARRAY(0x5574713a3630)) called at /home/sand/src/perl/repoperls/installed-perls/host/k93msid/v5.22.4/2d7c/lib/site_perl/5.22.4/x86_64-linux-ld/Moose/Meta/TypeConstraint.pm line 145
Moose::Meta::TypeConstraint::coerce(Moose::Meta::TypeConstraint::Parameterizable=HASH(0x55747134df08), ARRAY(0x5574713a3630)) called at /home/sand/src/perl/repoperls/installed-perls/host/k93msid/v5.22.4/2d7c/lib/site_perl/5.22.4/MooseX/Types/TypeDecorator.pm line 221
MooseX::Types::TypeDecorator::_try_delegate(MooseX::Types::TypeDecorator=HASH(0x5574713bcb78), "coerce", ARRAY(0x5574713a3630)) called at /home/sand/src/perl/repoperls/installed-perls/host/k93msid/v5.22.4/2d7c/lib/site_perl/5.22.4/MooseX/Types/TypeDecorator.pm line 186
MooseX::Types::TypeDecorator::AUTOLOAD(MooseX::Types::TypeDecorator=HASH(0x5574713bcb78), ARRAY(0x5574713a3630)) called at /home/sand/src/perl/repoperls/installed-perls/host/k93msid/v5.22.4/2d7c/lib/site_perl/5.22.4/x86_64-linux-ld/Moose/Meta/Attribute.pm line 1317
Moose::Meta::Attribute::_coerce_and_verify(Moose::Meta::Class::__ANON__::SERIAL::1=HASH(0x55747151a2c8), ARRAY(0x5574713a3630), Spreadsheet::Simple::Sheet=HASH(0x5574713bf7b0)) called at /home/sand/src/perl/repoperls/installed-perls/host/k93msid/v5.22.4/2d7c/lib/site_perl/5.22.4/x86_64-linux-ld/Moose/Meta/Attribute.pm line 517
Moose::Meta::Attribute::initialize_instance_slot(Moose::Meta::Class::__ANON__::SERIAL::1=HASH(0x55747151a2c8), Moose::Meta::Instance=HASH(0x557471540940), Spreadsheet::Simple::Sheet=HASH(0x5574713bf7b0), HASH(0x5574713c9368)) called at /home/sand/src/perl/repoperls/installed-perls/host/k93msid/v5.22.4/2d7c/lib/site_perl/5.22.4/x86_64-linux-ld/Class/MOP/Class.pm line 526
Class::MOP::Class::_construct_instance(Moose::Meta::Class=HASH(0x5574713c8ae0), HASH(0x5574713c9368)) called at /home/sand/src/perl/repoperls/installed-perls/host/k93msid/v5.22.4/2d7c/lib/site_perl/5.22.4/x86_64-linux-ld/Class/MOP/Class.pm line 496
Class::MOP::Class::new_object(Moose::Meta::Class=HASH(0x5574713c8ae0), HASH(0x5574713c9368)) called at /home/sand/src/perl/repoperls/installed-perls/host/k93msid/v5.22.4/2d7c/lib/site_perl/5.22.4/x86_64-linux-ld/Moose/Meta/Class.pm line 275
Moose::Meta::Class::new_object(Moose::Meta::Class=HASH(0x5574713c8ae0), HASH(0x5574713c9368)) called at /home/sand/src/perl/repoperls/installed-perls/host/k93msid/v5.22.4/2d7c/lib/site_perl/5.22.4/x86_64-linux-ld/Moose/Object.pm line 24
Moose::Object::new("Spreadsheet::Simple::Sheet", "name", "test", "rows", ARRAY(0x5574713a3630)) called at /tmp/loop_over_bdir-27895-qAASgw/Spreadsheet-Simple-1.0.0-0/blib/lib/Spreadsheet/Simple/Document.pm line 31
Spreadsheet::Simple::Document::new_sheet(Spreadsheet::Simple::Document=HASH(0x5574713a3540), "name", "test", "rows", ARRAY(0x5574713a3630)) called at t/001-basic.t line 16
t/001-basic.t ............. ok
Class::MOP::load_class is deprecated at /home/sand/src/perl/repoperls/installed-perls/host/k93msid/v5.22.4/2d7c/lib/site_perl/5.22.4/x86_64-linux-ld/Class/MOP.pm line 69.
Class::MOP::load_class() called at /tmp/loop_over_bdir-27895-qAASgw/Spreadsheet-Simple-1.0.0-0/blib/lib/Spreadsheet/Simple/Types.pm line 26
Spreadsheet::Simple::Types::__ANON__() called at /home/sand/src/perl/repoperls/installed-perls/host/k93msid/v5.22.4/2d7c/lib/site_perl/5.22.4/x86_64-linux-ld/Moose/Meta/TypeCoercion.pm line 65
Moose::Meta::TypeCoercion::__ANON__() called at /home/sand/src/perl/repoperls/installed-perls/host/k93msid/v5.22.4/2d7c/lib/site_perl/5.22.4/x86_64-linux-ld/Moose/Meta/TypeCoercion.pm line 100
Moose::Meta::TypeCoercion::coerce() called at /home/sand/src/perl/repoperls/installed-perls/host/k93msid/v5.22.4/2d7c/lib/site_perl/5.22.4/x86_64-linux-ld/Moose/Meta/TypeConstraint.pm line 145
Moose::Meta::TypeConstraint::coerce() called at /home/sand/src/perl/repoperls/installed-perls/host/k93msid/v5.22.4/2d7c/lib/site_perl/5.22.4/MooseX/Types/TypeDecorator.pm line 221
MooseX::Types::TypeDecorator::_try_delegate() called at /home/sand/src/perl/repoperls/installed-perls/host/k93msid/v5.22.4/2d7c/lib/site_perl/5.22.4/MooseX/Types/TypeDecorator.pm line 186
MooseX::Types::TypeDecorator::AUTOLOAD() called at /home/sand/src/perl/repoperls/installed-perls/host/k93msid/v5.22.4/2d7c/lib/site_perl/5.22.4/x86_64-linux-ld/Moose/Meta/Attribute.pm line 1317
Moose::Meta::Attribute::_coerce_and_verify() called at /home/sand/src/perl/repoperls/installed-perls/host/k93msid/v5.22.4/2d7c/lib/site_perl/5.22.4/x86_64-linux-ld/Moose/Meta/Attribute.pm line 517
Moose::Meta::Attribute::initialize_instance_slot() called at /home/sand/src/perl/repoperls/installed-perls/host/k93msid/v5.22.4/2d7c/lib/site_perl/5.22.4/x86_64-linux-ld/Class/MOP/Class.pm line 526
Class::MOP::Class::_construct_instance() called at /home/sand/src/perl/repoperls/installed-perls/host/k93msid/v5.22.4/2d7c/lib/site_perl/5.22.4/x86_64-linux-ld/Class/MOP/Class.pm line 496
Class::MOP::Class::new_object() called at /home/sand/src/perl/repoperls/installed-perls/host/k93msid/v5.22.4/2d7c/lib/site_perl/5.22.4/x86_64-linux-ld/Moose/Meta/Class.pm line 275
Moose::Meta::Class::new_object() called at /home/sand/src/perl/repoperls/installed-perls/host/k93msid/v5.22.4/2d7c/lib/site_perl/5.22.4/x86_64-linux-ld/Moose/Object.pm line 24
Moose::Object::new() called at t/002-row.t line 10
Test::Exception::lives_ok() called at t/002-row.t line 11
t/002-row.t ............... ok
t/003-cell.t .............. ok
t/100-excel.t ............. ok
Class::MOP::load_class is deprecated at /home/sand/src/perl/repoperls/installed-perls/host/k93msid/v5.22.4/2d7c/lib/site_perl/5.22.4/x86_64-linux-ld/Class/MOP.pm line 69.
Class::MOP::load_class("Spreadsheet::Simple::Reader::Excel") called at /tmp/loop_over_bdir-27895-qAASgw/Spreadsheet-Simple-1.0.0-0/blib/lib/Spreadsheet/Simple.pm line 43
Spreadsheet::Simple::_build_reader(Spreadsheet::Simple=HASH(0x555e62e81b78)) called at reader Spreadsheet::Simple::reader (defined at /tmp/loop_over_bdir-27895-qAASgw/Spreadsheet-Simple-1.0.0-0/blib/lib/Spreadsheet/Simple.pm line 24) line 8
Spreadsheet::Simple::reader(Spreadsheet::Simple=HASH(0x555e62e81b78)) called at inline delegation in Spreadsheet::Simple for reader->read_file (attribute declared in /tmp/loop_over_bdir-27895-qAASgw/Spreadsheet-Simple-1.0.0-0/blib/lib/Spreadsheet/Simple.pm at line 24) line 4
Spreadsheet::Simple::read_file(Spreadsheet::Simple=HASH(0x555e62e81b78), "t/data/100-excel.xls") called at t/101-excel.t line 21
t/101-excel.t ............. ok
t/release-pod-coverage.t .. skipped: these tests are for release candidate testing
t/release-pod-syntax.t .... skipped: these tests are for release candidate testing
All tests successful.
Files=8, Tests=92, 8 wallclock secs ( 0.05 usr 0.03 sys + 3.43 cusr 0.35 csys = 3.86 CPU)
Result: PASS
------------------------------
PREREQUISITES
------------------------------
Prerequisite modules loaded:
requires:
Module Need Have
------------------------- ---- --------
Moose 0 2.2006
Moose::Role 0 2.2006
MooseX::Types 0 0.50
MooseX::Types::Moose 0 0.50
MooseX::Types::Structured 0 0.36
namespace::autoclean 0 0.28
Spreadsheet::ParseExcel 0.59 0.65
strict 0 1.09
warnings 0 1.34
build_requires:
Module Need Have
------------------------- ---- --------
Path::Class 0.25 0.37
Test::Exception 0 0.43
Test::More 0 1.302096
configure_requires:
Module Need Have
------------------------- ---- --------
ExtUtils::MakeMaker 6.30 7.30
------------------------------
ENVIRONMENT AND OTHER CONTEXT
------------------------------
Environment variables:
AUTOMATED_TESTING = 1
LANG = en_US.UTF-8
PATH = /home/sand/bin:/usr/local/bin:/usr/bin:/bin:/usr/games:/usr/local/perl/bin:/usr/X11/bin:/sbin:/usr/sbin
PERL5LIB = /tmp/loop_over_bdir-27895-qAASgw/MooseX-Types-Structured-0.36-0/blib/arch:/tmp/loop_over_bdir-27895-qAASgw/MooseX-Types-Structured-0.36-0/blib/lib:/tmp/loop_over_bdir-27895-qAASgw/Devel-PartialDump-0.20-0/blib/arch:/tmp/loop_over_bdir-27895-qAASgw/Devel-PartialDump-0.20-0/blib/lib
PERL5OPT =
PERL5_CPANPLUS_IS_RUNNING = 27897
PERL5_CPAN_IS_RUNNING = 27897
PERL5_CPAN_IS_RUNNING_IN_RECURSION = 5668,27897
PERL_CANARY_STABILITY_NOPROMPT = 1
PERL_MM_USE_DEFAULT = 1
PERL_USE_UNSAFE_INC = 1
SHELL = /usr/bin/zsh
TERM = screen
Perl special variables (and OS-specific diagnostics, for MSWin32):
$^X = /home/sand/src/perl/repoperls/installed-perls/host/k93msid/v5.22.4/2d7c/bin/perl
$UID/$EUID = 1005 / 1005
$GID = 1005 1005
$EGID = 1005 1005
Perl module toolchain versions installed:
Module Have
------------------- ----------
CPAN 2.18
CPAN::Meta 2.150010
Cwd 3.62
ExtUtils::CBuilder 0.280226
ExtUtils::Command 7.30
ExtUtils::Install 2.06
ExtUtils::MakeMaker 7.30
ExtUtils::Manifest 1.70
ExtUtils::ParseXS 3.35
File::Spec 3.62
JSON 2.94
JSON::PP 2.27300_01
Module::Build 0.4224
Module::Signature 0.81
Parse::CPAN::Meta 2.150010
Test::Harness 3.39
Test::More 1.302096
YAML 1.23
YAML::Syck 1.30
version 0.9918
--
Summary of my perl5 (revision 5 version 22 subversion 4) configuration:
Derived from: a26666a1317770d8a2228ac3657ba58020c3511f
Platform:
osname=linux, osvers=4.9.0-2-amd64, archname=x86_64-linux-ld
uname='linux k93msid 4.9.0-2-amd64 #1 smp debian 4.9.18-1 (2017-03-30) x86_64 gnulinux '
config_args='-Dprefix=/home/sand/src/perl/repoperls/installed-perls/host/k93msid/v5.22.4/2d7c -Dmyhostname=k93msid -Dinstallusrbinperl=n -Uversiononly -Dusedevel -des -Ui_db -Dlibswanted=cl pthread socket inet nsl gdbm dbm malloc dl ld sun m crypt sec util c cposix posix ucb BSD gdbm_compat -Uuseithreads -Duselongdouble -DDEBUGGING=-g'
hint=recommended, useposix=true, d_sigaction=define
useithreads=undef, usemultiplicity=undef
use64bitint=define, use64bitall=define, uselongdouble=define
usemymalloc=n, bincompat5005=undef
Compiler:
cc='cc', ccflags ='-fwrapv -fno-strict-aliasing -pipe -fstack-protector-strong -I/usr/local/include -D_LARGEFILE_SOURCE -D_FILE_OFFSET_BITS=64',
optimize='-O2 -g',
cppflags='-fwrapv -fno-strict-aliasing -pipe -fstack-protector-strong -I/usr/local/include'
ccversion='', gccversion='6.3.0 20170406', gccosandvers=''
intsize=4, longsize=8, ptrsize=8, doublesize=8, byteorder=12345678, doublekind=3
d_longlong=define, longlongsize=8, d_longdbl=define, longdblsize=16, longdblkind=3
ivtype='long', ivsize=8, nvtype='long double', nvsize=16, Off_t='off_t', lseeksize=8
alignbytes=16, prototype=define
Linker and Libraries:
ld='cc', ldflags =' -fstack-protector-strong -L/usr/local/lib'
libpth=/usr/local/lib /usr/lib/gcc/x86_64-linux-gnu/6/include-fixed /usr/include/x86_64-linux-gnu /usr/lib /lib/x86_64-linux-gnu /lib/../lib /usr/lib/x86_64-linux-gnu /usr/lib/../lib /lib
libs=-lpthread -lnsl -ldl -lm -lcrypt -lutil -lc
perllibs=-lpthread -lnsl -ldl -lm -lcrypt -lutil -lc
libc=libc-2.24.so, so=so, useshrplib=false, libperl=libperl.a
gnulibc_version='2.24'
Dynamic Linking:
dlsrc=dl_dlopen.xs, dlext=so, d_dlsymun=undef, ccdlflags='-Wl,-E'
cccdlflags='-fPIC', lddlflags='-shared -O2 -g -L/usr/local/lib -fstack-protector-strong'
Characteristics of this binary (from libperl):
Compile-time options: HAS_TIMES PERLIO_LAYERS PERL_DONT_CREATE_GVSV
PERL_HASH_FUNC_ONE_AT_A_TIME_HARD PERL_MALLOC_WRAP
PERL_NEW_COPY_ON_WRITE PERL_PRESERVE_IVUV
PERL_USE_DEVEL USE_64_BIT_ALL USE_64_BIT_INT
USE_LARGE_FILES USE_LOCALE USE_LOCALE_COLLATE
USE_LOCALE_CTYPE USE_LOCALE_NUMERIC USE_LOCALE_TIME
USE_LONG_DOUBLE USE_PERLIO USE_PERL_ATOF
Locally applied patches:
uncommitted-changes
Built under linux
Compiled at Aug 25 2017 18:37:36
%ENV:
PERL5LIB="/tmp/loop_over_bdir-27895-qAASgw/MooseX-Types-Structured-0.36-0/blib/arch:/tmp/loop_over_bdir-27895-qAASgw/MooseX-Types-Structured-0.36-0/blib/lib:/tmp/loop_over_bdir-27895-qAASgw/Devel-PartialDump-0.20-0/blib/arch:/tmp/loop_over_bdir-27895-qAASgw/Devel-PartialDump-0.20-0/blib/lib"
PERL5OPT=""
PERL5_CPANPLUS_IS_RUNNING="27897"
PERL5_CPAN_IS_RUNNING="27897"
PERL5_CPAN_IS_RUNNING_IN_RECURSION="5668,27897"
PERL_CANARY_STABILITY_NOPROMPT="1"
PERL_MM_USE_DEFAULT="1"
PERL_USE_UNSAFE_INC="1"
@INC:
/tmp/loop_over_bdir-27895-qAASgw/MooseX-Types-Structured-0.36-0/blib/arch
/tmp/loop_over_bdir-27895-qAASgw/MooseX-Types-Structured-0.36-0/blib/lib
/tmp/loop_over_bdir-27895-qAASgw/Devel-PartialDump-0.20-0/blib/arch
/tmp/loop_over_bdir-27895-qAASgw/Devel-PartialDump-0.20-0/blib/lib
/home/sand/src/perl/repoperls/installed-perls/host/k93msid/v5.22.4/2d7c/lib/site_perl/5.22.4/x86_64-linux-ld
/home/sand/src/perl/repoperls/installed-perls/host/k93msid/v5.22.4/2d7c/lib/site_perl/5.22.4
/home/sand/src/perl/repoperls/installed-perls/host/k93msid/v5.22.4/2d7c/lib/5.22.4/x86_64-linux-ld
/home/sand/src/perl/repoperls/installed-perls/host/k93msid/v5.22.4/2d7c/lib/5.22.4
.