DBIx-QueryLog v0.42 Perl 5 v5.30.1 OpenBSD.amd64-openbsd-thread-multi
- Status
- Pass
- From
- Alceu Rodrigues de Freitas Junior
- Dist
-
DBIx-QueryLog v0.42
- Platform
- Perl 5 v5.30.1 OpenBSD.amd64-openbsd-thread-multi
- Date
- 2019-12-07 21:24:08
- ID
- e785f3d0-1937-11ea-972b-ef706694f557
This distribution has been tested as part of the CPAN Testers
project, supporting the Perl programming language. See
http://wiki.cpantesters.org/ for more information or email
questions to cpan-testers-discuss@perl.org
--
Dear Yuji Shimada,
This is a computer-generated report for DBIx-QueryLog-0.42
on perl 5.30.1, created by CPAN-Reporter-1.2018.
Thank you for uploading your work to CPAN. Congratulations!
All tests were successful.
Sections of this report:
* Tester comments
* Program output
* Prerequisites
* Environment and other context
------------------------------
TESTER COMMENTS
------------------------------
Additional comments from tester:
this report is from an automated smoke testing program
and was not reviewed by a human for accuracy
------------------------------
PROGRAM OUTPUT
------------------------------
Output from './Build test':
t/00_compile.t ................ ok
t/01_accessors.t .............. ok
t/10_simple.t ................. ok
t/11_bind.t ................... ok
t/12_skip_bind.t .............. ok
t/13_threshold.t .............. ok
t/14_probability.t ............ ok
t/15_selectrow_array.t ........ ok
t/16_multi_line.t ............. ok
t/18_bind_param.t ............. ok
t/20_localizetion.t ........... ok
t/21_guard.t .................. ok
t/22_ignore_trace.t ........... ok
t/23_do_explain.t ............. ok
t/30_logger.t ................. ok
t/31_output.t ................. ok
t/32_color.t .................. ok
t/33_useqq.t .................. ok
t/34_compact.t ................ ok
t/35_useqq_and_compact.t ...... ok
t/36_show_data_srouce.t ....... ok
t/90_alias.t .................. ok
t/99_regression_sqlite_148.t .. ok
t/mysql/01_simple.t ........... skipped: Test requires module 'Test::mysqld' but it's not found
t/mysql/02_bind.t ............. skipped: Test requires module 'Test::mysqld' but it's not found
t/mysql/10_do.t ............... skipped: Test requires module 'Test::mysqld' but it's not found
t/mysql/11_do_dind.t .......... skipped: Test requires module 'Test::mysqld' but it's not found
t/mysql/12_do_skip_bind.t ..... skipped: Test requires module 'Test::mysqld' but it's not found
t/mysql/13_do_probability.t ... skipped: Test requires module 'Test::mysqld' but it's not found
t/mysql/14_do_logger.t ........ skipped: Test requires module 'Test::mysqld' but it's not found
t/mysql/15_selectrow_array.t .. skipped: Test requires module 'Test::mysqld' but it's not found
t/mysql/16_multi_line.t ....... skipped: Test requires module 'Test::mysqld' but it's not found
t/mysql/17_limit.t ............ skipped: Test requires module 'Test::mysqld' but it's not found
t/mysql/18_bind_param.t ....... skipped: Test requires module 'Test::mysqld' but it's not found
t/mysql/19_bind_with_type.t ... skipped: Test requires module 'Test::mysqld' but it's not found
t/mysql/20_reuse_sql_type.t ... skipped: Test requires module 'Test::mysqld' but it's not found
t/mysql/21_do_explain.t ....... skipped: Test requires module 'Test::mysqld' but it's not found
t/pg/01_simple.t .............. skipped: Test requires module 'DBD::Pg' but it's not found
t/pg/02_bind.t ................ skipped: Test requires module 'DBD::Pg' but it's not found
t/pg/10_do.t .................. skipped: Test requires module 'DBD::Pg' but it's not found
t/pg/11_do_dind.t ............. skipped: Test requires module 'DBD::Pg' but it's not found
t/pg/12_do_skip_bind.t ........ skipped: Test requires module 'DBD::Pg' but it's not found
t/pg/13_do_probability.t ...... skipped: Test requires module 'DBD::Pg' but it's not found
t/pg/14_do_logger.t ........... skipped: Test requires module 'DBD::Pg' but it's not found
t/pg/15_selectrow_array.t ..... skipped: Test requires module 'DBD::Pg' but it's not found
t/pg/16_multi_line.t .......... skipped: Test requires module 'DBD::Pg' but it's not found
t/pg/17_limit.t ............... skipped: Test requires module 'DBD::Pg' but it's not found
t/pg/18_bind_param.t .......... skipped: Test requires module 'DBD::Pg' but it's not found
t/pg/19_bind_with_type.t ...... skipped: Test requires module 'DBD::Pg' but it's not found
t/pg/20_reuse_sql_type.t ...... skipped: Test requires module 'DBD::Pg' but it's not found
t/pg/21_do_explain.t .......... skipped: Test requires module 'DBD::Pg' but it's not found
All tests successful.
Files=51, Tests=79, 11 wallclock secs ( 0.06 usr 0.54 sys + 6.96 cusr 3.32 csys = 10.88 CPU)
Result: PASS
------------------------------
PREREQUISITES
------------------------------
Prerequisite modules loaded:
requires:
Module Need Have
------------------- -------- ---------
Data::Dumper 0 2.174
DBI 0 1.642
perl 5.008001 5.030001
Term::ANSIColor 0 4.06
Text::ASCIITable 0 0.22
Time::HiRes 0 1.9760_02
build_requires:
Module Need Have
------------------- -------- ---------
ExtUtils::MakeMaker 6.59 7.38
Test::More 0.96 1.302170
Test::Requires 0 0.10
configure_requires:
Module Need Have
------------------- -------- ---------
Module::Build::Tiny 0.035 0.039
opt_requires:
Module Need Have
------------------- -------- ---------
DBD::mysql 0 4.050
! DBD::Pg 0 n/a
DBD::SQLite 0 1.64
opt_build_requires:
Module Need Have
------------------- -------- ---------
! Test::mysqld 0.17 n/a
! Test::PostgreSQL 0.10 n/a
------------------------------
ENVIRONMENT AND OTHER CONTEXT
------------------------------
Environment variables:
AUTOMATED_TESTING = 1
DBD_MYSQL_TESTDB = test
DBD_MYSQL_TESTHOST = localhost
DBD_MYSQL_TESTPASSWORD =
DBD_MYSQL_TESTPORT = 3306
DBD_MYSQL_TESTUSER = goku
EXTENDED_TESTING = 1
PATH = /home/goku/perl5/perlbrew/bin:/home/goku/perl5/perlbrew/perls/perl-5.30.1/bin:/home/goku/bin:/usr/bin:/bin:/usr/sbin:/sbin:/usr/X11R6/bin:/usr/local/bin:/usr/local/sbin
PERL5LIB =
PERL5OPT =
PERL5_CPANPLUS_IS_RUNNING = 91503
PERL5_CPAN_IS_RUNNING = 91503
PERL5_CPAN_IS_RUNNING_IN_RECURSION = 51981,91503
PERLBREW_HOME = /home/goku/.perlbrew
PERLBREW_MANPATH = /home/goku/perl5/perlbrew/perls/perl-5.30.1/man
PERLBREW_PATH = /home/goku/perl5/perlbrew/bin:/home/goku/perl5/perlbrew/perls/perl-5.30.1/bin
PERLBREW_PERL = perl-5.30.1
PERLBREW_ROOT = /home/goku/perl5/perlbrew
PERLBREW_SHELLRC_VERSION = 0.87
PERLBREW_VERSION = 0.87
PERL_CR_SMOKER_CURRENT = DBIx-QueryLog-0.42
PERL_EXTUTILS_AUTOINSTALL = --defaultdeps
PERL_MM_USE_DEFAULT = 1
PERL_USE_UNSAFE_INC = 1
SHELL = /usr/local/bin/bash
TERM = xterm-256color
Perl special variables (and OS-specific diagnostics, for MSWin32):
$^X = /home/goku/perl5/perlbrew/perls/perl-5.30.1/bin/perl
$UID/$EUID = 1001 / 1001
$GID = 999 999 1001
$EGID = 999 999 1001
Perl module toolchain versions installed:
Module Have
------------------- --------
CPAN 2.27
CPAN::Meta 2.150010
Cwd 3.78
ExtUtils::CBuilder 0.280231
ExtUtils::Command 7.38
ExtUtils::Install 2.14
ExtUtils::MakeMaker 7.38
ExtUtils::Manifest 1.72
ExtUtils::ParseXS 3.40
File::Spec 3.78
JSON 4.02
JSON::PP 4.04
Module::Build 0.4229
Module::Signature n/a
Parse::CPAN::Meta 2.150010
Test::Harness 3.42
Test::More 1.302170
YAML 1.29
YAML::Syck n/a
version 0.9924
--
Summary of my perl5 (revision 5 version 30 subversion 1) configuration:
Platform:
osname=openbsd
osvers=6.6
archname=OpenBSD.amd64-openbsd-thread-multi
uname='openbsd cpan-smoker-openbsd 6.6 generic.mp#372 amd64 '
config_args='-de -Dprefix=/home/goku/perl5/perlbrew/perls/perl-5.30.1 -Dman1dir=none -Dman3dir=none -Duse64bitint -Duse64bitall -Dusethreads -Dusemultiplicity -Aeval:scriptdir=/home/goku/perl5/perlbrew/perls/perl-5.30.1/bin'
hint=recommended
useposix=true
d_sigaction=define
useithreads=define
usemultiplicity=define
use64bitint=define
use64bitall=define
uselongdouble=undef
usemymalloc=n
default_inc_excludes_dot=define
bincompat5005=undef
Compiler:
cc='cc'
ccflags ='-pthread -fno-strict-aliasing -pipe -fstack-protector-strong -I/usr/local/include -D_FORTIFY_SOURCE=2'
optimize='-O2'
cppflags='-pthread -fno-strict-aliasing -pipe -fstack-protector-strong -I/usr/local/include'
ccversion=''
gccversion='4.2.1 Compatible OpenBSD Clang 8.0.1 (tags/RELEASE_801/final)'
gccosandvers=''
intsize=4
longsize=8
ptrsize=8
doublesize=8
byteorder=12345678
doublekind=3
d_longlong=define
longlongsize=8
d_longdbl=define
longdblsize=16
longdblkind=3
ivtype='long'
ivsize=8
nvtype='double'
nvsize=8
Off_t='off_t'
lseeksize=8
alignbytes=8
prototype=define
Linker and Libraries:
ld='cc'
ldflags ='-pthread -Wl,-E -fstack-protector-strong -L/usr/local/lib'
libpth=/usr/lib /usr/local/lib
libs=-lpthread -lm -lutil -lc
perllibs=-lpthread -lm -lutil -lc
libc=/usr/lib/libc.so.95.1
so=so
useshrplib=false
libperl=libperl.a
gnulibc_version=''
Dynamic Linking:
dlsrc=dl_dlopen.xs
dlext=so
d_dlsymun=undef
ccdlflags=' '
cccdlflags='-DPIC -fPIC '
lddlflags='-shared -fPIC -L/usr/local/lib -fstack-protector-strong'
Characteristics of this binary (from libperl):
Compile-time options:
HAS_TIMES
MULTIPLICITY
PERLIO_LAYERS
PERL_COPY_ON_WRITE
PERL_DONT_CREATE_GVSV
PERL_IMPLICIT_CONTEXT
PERL_MALLOC_WRAP
PERL_OP_PARENT
PERL_PRESERVE_IVUV
USE_64_BIT_ALL
USE_64_BIT_INT
USE_ITHREADS
USE_LARGE_FILES
USE_LOCALE
USE_LOCALE_COLLATE
USE_LOCALE_CTYPE
USE_LOCALE_NUMERIC
USE_LOCALE_TIME
USE_PERLIO
USE_PERL_ATOF
USE_REENTRANT_API
Locally applied patches:
Devel::PatchPerl 1.80
Built under openbsd
Compiled at Nov 21 2019 11:57:41
%ENV:
PERL5LIB=""
PERL5OPT=""
PERL5_CPANPLUS_IS_RUNNING="91503"
PERL5_CPAN_IS_RUNNING="91503"
PERL5_CPAN_IS_RUNNING_IN_RECURSION="51981,91503"
PERLBREW_HOME="/home/goku/.perlbrew"
PERLBREW_MANPATH="/home/goku/perl5/perlbrew/perls/perl-5.30.1/man"
PERLBREW_PATH="/home/goku/perl5/perlbrew/bin:/home/goku/perl5/perlbrew/perls/perl-5.30.1/bin"
PERLBREW_PERL="perl-5.30.1"
PERLBREW_ROOT="/home/goku/perl5/perlbrew"
PERLBREW_SHELLRC_VERSION="0.87"
PERLBREW_VERSION="0.87"
PERL_CR_SMOKER_CURRENT="DBIx-QueryLog-0.42"
PERL_EXTUTILS_AUTOINSTALL="--defaultdeps"
PERL_MM_USE_DEFAULT="1"
PERL_USE_UNSAFE_INC="1"
@INC:
/home/goku/perl5/perlbrew/perls/perl-5.30.1/lib/site_perl/5.30.1/OpenBSD.amd64-openbsd-thread-multi
/home/goku/perl5/perlbrew/perls/perl-5.30.1/lib/site_perl/5.30.1
/home/goku/perl5/perlbrew/perls/perl-5.30.1/lib/5.30.1/OpenBSD.amd64-openbsd-thread-multi
/home/goku/perl5/perlbrew/perls/perl-5.30.1/lib/5.30.1
.