Report for Starlink-AST-1.05

Back
From: metabase:user:30977d10-2aae-11df-837a-5e0a49663a4f
Subject: PASS Starlink-AST-1.05 v5.22.3 SunOS/Solaris
Date: 2017-02-20T14:28:53Z

This distribution has been tested as part of the CPAN Testers
project, supporting the Perl programming language.  See
http://wiki.cpantesters.org/ for more information or email
questions to cpan-testers-discuss@perl.org


--
Dear Tim Jenness,

This is a computer-generated report for Starlink-AST-1.05
on perl 5.22.3, created by CPAN-Reporter-1.2018.

Thank you for uploading your work to CPAN.  Congratulations!
All tests were successful.

Sections of this report:

    * Tester comments
    * Program output
    * Prerequisites
    * Environment and other context

------------------------------
TESTER COMMENTS
------------------------------

Additional comments from tester:

this report is from an automated smoke testing program
and was not reviewed by a human for accuracy

------------------------------
PROGRAM OUTPUT
------------------------------

Output from './Build test':

t/attrib.t .......... ok
t/channel.t ......... ok
t/dclone.t .......... ok
t/dsb_reg.t ......... ok
t/error.t ........... ok
t/fitschan.t ........ ok
t/fitschn0.t ........ ok
t/formats.t ......... ok
t/keymap-tie.t ...... ok
t/keymap.t .......... ok
t/offset.t .......... ok
t/plot00_pgplot.t ... skipped: $DISPLAY is not set.
t/plot00_plplot.t ... skipped: $DISPLAY is not set.
t/plot00_tk.t ....... skipped: $DISPLAY is not set.
t/plot00_tk_zinc.t .. skipped: $DISPLAY is not set.
t/plot_pg.t ......... skipped: $DISPLAY is not set.
t/plot_pl.t ......... skipped: $DISPLAY is not set.
t/plot_tk.t ......... skipped: $DISPLAY is not set.
t/plot_tk_zinc.t .... skipped: $DISPLAY is not set.
t/region.t .......... ok
t/specframe.t ....... ok
t/stcschan.t ........ ok
t/unitmap.t ......... ok
t/xmlchan.t ......... ok
t/zoommap.t ......... ok
All tests successful.
Files=25, Tests=267,  3 wallclock secs ( 0.26 usr  0.08 sys +  1.36 cusr  0.34 csys =  2.04 CPU)
Result: PASS

------------------------------
PREREQUISITES
------------------------------

Prerequisite modules loaded:

build_requires:

    Module               Need   Have    
    -------------------- ------ --------
    ExtUtils::CBuilder   0      0.280221
    perl                 5.008  5.022003
    Test::Deep           0      1.126   
    Test::More           0      1.302075
    Test::Number::Delta  0      1.06    

configure_requires:

    Module               Need   Have    
    -------------------- ------ --------
    Module::Build        0.3604 0.4220  

opt_requires:

    Module               Need   Have    
    -------------------- ------ --------
  ! Astro::FITS::CFITSIO 0      n/a     
    Astro::FITS::Header  0      3.04    
  ! Tk                   0      n/a     
  ! Tk::Zinc             0      n/a     


------------------------------
ENVIRONMENT AND OTHER CONTEXT
------------------------------

Environment variables:

    AUTOMATED_TESTING = 1
    LANG = en_US.UTF-8
    PATH = /usr/gnu/bin:/usr/bin:/usr/sbin:/sbin:/usr/sfw/bin:
    PERL5LIB = 
    PERL5OPT = 
    PERL5_CPANPLUS_IS_RUNNING = 5811
    PERL5_CPAN_IS_RUNNING = 5811
    PERL5_CPAN_IS_RUNNING_IN_RECURSION = 29131,5811
    PERL_CR_SMOKER_CURRENT = PDL-IO-Dcm-1.003
    PERL_EXTUTILS_AUTOINSTALL = --defaultdeps
    PERL_MM_USE_DEFAULT = 1
    SHELL = /bin/bash
    TERM = xterm

Perl special variables (and OS-specific diagnostics, for MSWin32):

    $^X = /home/stro/perl/5.22.3/bin/perl
    $UID/$EUID = 101 / 101
    $GID = 10 10
    $EGID = 10 10

Perl module toolchain versions installed:

    Module              Have      
    ------------------- ----------
    CPAN                2.14      
    CPAN::Meta          2.150001  
    Cwd                 3.62      
    ExtUtils::CBuilder  0.280221  
    ExtUtils::Command   7.24      
    ExtUtils::Install   2.04      
    ExtUtils::MakeMaker 7.24      
    ExtUtils::Manifest  1.70      
    ExtUtils::ParseXS   3.28      
    File::Spec          3.62      
    JSON                2.90      
    JSON::PP            2.27300_01
    Module::Build       0.4220    
    Module::Signature   n/a       
    Parse::CPAN::Meta   1.4414_001
    Test::Harness       3.35_01   
    Test::More          1.302075  
    YAML                1.21      
    YAML::Syck          1.29      
    version             0.9909    


--

Summary of my perl5 (revision 5 version 22 subversion 3) configuration:
   
  Platform:
    osname=solaris, osvers=2.11, archname=i86pc-solaris
    uname='sunos vm-openindiana-001 5.11 illumos-2816291 i86pc i386 i86pc '
    config_args='-Dcc=gcc'
    hint=recommended, useposix=true, d_sigaction=define
    useithreads=undef, usemultiplicity=undef
    use64bitint=undef, use64bitall=undef, uselongdouble=undef
    usemymalloc=n, bincompat5005=undef
  Compiler:
    cc='gcc', ccflags ='-fno-strict-aliasing -pipe -I/usr/gnu/include -D_LARGEFILE_SOURCE -D_FILE_OFFSET_BITS=64 -DPERL_USE_SAFE_PUTENV',
    optimize='-O',
    cppflags='-fno-strict-aliasing -pipe -I/usr/gnu/include'
    ccversion='', gccversion='3.4.3 (csl-sol210-3_4-20050802)', gccosandvers='solaris2.11'
    intsize=4, longsize=4, ptrsize=4, doublesize=8, byteorder=1234, doublekind=3
    d_longlong=define, longlongsize=8, d_longdbl=define, longdblsize=12, longdblkind=3
    ivtype='long', ivsize=4, nvtype='double', nvsize=8, Off_t='off_t', lseeksize=8
    alignbytes=4, prototype=define
  Linker and Libraries:
    ld='gcc', ldflags =' -L/usr/gnu/lib '
    libpth=/usr/gcc/3.4/lib /usr/lib /usr/gnu/lib /usr/ccs/lib
    libs=-lpthread -lsocket -lnsl -lgdbm -ldb -ldl -lm -lc
    perllibs=-lpthread -lsocket -lnsl -ldl -lm -lc
    libc=/lib/libc.so, so=so, useshrplib=false, libperl=libperl.a
    gnulibc_version=''
  Dynamic Linking:
    dlsrc=dl_dlopen.xs, dlext=so, d_dlsymun=undef, ccdlflags=' '
    cccdlflags='-fPIC', lddlflags='-shared -L/usr/gnu/lib'


Characteristics of this binary (from libperl): 
  Compile-time options: HAS_TIMES PERLIO_LAYERS PERL_DONT_CREATE_GVSV
                        PERL_HASH_FUNC_ONE_AT_A_TIME_HARD PERL_MALLOC_WRAP
                        PERL_NEW_COPY_ON_WRITE PERL_PRESERVE_IVUV
                        PERL_USE_SAFE_PUTENV USE_LARGE_FILES USE_LOCALE
                        USE_LOCALE_COLLATE USE_LOCALE_CTYPE
                        USE_LOCALE_NUMERIC USE_LOCALE_TIME USE_PERLIO
                        USE_PERL_ATOF
  Built under solaris
  Compiled at Feb  5 2017 19:58:13
  %ENV:
    PERL5LIB=""
    PERL5OPT=""
    PERL5_CPANPLUS_IS_RUNNING="5811"
    PERL5_CPAN_IS_RUNNING="5811"
    PERL5_CPAN_IS_RUNNING_IN_RECURSION="29131,5811"
    PERL_CR_SMOKER_CURRENT="PDL-IO-Dcm-1.003"
    PERL_EXTUTILS_AUTOINSTALL="--defaultdeps"
    PERL_MM_USE_DEFAULT="1"
  @INC:
    /home/stro/perl/5.22.3/lib/site_perl/5.22.3/i86pc-solaris
    /home/stro/perl/5.22.3/lib/site_perl/5.22.3
    /home/stro/perl/5.22.3/lib/5.22.3/i86pc-solaris
    /home/stro/perl/5.22.3/lib/5.22.3
    .