Report for Object-InsideOut-4.02

Back
From: metabase:user:314402c4-2aae-11df-837a-5e0a49663a4f
Subject: PASS Object-InsideOut-4.02 v5.25.2 FreeBSD
Date: 2016-07-30T08:09:14Z

This distribution has been tested as part of the CPAN Testers
project, supporting the Perl programming language.  See
http://wiki.cpantesters.org/ for more information or email
questions to cpan-testers-discuss@perl.org


--
Dear Jerry D. Hedden,

This is a computer-generated report for Object-InsideOut-4.02
on perl 5.25.2, created by CPAN-Reporter-1.2017.

Thank you for uploading your work to CPAN.  Congratulations!
All tests were successful.

Sections of this report:

    * Tester comments
    * Program output
    * Prerequisites
    * Environment and other context

------------------------------
TESTER COMMENTS
------------------------------

Additional comments from tester:

none provided

------------------------------
PROGRAM OUTPUT
------------------------------

Output from './Build test':

# Testing Object::InsideOut 4.02
t/00-load.t ................. ok
t/01-basic.t ................ ok
t/01a-basic.t ............... ok
t/02-auto.t ................. ok
t/03-threads.t .............. skipped: Threads not supported
t/03a-threads.t ............. skipped: Threads not supported
t/04-shared.t ............... skipped: Threads not supported
t/04a-shared.t .............. skipped: Threads not supported
t/05-require.t .............. ok
t/05a-require.t ............. ok
t/06-id.t ................... ok
t/07-dump.t ................. ok
t/07a-dump.t ................ ok
t/08-access.t ............... ok
t/09-chained.t .............. ok
t/09a-chained.t ............. ok
t/09b-chained.t ............. ok
t/10-cumulative.t ........... ok
t/10a-cumulative.t .......... ok
t/10b-cumulative.t .......... ok
t/11-coercion.t ............. ok
t/12-super.t ................ ok
t/13-pump.t ................. ok
t/14-auto_cc.t .............. ok
t/15-type.t ................. ok
t/15a-type.t ................ ok
t/16-return.t ............... ok
t/17-dynamic.t .............. ok
t/18-inherit.t .............. ok
t/18a-inherit.t ............. ok
t/19-storable.t ............. ok
t/20-clone.t ................ ok
t/21-import.t ............... ok
t/22-import.t ............... ok
t/23-weak.t ................. ok
t/24-preproc.t .............. ok
t/25-access.t ............... ok
t/26-preinit.t .............. ok
t/27-exception.t ............ ok
t/28-lvalue.t ............... skipped: Needs Want v0.12 or later
t/29-non_lvalue.t ........... skipped: Needs Want v0.12 or later
t/30-all.t .................. ok
t/31-attr.t ................. ok
t/32-meta.t ................. ok
t/33-hash_only.t ............ ok
t/34-secure.t ............... skipped: Math::Random::MT::Auto not available
t/34a-secure.t .............. skipped: Threads not supported
t/35-add_class.t ............ ok
t/36-require.t .............. ok
t/37-class_perm.t ........... ok
t/38-combined.t ............. ok
t/39-fork.t ................. skipped: Not using pseudo-forks
t/40-normalize.t ............ ok
t/41-def.t .................. ok
t/42-sh_obj.t ............... skipped: Threads not supported
t/43-overload.t ............. skipped: Threads not supported
t/44-data.t ................. skipped: Threads not supported
t/45-unused.t ............... ok
t/46-singleton.t ............ skipped: Threads not supported
t/46a-singleton.t ........... skipped: Threads not supported
t/47-sh_reuse.t ............. skipped: Threads not supported
t/48-not_shared.t ........... skipped: Threads not supported
t/49-delegators.t ........... ok
t/49a-delegators-non-OIO.t .. ok
t/50-active_defs.t .......... ok
t/51-readonly.t ............. ok
t/99-pod.t .................. skipped: Module maintainer tests
All tests successful.
Files=67, Tests=793,  4 wallclock secs ( 0.05 usr  0.29 sys +  2.53 cusr  0.38 csys =  3.26 CPU)
Result: PASS

------------------------------
PREREQUISITES
------------------------------

Prerequisite modules loaded:

requires:

    Module              Need   Have    
    ------------------- ------ --------
    attributes          0      0.27    
    B                   0      1.62    
    Config              0      5.025002
    Data::Dumper        0      2.160   
    Exception::Class    1.22   1.40    
    overload            0      1.26    
    perl                v5.6.0 5.025002
    Scalar::Util        1.4501 1.45_01 
    strict              0      1.11    
    warnings            0      1.36    

build_requires:

    Module              Need   Have    
    ------------------- ------ --------
    Test::More          0.5    1.302030

configure_requires:

    Module              Need   Have    
    ------------------- ------ --------
    ExtUtils::MakeMaker 0      7.18    


------------------------------
ENVIRONMENT AND OTHER CONTEXT
------------------------------

Environment variables:

    LC_ALL = de_DE.ISO8859-1
    PATH = /usr/local/bin:/usr/bin:/bin:/usr/local/sbin:/usr/sbin:/sbin:/home/cpansand/bin/freebsd10.1:/home/cpansand/bin/sh:/home/cpansand/bin:/usr/games:/home/cpansand/devel:/home/eserte/src/srezic-misc/scripts
    PERL5LIB = 
    PERL5OPT = 
    PERL5_CPANPLUS_IS_RUNNING = 94276
    PERL5_CPAN_IS_RUNNING = 94276
    PERL5_CPAN_IS_RUNNING_IN_RECURSION = 94263,94276
    PERLDOC = -MPod::Perldoc::ToTextOverstrike
    PERL_BATCH = yes
    PERL_CANARY_STABILITY_NOPROMPT = 1
    PERL_CPAN_REPORTER_CONFIG = /var/tmp/cpansmoker-1023/2016073009/cpanreporter_000_config.ini
    PERL_EXTUTILS_AUTOINSTALL = --defaultdeps
    SHELL = /usr/local/bin/zsh
    TERM = screen
    TMPDIR = /var/tmp/cpansmoker-1023/2016073009

Perl special variables (and OS-specific diagnostics, for MSWin32):

    $^X = /usr/perl5.25.2p/bin/perl5.25.2
    $UID/$EUID = 1023 / 1023
    $GID = 1023 1023
    $EGID = 1023 1023

Perl module toolchain versions installed:

    Module              Have    
    ------------------- --------
    CPAN                2.14    
    CPAN::Meta          2.150005
    Cwd                 3.64    
    ExtUtils::CBuilder  0.280225
    ExtUtils::Command   7.18    
    ExtUtils::Install   2.04    
    ExtUtils::MakeMaker 7.18    
    ExtUtils::Manifest  1.70    
    ExtUtils::ParseXS   3.32    
    File::Spec          3.64    
    JSON                2.90    
    JSON::PP            2.27400 
    Module::Build       0.4218  
    Module::Signature   n/a     
    Parse::CPAN::Meta   1.4422  
    Test::Harness       3.36    
    Test::More          1.302030
    YAML                1.15    
    YAML::Syck          1.29    
    version             0.9916  


--

Summary of my perl5 (revision 5 version 25 subversion 2) configuration:
   
  Platform:
    osname=freebsd
    osvers=10.1-release
    archname=amd64-freebsd
    uname='freebsd cvrsnica-freebsd-101.herceg.de 10.1-release freebsd 10.1-release #0 r274401: tue nov 11 21:02:49 utc 2014 root@releng1.nyi.freebsd.org:usrobjusrsrcsysgeneric amd64 '
    config_args='-ds -e -Dprefix=/usr/perl5.25.2p -Dusedevel -Dusemallocwrap=no -Dcf_email=srezic@cpan.org -Doptimize=-O2 -pipe'
    hint=recommended
    useposix=true
    d_sigaction=define
    useithreads=undef
    usemultiplicity=undef
    use64bitint=define
    use64bitall=define
    uselongdouble=undef
    usemymalloc=n
    bincompat5005=undef
  Compiler:
    cc='cc'
    ccflags ='-DHAS_FPSETMASK -DHAS_FLOATINGPOINT_H -fno-strict-aliasing -pipe -fstack-protector -I/usr/local/include -D_FORTIFY_SOURCE=2'
    optimize='-O2 -pipe'
    cppflags='-DHAS_FPSETMASK -DHAS_FLOATINGPOINT_H -fno-strict-aliasing -pipe -fstack-protector -I/usr/local/include'
    ccversion=''
    gccversion='4.2.1 Compatible FreeBSD Clang 3.4.1 (tags/RELEASE_34/dot1-final 208032)'
    gccosandvers=''
    intsize=4
    longsize=8
    ptrsize=8
    doublesize=8
    byteorder=12345678
    doublekind=3
    d_longlong=define
    longlongsize=8
    d_longdbl=define
    longdblsize=16
    longdblkind=3
    ivtype='long'
    ivsize=8
    nvtype='double'
    nvsize=8
    Off_t='off_t'
    lseeksize=8
    alignbytes=8
    prototype=define
  Linker and Libraries:
    ld='cc'
    ldflags ='-pthread -Wl,-E  -fstack-protector -L/usr/local/lib'
    libpth=/usr/lib /usr/local/lib /usr/include/clang/3.4.1 /usr/lib
    libs=-lpthread -lgdbm -lm -lcrypt -lutil -lc
    perllibs=-lpthread -lm -lcrypt -lutil -lc
    libc=
    so=so
    useshrplib=false
    libperl=libperl.a
    gnulibc_version=''
  Dynamic Linking:
    dlsrc=dl_dlopen.xs
    dlext=so
    d_dlsymun=undef
    ccdlflags=' '
    cccdlflags='-DPIC -fPIC'
    lddlflags='-shared  -L/usr/local/lib -fstack-protector'


Characteristics of this binary (from libperl): 
  Compile-time options:
    HAS_TIMES
    PERLIO_LAYERS
    PERL_COPY_ON_WRITE
    PERL_DONT_CREATE_GVSV
    PERL_HASH_FUNC_ONE_AT_A_TIME_HARD
    PERL_OP_PARENT
    PERL_PRESERVE_IVUV
    PERL_USE_DEVEL
    USE_64_BIT_ALL
    USE_64_BIT_INT
    USE_LARGE_FILES
    USE_LOCALE
    USE_LOCALE_COLLATE
    USE_LOCALE_CTYPE
    USE_LOCALE_NUMERIC
    USE_LOCALE_TIME
    USE_PERLIO
    USE_PERL_ATOF
  Built under freebsd
  Compiled at Jun 21 2016 06:46:32
  %ENV:
    PERL5LIB=""
    PERL5OPT=""
    PERL5_CPANPLUS_IS_RUNNING="94276"
    PERL5_CPAN_IS_RUNNING="94276"
    PERL5_CPAN_IS_RUNNING_IN_RECURSION="94263,94276"
    PERLDOC="-MPod::Perldoc::ToTextOverstrike"
    PERL_BATCH="yes"
    PERL_CANARY_STABILITY_NOPROMPT="1"
    PERL_CPAN_REPORTER_CONFIG="/var/tmp/cpansmoker-1023/2016073009/cpanreporter_000_config.ini"
    PERL_EXTUTILS_AUTOINSTALL="--defaultdeps"
  @INC:
    /usr/perl5.25.2p/lib/site_perl/5.25.2/amd64-freebsd
    /usr/perl5.25.2p/lib/site_perl/5.25.2
    /usr/perl5.25.2p/lib/5.25.2/amd64-freebsd
    /usr/perl5.25.2p/lib/5.25.2
    .