App-RouterColorizer v1.242880 Perl 5 v5.40.0 aarch64-freebsd

Status
Pass
From
Slaven Rezić
Dist
App-RouterColorizer v1.242880
Platform
Perl 5 v5.40.0 aarch64-freebsd
Date
2024-10-14 22:08:56
ID
e7bbcc1e-8a78-11ef-bceb-a4fe6d8775ea
This distribution has been tested as part of the CPAN Testers
project, supporting the Perl programming language.  See
http://wiki.cpantesters.org/ for more information or email
questions to cpan-testers-discuss@perl.org


--
Dear Joelle Maslak,

This is a computer-generated report for App-RouterColorizer-1.242880
on perl 5.40.0, created by CPAN-Reporter-1.2019.

Thank you for uploading your work to CPAN.  Congratulations!
All tests were successful.

Sections of this report:

    * Tester comments
    * Program output
    * Prerequisites
    * Environment and other context

------------------------------
TESTER COMMENTS
------------------------------

Additional comments from tester:

none provided

------------------------------
PROGRAM OUTPUT
------------------------------

Output from '/usr/bin/make test':

PERL_DL_NONLAZY=1 "/usr/perl5.40.0/bin/perl" "-MExtUtils::Command::MM" "-MTest::Harness" "-e" "undef *Test::Harness::Switches; test_harness(0, 'blib/lib', 'blib/arch')" t/*.t
t/00-load.t ...................... ok
# 
# Versions for all modules listed in MYMETA.json (including optional ones):
# 
# === Configure Requires ===
# 
#     Module              Want Have
#     ------------------- ---- ----
#     ExtUtils::MakeMaker  any 7.70
# 
# === Build Requires ===
# 
#     Module              Want Have
#     ------------------- ---- ----
#     Test::UseAllModules 0.17 0.17
# 
# === Test Requires ===
# 
#     Module                  Want     Have
#     ------------------- -------- --------
#     ExtUtils::MakeMaker      any     7.70
#     File::ByLine        1.192590 1.192590
#     File::Spec               any     3.90
#     FindBin                  any     1.54
#     List::Util              1.56     1.63
#     Test2::V0           0.000111 1.302202
#     Test::More               any 1.302202
#     Test::UseAllModules     0.17     0.17
# 
# === Test Recommends ===
# 
#     Module         Want     Have
#     ---------- -------- --------
#     CPAN::Meta 2.120900 2.150010
# 
# === Runtime Requires ===
# 
#     Module             Want       Have
#     -------------- -------- ----------
#     English             any       1.11
#     Import::Into        any   1.002005
#     List::Util         1.56       1.63
#     Moose               any     2.2207
#     Regexp::Common      any 2017060201
#     feature             any       1.89
#     perl           5.022000   5.040000
#     strict              any       1.13
#     warnings            any       1.70
# 
t/00-report-prereqs.t ............ ok
t/01-use.t ....................... ok
t/02-ip-addresses.t .............. ok
t/03-numbers.t ................... ok
t/04-arista.t .................... ok
t/05-junos.t ..................... ok
t/06-vyos.t ...................... ok
t/07-cisco.t ..................... ok
t/08-ciena.t ..................... ok
t/90-meta-mode.t ................. ok
t/91-junos-security-sessions.t ... ok
t/author-critic.t ................ skipped: these tests are for testing by the author
t/author-no-tabs.t ............... skipped: these tests are for testing by the author
t/author-pod-syntax.t ............ skipped: these tests are for testing by the author
t/author-test-version.t .......... skipped: these tests are for testing by the author
t/release-changes_has_content.t .. skipped: these tests are for release candidate testing
t/release-kwalitee.t ............. skipped: these tests are for release candidate testing
t/release-trailing-space.t ....... skipped: these tests are for release candidate testing
All tests successful.
Files=19, Tests=5094,  5 wallclock secs ( 0.21 usr  0.06 sys +  3.95 cusr  0.41 csys =  4.62 CPU)
Result: PASS

------------------------------
PREREQUISITES
------------------------------

Prerequisite modules loaded:

requires:

    Module              Need     Have      
    ------------------- -------- ----------
    English             0        1.11      
    feature             0        1.89      
    Import::Into        0        1.002005  
    List::Util          1.56     1.63      
    Moose               0        2.2207    
    perl                5.022000 5.040000  
    Regexp::Common      0        2017060201
    strict              0        1.13      
    warnings            0        1.70      

build_requires:

    Module              Need     Have      
    ------------------- -------- ----------
    ExtUtils::MakeMaker 0        7.70      
    File::ByLine        1.192590 1.192590  
    File::Spec          0        3.90      
    FindBin             0        1.54      
    List::Util          1.56     1.63      
    Test2::V0           0.000111 1.302202  
    Test::More          0        1.302202  
    Test::UseAllModules 0.17     0.17      

configure_requires:

    Module              Need     Have      
    ------------------- -------- ----------
    ExtUtils::MakeMaker 0        7.70      


------------------------------
ENVIRONMENT AND OTHER CONTEXT
------------------------------

Environment variables:

    LANG = C.UTF-8
    PATH = /usr/local/bin:/usr/bin:/bin:/usr/local/sbin:/usr/sbin:/sbin:/home/cpansand/bin/sh:/home/cpansand/bin:/usr/games:/home/cpansand/devel:/home/eserte/src/srezic-misc/scripts
    PERL5LIB = /home/cpansand/.cpan/build/2024101421/File-ByLine-1.192590-0/blib/arch:/home/cpansand/.cpan/build/2024101421/File-ByLine-1.192590-0/blib/lib
    PERL5OPT = 
    PERL5_CPANPLUS_IS_RUNNING = 43132
    PERL5_CPAN_IS_RUNNING = 43132
    PERL5_CPAN_IS_RUNNING_IN_RECURSION = 43109,43132
    PERL_BATCH = yes
    PERL_CANARY_STABILITY_NOPROMPT = 1
    PERL_CPAN_REPORTER_CONFIG = /var/tmp/cpansmoker-1023/2024101421/cpanreporter_000_config.ini
    PERL_EXTUTILS_AUTOINSTALL = --defaultdeps
    PERL_USE_UNSAFE_INC = 1
    SHELL = /bin/sh
    TMPDIR = /var/tmp/cpansmoker-1023/2024101421

Perl special variables (and OS-specific diagnostics, for MSWin32):

    $^X = /usr/perl5.40.0/bin/perl
    $UID/$EUID = 1023 / 1023
    $GID = 1023 1023
    $EGID = 1023 1023

Perl module toolchain versions installed:

    Module              Have    
    ------------------- --------
    CPAN                2.36    
    CPAN::Meta          2.150010
    Cwd                 3.90    
    ExtUtils::CBuilder  0.280240
    ExtUtils::Command   7.70    
    ExtUtils::Install   2.22    
    ExtUtils::MakeMaker 7.70    
    ExtUtils::Manifest  1.75    
    ExtUtils::ParseXS   3.51    
    File::Spec          3.90    
    JSON                4.10    
    JSON::PP            4.16    
    Module::Build       0.4234  
    Module::Signature   n/a     
    Parse::CPAN::Meta   2.150010
    Test2               1.302202
    Test::Harness       3.50    
    Test::More          1.302202
    YAML                1.31    
    YAML::Syck          1.34    
    version             0.9930  


--

Summary of my perl5 (revision 5 version 40 subversion 0) configuration:
   
  Platform:
    osname=freebsd
    osvers=14.1-stable
    archname=aarch64-freebsd
    uname='freebsd cloud9.bbbike.org 14.1-stable freebsd 14.1-stable stable14-n267861-7dceb87a371e generic arm64 '
    config_args='-ds -e -Dprefix=/usr/perl5.40.0 -Dcf_email=srezic@cpan.org -Doptimize=-O2 -pipe'
    hint=recommended
    useposix=true
    d_sigaction=define
    useithreads=undef
    usemultiplicity=undef
    use64bitint=define
    use64bitall=define
    uselongdouble=undef
    usemymalloc=n
    default_inc_excludes_dot=define
  Compiler:
    cc='cc'
    ccflags ='-DHAS_FPSETMASK -DHAS_FLOATINGPOINT_H -DNO_POSIX_2008_LOCALE -fno-strict-aliasing -pipe -fstack-protector-strong -I/usr/local/include'
    optimize='-O2 -pipe'
    cppflags='-DHAS_FPSETMASK -DHAS_FLOATINGPOINT_H -DNO_POSIX_2008_LOCALE -fno-strict-aliasing -pipe -fstack-protector-strong -I/usr/local/include'
    ccversion=''
    gccversion='FreeBSD Clang 18.1.6 (https://github.com/llvm/llvm-project.git llvmorg-18.1.6-0-g1118c2e05e67)'
    gccosandvers=''
    intsize=4
    longsize=8
    ptrsize=8
    doublesize=8
    byteorder=12345678
    doublekind=3
    d_longlong=define
    longlongsize=8
    d_longdbl=define
    longdblsize=16
    longdblkind=1
    ivtype='long'
    ivsize=8
    nvtype='double'
    nvsize=8
    Off_t='off_t'
    lseeksize=8
    alignbytes=8
    prototype=define
  Linker and Libraries:
    ld='cc'
    ldflags ='-Wl,-E  -fstack-protector-strong -L/usr/local/lib'
    libpth=/usr/lib /usr/local/lib /usr/lib/clang/18/lib
    libs=-lpthread -lgdbm -ldl -lm -lcrypt -lutil -lc
    perllibs=-lpthread -ldl -lm -lcrypt -lutil -lc
    libc=
    so=so
    useshrplib=false
    libperl=libperl.a
    gnulibc_version=''
  Dynamic Linking:
    dlsrc=dl_dlopen.xs
    dlext=so
    d_dlsymun=undef
    ccdlflags=' '
    cccdlflags='-DPIC -fPIC'
    lddlflags='-shared  -L/usr/local/lib -fstack-protector-strong'


Characteristics of this binary (from libperl): 
  Compile-time options:
    HAS_LONG_DOUBLE
    HAS_STRTOLD
    HAS_TIMES
    PERLIO_LAYERS
    PERL_COPY_ON_WRITE
    PERL_DONT_CREATE_GVSV
    PERL_HASH_FUNC_SIPHASH13
    PERL_HASH_USE_SBOX32
    PERL_MALLOC_WRAP
    PERL_OP_PARENT
    PERL_PRESERVE_IVUV
    PERL_USE_SAFE_PUTENV
    USE_64_BIT_ALL
    USE_64_BIT_INT
    USE_LARGE_FILES
    USE_LOCALE
    USE_LOCALE_COLLATE
    USE_LOCALE_CTYPE
    USE_LOCALE_NUMERIC
    USE_LOCALE_TIME
    USE_PERLIO
    USE_PERL_ATOF
  Built under freebsd
  Compiled at Jun 10 2024 21:14:04
  %ENV:
    PERL5LIB="/home/cpansand/.cpan/build/2024101421/File-ByLine-1.192590-0/blib/arch:/home/cpansand/.cpan/build/2024101421/File-ByLine-1.192590-0/blib/lib"
    PERL5OPT=""
    PERL5_CPANPLUS_IS_RUNNING="43132"
    PERL5_CPAN_IS_RUNNING="43132"
    PERL5_CPAN_IS_RUNNING_IN_RECURSION="43109,43132"
    PERL_BATCH="yes"
    PERL_CANARY_STABILITY_NOPROMPT="1"
    PERL_CPAN_REPORTER_CONFIG="/var/tmp/cpansmoker-1023/2024101421/cpanreporter_000_config.ini"
    PERL_EXTUTILS_AUTOINSTALL="--defaultdeps"
    PERL_USE_UNSAFE_INC="1"
  @INC:
    /home/cpansand/.cpan/build/2024101421/File-ByLine-1.192590-0/blib/arch
    /home/cpansand/.cpan/build/2024101421/File-ByLine-1.192590-0/blib/lib
    /usr/perl5.40.0/lib/site_perl/5.40.0/aarch64-freebsd
    /usr/perl5.40.0/lib/site_perl/5.40.0
    /usr/perl5.40.0/lib/5.40.0/aarch64-freebsd
    /usr/perl5.40.0/lib/5.40.0
    .