Config-IniFiles v3.000000 Perl 5 v5.18.2 darwin-thread-multi-2level

Status
Pass
From
Gintautas Grigelionis
Dist
Config-IniFiles v3.000000
Platform
Perl 5 v5.18.2 darwin-thread-multi-2level
Date
2018-09-28 16:38:18
ID
e7c485c0-c33c-11e8-bd19-c6022d9164dc
This distribution has been tested as part of the CPAN Testers
project, supporting the Perl programming language.  See
http://wiki.cpantesters.org/ for more information or email
questions to cpan-testers-discuss@perl.org


--
Dear Shlomi Fish,

This is a computer-generated report for Config-IniFiles-3.000000
on perl 5.18.2, created by CPAN-Reporter-1.2018.

Thank you for uploading your work to CPAN.  Congratulations!
All tests were successful.

Sections of this report:

    * Tester comments
    * Program output
    * Prerequisites
    * Environment and other context

------------------------------
TESTER COMMENTS
------------------------------

Additional comments from tester:

none provided

------------------------------
PROGRAM OUTPUT
------------------------------

Output from './Build test':

t/00-compile.t ................................ ok
t/00load.t .................................... ok
t/01basic.t ................................... ok
t/02weird.t ................................... ok
t/03comments.t ................................ ok
t/04import.t .................................. ok
t/05hash.t .................................... ok
t/06oo.t ...................................... ok
t/07misc.t .................................... ok
t/08group.t ................................... ok
t/09case.t .................................... ok
t/10delta.t ................................... ok
t/11copy-ties-with-array-vals.t ............... ok
t/12open-empty-file.t ......................... ok
t/13val-in-list-context.t ..................... ok
t/14brackets-within-values.t .................. ok
t/15store-and-retrieve-here-doc-terminator.t .. ok
t/16case-sensitive-default.t .................. ok
t/17untainted-multiline-values.t .............. ok
t/18non-contiguous-groups.t ................... ok
t/19param-found-outside-section.t ............. ok
t/20allowedcommentchars.t ..................... ok
t/22trailing-comment-lines.t .................. ok
t/23scalar-ref.t .............................. ok
t/24case-sensitive-exists.t ................... ok
t/25line-endings.t ............................ ok
t/26scalar-filehandle.t ....................... ok
t/27empty-ini.t ............................... ok
t/28nomultiline.t ............................. ok
t/29end-of-line-comment.t ..................... ok
t/30parameters-with-empty-values.t ............ ok
t/31comments_with_spaces.t .................... ok
t/32mswin-outputs-contain-crs.t ............... skipped: Test is only relevant for Microsoft Windows
untie attempted while 1 inner references still exist at t/33update-using-tied-fh-w-shorter-names.t line 52.
t/33update-using-tied-fh-w-shorter-names.t .... ok
t/34trailing-comments-double-delimeter.t ...... ok
t/35reload-config-no-file.t ................... ok
t/35section-iterators.t ....................... ok
t/36php-compat.t .............................. ok
All tests successful.
Files=38, Tests=202,  5 wallclock secs ( 0.14 usr  0.08 sys +  4.09 cusr  0.68 csys =  4.99 CPU)
Result: PASS

------------------------------
PREREQUISITES
------------------------------

Prerequisite modules loaded:

requires:

    Module              Need  Have    
    ------------------- ----- --------
    Carp                0     1.50    
    Fcntl               0     1.11    
    File::Basename      0     2.84    
    File::Temp          0     0.2308  
    IO::Scalar          0     2.111   
    List::Util          1.33  1.50    
    perl                5.008 5.018002
    strict              0     1.07    
    Symbol              0     1.07    
    vars                0     1.03    
    warnings            0     1.18    

build_requires:

    Module              Need  Have    
    ------------------- ----- --------
    base                0     2.23    
    English             0     1.06_01 
    Exporter            0     5.72    
    File::Spec          0     3.75    
    File::Temp          0     0.2308  
    IO::File            0     1.39    
    IO::Handle          0     1.39    
    IPC::Open3          0     1.13    
    lib                 0     0.63    
    Module::Build       0.28  0.4224  
    parent              0     0.237   
    Scalar::Util        0     1.50    
    Test::More          0.88  1.302140

configure_requires:

    Module              Need  Have    
    ------------------- ----- --------
    ExtUtils::MakeMaker 0     7.34    
    Module::Build       0.28  0.4224  


------------------------------
ENVIRONMENT AND OTHER CONTEXT
------------------------------

Environment variables:

    LANG = sv_SE.UTF-8
    PATH = /usr/local/bin:/usr/bin:/bin:/usr/sbin:/sbin:/Library/TeX/texbin:/usr/local/MacGPG2/bin:/opt/X11/bin
    PERL5LIB = 
    PERL5OPT = 
    PERL5_CPANPLUS_IS_RUNNING = 10466
    PERL5_CPAN_IS_RUNNING = 10466
    SHELL = /bin/bash
    TERM = xterm-256color
    TMPDIR = /var/folders/y9/7vddvyqs64j1pfp28_p_6dfm0000gn/T/
    VERSIONER_PERL_PREFER_32_BIT = no
    VERSIONER_PERL_VERSION = 5.18

Perl special variables (and OS-specific diagnostics, for MSWin32):

    $^X = /usr/bin/perl
    $UID/$EUID = 501 / 501
    $GID = 20 20 12 61 79 80 81 98 33 100 204 250 395 398 399
    $EGID = 20 20 12 61 79 80 81 98 33 100 204 250 395 398 399

Perl module toolchain versions installed:

    Module              Have    
    ------------------- --------
    CPAN                2.10    
    CPAN::Meta          2.150010
    Cwd                 3.75    
    ExtUtils::CBuilder  0.280230
    ExtUtils::Command   7.34    
    ExtUtils::Install   2.14    
    ExtUtils::MakeMaker 7.34    
    ExtUtils::Manifest  1.71    
    ExtUtils::ParseXS   3.35    
    File::Spec          3.75    
    JSON                2.97001 
    JSON::PP            2.97001 
    Module::Build       0.4224  
    Module::Signature   0.83    
    Parse::CPAN::Meta   2.150010
    Test::Harness       3.42    
    Test::More          1.302140
    YAML                1.26    
    YAML::Syck          1.30    
    version             0.9924  


--

Summary of my perl5 (revision 5 version 18 subversion 2) configuration:
   
  Platform:
    osname=darwin, osvers=18.0, archname=darwin-thread-multi-2level
    uname='darwin osx327.sd.apple.com 18.0 darwin kernel version 17.0.0: fri may 4 10:33:38 pdt 2018; root:xnu-4570.1.46.100.2~1development_x86_64 x86_64 '
    config_args='-ds -e -Dprefix=/usr -Dccflags=-g  -pipe  -Dldflags= -Dman3ext=3pm -Duseithreads -Duseshrplib -Dinc_version_list=none -Dcc=cc'
    hint=recommended, useposix=true, d_sigaction=define
    useithreads=define, usemultiplicity=define
    useperlio=define, d_sfio=undef, uselargefiles=define, usesocks=undef
    use64bitint=define, use64bitall=define, uselongdouble=undef
    usemymalloc=n, bincompat5005=undef
  Compiler:
    cc='cc', ccflags =' -g -pipe -fno-common -DPERL_DARWIN -fno-strict-aliasing -fstack-protector',
    optimize='-Os',
    cppflags='-g -pipe -fno-common -DPERL_DARWIN -fno-strict-aliasing -fstack-protector'
    ccversion='', gccversion='4.2.1 Compatible Apple LLVM 10.0.0 (clang-1000.0.42)', gccosandvers=''
    intsize=4, longsize=8, ptrsize=8, doublesize=8, byteorder=12345678
    d_longlong=define, longlongsize=8, d_longdbl=define, longdblsize=16
    ivtype='long', ivsize=8, nvtype='double', nvsize=8, Off_t='off_t', lseeksize=8
    alignbytes=8, prototype=define
  Linker and Libraries:
    ld='cc', ldflags =' -fstack-protector'
    libpth=/usr/lib /usr/local/lib
    libs= 
    perllibs=
    libc=, so=dylib, useshrplib=true, libperl=libperl.dylib
    gnulibc_version=''
  Dynamic Linking:
    dlsrc=dl_dlopen.xs, dlext=bundle, d_dlsymun=undef, ccdlflags=' '
    cccdlflags=' ', lddlflags=' -bundle -undefined dynamic_lookup -fstack-protector'


Characteristics of this binary (from libperl): 
  Compile-time options: HAS_TIMES MULTIPLICITY PERLIO_LAYERS
                        PERL_DONT_CREATE_GVSV
                        PERL_HASH_FUNC_ONE_AT_A_TIME_HARD
                        PERL_IMPLICIT_CONTEXT PERL_MALLOC_WRAP
                        PERL_PRESERVE_IVUV PERL_SAWAMPERSAND USE_64_BIT_ALL
                        USE_64_BIT_INT USE_ITHREADS USE_LARGE_FILES
                        USE_LOCALE USE_LOCALE_COLLATE USE_LOCALE_CTYPE
                        USE_LOCALE_NUMERIC USE_PERLIO USE_PERL_ATOF
                        USE_REENTRANT_API
  Locally applied patches:
	/Library/Perl/Updates/<version> comes before system perl directories
	installprivlib and installarchlib points to the Updates directory
  Built under darwin
  Compiled at Aug 17 2018 15:30:11
  %ENV:
    PERL5LIB=""
    PERL5OPT=""
    PERL5_CPANPLUS_IS_RUNNING="10466"
    PERL5_CPAN_IS_RUNNING="10466"
  @INC:
    /Library/Perl/5.18/darwin-thread-multi-2level
    /Library/Perl/5.18
    /Network/Library/Perl/5.18/darwin-thread-multi-2level
    /Network/Library/Perl/5.18
    /Library/Perl/Updates/5.18.2/darwin-thread-multi-2level
    /Library/Perl/Updates/5.18.2
    /System/Library/Perl/5.18/darwin-thread-multi-2level
    /System/Library/Perl/5.18
    /System/Library/Perl/Extras/5.18/darwin-thread-multi-2level
    /System/Library/Perl/Extras/5.18
    .